{"text_format":"1","workbook":"xlsx","n_sheets":9,"sheets":["Results data tables","Results","historic tracking data","overhead costs data","labor costs data","finance data link","AX data dump","rollup from AX data","2015 sah unit data"],"not_rendered":{"charts":3,"images":0,"macros":1,"external_links":2,"defined_names":15,"comments":0,"pivot_tables":6},"unopened":[],"bounds":{"document_bytes":16777216,"sheet_cells":100000,"rows_first":2000,"rows_last":500,"rows_between":2000,"halvings":0,"cell_chars":16384,"cell_head_chars":4096},"cells_cut":0,"cells_raw":0,"read":"whole","date_system":"1900"}

{"sheet":"Results data tables","index":0,"n_rows":17,"n_cols":14,"rows_kept":17,"cut":false,"hidden":false,"merged":[]}
["Row Labels","Sum of 111-FILSN1 SAH","Sum of 112-FILSN2 SAH","Sum of 113-FILSN3 SAH",null,"Row Labels","Sum of 111-FILSN1 Units","Sum of 112-FILSN2 Units","Sum of 113-FILSN3 Units",null,"Row Labels","Average of Actual $/SAH","Average of Actual Direct Labor $/SAH","Average of Actual $/Unit"]
[2015,153666.03379999995,82365.152178333301,18293,null,2015,140914,95961,18293,null,2015,53.334151148130552,23.041033297827607,53.90594805781349]
[2016,58692.032249999997,34215.727374735659,14070.366568333331,null,2016,44905,48594,21111,null,2016,46.634858061543611,18.724598826155418,45.468086546408074]
[1,7773.3177500000002,5306.3956100000014,2096.5580833333329,null,1,7010,5845,3130,null,1,55.388047562270181,22.579845434916582,51.704334250767751]
[2,9641.6320000000014,7711.3529733333298,2549.9957933333335,null,2,6625,7612,5509,null,2,53.978408611023497,20.482235829179704,56.999918566187688]
[3,17809.416833333329,6314.6234915356663,5311.6982149999994,null,3,12410,10705,6298,null,3,49.792012200320251,20.513729770032587,49.582830362255002]
[4,23467.665666666668,14883.355299866666,4112.1144766666666,null,4,18860,24432,6174,null,4,27.990684178353796,11.391830450744502,23.086953024588318]
[5,0,0,0,null,5,0,0,0,null,5,{"$error":"#DIV/0!"},{"$error":"#DIV/0!"},{"$error":"#DIV/0!"}]
[6,0,0,0,null,6,0,0,0,null,6,{"$error":"#DIV/0!"},{"$error":"#DIV/0!"},{"$error":"#DIV/0!"}]
[7,0,0,0,null,7,0,0,0,null,7,{"$error":"#DIV/0!"},{"$error":"#DIV/0!"},{"$error":"#DIV/0!"}]
[8,0,0,0,null,8,0,0,0,null,8,{"$error":"#DIV/0!"},{"$error":"#DIV/0!"},{"$error":"#DIV/0!"}]
[9,0,0,0,null,9,0,0,0,null,9,{"$error":"#DIV/0!"},{"$error":"#DIV/0!"},{"$error":"#DIV/0!"}]
[10,0,0,0,null,10,0,0,0,null,10,{"$error":"#DIV/0!"},{"$error":"#DIV/0!"},{"$error":"#DIV/0!"}]
[11,0,0,0,null,11,0,0,0,null,11,{"$error":"#DIV/0!"},{"$error":"#DIV/0!"},{"$error":"#DIV/0!"}]
[12,0,0,0,null,12,0,0,0,null,12,{"$error":"#DIV/0!"},{"$error":"#DIV/0!"},{"$error":"#DIV/0!"}]
["Grand Total",212358.06604999994,116580.87955306897,32363.366568333331,null,"Grand Total",185819,144555,39404,null,2017,{"$error":"#DIV/0!"},{"$error":"#DIV/0!"},{"$error":"#DIV/0!"}]
[null,null,null,null,null,null,null,null,null,null,"Grand Total",51.707179969959441,21.992756354707229,51.856753119329319]

{"sheet":"Results","index":1,"n_rows":173,"n_cols":9,"rows_kept":173,"cut":false,"hidden":false,"merged":[]}
[]
[]
[]
[]
["Row Labels","Average of Actual $/SAH","Average of Actual Direct Labor $/SAH","Average of Goal $/SAH","Average of Goal Direct Labor $/SAH"]
[2016,46.634858061543611,18.724598826155418,39.770279999999978,21.823560000000004]
[1,55.388047562270181,22.579845434916582,39.77028,21.823559999999997]
[1,{"$error":"#DIV/0!"},{"$error":"#DIV/0!"},39.77028,21.823559999999997]
[2,67.539080018918739,29.286201324865161,39.77028,21.823559999999997]
[3,44.192066890956312,17.230228358218739,39.77028,21.823559999999997]
[4,54.432995776935506,21.223106621665849,39.77028,21.823559999999997]
[2,53.978408611023497,20.482235829179704,39.77028,21.823559999999997]
[5,50.381675681140962,19.249536324436523,39.77028,21.823559999999997]
[6,43.104869052246762,16.469256557337932,39.77028,21.823559999999997]
[7,48.95059797747124,18.47642136854304,39.77028,21.823559999999997]
[8,73.476491733235051,27.733729066401327,39.77028,21.823559999999997]
[3,49.792012200320251,20.513729770032587,39.770280000000007,21.823559999999997]
[9,50.465363583969513,20.460471903163292,39.77028,21.823559999999997]
[10,48.274614271475585,19.572263405852578,39.77028,21.823559999999997]
[11,41.674528685123967,17.066220889083436,39.77028,21.823559999999997]
[12,46.099291367697852,18.878214442583047,39.77028,21.823559999999997]
[13,59.182662724450836,24.83833281581304,39.77028,21.823559999999997]
[14,53.055612569203795,22.266875163700156,39.77028,21.823559999999997]
[4,27.990684178353796,11.391830450744502,39.77028,21.823559999999997]
[15,27.424871651623651,11.146647842443574,39.77028,21.823559999999997]
[16,18.479826933641913,7.5109967928114276,39.77028,21.823559999999997]
[17,23.433351342020849,9.5459074692515884,39.77028,21.823559999999997]
[18,42.624686786128763,17.363769698471415,39.77028,21.823559999999997]
[19,{"$error":"#DIV/0!"},{"$error":"#DIV/0!"},39.77028,21.823559999999997]
[5,{"$error":"#DIV/0!"},{"$error":"#DIV/0!"},39.77028,21.823559999999997]
[20,{"$error":"#DIV/0!"},{"$error":"#DIV/0!"},39.77028,21.823559999999997]
[21,{"$error":"#DIV/0!"},{"$error":"#DIV/0!"},39.77028,21.823559999999997]
[22,{"$error":"#DIV/0!"},{"$error":"#DIV/0!"},39.77028,21.823559999999997]
[23,{"$error":"#DIV/0!"},{"$error":"#DIV/0!"},39.77028,21.823559999999997]
[6,{"$error":"#DIV/0!"},{"$error":"#DIV/0!"},39.77028,21.823559999999997]
[24,{"$error":"#DIV/0!"},{"$error":"#DIV/0!"},39.77028,21.823559999999997]
[25,{"$error":"#DIV/0!"},{"$error":"#DIV/0!"},39.77028,21.823559999999997]
[26,{"$error":"#DIV/0!"},{"$error":"#DIV/0!"},39.77028,21.823559999999997]
[27,{"$error":"#DIV/0!"},{"$error":"#DIV/0!"},39.77028,21.823559999999997]
[7,{"$error":"#DIV/0!"},{"$error":"#DIV/0!"},39.77028,21.823559999999997]
[28,{"$error":"#DIV/0!"},{"$error":"#DIV/0!"},39.77028,21.823559999999997]
[29,{"$error":"#DIV/0!"},{"$error":"#DIV/0!"},39.77028,21.823559999999997]
[30,{"$error":"#DIV/0!"},{"$error":"#DIV/0!"},39.77028,21.823559999999997]
[31,{"$error":"#DIV/0!"},{"$error":"#DIV/0!"},39.77028,21.823559999999997]
["Grand Total",46.634858061543611,18.724598826155418,39.770279999999978,21.823560000000004]
[]
[]
[]
[]
[]
[]
[]
[]
[]
[]
[]
[]
[]
[]
[]
[]
[]
[]
[]
[]
[]
[]
[]
[]
[]
[]
[]
[]
[]
[]
[]
[]
[]
[]
[]
[]
[]
[]
[]
[]
[]
[]
[]
[]
[]
[]
[]
[]
[]
[]
[]
[]
[]
[]
[]
[]
[]
[]
[]
[]
[]
[]
[]
[]
[]
[]
[]
[]
[]
[]
[]
[]
[]
[]
[]
[]
[]
[]
[]
[]
[]
[]
[]
[]
[]
[]
[]
[]
[]
[]
[]
[]
[]
[]
[]
[]
[]
[]
[]
[]
[]
[]
[]
[]
[]
[]
["SAH Completed (Total)","(Multiple Items)",null,null,null,"Units Completed (Total)","(Multiple Items)"]
[]
["Row Labels","Sum of 111-FILSN1 SAH","Sum of 112-FILSN2 SAH","Sum of 113-FILSN3 SAH",null,"Row Labels","Sum of 111-FILSN1 Units","Sum of 112-FILSN2 Units","Sum of 113-FILSN3 Units"]
[2015,153666.0338,82365.152178333316,18293,null,2015,140914,95961,18293]
[1,12635.095806666674,4843.355436666674,788,null,1,10904,4304,788]
[2,11307.84550333333,6945.3260016666682,600,null,2,9948,5004,600]
[3,14677.189666666656,7588.7389833333282,2208,null,3,15366,7704,2208]
[4,13439.202431666663,6152.5275116666708,1404,null,4,14116,8008,1404]
[5,8472.0642750000025,6187.7290999999987,1048,null,5,7412,8424,1048]
[6,12983.832103333332,5622.7912550000037,610,null,6,12495,7200,610]
[7,13193.07158166666,9081.428219999998,960,null,7,12896,14588,960]
[8,16683.661599999989,5356.2089033333286,3895,null,8,14010,6795,3895]
[9,14131.96231666667,6838.607291666669,0,null,9,12840,9068,0]
[10,13208.385858333342,9331.3240666666625,1456,null,10,12304,10384,1456]
[11,9732.4119283333293,6535.0005233333259,2604,null,11,7488,5772,2604]
[12,13201.310728333339,7882.1148849999909,2720,null,12,11135,8710,2720]
[2016,58692.032249999997,34215.727374735667,14070.366568333331,null,2016,44905,48594,21111]
[1,7773.3177500000002,5306.3956100000014,2096.5580833333329,null,1,7010,5845,3130]
[2,9641.6320000000014,7711.3529733333298,2549.9957933333335,null,2,6625,7612,5509]
[3,17809.416833333329,6314.6234915356663,5311.6982149999994,null,3,12410,10705,6298]
[4,23467.665666666668,14883.355299866667,4112.1144766666666,null,4,18860,24432,6174]
["Grand Total",212358.06604999999,116580.87955306898,32363.366568333331,null,"Grand Total",185819,144555,39404]

{"sheet":"historic tracking data","index":2,"n_rows":158,"n_cols":18,"rows_kept":158,"cut":false,"hidden":true,"merged":[]}
["week","month","year","Goal $/SAH","Goal Direct Labor $/SAH","Actual $/SAH","Actual Direct Labor $/SAH","Actual $/Unit","SAH Completed (Total)","Units Completed (Total)","111-FILSN1 SAH","112-FILSN2 SAH","113-FILSN3 SAH","111-FILSN1 Units","112-FILSN2 Units","113-FILSN3 Units","Unique Style Count","overhead"]
[1,1,2015,36.520000000000003,20.04,{"$f":"IFERROR((data_tracking[[#This Row],[overhead]]+SUMIFS('labor costs data'!H:H,'labor costs data'!D:D,data_tracking[[#This Row],[year]],'labor costs data'!A:A,data_tracking[[#This Row],[week]]))/data_tracking[[#This Row],[SAH Completed (Total)]],\"\")","v":46.820783555981507},{"$f":"IFERROR(SUMIFS('labor costs data'!E:E,'labor costs data'!D:D,data_tracking[[#This Row],[year]],'labor costs data'!A:A,data_tracking[[#This Row],[week]])/data_tracking[[#This Row],[SAH Completed (Total)]],\"\")","v":21.545857745282557},{"$f":"IFERROR((data_tracking[[#This Row],[overhead]]+SUMIFS(labor_costs[total labor cost],labor_costs[year],data_tracking[[#This Row],[year]],labor_costs[week],data_tracking[[#This Row],[week]]))/data_tracking[[#This Row],[Units Completed (Total)]],\"\")","v":53.466464116029002},{"$f":"IF(SUM(data_tracking[[#This Row],[111-FILSN1 SAH]],data_tracking[[#This Row],[112-FILSN2 SAH]],data_tracking[[#This Row],[113-FILSN3 SAH]])=0,\"\",SUM(data_tracking[[#This Row],[111-FILSN1 SAH]],data_tracking[[#This Row],[112-FILSN2 SAH]],data_tracking[[#This Row],[113-FILSN3 SAH]]))","v":4566.6128108333369},{"$f":"IF(SUM(data_tracking[[#This Row],[111-FILSN1 Units]],data_tracking[[#This Row],[112-FILSN2 Units]],data_tracking[[#This Row],[113-FILSN3 Units]])=0,\"\",SUM(data_tracking[[#This Row],[111-FILSN1 Units]],data_tracking[[#This Row],[112-FILSN2 Units]],data_tracking[[#This Row],[113-FILSN3 Units]]))","v":3999},{"$f":"IF(SUMIFS('2015 sah unit data'!B:B,'2015 sah unit data'!L:L,data_tracking[[#This Row],[year]],'2015 sah unit data'!K:K,data_tracking[[#This Row],[month]],'2015 sah unit data'!J:J,data_tracking[[#This Row],[week]])=0,\"\",SUMIFS('2015 sah unit data'!B:B,'2015 sah unit data'!L:L,data_tracking[[#This Row],[year]],'2015 sah unit data'!K:K,data_tracking[[#This Row],[month]],'2015 sah unit data'!J:J,data_tracking[[#This Row],[week]]))","v":3158.7739516666684},{"$f":"IF(SUMIFS('2015 sah unit data'!C:C,'2015 sah unit data'!L:L,data_tracking[[#This Row],[year]],'2015 sah unit data'!K:K,data_tracking[[#This Row],[month]],'2015 sah unit data'!J:J,data_tracking[[#This Row],[week]])=0,\"\",SUMIFS('2015 sah unit data'!C:C,'2015 sah unit data'!L:L,data_tracking[[#This Row],[year]],'2015 sah unit data'!K:K,data_tracking[[#This Row],[month]],'2015 sah unit data'!J:J,data_tracking[[#This Row],[week]]))","v":1210.8388591666685},{"$f":"IF(SUMIFS('2015 sah unit data'!D:D,'2015 sah unit data'!L:L,data_tracking[[#This Row],[year]],'2015 sah unit data'!K:K,data_tracking[[#This Row],[month]],'2015 sah unit data'!J:J,data_tracking[[#This Row],[week]])=0,\"\",SUMIFS('2015 sah unit data'!D:D,'2015 sah unit data'!L:L,data_tracking[[#This Row],[year]],'2015 sah unit data'!K:K,data_tracking[[#This Row],[month]],'2015 sah unit data'!J:J,data_tracking[[#This Row],[week]]))","v":197},{"$f":"IF(SUMIFS('2015 sah unit data'!E:E,'2015 sah unit data'!L:L,data_tracking[[#This Row],[year]],'2015 sah unit data'!K:K,data_tracking[[#This Row],[month]],'2015 sah unit data'!J:J,data_tracking[[#This Row],[week]])=0,\"\",SUMIFS('2015 sah unit data'!E:E,'2015 sah unit data'!L:L,data_tracking[[#This Row],[year]],'2015 sah unit data'!K:K,data_tracking[[#This Row],[month]],'2015 sah unit data'!J:J,data_tracking[[#This Row],[week]]))","v":2726},{"$f":"IF(SUMIFS('2015 sah unit data'!F:F,'2015 sah unit data'!L:L,data_tracking[[#This Row],[year]],'2015 sah unit data'!K:K,data_tracking[[#This Row],[month]],'2015 sah unit data'!J:J,data_tracking[[#This Row],[week]])=0,\"\",SUMIFS('2015 sah unit data'!F:F,'2015 sah unit data'!L:L,data_tracking[[#This Row],[year]],'2015 sah unit data'!K:K,data_tracking[[#This Row],[month]],'2015 sah unit data'!J:J,data_tracking[[#This Row],[week]]))","v":1076},{"$f":"IF(SUMIFS('2015 sah unit data'!G:G,'2015 sah unit data'!L:L,data_tracking[[#This Row],[year]],'2015 sah unit data'!K:K,data_tracking[[#This Row],[month]],'2015 sah unit data'!J:J,data_tracking[[#This Row],[week]])=0,\"\",SUMIFS('2015 sah unit data'!G:G,'2015 sah unit data'!L:L,data_tracking[[#This Row],[year]],'2015 sah unit data'!K:K,data_tracking[[#This Row],[month]],'2015 sah unit data'!J:J,data_tracking[[#This Row],[week]]))","v":197},{"$f":"SUMIFS('2015 sah unit data'!I:I,'2015 sah unit data'!L:L,data_tracking[[#This Row],[year]],'2015 sah unit data'!K:K,data_tracking[[#This Row],[month]],'2015 sah unit data'!J:J,data_tracking[[#This Row],[week]])","v":15},{"$f":"SUMIFS('overhead costs data'!E:E,'overhead costs data'!C:C,data_tracking[[#This Row],[year]],'overhead costs data'!B:B,data_tracking[[#This Row],[month]])","v":53421.197500000002}]
[2,1,2015,36.520000000000003,20.04,{"$f":"IFERROR((data_tracking[[#This Row],[overhead]]+SUMIFS('labor costs data'!H:H,'labor costs data'!D:D,data_tracking[[#This Row],[year]],'labor costs data'!A:A,data_tracking[[#This Row],[week]]))/data_tracking[[#This Row],[SAH Completed (Total)]],\"\")","v":46.820783555981507},{"$f":"IFERROR(SUMIFS('labor costs data'!E:E,'labor costs data'!D:D,data_tracking[[#This Row],[year]],'labor costs data'!A:A,data_tracking[[#This Row],[week]])/data_tracking[[#This Row],[SAH Completed (Total)]],\"\")","v":21.545857745282557},{"$f":"IFERROR((data_tracking[[#This Row],[overhead]]+SUMIFS(labor_costs[total labor cost],labor_costs[year],data_tracking[[#This Row],[year]],labor_costs[week],data_tracking[[#This Row],[week]]))/data_tracking[[#This Row],[Units Completed (Total)]],\"\")","v":53.466464116029002},{"$f":"IF(SUM(data_tracking[[#This Row],[111-FILSN1 SAH]],data_tracking[[#This Row],[112-FILSN2 SAH]],data_tracking[[#This Row],[113-FILSN3 SAH]])=0,\"\",SUM(data_tracking[[#This Row],[111-FILSN1 SAH]],data_tracking[[#This Row],[112-FILSN2 SAH]],data_tracking[[#This Row],[113-FILSN3 SAH]]))","v":4566.6128108333369},{"$f":"IF(SUM(data_tracking[[#This Row],[111-FILSN1 Units]],data_tracking[[#This Row],[112-FILSN2 Units]],data_tracking[[#This Row],[113-FILSN3 Units]])=0,\"\",SUM(data_tracking[[#This Row],[111-FILSN1 Units]],data_tracking[[#This Row],[112-FILSN2 Units]],data_tracking[[#This Row],[113-FILSN3 Units]]))","v":3999},{"$f":"IF(SUMIFS('2015 sah unit data'!B:B,'2015 sah unit data'!L:L,data_tracking[[#This Row],[year]],'2015 sah unit data'!K:K,data_tracking[[#This Row],[month]],'2015 sah unit data'!J:J,data_tracking[[#This Row],[week]])=0,\"\",SUMIFS('2015 sah unit data'!B:B,'2015 sah unit data'!L:L,data_tracking[[#This Row],[year]],'2015 sah unit data'!K:K,data_tracking[[#This Row],[month]],'2015 sah unit data'!J:J,data_tracking[[#This Row],[week]]))","v":3158.7739516666684},{"$f":"IF(SUMIFS('2015 sah unit data'!C:C,'2015 sah unit data'!L:L,data_tracking[[#This Row],[year]],'2015 sah unit data'!K:K,data_tracking[[#This Row],[month]],'2015 sah unit data'!J:J,data_tracking[[#This Row],[week]])=0,\"\",SUMIFS('2015 sah unit data'!C:C,'2015 sah unit data'!L:L,data_tracking[[#This Row],[year]],'2015 sah unit data'!K:K,data_tracking[[#This Row],[month]],'2015 sah unit data'!J:J,data_tracking[[#This Row],[week]]))","v":1210.8388591666685},{"$f":"IF(SUMIFS('2015 sah unit data'!D:D,'2015 sah unit data'!L:L,data_tracking[[#This Row],[year]],'2015 sah unit data'!K:K,data_tracking[[#This Row],[month]],'2015 sah unit data'!J:J,data_tracking[[#This Row],[week]])=0,\"\",SUMIFS('2015 sah unit data'!D:D,'2015 sah unit data'!L:L,data_tracking[[#This Row],[year]],'2015 sah unit data'!K:K,data_tracking[[#This Row],[month]],'2015 sah unit data'!J:J,data_tracking[[#This Row],[week]]))","v":197},{"$f":"IF(SUMIFS('2015 sah unit data'!E:E,'2015 sah unit data'!L:L,data_tracking[[#This Row],[year]],'2015 sah unit data'!K:K,data_tracking[[#This Row],[month]],'2015 sah unit data'!J:J,data_tracking[[#This Row],[week]])=0,\"\",SUMIFS('2015 sah unit data'!E:E,'2015 sah unit data'!L:L,data_tracking[[#This Row],[year]],'2015 sah unit data'!K:K,data_tracking[[#This Row],[month]],'2015 sah unit data'!J:J,data_tracking[[#This Row],[week]]))","v":2726},{"$f":"IF(SUMIFS('2015 sah unit data'!F:F,'2015 sah unit data'!L:L,data_tracking[[#This Row],[year]],'2015 sah unit data'!K:K,data_tracking[[#This Row],[month]],'2015 sah unit data'!J:J,data_tracking[[#This Row],[week]])=0,\"\",SUMIFS('2015 sah unit data'!F:F,'2015 sah unit data'!L:L,data_tracking[[#This Row],[year]],'2015 sah unit data'!K:K,data_tracking[[#This Row],[month]],'2015 sah unit data'!J:J,data_tracking[[#This Row],[week]]))","v":1076},{"$f":"IF(SUMIFS('2015 sah unit data'!G:G,'2015 sah unit data'!L:L,data_tracking[[#This Row],[year]],'2015 sah unit data'!K:K,data_tracking[[#This Row],[month]],'2015 sah unit data'!J:J,data_tracking[[#This Row],[week]])=0,\"\",SUMIFS('2015 sah unit data'!G:G,'2015 sah unit data'!L:L,data_tracking[[#This Row],[year]],'2015 sah unit data'!K:K,data_tracking[[#This Row],[month]],'2015 sah unit data'!J:J,data_tracking[[#This Row],[week]]))","v":197},{"$f":"SUMIFS('2015 sah unit data'!I:I,'2015 sah unit data'!L:L,data_tracking[[#This Row],[year]],'2015 sah unit data'!K:K,data_tracking[[#This Row],[month]],'2015 sah unit data'!J:J,data_tracking[[#This Row],[week]])","v":15},{"$f":"SUMIFS('overhead costs data'!E:E,'overhead costs data'!C:C,data_tracking[[#This Row],[year]],'overhead costs data'!B:B,data_tracking[[#This Row],[month]])","v":53421.197500000002}]
[3,1,2015,36.520000000000003,20.04,{"$f":"IFERROR((data_tracking[[#This Row],[overhead]]+SUMIFS('labor costs data'!H:H,'labor costs data'!D:D,data_tracking[[#This Row],[year]],'labor costs data'!A:A,data_tracking[[#This Row],[week]]))/data_tracking[[#This Row],[SAH Completed (Total)]],\"\")","v":41.196541680456022},{"$f":"IFERROR(SUMIFS('labor costs data'!E:E,'labor costs data'!D:D,data_tracking[[#This Row],[year]],'labor costs data'!A:A,data_tracking[[#This Row],[week]])/data_tracking[[#This Row],[SAH Completed (Total)]],\"\")","v":17.79063134217731},{"$f":"IFERROR((data_tracking[[#This Row],[overhead]]+SUMIFS(labor_costs[total labor cost],labor_costs[year],data_tracking[[#This Row],[year]],labor_costs[week],data_tracking[[#This Row],[week]]))/data_tracking[[#This Row],[Units Completed (Total)]],\"\")","v":47.043924731182798},{"$f":"IF(SUM(data_tracking[[#This Row],[111-FILSN1 SAH]],data_tracking[[#This Row],[112-FILSN2 SAH]],data_tracking[[#This Row],[113-FILSN3 SAH]])=0,\"\",SUM(data_tracking[[#This Row],[111-FILSN1 SAH]],data_tracking[[#This Row],[112-FILSN2 SAH]],data_tracking[[#This Row],[113-FILSN3 SAH]]))","v":4566.6128108333369},{"$f":"IF(SUM(data_tracking[[#This Row],[111-FILSN1 Units]],data_tracking[[#This Row],[112-FILSN2 Units]],data_tracking[[#This Row],[113-FILSN3 Units]])=0,\"\",SUM(data_tracking[[#This Row],[111-FILSN1 Units]],data_tracking[[#This Row],[112-FILSN2 Units]],data_tracking[[#This Row],[113-FILSN3 Units]]))","v":3999},{"$f":"IF(SUMIFS('2015 sah unit data'!B:B,'2015 sah unit data'!L:L,data_tracking[[#This Row],[year]],'2015 sah unit data'!K:K,data_tracking[[#This Row],[month]],'2015 sah unit data'!J:J,data_tracking[[#This Row],[week]])=0,\"\",SUMIFS('2015 sah unit data'!B:B,'2015 sah unit data'!L:L,data_tracking[[#This Row],[year]],'2015 sah unit data'!K:K,data_tracking[[#This Row],[month]],'2015 sah unit data'!J:J,data_tracking[[#This Row],[week]]))","v":3158.7739516666684},{"$f":"IF(SUMIFS('2015 sah unit data'!C:C,'2015 sah unit data'!L:L,data_tracking[[#This Row],[year]],'2015 sah unit data'!K:K,data_tracking[[#This Row],[month]],'2015 sah unit data'!J:J,data_tracking[[#This Row],[week]])=0,\"\",SUMIFS('2015 sah unit data'!C:C,'2015 sah unit data'!L:L,data_tracking[[#This Row],[year]],'2015 sah unit data'!K:K,data_tracking[[#This Row],[month]],'2015 sah unit data'!J:J,data_tracking[[#This Row],[week]]))","v":1210.8388591666685},{"$f":"IF(SUMIFS('2015 sah unit data'!D:D,'2015 sah unit data'!L:L,data_tracking[[#This Row],[year]],'2015 sah unit data'!K:K,data_tracking[[#This Row],[month]],'2015 sah unit data'!J:J,data_tracking[[#This Row],[week]])=0,\"\",SUMIFS('2015 sah unit data'!D:D,'2015 sah unit data'!L:L,data_tracking[[#This Row],[year]],'2015 sah unit data'!K:K,data_tracking[[#This Row],[month]],'2015 sah unit data'!J:J,data_tracking[[#This Row],[week]]))","v":197},{"$f":"IF(SUMIFS('2015 sah unit data'!E:E,'2015 sah unit data'!L:L,data_tracking[[#This Row],[year]],'2015 sah unit data'!K:K,data_tracking[[#This Row],[month]],'2015 sah unit data'!J:J,data_tracking[[#This Row],[week]])=0,\"\",SUMIFS('2015 sah unit data'!E:E,'2015 sah unit data'!L:L,data_tracking[[#This Row],[year]],'2015 sah unit data'!K:K,data_tracking[[#This Row],[month]],'2015 sah unit data'!J:J,data_tracking[[#This Row],[week]]))","v":2726},{"$f":"IF(SUMIFS('2015 sah unit data'!F:F,'2015 sah unit data'!L:L,data_tracking[[#This Row],[year]],'2015 sah unit data'!K:K,data_tracking[[#This Row],[month]],'2015 sah unit data'!J:J,data_tracking[[#This Row],[week]])=0,\"\",SUMIFS('2015 sah unit data'!F:F,'2015 sah unit data'!L:L,data_tracking[[#This Row],[year]],'2015 sah unit data'!K:K,data_tracking[[#This Row],[month]],'2015 sah unit data'!J:J,data_tracking[[#This Row],[week]]))","v":1076},{"$f":"IF(SUMIFS('2015 sah unit data'!G:G,'2015 sah unit data'!L:L,data_tracking[[#This Row],[year]],'2015 sah unit data'!K:K,data_tracking[[#This Row],[month]],'2015 sah unit data'!J:J,data_tracking[[#This Row],[week]])=0,\"\",SUMIFS('2015 sah unit data'!G:G,'2015 sah unit data'!L:L,data_tracking[[#This Row],[year]],'2015 sah unit data'!K:K,data_tracking[[#This Row],[month]],'2015 sah unit data'!J:J,data_tracking[[#This Row],[week]]))","v":197},{"$f":"SUMIFS('2015 sah unit data'!I:I,'2015 sah unit data'!L:L,data_tracking[[#This Row],[year]],'2015 sah unit data'!K:K,data_tracking[[#This Row],[month]],'2015 sah unit data'!J:J,data_tracking[[#This Row],[week]])","v":15},{"$f":"SUMIFS('overhead costs data'!E:E,'overhead costs data'!C:C,data_tracking[[#This Row],[year]],'overhead costs data'!B:B,data_tracking[[#This Row],[month]])","v":53421.197500000002}]
[4,1,2015,36.520000000000003,20.04,{"$f":"IFERROR((data_tracking[[#This Row],[overhead]]+SUMIFS('labor costs data'!H:H,'labor costs data'!D:D,data_tracking[[#This Row],[year]],'labor costs data'!A:A,data_tracking[[#This Row],[week]]))/data_tracking[[#This Row],[SAH Completed (Total)]],\"\")","v":41.196541680456022},{"$f":"IFERROR(SUMIFS('labor costs data'!E:E,'labor costs data'!D:D,data_tracking[[#This Row],[year]],'labor costs data'!A:A,data_tracking[[#This Row],[week]])/data_tracking[[#This Row],[SAH Completed (Total)]],\"\")","v":17.79063134217731},{"$f":"IFERROR((data_tracking[[#This Row],[overhead]]+SUMIFS(labor_costs[total labor cost],labor_costs[year],data_tracking[[#This Row],[year]],labor_costs[week],data_tracking[[#This Row],[week]]))/data_tracking[[#This Row],[Units Completed (Total)]],\"\")","v":47.043924731182798},{"$f":"IF(SUM(data_tracking[[#This Row],[111-FILSN1 SAH]],data_tracking[[#This Row],[112-FILSN2 SAH]],data_tracking[[#This Row],[113-FILSN3 SAH]])=0,\"\",SUM(data_tracking[[#This Row],[111-FILSN1 SAH]],data_tracking[[#This Row],[112-FILSN2 SAH]],data_tracking[[#This Row],[113-FILSN3 SAH]]))","v":4566.6128108333369},{"$f":"IF(SUM(data_tracking[[#This Row],[111-FILSN1 Units]],data_tracking[[#This Row],[112-FILSN2 Units]],data_tracking[[#This Row],[113-FILSN3 Units]])=0,\"\",SUM(data_tracking[[#This Row],[111-FILSN1 Units]],data_tracking[[#This Row],[112-FILSN2 Units]],data_tracking[[#This Row],[113-FILSN3 Units]]))","v":3999},{"$f":"IF(SUMIFS('2015 sah unit data'!B:B,'2015 sah unit data'!L:L,data_tracking[[#This Row],[year]],'2015 sah unit data'!K:K,data_tracking[[#This Row],[month]],'2015 sah unit data'!J:J,data_tracking[[#This Row],[week]])=0,\"\",SUMIFS('2015 sah unit data'!B:B,'2015 sah unit data'!L:L,data_tracking[[#This Row],[year]],'2015 sah unit data'!K:K,data_tracking[[#This Row],[month]],'2015 sah unit data'!J:J,data_tracking[[#This Row],[week]]))","v":3158.7739516666684},{"$f":"IF(SUMIFS('2015 sah unit data'!C:C,'2015 sah unit data'!L:L,data_tracking[[#This Row],[year]],'2015 sah unit data'!K:K,data_tracking[[#This Row],[month]],'2015 sah unit data'!J:J,data_tracking[[#This Row],[week]])=0,\"\",SUMIFS('2015 sah unit data'!C:C,'2015 sah unit data'!L:L,data_tracking[[#This Row],[year]],'2015 sah unit data'!K:K,data_tracking[[#This Row],[month]],'2015 sah unit data'!J:J,data_tracking[[#This Row],[week]]))","v":1210.8388591666685},{"$f":"IF(SUMIFS('2015 sah unit data'!D:D,'2015 sah unit data'!L:L,data_tracking[[#This Row],[year]],'2015 sah unit data'!K:K,data_tracking[[#This Row],[month]],'2015 sah unit data'!J:J,data_tracking[[#This Row],[week]])=0,\"\",SUMIFS('2015 sah unit data'!D:D,'2015 sah unit data'!L:L,data_tracking[[#This Row],[year]],'2015 sah unit data'!K:K,data_tracking[[#This Row],[month]],'2015 sah unit data'!J:J,data_tracking[[#This Row],[week]]))","v":197},{"$f":"IF(SUMIFS('2015 sah unit data'!E:E,'2015 sah unit data'!L:L,data_tracking[[#This Row],[year]],'2015 sah unit data'!K:K,data_tracking[[#This Row],[month]],'2015 sah unit data'!J:J,data_tracking[[#This Row],[week]])=0,\"\",SUMIFS('2015 sah unit data'!E:E,'2015 sah unit data'!L:L,data_tracking[[#This Row],[year]],'2015 sah unit data'!K:K,data_tracking[[#This Row],[month]],'2015 sah unit data'!J:J,data_tracking[[#This Row],[week]]))","v":2726},{"$f":"IF(SUMIFS('2015 sah unit data'!F:F,'2015 sah unit data'!L:L,data_tracking[[#This Row],[year]],'2015 sah unit data'!K:K,data_tracking[[#This Row],[month]],'2015 sah unit data'!J:J,data_tracking[[#This Row],[week]])=0,\"\",SUMIFS('2015 sah unit data'!F:F,'2015 sah unit data'!L:L,data_tracking[[#This Row],[year]],'2015 sah unit data'!K:K,data_tracking[[#This Row],[month]],'2015 sah unit data'!J:J,data_tracking[[#This Row],[week]]))","v":1076},{"$f":"IF(SUMIFS('2015 sah unit data'!G:G,'2015 sah unit data'!L:L,data_tracking[[#This Row],[year]],'2015 sah unit data'!K:K,data_tracking[[#This Row],[month]],'2015 sah unit data'!J:J,data_tracking[[#This Row],[week]])=0,\"\",SUMIFS('2015 sah unit data'!G:G,'2015 sah unit data'!L:L,data_tracking[[#This Row],[year]],'2015 sah unit data'!K:K,data_tracking[[#This Row],[month]],'2015 sah unit data'!J:J,data_tracking[[#This Row],[week]]))","v":197},{"$f":"SUMIFS('2015 sah unit data'!I:I,'2015 sah unit data'!L:L,data_tracking[[#This Row],[year]],'2015 sah unit data'!K:K,data_tracking[[#This Row],[month]],'2015 sah unit data'!J:J,data_tracking[[#This Row],[week]])","v":15},{"$f":"SUMIFS('overhead costs data'!E:E,'overhead costs data'!C:C,data_tracking[[#This Row],[year]],'overhead costs data'!B:B,data_tracking[[#This Row],[month]])","v":53421.197500000002}]
[5,2,2015,36.520000000000003,20.04,{"$f":"IFERROR((data_tracking[[#This Row],[overhead]]+SUMIFS('labor costs data'!H:H,'labor costs data'!D:D,data_tracking[[#This Row],[year]],'labor costs data'!A:A,data_tracking[[#This Row],[week]]))/data_tracking[[#This Row],[SAH Completed (Total)]],\"\")","v":43.953978447617168},{"$f":"IFERROR(SUMIFS('labor costs data'!E:E,'labor costs data'!D:D,data_tracking[[#This Row],[year]],'labor costs data'!A:A,data_tracking[[#This Row],[week]])/data_tracking[[#This Row],[SAH Completed (Total)]],\"\")","v":18.784545608471088},{"$f":"IFERROR((data_tracking[[#This Row],[overhead]]+SUMIFS(labor_costs[total labor cost],labor_costs[year],data_tracking[[#This Row],[year]],labor_costs[week],data_tracking[[#This Row],[week]]))/data_tracking[[#This Row],[Units Completed (Total)]],\"\")","v":53.283943801440337},{"$f":"IF(SUM(data_tracking[[#This Row],[111-FILSN1 SAH]],data_tracking[[#This Row],[112-FILSN2 SAH]],data_tracking[[#This Row],[113-FILSN3 SAH]])=0,\"\",SUM(data_tracking[[#This Row],[111-FILSN1 SAH]],data_tracking[[#This Row],[112-FILSN2 SAH]],data_tracking[[#This Row],[113-FILSN3 SAH]]))","v":4713.2928762499996},{"$f":"IF(SUM(data_tracking[[#This Row],[111-FILSN1 Units]],data_tracking[[#This Row],[112-FILSN2 Units]],data_tracking[[#This Row],[113-FILSN3 Units]])=0,\"\",SUM(data_tracking[[#This Row],[111-FILSN1 Units]],data_tracking[[#This Row],[112-FILSN2 Units]],data_tracking[[#This Row],[113-FILSN3 Units]]))","v":3888},{"$f":"IF(SUMIFS('2015 sah unit data'!B:B,'2015 sah unit data'!L:L,data_tracking[[#This Row],[year]],'2015 sah unit data'!K:K,data_tracking[[#This Row],[month]],'2015 sah unit data'!J:J,data_tracking[[#This Row],[week]])=0,\"\",SUMIFS('2015 sah unit data'!B:B,'2015 sah unit data'!L:L,data_tracking[[#This Row],[year]],'2015 sah unit data'!K:K,data_tracking[[#This Row],[month]],'2015 sah unit data'!J:J,data_tracking[[#This Row],[week]]))","v":2826.9613758333326},{"$f":"IF(SUMIFS('2015 sah unit data'!C:C,'2015 sah unit data'!L:L,data_tracking[[#This Row],[year]],'2015 sah unit data'!K:K,data_tracking[[#This Row],[month]],'2015 sah unit data'!J:J,data_tracking[[#This Row],[week]])=0,\"\",SUMIFS('2015 sah unit data'!C:C,'2015 sah unit data'!L:L,data_tracking[[#This Row],[year]],'2015 sah unit data'!K:K,data_tracking[[#This Row],[month]],'2015 sah unit data'!J:J,data_tracking[[#This Row],[week]]))","v":1736.331500416667},{"$f":"IF(SUMIFS('2015 sah unit data'!D:D,'2015 sah unit data'!L:L,data_tracking[[#This Row],[year]],'2015 sah unit data'!K:K,data_tracking[[#This Row],[month]],'2015 sah unit data'!J:J,data_tracking[[#This Row],[week]])=0,\"\",SUMIFS('2015 sah unit data'!D:D,'2015 sah unit data'!L:L,data_tracking[[#This Row],[year]],'2015 sah unit data'!K:K,data_tracking[[#This Row],[month]],'2015 sah unit data'!J:J,data_tracking[[#This Row],[week]]))","v":150},{"$f":"IF(SUMIFS('2015 sah unit data'!E:E,'2015 sah unit data'!L:L,data_tracking[[#This Row],[year]],'2015 sah unit data'!K:K,data_tracking[[#This Row],[month]],'2015 sah unit data'!J:J,data_tracking[[#This Row],[week]])=0,\"\",SUMIFS('2015 sah unit data'!E:E,'2015 sah unit data'!L:L,data_tracking[[#This Row],[year]],'2015 sah unit data'!K:K,data_tracking[[#This Row],[month]],'2015 sah unit data'!J:J,data_tracking[[#This Row],[week]]))","v":2487},{"$f":"IF(SUMIFS('2015 sah unit data'!F:F,'2015 sah unit data'!L:L,data_tracking[[#This Row],[year]],'2015 sah unit data'!K:K,data_tracking[[#This Row],[month]],'2015 sah unit data'!J:J,data_tracking[[#This Row],[week]])=0,\"\",SUMIFS('2015 sah unit data'!F:F,'2015 sah unit data'!L:L,data_tracking[[#This Row],[year]],'2015 sah unit data'!K:K,data_tracking[[#This Row],[month]],'2015 sah unit data'!J:J,data_tracking[[#This Row],[week]]))","v":1251},{"$f":"IF(SUMIFS('2015 sah unit data'!G:G,'2015 sah unit data'!L:L,data_tracking[[#This Row],[year]],'2015 sah unit data'!K:K,data_tracking[[#This Row],[month]],'2015 sah unit data'!J:J,data_tracking[[#This Row],[week]])=0,\"\",SUMIFS('2015 sah unit data'!G:G,'2015 sah unit data'!L:L,data_tracking[[#This Row],[year]],'2015 sah unit data'!K:K,data_tracking[[#This Row],[month]],'2015 sah unit data'!J:J,data_tracking[[#This Row],[week]]))","v":150},{"$f":"SUMIFS('2015 sah unit data'!I:I,'2015 sah unit data'!L:L,data_tracking[[#This Row],[year]],'2015 sah unit data'!K:K,data_tracking[[#This Row],[month]],'2015 sah unit data'!J:J,data_tracking[[#This Row],[week]])","v":15},{"$f":"SUMIFS('overhead costs data'!E:E,'overhead costs data'!C:C,data_tracking[[#This Row],[year]],'overhead costs data'!B:B,data_tracking[[#This Row],[month]])","v":61049.792499999996}]
[6,2,2015,36.520000000000003,20.04,{"$f":"IFERROR((data_tracking[[#This Row],[overhead]]+SUMIFS('labor costs data'!H:H,'labor costs data'!D:D,data_tracking[[#This Row],[year]],'labor costs data'!A:A,data_tracking[[#This Row],[week]]))/data_tracking[[#This Row],[SAH Completed (Total)]],\"\")","v":43.953978447617168},{"$f":"IFERROR(SUMIFS('labor costs data'!E:E,'labor costs data'!D:D,data_tracking[[#This Row],[year]],'labor costs data'!A:A,data_tracking[[#This Row],[week]])/data_tracking[[#This Row],[SAH Completed (Total)]],\"\")","v":18.784545608471088},{"$f":"IFERROR((data_tracking[[#This Row],[overhead]]+SUMIFS(labor_costs[total labor cost],labor_costs[year],data_tracking[[#This Row],[year]],labor_costs[week],data_tracking[[#This Row],[week]]))/data_tracking[[#This Row],[Units Completed (Total)]],\"\")","v":53.283943801440337},{"$f":"IF(SUM(data_tracking[[#This Row],[111-FILSN1 SAH]],data_tracking[[#This Row],[112-FILSN2 SAH]],data_tracking[[#This Row],[113-FILSN3 SAH]])=0,\"\",SUM(data_tracking[[#This Row],[111-FILSN1 SAH]],data_tracking[[#This Row],[112-FILSN2 SAH]],data_tracking[[#This Row],[113-FILSN3 SAH]]))","v":4713.2928762499996},{"$f":"IF(SUM(data_tracking[[#This Row],[111-FILSN1 Units]],data_tracking[[#This Row],[112-FILSN2 Units]],data_tracking[[#This Row],[113-FILSN3 Units]])=0,\"\",SUM(data_tracking[[#This Row],[111-FILSN1 Units]],data_tracking[[#This Row],[112-FILSN2 Units]],data_tracking[[#This Row],[113-FILSN3 Units]]))","v":3888},{"$f":"IF(SUMIFS('2015 sah unit data'!B:B,'2015 sah unit data'!L:L,data_tracking[[#This Row],[year]],'2015 sah unit data'!K:K,data_tracking[[#This Row],[month]],'2015 sah unit data'!J:J,data_tracking[[#This Row],[week]])=0,\"\",SUMIFS('2015 sah unit data'!B:B,'2015 sah unit data'!L:L,data_tracking[[#This Row],[year]],'2015 sah unit data'!K:K,data_tracking[[#This Row],[month]],'2015 sah unit data'!J:J,data_tracking[[#This Row],[week]]))","v":2826.9613758333326},{"$f":"IF(SUMIFS('2015 sah unit data'!C:C,'2015 sah unit data'!L:L,data_tracking[[#This Row],[year]],'2015 sah unit data'!K:K,data_tracking[[#This Row],[month]],'2015 sah unit data'!J:J,data_tracking[[#This Row],[week]])=0,\"\",SUMIFS('2015 sah unit data'!C:C,'2015 sah unit data'!L:L,data_tracking[[#This Row],[year]],'2015 sah unit data'!K:K,data_tracking[[#This Row],[month]],'2015 sah unit data'!J:J,data_tracking[[#This Row],[week]]))","v":1736.331500416667},{"$f":"IF(SUMIFS('2015 sah unit data'!D:D,'2015 sah unit data'!L:L,data_tracking[[#This Row],[year]],'2015 sah unit data'!K:K,data_tracking[[#This Row],[month]],'2015 sah unit data'!J:J,data_tracking[[#This Row],[week]])=0,\"\",SUMIFS('2015 sah unit data'!D:D,'2015 sah unit data'!L:L,data_tracking[[#This Row],[year]],'2015 sah unit data'!K:K,data_tracking[[#This Row],[month]],'2015 sah unit data'!J:J,data_tracking[[#This Row],[week]]))","v":150},{"$f":"IF(SUMIFS('2015 sah unit data'!E:E,'2015 sah unit data'!L:L,data_tracking[[#This Row],[year]],'2015 sah unit data'!K:K,data_tracking[[#This Row],[month]],'2015 sah unit data'!J:J,data_tracking[[#This Row],[week]])=0,\"\",SUMIFS('2015 sah unit data'!E:E,'2015 sah unit data'!L:L,data_tracking[[#This Row],[year]],'2015 sah unit data'!K:K,data_tracking[[#This Row],[month]],'2015 sah unit data'!J:J,data_tracking[[#This Row],[week]]))","v":2487},{"$f":"IF(SUMIFS('2015 sah unit data'!F:F,'2015 sah unit data'!L:L,data_tracking[[#This Row],[year]],'2015 sah unit data'!K:K,data_tracking[[#This Row],[month]],'2015 sah unit data'!J:J,data_tracking[[#This Row],[week]])=0,\"\",SUMIFS('2015 sah unit data'!F:F,'2015 sah unit data'!L:L,data_tracking[[#This Row],[year]],'2015 sah unit data'!K:K,data_tracking[[#This Row],[month]],'2015 sah unit data'!J:J,data_tracking[[#This Row],[week]]))","v":1251},{"$f":"IF(SUMIFS('2015 sah unit data'!G:G,'2015 sah unit data'!L:L,data_tracking[[#This Row],[year]],'2015 sah unit data'!K:K,data_tracking[[#This Row],[month]],'2015 sah unit data'!J:J,data_tracking[[#This Row],[week]])=0,\"\",SUMIFS('2015 sah unit data'!G:G,'2015 sah unit data'!L:L,data_tracking[[#This Row],[year]],'2015 sah unit data'!K:K,data_tracking[[#This Row],[month]],'2015 sah unit data'!J:J,data_tracking[[#This Row],[week]]))","v":150},{"$f":"SUMIFS('2015 sah unit data'!I:I,'2015 sah unit data'!L:L,data_tracking[[#This Row],[year]],'2015 sah unit data'!K:K,data_tracking[[#This Row],[month]],'2015 sah unit data'!J:J,data_tracking[[#This Row],[week]])","v":15},{"$f":"SUMIFS('overhead costs data'!E:E,'overhead costs data'!C:C,data_tracking[[#This Row],[year]],'overhead costs data'!B:B,data_tracking[[#This Row],[month]])","v":61049.792499999996}]
[7,2,2015,36.520000000000003,20.04,{"$f":"IFERROR((data_tracking[[#This Row],[overhead]]+SUMIFS('labor costs data'!H:H,'labor costs data'!D:D,data_tracking[[#This Row],[year]],'labor costs data'!A:A,data_tracking[[#This Row],[week]]))/data_tracking[[#This Row],[SAH Completed (Total)]],\"\")","v":45.471811773029337},{"$f":"IFERROR(SUMIFS('labor costs data'!E:E,'labor costs data'!D:D,data_tracking[[#This Row],[year]],'labor costs data'!A:A,data_tracking[[#This Row],[week]])/data_tracking[[#This Row],[SAH Completed (Total)]],\"\")","v":19.171348433558954},{"$f":"IFERROR((data_tracking[[#This Row],[overhead]]+SUMIFS(labor_costs[total labor cost],labor_costs[year],data_tracking[[#This Row],[year]],labor_costs[week],data_tracking[[#This Row],[week]]))/data_tracking[[#This Row],[Units Completed (Total)]],\"\")","v":55.123962577160505},{"$f":"IF(SUM(data_tracking[[#This Row],[111-FILSN1 SAH]],data_tracking[[#This Row],[112-FILSN2 SAH]],data_tracking[[#This Row],[113-FILSN3 SAH]])=0,\"\",SUM(data_tracking[[#This Row],[111-FILSN1 SAH]],data_tracking[[#This Row],[112-FILSN2 SAH]],data_tracking[[#This Row],[113-FILSN3 SAH]]))","v":4713.2928762499996},{"$f":"IF(SUM(data_tracking[[#This Row],[111-FILSN1 Units]],data_tracking[[#This Row],[112-FILSN2 Units]],data_tracking[[#This Row],[113-FILSN3 Units]])=0,\"\",SUM(data_tracking[[#This Row],[111-FILSN1 Units]],data_tracking[[#This Row],[112-FILSN2 Units]],data_tracking[[#This Row],[113-FILSN3 Units]]))","v":3888},{"$f":"IF(SUMIFS('2015 sah unit data'!B:B,'2015 sah unit data'!L:L,data_tracking[[#This Row],[year]],'2015 sah unit data'!K:K,data_tracking[[#This Row],[month]],'2015 sah unit data'!J:J,data_tracking[[#This Row],[week]])=0,\"\",SUMIFS('2015 sah unit data'!B:B,'2015 sah unit data'!L:L,data_tracking[[#This Row],[year]],'2015 sah unit data'!K:K,data_tracking[[#This Row],[month]],'2015 sah unit data'!J:J,data_tracking[[#This Row],[week]]))","v":2826.9613758333326},{"$f":"IF(SUMIFS('2015 sah unit data'!C:C,'2015 sah unit data'!L:L,data_tracking[[#This Row],[year]],'2015 sah unit data'!K:K,data_tracking[[#This Row],[month]],'2015 sah unit data'!J:J,data_tracking[[#This Row],[week]])=0,\"\",SUMIFS('2015 sah unit data'!C:C,'2015 sah unit data'!L:L,data_tracking[[#This Row],[year]],'2015 sah unit data'!K:K,data_tracking[[#This Row],[month]],'2015 sah unit data'!J:J,data_tracking[[#This Row],[week]]))","v":1736.331500416667},{"$f":"IF(SUMIFS('2015 sah unit data'!D:D,'2015 sah unit data'!L:L,data_tracking[[#This Row],[year]],'2015 sah unit data'!K:K,data_tracking[[#This Row],[month]],'2015 sah unit data'!J:J,data_tracking[[#This Row],[week]])=0,\"\",SUMIFS('2015 sah unit data'!D:D,'2015 sah unit data'!L:L,data_tracking[[#This Row],[year]],'2015 sah unit data'!K:K,data_tracking[[#This Row],[month]],'2015 sah unit data'!J:J,data_tracking[[#This Row],[week]]))","v":150},{"$f":"IF(SUMIFS('2015 sah unit data'!E:E,'2015 sah unit data'!L:L,data_tracking[[#This Row],[year]],'2015 sah unit data'!K:K,data_tracking[[#This Row],[month]],'2015 sah unit data'!J:J,data_tracking[[#This Row],[week]])=0,\"\",SUMIFS('2015 sah unit data'!E:E,'2015 sah unit data'!L:L,data_tracking[[#This Row],[year]],'2015 sah unit data'!K:K,data_tracking[[#This Row],[month]],'2015 sah unit data'!J:J,data_tracking[[#This Row],[week]]))","v":2487},{"$f":"IF(SUMIFS('2015 sah unit data'!F:F,'2015 sah unit data'!L:L,data_tracking[[#This Row],[year]],'2015 sah unit data'!K:K,data_tracking[[#This Row],[month]],'2015 sah unit data'!J:J,data_tracking[[#This Row],[week]])=0,\"\",SUMIFS('2015 sah unit data'!F:F,'2015 sah unit data'!L:L,data_tracking[[#This Row],[year]],'2015 sah unit data'!K:K,data_tracking[[#This Row],[month]],'2015 sah unit data'!J:J,data_tracking[[#This Row],[week]]))","v":1251},{"$f":"IF(SUMIFS('2015 sah unit data'!G:G,'2015 sah unit data'!L:L,data_tracking[[#This Row],[year]],'2015 sah unit data'!K:K,data_tracking[[#This Row],[month]],'2015 sah unit data'!J:J,data_tracking[[#This Row],[week]])=0,\"\",SUMIFS('2015 sah unit data'!G:G,'2015 sah unit data'!L:L,data_tracking[[#This Row],[year]],'2015 sah unit data'!K:K,data_tracking[[#This Row],[month]],'2015 sah unit data'!J:J,data_tracking[[#This Row],[week]]))","v":150},{"$f":"SUMIFS('2015 sah unit data'!I:I,'2015 sah unit data'!L:L,data_tracking[[#This Row],[year]],'2015 sah unit data'!K:K,data_tracking[[#This Row],[month]],'2015 sah unit data'!J:J,data_tracking[[#This Row],[week]])","v":15},{"$f":"SUMIFS('overhead costs data'!E:E,'overhead costs data'!C:C,data_tracking[[#This Row],[year]],'overhead costs data'!B:B,data_tracking[[#This Row],[month]])","v":61049.792499999996}]
[8,2,2015,36.520000000000003,20.04,{"$f":"IFERROR((data_tracking[[#This Row],[overhead]]+SUMIFS('labor costs data'!H:H,'labor costs data'!D:D,data_tracking[[#This Row],[year]],'labor costs data'!A:A,data_tracking[[#This Row],[week]]))/data_tracking[[#This Row],[SAH Completed (Total)]],\"\")","v":45.471811773029337},{"$f":"IFERROR(SUMIFS('labor costs data'!E:E,'labor costs data'!D:D,data_tracking[[#This Row],[year]],'labor costs data'!A:A,data_tracking[[#This Row],[week]])/data_tracking[[#This Row],[SAH Completed (Total)]],\"\")","v":19.171348433558954},{"$f":"IFERROR((data_tracking[[#This Row],[overhead]]+SUMIFS(labor_costs[total labor cost],labor_costs[year],data_tracking[[#This Row],[year]],labor_costs[week],data_tracking[[#This Row],[week]]))/data_tracking[[#This Row],[Units Completed (Total)]],\"\")","v":55.123962577160505},{"$f":"IF(SUM(data_tracking[[#This Row],[111-FILSN1 SAH]],data_tracking[[#This Row],[112-FILSN2 SAH]],data_tracking[[#This Row],[113-FILSN3 SAH]])=0,\"\",SUM(data_tracking[[#This Row],[111-FILSN1 SAH]],data_tracking[[#This Row],[112-FILSN2 SAH]],data_tracking[[#This Row],[113-FILSN3 SAH]]))","v":4713.2928762499996},{"$f":"IF(SUM(data_tracking[[#This Row],[111-FILSN1 Units]],data_tracking[[#This Row],[112-FILSN2 Units]],data_tracking[[#This Row],[113-FILSN3 Units]])=0,\"\",SUM(data_tracking[[#This Row],[111-FILSN1 Units]],data_tracking[[#This Row],[112-FILSN2 Units]],data_tracking[[#This Row],[113-FILSN3 Units]]))","v":3888},{"$f":"IF(SUMIFS('2015 sah unit data'!B:B,'2015 sah unit data'!L:L,data_tracking[[#This Row],[year]],'2015 sah unit data'!K:K,data_tracking[[#This Row],[month]],'2015 sah unit data'!J:J,data_tracking[[#This Row],[week]])=0,\"\",SUMIFS('2015 sah unit data'!B:B,'2015 sah unit data'!L:L,data_tracking[[#This Row],[year]],'2015 sah unit data'!K:K,data_tracking[[#This Row],[month]],'2015 sah unit data'!J:J,data_tracking[[#This Row],[week]]))","v":2826.9613758333326},{"$f":"IF(SUMIFS('2015 sah unit data'!C:C,'2015 sah unit data'!L:L,data_tracking[[#This Row],[year]],'2015 sah unit data'!K:K,data_tracking[[#This Row],[month]],'2015 sah unit data'!J:J,data_tracking[[#This Row],[week]])=0,\"\",SUMIFS('2015 sah unit data'!C:C,'2015 sah unit data'!L:L,data_tracking[[#This Row],[year]],'2015 sah unit data'!K:K,data_tracking[[#This Row],[month]],'2015 sah unit data'!J:J,data_tracking[[#This Row],[week]]))","v":1736.331500416667},{"$f":"IF(SUMIFS('2015 sah unit data'!D:D,'2015 sah unit data'!L:L,data_tracking[[#This Row],[year]],'2015 sah unit data'!K:K,data_tracking[[#This Row],[month]],'2015 sah unit data'!J:J,data_tracking[[#This Row],[week]])=0,\"\",SUMIFS('2015 sah unit data'!D:D,'2015 sah unit data'!L:L,data_tracking[[#This Row],[year]],'2015 sah unit data'!K:K,data_tracking[[#This Row],[month]],'2015 sah unit data'!J:J,data_tracking[[#This Row],[week]]))","v":150},{"$f":"IF(SUMIFS('2015 sah unit data'!E:E,'2015 sah unit data'!L:L,data_tracking[[#This Row],[year]],'2015 sah unit data'!K:K,data_tracking[[#This Row],[month]],'2015 sah unit data'!J:J,data_tracking[[#This Row],[week]])=0,\"\",SUMIFS('2015 sah unit data'!E:E,'2015 sah unit data'!L:L,data_tracking[[#This Row],[year]],'2015 sah unit data'!K:K,data_tracking[[#This Row],[month]],'2015 sah unit data'!J:J,data_tracking[[#This Row],[week]]))","v":2487},{"$f":"IF(SUMIFS('2015 sah unit data'!F:F,'2015 sah unit data'!L:L,data_tracking[[#This Row],[year]],'2015 sah unit data'!K:K,data_tracking[[#This Row],[month]],'2015 sah unit data'!J:J,data_tracking[[#This Row],[week]])=0,\"\",SUMIFS('2015 sah unit data'!F:F,'2015 sah unit data'!L:L,data_tracking[[#This Row],[year]],'2015 sah unit data'!K:K,data_tracking[[#This Row],[month]],'2015 sah unit data'!J:J,data_tracking[[#This Row],[week]]))","v":1251},{"$f":"IF(SUMIFS('2015 sah unit data'!G:G,'2015 sah unit data'!L:L,data_tracking[[#This Row],[year]],'2015 sah unit data'!K:K,data_tracking[[#This Row],[month]],'2015 sah unit data'!J:J,data_tracking[[#This Row],[week]])=0,\"\",SUMIFS('2015 sah unit data'!G:G,'2015 sah unit data'!L:L,data_tracking[[#This Row],[year]],'2015 sah unit data'!K:K,data_tracking[[#This Row],[month]],'2015 sah unit data'!J:J,data_tracking[[#This Row],[week]]))","v":150},{"$f":"SUMIFS('2015 sah unit data'!I:I,'2015 sah unit data'!L:L,data_tracking[[#This Row],[year]],'2015 sah unit data'!K:K,data_tracking[[#This Row],[month]],'2015 sah unit data'!J:J,data_tracking[[#This Row],[week]])","v":15},{"$f":"SUMIFS('overhead costs data'!E:E,'overhead costs data'!C:C,data_tracking[[#This Row],[year]],'overhead costs data'!B:B,data_tracking[[#This Row],[month]])","v":61049.792499999996}]
[9,3,2015,36.520000000000003,20.04,{"$f":"IFERROR((data_tracking[[#This Row],[overhead]]+SUMIFS('labor costs data'!H:H,'labor costs data'!D:D,data_tracking[[#This Row],[year]],'labor costs data'!A:A,data_tracking[[#This Row],[week]]))/data_tracking[[#This Row],[SAH Completed (Total)]],\"\")","v":52.08443622720133},{"$f":"IFERROR(SUMIFS('labor costs data'!E:E,'labor costs data'!D:D,data_tracking[[#This Row],[year]],'labor costs data'!A:A,data_tracking[[#This Row],[week]])/data_tracking[[#This Row],[SAH Completed (Total)]],\"\")","v":24.683558109498708},{"$f":"IFERROR((data_tracking[[#This Row],[overhead]]+SUMIFS(labor_costs[total labor cost],labor_costs[year],data_tracking[[#This Row],[year]],labor_costs[week],data_tracking[[#This Row],[week]]))/data_tracking[[#This Row],[Units Completed (Total)]],\"\")","v":50.427675290766665},{"$f":"IF(SUM(data_tracking[[#This Row],[111-FILSN1 SAH]],data_tracking[[#This Row],[112-FILSN2 SAH]],data_tracking[[#This Row],[113-FILSN3 SAH]])=0,\"\",SUM(data_tracking[[#This Row],[111-FILSN1 SAH]],data_tracking[[#This Row],[112-FILSN2 SAH]],data_tracking[[#This Row],[113-FILSN3 SAH]]))","v":4078.9881083333312},{"$f":"IF(SUM(data_tracking[[#This Row],[111-FILSN1 Units]],data_tracking[[#This Row],[112-FILSN2 Units]],data_tracking[[#This Row],[113-FILSN3 Units]])=0,\"\",SUM(data_tracking[[#This Row],[111-FILSN1 Units]],data_tracking[[#This Row],[112-FILSN2 Units]],data_tracking[[#This Row],[113-FILSN3 Units]]))","v":4213},{"$f":"IF(SUMIFS('2015 sah unit data'!B:B,'2015 sah unit data'!L:L,data_tracking[[#This Row],[year]],'2015 sah unit data'!K:K,data_tracking[[#This Row],[month]],'2015 sah unit data'!J:J,data_tracking[[#This Row],[week]])=0,\"\",SUMIFS('2015 sah unit data'!B:B,'2015 sah unit data'!L:L,data_tracking[[#This Row],[year]],'2015 sah unit data'!K:K,data_tracking[[#This Row],[month]],'2015 sah unit data'!J:J,data_tracking[[#This Row],[week]]))","v":2446.1982777777762},{"$f":"IF(SUMIFS('2015 sah unit data'!C:C,'2015 sah unit data'!L:L,data_tracking[[#This Row],[year]],'2015 sah unit data'!K:K,data_tracking[[#This Row],[month]],'2015 sah unit data'!J:J,data_tracking[[#This Row],[week]])=0,\"\",SUMIFS('2015 sah unit data'!C:C,'2015 sah unit data'!L:L,data_tracking[[#This Row],[year]],'2015 sah unit data'!K:K,data_tracking[[#This Row],[month]],'2015 sah unit data'!J:J,data_tracking[[#This Row],[week]]))","v":1264.7898305555548},{"$f":"IF(SUMIFS('2015 sah unit data'!D:D,'2015 sah unit data'!L:L,data_tracking[[#This Row],[year]],'2015 sah unit data'!K:K,data_tracking[[#This Row],[month]],'2015 sah unit data'!J:J,data_tracking[[#This Row],[week]])=0,\"\",SUMIFS('2015 sah unit data'!D:D,'2015 sah unit data'!L:L,data_tracking[[#This Row],[year]],'2015 sah unit data'!K:K,data_tracking[[#This Row],[month]],'2015 sah unit data'!J:J,data_tracking[[#This Row],[week]]))","v":368},{"$f":"IF(SUMIFS('2015 sah unit data'!E:E,'2015 sah unit data'!L:L,data_tracking[[#This Row],[year]],'2015 sah unit data'!K:K,data_tracking[[#This Row],[month]],'2015 sah unit data'!J:J,data_tracking[[#This Row],[week]])=0,\"\",SUMIFS('2015 sah unit data'!E:E,'2015 sah unit data'!L:L,data_tracking[[#This Row],[year]],'2015 sah unit data'!K:K,data_tracking[[#This Row],[month]],'2015 sah unit data'!J:J,data_tracking[[#This Row],[week]]))","v":2561},{"$f":"IF(SUMIFS('2015 sah unit data'!F:F,'2015 sah unit data'!L:L,data_tracking[[#This Row],[year]],'2015 sah unit data'!K:K,data_tracking[[#This Row],[month]],'2015 sah unit data'!J:J,data_tracking[[#This Row],[week]])=0,\"\",SUMIFS('2015 sah unit data'!F:F,'2015 sah unit data'!L:L,data_tracking[[#This Row],[year]],'2015 sah unit data'!K:K,data_tracking[[#This Row],[month]],'2015 sah unit data'!J:J,data_tracking[[#This Row],[week]]))","v":1284},{"$f":"IF(SUMIFS('2015 sah unit data'!G:G,'2015 sah unit data'!L:L,data_tracking[[#This Row],[year]],'2015 sah unit data'!K:K,data_tracking[[#This Row],[month]],'2015 sah unit data'!J:J,data_tracking[[#This Row],[week]])=0,\"\",SUMIFS('2015 sah unit data'!G:G,'2015 sah unit data'!L:L,data_tracking[[#This Row],[year]],'2015 sah unit data'!K:K,data_tracking[[#This Row],[month]],'2015 sah unit data'!J:J,data_tracking[[#This Row],[week]]))","v":368},{"$f":"SUMIFS('2015 sah unit data'!I:I,'2015 sah unit data'!L:L,data_tracking[[#This Row],[year]],'2015 sah unit data'!K:K,data_tracking[[#This Row],[month]],'2015 sah unit data'!J:J,data_tracking[[#This Row],[week]])","v":13},{"$f":"SUMIFS('overhead costs data'!E:E,'overhead costs data'!C:C,data_tracking[[#This Row],[year]],'overhead costs data'!B:B,data_tracking[[#This Row],[month]])","v":46798.11}]
[10,3,2015,36.520000000000003,20.04,{"$f":"IFERROR((data_tracking[[#This Row],[overhead]]+SUMIFS('labor costs data'!H:H,'labor costs data'!D:D,data_tracking[[#This Row],[year]],'labor costs data'!A:A,data_tracking[[#This Row],[week]]))/data_tracking[[#This Row],[SAH Completed (Total)]],\"\")","v":52.08443622720133},{"$f":"IFERROR(SUMIFS('labor costs data'!E:E,'labor costs data'!D:D,data_tracking[[#This Row],[year]],'labor costs data'!A:A,data_tracking[[#This Row],[week]])/data_tracking[[#This Row],[SAH Completed (Total)]],\"\")","v":24.683558109498708},{"$f":"IFERROR((data_tracking[[#This Row],[overhead]]+SUMIFS(labor_costs[total labor cost],labor_costs[year],data_tracking[[#This Row],[year]],labor_costs[week],data_tracking[[#This Row],[week]]))/data_tracking[[#This Row],[Units Completed (Total)]],\"\")","v":50.427675290766665},{"$f":"IF(SUM(data_tracking[[#This Row],[111-FILSN1 SAH]],data_tracking[[#This Row],[112-FILSN2 SAH]],data_tracking[[#This Row],[113-FILSN3 SAH]])=0,\"\",SUM(data_tracking[[#This Row],[111-FILSN1 SAH]],data_tracking[[#This Row],[112-FILSN2 SAH]],data_tracking[[#This Row],[113-FILSN3 SAH]]))","v":4078.9881083333312},{"$f":"IF(SUM(data_tracking[[#This Row],[111-FILSN1 Units]],data_tracking[[#This Row],[112-FILSN2 Units]],data_tracking[[#This Row],[113-FILSN3 Units]])=0,\"\",SUM(data_tracking[[#This Row],[111-FILSN1 Units]],data_tracking[[#This Row],[112-FILSN2 Units]],data_tracking[[#This Row],[113-FILSN3 Units]]))","v":4213},{"$f":"IF(SUMIFS('2015 sah unit data'!B:B,'2015 sah unit data'!L:L,data_tracking[[#This Row],[year]],'2015 sah unit data'!K:K,data_tracking[[#This Row],[month]],'2015 sah unit data'!J:J,data_tracking[[#This Row],[week]])=0,\"\",SUMIFS('2015 sah unit data'!B:B,'2015 sah unit data'!L:L,data_tracking[[#This Row],[year]],'2015 sah unit data'!K:K,data_tracking[[#This Row],[month]],'2015 sah unit data'!J:J,data_tracking[[#This Row],[week]]))","v":2446.1982777777762},{"$f":"IF(SUMIFS('2015 sah unit data'!C:C,'2015 sah unit data'!L:L,data_tracking[[#This Row],[year]],'2015 sah unit data'!K:K,data_tracking[[#This Row],[month]],'2015 sah unit data'!J:J,data_tracking[[#This Row],[week]])=0,\"\",SUMIFS('2015 sah unit data'!C:C,'2015 sah unit data'!L:L,data_tracking[[#This Row],[year]],'2015 sah unit data'!K:K,data_tracking[[#This Row],[month]],'2015 sah unit data'!J:J,data_tracking[[#This Row],[week]]))","v":1264.7898305555548},{"$f":"IF(SUMIFS('2015 sah unit data'!D:D,'2015 sah unit data'!L:L,data_tracking[[#This Row],[year]],'2015 sah unit data'!K:K,data_tracking[[#This Row],[month]],'2015 sah unit data'!J:J,data_tracking[[#This Row],[week]])=0,\"\",SUMIFS('2015 sah unit data'!D:D,'2015 sah unit data'!L:L,data_tracking[[#This Row],[year]],'2015 sah unit data'!K:K,data_tracking[[#This Row],[month]],'2015 sah unit data'!J:J,data_tracking[[#This Row],[week]]))","v":368},{"$f":"IF(SUMIFS('2015 sah unit data'!E:E,'2015 sah unit data'!L:L,data_tracking[[#This Row],[year]],'2015 sah unit data'!K:K,data_tracking[[#This Row],[month]],'2015 sah unit data'!J:J,data_tracking[[#This Row],[week]])=0,\"\",SUMIFS('2015 sah unit data'!E:E,'2015 sah unit data'!L:L,data_tracking[[#This Row],[year]],'2015 sah unit data'!K:K,data_tracking[[#This Row],[month]],'2015 sah unit data'!J:J,data_tracking[[#This Row],[week]]))","v":2561},{"$f":"IF(SUMIFS('2015 sah unit data'!F:F,'2015 sah unit data'!L:L,data_tracking[[#This Row],[year]],'2015 sah unit data'!K:K,data_tracking[[#This Row],[month]],'2015 sah unit data'!J:J,data_tracking[[#This Row],[week]])=0,\"\",SUMIFS('2015 sah unit data'!F:F,'2015 sah unit data'!L:L,data_tracking[[#This Row],[year]],'2015 sah unit data'!K:K,data_tracking[[#This Row],[month]],'2015 sah unit data'!J:J,data_tracking[[#This Row],[week]]))","v":1284},{"$f":"IF(SUMIFS('2015 sah unit data'!G:G,'2015 sah unit data'!L:L,data_tracking[[#This Row],[year]],'2015 sah unit data'!K:K,data_tracking[[#This Row],[month]],'2015 sah unit data'!J:J,data_tracking[[#This Row],[week]])=0,\"\",SUMIFS('2015 sah unit data'!G:G,'2015 sah unit data'!L:L,data_tracking[[#This Row],[year]],'2015 sah unit data'!K:K,data_tracking[[#This Row],[month]],'2015 sah unit data'!J:J,data_tracking[[#This Row],[week]]))","v":368},{"$f":"SUMIFS('2015 sah unit data'!I:I,'2015 sah unit data'!L:L,data_tracking[[#This Row],[year]],'2015 sah unit data'!K:K,data_tracking[[#This Row],[month]],'2015 sah unit data'!J:J,data_tracking[[#This Row],[week]])","v":13},{"$f":"SUMIFS('overhead costs data'!E:E,'overhead costs data'!C:C,data_tracking[[#This Row],[year]],'overhead costs data'!B:B,data_tracking[[#This Row],[month]])","v":46798.11}]
[11,3,2015,36.520000000000003,20.04,{"$f":"IFERROR((data_tracking[[#This Row],[overhead]]+SUMIFS('labor costs data'!H:H,'labor costs data'!D:D,data_tracking[[#This Row],[year]],'labor costs data'!A:A,data_tracking[[#This Row],[week]]))/data_tracking[[#This Row],[SAH Completed (Total)]],\"\")","v":52.648432600542073},{"$f":"IFERROR(SUMIFS('labor costs data'!E:E,'labor costs data'!D:D,data_tracking[[#This Row],[year]],'labor costs data'!A:A,data_tracking[[#This Row],[week]])/data_tracking[[#This Row],[SAH Completed (Total)]],\"\")","v":24.797834000386377},{"$f":"IFERROR((data_tracking[[#This Row],[overhead]]+SUMIFS(labor_costs[total labor cost],labor_costs[year],data_tracking[[#This Row],[year]],labor_costs[week],data_tracking[[#This Row],[week]]))/data_tracking[[#This Row],[Units Completed (Total)]],\"\")","v":50.973731426536908},{"$f":"IF(SUM(data_tracking[[#This Row],[111-FILSN1 SAH]],data_tracking[[#This Row],[112-FILSN2 SAH]],data_tracking[[#This Row],[113-FILSN3 SAH]])=0,\"\",SUM(data_tracking[[#This Row],[111-FILSN1 SAH]],data_tracking[[#This Row],[112-FILSN2 SAH]],data_tracking[[#This Row],[113-FILSN3 SAH]]))","v":4078.9881083333312},{"$f":"IF(SUM(data_tracking[[#This Row],[111-FILSN1 Units]],data_tracking[[#This Row],[112-FILSN2 Units]],data_tracking[[#This Row],[113-FILSN3 Units]])=0,\"\",SUM(data_tracking[[#This Row],[111-FILSN1 Units]],data_tracking[[#This Row],[112-FILSN2 Units]],data_tracking[[#This Row],[113-FILSN3 Units]]))","v":4213},{"$f":"IF(SUMIFS('2015 sah unit data'!B:B,'2015 sah unit data'!L:L,data_tracking[[#This Row],[year]],'2015 sah unit data'!K:K,data_tracking[[#This Row],[month]],'2015 sah unit data'!J:J,data_tracking[[#This Row],[week]])=0,\"\",SUMIFS('2015 sah unit data'!B:B,'2015 sah unit data'!L:L,data_tracking[[#This Row],[year]],'2015 sah unit data'!K:K,data_tracking[[#This Row],[month]],'2015 sah unit data'!J:J,data_tracking[[#This Row],[week]]))","v":2446.1982777777762},{"$f":"IF(SUMIFS('2015 sah unit data'!C:C,'2015 sah unit data'!L:L,data_tracking[[#This Row],[year]],'2015 sah unit data'!K:K,data_tracking[[#This Row],[month]],'2015 sah unit data'!J:J,data_tracking[[#This Row],[week]])=0,\"\",SUMIFS('2015 sah unit data'!C:C,'2015 sah unit data'!L:L,data_tracking[[#This Row],[year]],'2015 sah unit data'!K:K,data_tracking[[#This Row],[month]],'2015 sah unit data'!J:J,data_tracking[[#This Row],[week]]))","v":1264.7898305555548},{"$f":"IF(SUMIFS('2015 sah unit data'!D:D,'2015 sah unit data'!L:L,data_tracking[[#This Row],[year]],'2015 sah unit data'!K:K,data_tracking[[#This Row],[month]],'2015 sah unit data'!J:J,data_tracking[[#This Row],[week]])=0,\"\",SUMIFS('2015 sah unit data'!D:D,'2015 sah unit data'!L:L,data_tracking[[#This Row],[year]],'2015 sah unit data'!K:K,data_tracking[[#This Row],[month]],'2015 sah unit data'!J:J,data_tracking[[#This Row],[week]]))","v":368},{"$f":"IF(SUMIFS('2015 sah unit data'!E:E,'2015 sah unit data'!L:L,data_tracking[[#This Row],[year]],'2015 sah unit data'!K:K,data_tracking[[#This Row],[month]],'2015 sah unit data'!J:J,data_tracking[[#This Row],[week]])=0,\"\",SUMIFS('2015 sah unit data'!E:E,'2015 sah unit data'!L:L,data_tracking[[#This Row],[year]],'2015 sah unit data'!K:K,data_tracking[[#This Row],[month]],'2015 sah unit data'!J:J,data_tracking[[#This Row],[week]]))","v":2561},{"$f":"IF(SUMIFS('2015 sah unit data'!F:F,'2015 sah unit data'!L:L,data_tracking[[#This Row],[year]],'2015 sah unit data'!K:K,data_tracking[[#This Row],[month]],'2015 sah unit data'!J:J,data_tracking[[#This Row],[week]])=0,\"\",SUMIFS('2015 sah unit data'!F:F,'2015 sah unit data'!L:L,data_tracking[[#This Row],[year]],'2015 sah unit data'!K:K,data_tracking[[#This Row],[month]],'2015 sah unit data'!J:J,data_tracking[[#This Row],[week]]))","v":1284},{"$f":"IF(SUMIFS('2015 sah unit data'!G:G,'2015 sah unit data'!L:L,data_tracking[[#This Row],[year]],'2015 sah unit data'!K:K,data_tracking[[#This Row],[month]],'2015 sah unit data'!J:J,data_tracking[[#This Row],[week]])=0,\"\",SUMIFS('2015 sah unit data'!G:G,'2015 sah unit data'!L:L,data_tracking[[#This Row],[year]],'2015 sah unit data'!K:K,data_tracking[[#This Row],[month]],'2015 sah unit data'!J:J,data_tracking[[#This Row],[week]]))","v":368},{"$f":"SUMIFS('2015 sah unit data'!I:I,'2015 sah unit data'!L:L,data_tracking[[#This Row],[year]],'2015 sah unit data'!K:K,data_tracking[[#This Row],[month]],'2015 sah unit data'!J:J,data_tracking[[#This Row],[week]])","v":13},{"$f":"SUMIFS('overhead costs data'!E:E,'overhead costs data'!C:C,data_tracking[[#This Row],[year]],'overhead costs data'!B:B,data_tracking[[#This Row],[month]])","v":46798.11}]
[12,3,2015,36.520000000000003,20.04,{"$f":"IFERROR((data_tracking[[#This Row],[overhead]]+SUMIFS('labor costs data'!H:H,'labor costs data'!D:D,data_tracking[[#This Row],[year]],'labor costs data'!A:A,data_tracking[[#This Row],[week]]))/data_tracking[[#This Row],[SAH Completed (Total)]],\"\")","v":52.648432600542073},{"$f":"IFERROR(SUMIFS('labor costs data'!E:E,'labor costs data'!D:D,data_tracking[[#This Row],[year]],'labor costs data'!A:A,data_tracking[[#This Row],[week]])/data_tracking[[#This Row],[SAH Completed (Total)]],\"\")","v":24.797834000386377},{"$f":"IFERROR((data_tracking[[#This Row],[overhead]]+SUMIFS(labor_costs[total labor cost],labor_costs[year],data_tracking[[#This Row],[year]],labor_costs[week],data_tracking[[#This Row],[week]]))/data_tracking[[#This Row],[Units Completed (Total)]],\"\")","v":50.973731426536908},{"$f":"IF(SUM(data_tracking[[#This Row],[111-FILSN1 SAH]],data_tracking[[#This Row],[112-FILSN2 SAH]],data_tracking[[#This Row],[113-FILSN3 SAH]])=0,\"\",SUM(data_tracking[[#This Row],[111-FILSN1 SAH]],data_tracking[[#This Row],[112-FILSN2 SAH]],data_tracking[[#This Row],[113-FILSN3 SAH]]))","v":4078.9881083333312},{"$f":"IF(SUM(data_tracking[[#This Row],[111-FILSN1 Units]],data_tracking[[#This Row],[112-FILSN2 Units]],data_tracking[[#This Row],[113-FILSN3 Units]])=0,\"\",SUM(data_tracking[[#This Row],[111-FILSN1 Units]],data_tracking[[#This Row],[112-FILSN2 Units]],data_tracking[[#This Row],[113-FILSN3 Units]]))","v":4213},{"$f":"IF(SUMIFS('2015 sah unit data'!B:B,'2015 sah unit data'!L:L,data_tracking[[#This Row],[year]],'2015 sah unit data'!K:K,data_tracking[[#This Row],[month]],'2015 sah unit data'!J:J,data_tracking[[#This Row],[week]])=0,\"\",SUMIFS('2015 sah unit data'!B:B,'2015 sah unit data'!L:L,data_tracking[[#This Row],[year]],'2015 sah unit data'!K:K,data_tracking[[#This Row],[month]],'2015 sah unit data'!J:J,data_tracking[[#This Row],[week]]))","v":2446.1982777777762},{"$f":"IF(SUMIFS('2015 sah unit data'!C:C,'2015 sah unit data'!L:L,data_tracking[[#This Row],[year]],'2015 sah unit data'!K:K,data_tracking[[#This Row],[month]],'2015 sah unit data'!J:J,data_tracking[[#This Row],[week]])=0,\"\",SUMIFS('2015 sah unit data'!C:C,'2015 sah unit data'!L:L,data_tracking[[#This Row],[year]],'2015 sah unit data'!K:K,data_tracking[[#This Row],[month]],'2015 sah unit data'!J:J,data_tracking[[#This Row],[week]]))","v":1264.7898305555548},{"$f":"IF(SUMIFS('2015 sah unit data'!D:D,'2015 sah unit data'!L:L,data_tracking[[#This Row],[year]],'2015 sah unit data'!K:K,data_tracking[[#This Row],[month]],'2015 sah unit data'!J:J,data_tracking[[#This Row],[week]])=0,\"\",SUMIFS('2015 sah unit data'!D:D,'2015 sah unit data'!L:L,data_tracking[[#This Row],[year]],'2015 sah unit data'!K:K,data_tracking[[#This Row],[month]],'2015 sah unit data'!J:J,data_tracking[[#This Row],[week]]))","v":368},{"$f":"IF(SUMIFS('2015 sah unit data'!E:E,'2015 sah unit data'!L:L,data_tracking[[#This Row],[year]],'2015 sah unit data'!K:K,data_tracking[[#This Row],[month]],'2015 sah unit data'!J:J,data_tracking[[#This Row],[week]])=0,\"\",SUMIFS('2015 sah unit data'!E:E,'2015 sah unit data'!L:L,data_tracking[[#This Row],[year]],'2015 sah unit data'!K:K,data_tracking[[#This Row],[month]],'2015 sah unit data'!J:J,data_tracking[[#This Row],[week]]))","v":2561},{"$f":"IF(SUMIFS('2015 sah unit data'!F:F,'2015 sah unit data'!L:L,data_tracking[[#This Row],[year]],'2015 sah unit data'!K:K,data_tracking[[#This Row],[month]],'2015 sah unit data'!J:J,data_tracking[[#This Row],[week]])=0,\"\",SUMIFS('2015 sah unit data'!F:F,'2015 sah unit data'!L:L,data_tracking[[#This Row],[year]],'2015 sah unit data'!K:K,data_tracking[[#This Row],[month]],'2015 sah unit data'!J:J,data_tracking[[#This Row],[week]]))","v":1284},{"$f":"IF(SUMIFS('2015 sah unit data'!G:G,'2015 sah unit data'!L:L,data_tracking[[#This Row],[year]],'2015 sah unit data'!K:K,data_tracking[[#This Row],[month]],'2015 sah unit data'!J:J,data_tracking[[#This Row],[week]])=0,\"\",SUMIFS('2015 sah unit data'!G:G,'2015 sah unit data'!L:L,data_tracking[[#This Row],[year]],'2015 sah unit data'!K:K,data_tracking[[#This Row],[month]],'2015 sah unit data'!J:J,data_tracking[[#This Row],[week]]))","v":368},{"$f":"SUMIFS('2015 sah unit data'!I:I,'2015 sah unit data'!L:L,data_tracking[[#This Row],[year]],'2015 sah unit data'!K:K,data_tracking[[#This Row],[month]],'2015 sah unit data'!J:J,data_tracking[[#This Row],[week]])","v":13},{"$f":"SUMIFS('overhead costs data'!E:E,'overhead costs data'!C:C,data_tracking[[#This Row],[year]],'overhead costs data'!B:B,data_tracking[[#This Row],[month]])","v":46798.11}]
[13,3,2015,36.520000000000003,20.04,{"$f":"IFERROR((data_tracking[[#This Row],[overhead]]+SUMIFS('labor costs data'!H:H,'labor costs data'!D:D,data_tracking[[#This Row],[year]],'labor costs data'!A:A,data_tracking[[#This Row],[week]]))/data_tracking[[#This Row],[SAH Completed (Total)]],\"\")","v":53.38709729383806},{"$f":"IFERROR(SUMIFS('labor costs data'!E:E,'labor costs data'!D:D,data_tracking[[#This Row],[year]],'labor costs data'!A:A,data_tracking[[#This Row],[week]])/data_tracking[[#This Row],[SAH Completed (Total)]],\"\")","v":24.799307405025072},{"$f":"IFERROR((data_tracking[[#This Row],[overhead]]+SUMIFS(labor_costs[total labor cost],labor_costs[year],data_tracking[[#This Row],[year]],labor_costs[week],data_tracking[[#This Row],[week]]))/data_tracking[[#This Row],[Units Completed (Total)]],\"\")","v":51.688899833847621},{"$f":"IF(SUM(data_tracking[[#This Row],[111-FILSN1 SAH]],data_tracking[[#This Row],[112-FILSN2 SAH]],data_tracking[[#This Row],[113-FILSN3 SAH]])=0,\"\",SUM(data_tracking[[#This Row],[111-FILSN1 SAH]],data_tracking[[#This Row],[112-FILSN2 SAH]],data_tracking[[#This Row],[113-FILSN3 SAH]]))","v":4078.9881083333312},{"$f":"IF(SUM(data_tracking[[#This Row],[111-FILSN1 Units]],data_tracking[[#This Row],[112-FILSN2 Units]],data_tracking[[#This Row],[113-FILSN3 Units]])=0,\"\",SUM(data_tracking[[#This Row],[111-FILSN1 Units]],data_tracking[[#This Row],[112-FILSN2 Units]],data_tracking[[#This Row],[113-FILSN3 Units]]))","v":4213},{"$f":"IF(SUMIFS('2015 sah unit data'!B:B,'2015 sah unit data'!L:L,data_tracking[[#This Row],[year]],'2015 sah unit data'!K:K,data_tracking[[#This Row],[month]],'2015 sah unit data'!J:J,data_tracking[[#This Row],[week]])=0,\"\",SUMIFS('2015 sah unit data'!B:B,'2015 sah unit data'!L:L,data_tracking[[#This Row],[year]],'2015 sah unit data'!K:K,data_tracking[[#This Row],[month]],'2015 sah unit data'!J:J,data_tracking[[#This Row],[week]]))","v":2446.1982777777762},{"$f":"IF(SUMIFS('2015 sah unit data'!C:C,'2015 sah unit data'!L:L,data_tracking[[#This Row],[year]],'2015 sah unit data'!K:K,data_tracking[[#This Row],[month]],'2015 sah unit data'!J:J,data_tracking[[#This Row],[week]])=0,\"\",SUMIFS('2015 sah unit data'!C:C,'2015 sah unit data'!L:L,data_tracking[[#This Row],[year]],'2015 sah unit data'!K:K,data_tracking[[#This Row],[month]],'2015 sah unit data'!J:J,data_tracking[[#This Row],[week]]))","v":1264.7898305555548},{"$f":"IF(SUMIFS('2015 sah unit data'!D:D,'2015 sah unit data'!L:L,data_tracking[[#This Row],[year]],'2015 sah unit data'!K:K,data_tracking[[#This Row],[month]],'2015 sah unit data'!J:J,data_tracking[[#This Row],[week]])=0,\"\",SUMIFS('2015 sah unit data'!D:D,'2015 sah unit data'!L:L,data_tracking[[#This Row],[year]],'2015 sah unit data'!K:K,data_tracking[[#This Row],[month]],'2015 sah unit data'!J:J,data_tracking[[#This Row],[week]]))","v":368},{"$f":"IF(SUMIFS('2015 sah unit data'!E:E,'2015 sah unit data'!L:L,data_tracking[[#This Row],[year]],'2015 sah unit data'!K:K,data_tracking[[#This Row],[month]],'2015 sah unit data'!J:J,data_tracking[[#This Row],[week]])=0,\"\",SUMIFS('2015 sah unit data'!E:E,'2015 sah unit data'!L:L,data_tracking[[#This Row],[year]],'2015 sah unit data'!K:K,data_tracking[[#This Row],[month]],'2015 sah unit data'!J:J,data_tracking[[#This Row],[week]]))","v":2561},{"$f":"IF(SUMIFS('2015 sah unit data'!F:F,'2015 sah unit data'!L:L,data_tracking[[#This Row],[year]],'2015 sah unit data'!K:K,data_tracking[[#This Row],[month]],'2015 sah unit data'!J:J,data_tracking[[#This Row],[week]])=0,\"\",SUMIFS('2015 sah unit data'!F:F,'2015 sah unit data'!L:L,data_tracking[[#This Row],[year]],'2015 sah unit data'!K:K,data_tracking[[#This Row],[month]],'2015 sah unit data'!J:J,data_tracking[[#This Row],[week]]))","v":1284},{"$f":"IF(SUMIFS('2015 sah unit data'!G:G,'2015 sah unit data'!L:L,data_tracking[[#This Row],[year]],'2015 sah unit data'!K:K,data_tracking[[#This Row],[month]],'2015 sah unit data'!J:J,data_tracking[[#This Row],[week]])=0,\"\",SUMIFS('2015 sah unit data'!G:G,'2015 sah unit data'!L:L,data_tracking[[#This Row],[year]],'2015 sah unit data'!K:K,data_tracking[[#This Row],[month]],'2015 sah unit data'!J:J,data_tracking[[#This Row],[week]]))","v":368},{"$f":"SUMIFS('2015 sah unit data'!I:I,'2015 sah unit data'!L:L,data_tracking[[#This Row],[year]],'2015 sah unit data'!K:K,data_tracking[[#This Row],[month]],'2015 sah unit data'!J:J,data_tracking[[#This Row],[week]])","v":13},{"$f":"SUMIFS('overhead costs data'!E:E,'overhead costs data'!C:C,data_tracking[[#This Row],[year]],'overhead costs data'!B:B,data_tracking[[#This Row],[month]])","v":46798.11}]
[14,3,2015,36.520000000000003,20.04,{"$f":"IFERROR((data_tracking[[#This Row],[overhead]]+SUMIFS('labor costs data'!H:H,'labor costs data'!D:D,data_tracking[[#This Row],[year]],'labor costs data'!A:A,data_tracking[[#This Row],[week]]))/data_tracking[[#This Row],[SAH Completed (Total)]],\"\")","v":53.38709729383806},{"$f":"IFERROR(SUMIFS('labor costs data'!E:E,'labor costs data'!D:D,data_tracking[[#This Row],[year]],'labor costs data'!A:A,data_tracking[[#This Row],[week]])/data_tracking[[#This Row],[SAH Completed (Total)]],\"\")","v":24.799307405025072},{"$f":"IFERROR((data_tracking[[#This Row],[overhead]]+SUMIFS(labor_costs[total labor cost],labor_costs[year],data_tracking[[#This Row],[year]],labor_costs[week],data_tracking[[#This Row],[week]]))/data_tracking[[#This Row],[Units Completed (Total)]],\"\")","v":51.688899833847621},{"$f":"IF(SUM(data_tracking[[#This Row],[111-FILSN1 SAH]],data_tracking[[#This Row],[112-FILSN2 SAH]],data_tracking[[#This Row],[113-FILSN3 SAH]])=0,\"\",SUM(data_tracking[[#This Row],[111-FILSN1 SAH]],data_tracking[[#This Row],[112-FILSN2 SAH]],data_tracking[[#This Row],[113-FILSN3 SAH]]))","v":4078.9881083333312},{"$f":"IF(SUM(data_tracking[[#This Row],[111-FILSN1 Units]],data_tracking[[#This Row],[112-FILSN2 Units]],data_tracking[[#This Row],[113-FILSN3 Units]])=0,\"\",SUM(data_tracking[[#This Row],[111-FILSN1 Units]],data_tracking[[#This Row],[112-FILSN2 Units]],data_tracking[[#This Row],[113-FILSN3 Units]]))","v":4213},{"$f":"IF(SUMIFS('2015 sah unit data'!B:B,'2015 sah unit data'!L:L,data_tracking[[#This Row],[year]],'2015 sah unit data'!K:K,data_tracking[[#This Row],[month]],'2015 sah unit data'!J:J,data_tracking[[#This Row],[week]])=0,\"\",SUMIFS('2015 sah unit data'!B:B,'2015 sah unit data'!L:L,data_tracking[[#This Row],[year]],'2015 sah unit data'!K:K,data_tracking[[#This Row],[month]],'2015 sah unit data'!J:J,data_tracking[[#This Row],[week]]))","v":2446.1982777777762},{"$f":"IF(SUMIFS('2015 sah unit data'!C:C,'2015 sah unit data'!L:L,data_tracking[[#This Row],[year]],'2015 sah unit data'!K:K,data_tracking[[#This Row],[month]],'2015 sah unit data'!J:J,data_tracking[[#This Row],[week]])=0,\"\",SUMIFS('2015 sah unit data'!C:C,'2015 sah unit data'!L:L,data_tracking[[#This Row],[year]],'2015 sah unit data'!K:K,data_tracking[[#This Row],[month]],'2015 sah unit data'!J:J,data_tracking[[#This Row],[week]]))","v":1264.7898305555548},{"$f":"IF(SUMIFS('2015 sah unit data'!D:D,'2015 sah unit data'!L:L,data_tracking[[#This Row],[year]],'2015 sah unit data'!K:K,data_tracking[[#This Row],[month]],'2015 sah unit data'!J:J,data_tracking[[#This Row],[week]])=0,\"\",SUMIFS('2015 sah unit data'!D:D,'2015 sah unit data'!L:L,data_tracking[[#This Row],[year]],'2015 sah unit data'!K:K,data_tracking[[#This Row],[month]],'2015 sah unit data'!J:J,data_tracking[[#This Row],[week]]))","v":368},{"$f":"IF(SUMIFS('2015 sah unit data'!E:E,'2015 sah unit data'!L:L,data_tracking[[#This Row],[year]],'2015 sah unit data'!K:K,data_tracking[[#This Row],[month]],'2015 sah unit data'!J:J,data_tracking[[#This Row],[week]])=0,\"\",SUMIFS('2015 sah unit data'!E:E,'2015 sah unit data'!L:L,data_tracking[[#This Row],[year]],'2015 sah unit data'!K:K,data_tracking[[#This Row],[month]],'2015 sah unit data'!J:J,data_tracking[[#This Row],[week]]))","v":2561},{"$f":"IF(SUMIFS('2015 sah unit data'!F:F,'2015 sah unit data'!L:L,data_tracking[[#This Row],[year]],'2015 sah unit data'!K:K,data_tracking[[#This Row],[month]],'2015 sah unit data'!J:J,data_tracking[[#This Row],[week]])=0,\"\",SUMIFS('2015 sah unit data'!F:F,'2015 sah unit data'!L:L,data_tracking[[#This Row],[year]],'2015 sah unit data'!K:K,data_tracking[[#This Row],[month]],'2015 sah unit data'!J:J,data_tracking[[#This Row],[week]]))","v":1284},{"$f":"IF(SUMIFS('2015 sah unit data'!G:G,'2015 sah unit data'!L:L,data_tracking[[#This Row],[year]],'2015 sah unit data'!K:K,data_tracking[[#This Row],[month]],'2015 sah unit data'!J:J,data_tracking[[#This Row],[week]])=0,\"\",SUMIFS('2015 sah unit data'!G:G,'2015 sah unit data'!L:L,data_tracking[[#This Row],[year]],'2015 sah unit data'!K:K,data_tracking[[#This Row],[month]],'2015 sah unit data'!J:J,data_tracking[[#This Row],[week]]))","v":368},{"$f":"SUMIFS('2015 sah unit data'!I:I,'2015 sah unit data'!L:L,data_tracking[[#This Row],[year]],'2015 sah unit data'!K:K,data_tracking[[#This Row],[month]],'2015 sah unit data'!J:J,data_tracking[[#This Row],[week]])","v":13},{"$f":"SUMIFS('overhead costs data'!E:E,'overhead costs data'!C:C,data_tracking[[#This Row],[year]],'overhead costs data'!B:B,data_tracking[[#This Row],[month]])","v":46798.11}]
[15,4,2015,36.520000000000003,20.04,{"$f":"IFERROR((data_tracking[[#This Row],[overhead]]+SUMIFS('labor costs data'!H:H,'labor costs data'!D:D,data_tracking[[#This Row],[year]],'labor costs data'!A:A,data_tracking[[#This Row],[week]]))/data_tracking[[#This Row],[SAH Completed (Total)]],\"\")","v":45.053773817488},{"$f":"IFERROR(SUMIFS('labor costs data'!E:E,'labor costs data'!D:D,data_tracking[[#This Row],[year]],'labor costs data'!A:A,data_tracking[[#This Row],[week]])/data_tracking[[#This Row],[SAH Completed (Total)]],\"\")","v":18.777471469868242},{"$f":"IFERROR((data_tracking[[#This Row],[overhead]]+SUMIFS(labor_costs[total labor cost],labor_costs[year],data_tracking[[#This Row],[year]],labor_costs[week],data_tracking[[#This Row],[week]]))/data_tracking[[#This Row],[Units Completed (Total)]],\"\")","v":40.204729173750422},{"$f":"IF(SUM(data_tracking[[#This Row],[111-FILSN1 SAH]],data_tracking[[#This Row],[112-FILSN2 SAH]],data_tracking[[#This Row],[113-FILSN3 SAH]])=0,\"\",SUM(data_tracking[[#This Row],[111-FILSN1 SAH]],data_tracking[[#This Row],[112-FILSN2 SAH]],data_tracking[[#This Row],[113-FILSN3 SAH]]))","v":5248.932485833333},{"$f":"IF(SUM(data_tracking[[#This Row],[111-FILSN1 Units]],data_tracking[[#This Row],[112-FILSN2 Units]],data_tracking[[#This Row],[113-FILSN3 Units]])=0,\"\",SUM(data_tracking[[#This Row],[111-FILSN1 Units]],data_tracking[[#This Row],[112-FILSN2 Units]],data_tracking[[#This Row],[113-FILSN3 Units]]))","v":5882},{"$f":"IF(SUMIFS('2015 sah unit data'!B:B,'2015 sah unit data'!L:L,data_tracking[[#This Row],[year]],'2015 sah unit data'!K:K,data_tracking[[#This Row],[month]],'2015 sah unit data'!J:J,data_tracking[[#This Row],[week]])=0,\"\",SUMIFS('2015 sah unit data'!B:B,'2015 sah unit data'!L:L,data_tracking[[#This Row],[year]],'2015 sah unit data'!K:K,data_tracking[[#This Row],[month]],'2015 sah unit data'!J:J,data_tracking[[#This Row],[week]]))","v":3359.8006079166657},{"$f":"IF(SUMIFS('2015 sah unit data'!C:C,'2015 sah unit data'!L:L,data_tracking[[#This Row],[year]],'2015 sah unit data'!K:K,data_tracking[[#This Row],[month]],'2015 sah unit data'!J:J,data_tracking[[#This Row],[week]])=0,\"\",SUMIFS('2015 sah unit data'!C:C,'2015 sah unit data'!L:L,data_tracking[[#This Row],[year]],'2015 sah unit data'!K:K,data_tracking[[#This Row],[month]],'2015 sah unit data'!J:J,data_tracking[[#This Row],[week]]))","v":1538.1318779166677},{"$f":"IF(SUMIFS('2015 sah unit data'!D:D,'2015 sah unit data'!L:L,data_tracking[[#This Row],[year]],'2015 sah unit data'!K:K,data_tracking[[#This Row],[month]],'2015 sah unit data'!J:J,data_tracking[[#This Row],[week]])=0,\"\",SUMIFS('2015 sah unit data'!D:D,'2015 sah unit data'!L:L,data_tracking[[#This Row],[year]],'2015 sah unit data'!K:K,data_tracking[[#This Row],[month]],'2015 sah unit data'!J:J,data_tracking[[#This Row],[week]]))","v":351},{"$f":"IF(SUMIFS('2015 sah unit data'!E:E,'2015 sah unit data'!L:L,data_tracking[[#This Row],[year]],'2015 sah unit data'!K:K,data_tracking[[#This Row],[month]],'2015 sah unit data'!J:J,data_tracking[[#This Row],[week]])=0,\"\",SUMIFS('2015 sah unit data'!E:E,'2015 sah unit data'!L:L,data_tracking[[#This Row],[year]],'2015 sah unit data'!K:K,data_tracking[[#This Row],[month]],'2015 sah unit data'!J:J,data_tracking[[#This Row],[week]]))","v":3529},{"$f":"IF(SUMIFS('2015 sah unit data'!F:F,'2015 sah unit data'!L:L,data_tracking[[#This Row],[year]],'2015 sah unit data'!K:K,data_tracking[[#This Row],[month]],'2015 sah unit data'!J:J,data_tracking[[#This Row],[week]])=0,\"\",SUMIFS('2015 sah unit data'!F:F,'2015 sah unit data'!L:L,data_tracking[[#This Row],[year]],'2015 sah unit data'!K:K,data_tracking[[#This Row],[month]],'2015 sah unit data'!J:J,data_tracking[[#This Row],[week]]))","v":2002},{"$f":"IF(SUMIFS('2015 sah unit data'!G:G,'2015 sah unit data'!L:L,data_tracking[[#This Row],[year]],'2015 sah unit data'!K:K,data_tracking[[#This Row],[month]],'2015 sah unit data'!J:J,data_tracking[[#This Row],[week]])=0,\"\",SUMIFS('2015 sah unit data'!G:G,'2015 sah unit data'!L:L,data_tracking[[#This Row],[year]],'2015 sah unit data'!K:K,data_tracking[[#This Row],[month]],'2015 sah unit data'!J:J,data_tracking[[#This Row],[week]]))","v":351},{"$f":"SUMIFS('2015 sah unit data'!I:I,'2015 sah unit data'!L:L,data_tracking[[#This Row],[year]],'2015 sah unit data'!K:K,data_tracking[[#This Row],[month]],'2015 sah unit data'!J:J,data_tracking[[#This Row],[week]])","v":13},{"$f":"SUMIFS('overhead costs data'!E:E,'overhead costs data'!C:C,data_tracking[[#This Row],[year]],'overhead costs data'!B:B,data_tracking[[#This Row],[month]])","v":66309.382499999992}]
[16,4,2015,36.520000000000003,20.04,{"$f":"IFERROR((data_tracking[[#This Row],[overhead]]+SUMIFS('labor costs data'!H:H,'labor costs data'!D:D,data_tracking[[#This Row],[year]],'labor costs data'!A:A,data_tracking[[#This Row],[week]]))/data_tracking[[#This Row],[SAH Completed (Total)]],\"\")","v":45.053773817488},{"$f":"IFERROR(SUMIFS('labor costs data'!E:E,'labor costs data'!D:D,data_tracking[[#This Row],[year]],'labor costs data'!A:A,data_tracking[[#This Row],[week]])/data_tracking[[#This Row],[SAH Completed (Total)]],\"\")","v":18.777471469868242},{"$f":"IFERROR((data_tracking[[#This Row],[overhead]]+SUMIFS(labor_costs[total labor cost],labor_costs[year],data_tracking[[#This Row],[year]],labor_costs[week],data_tracking[[#This Row],[week]]))/data_tracking[[#This Row],[Units Completed (Total)]],\"\")","v":40.204729173750422},{"$f":"IF(SUM(data_tracking[[#This Row],[111-FILSN1 SAH]],data_tracking[[#This Row],[112-FILSN2 SAH]],data_tracking[[#This Row],[113-FILSN3 SAH]])=0,\"\",SUM(data_tracking[[#This Row],[111-FILSN1 SAH]],data_tracking[[#This Row],[112-FILSN2 SAH]],data_tracking[[#This Row],[113-FILSN3 SAH]]))","v":5248.932485833333},{"$f":"IF(SUM(data_tracking[[#This Row],[111-FILSN1 Units]],data_tracking[[#This Row],[112-FILSN2 Units]],data_tracking[[#This Row],[113-FILSN3 Units]])=0,\"\",SUM(data_tracking[[#This Row],[111-FILSN1 Units]],data_tracking[[#This Row],[112-FILSN2 Units]],data_tracking[[#This Row],[113-FILSN3 Units]]))","v":5882},{"$f":"IF(SUMIFS('2015 sah unit data'!B:B,'2015 sah unit data'!L:L,data_tracking[[#This Row],[year]],'2015 sah unit data'!K:K,data_tracking[[#This Row],[month]],'2015 sah unit data'!J:J,data_tracking[[#This Row],[week]])=0,\"\",SUMIFS('2015 sah unit data'!B:B,'2015 sah unit data'!L:L,data_tracking[[#This Row],[year]],'2015 sah unit data'!K:K,data_tracking[[#This Row],[month]],'2015 sah unit data'!J:J,data_tracking[[#This Row],[week]]))","v":3359.8006079166657},{"$f":"IF(SUMIFS('2015 sah unit data'!C:C,'2015 sah unit data'!L:L,data_tracking[[#This Row],[year]],'2015 sah unit data'!K:K,data_tracking[[#This Row],[month]],'2015 sah unit data'!J:J,data_tracking[[#This Row],[week]])=0,\"\",SUMIFS('2015 sah unit data'!C:C,'2015 sah unit data'!L:L,data_tracking[[#This Row],[year]],'2015 sah unit data'!K:K,data_tracking[[#This Row],[month]],'2015 sah unit data'!J:J,data_tracking[[#This Row],[week]]))","v":1538.1318779166677},{"$f":"IF(SUMIFS('2015 sah unit data'!D:D,'2015 sah unit data'!L:L,data_tracking[[#This Row],[year]],'2015 sah unit data'!K:K,data_tracking[[#This Row],[month]],'2015 sah unit data'!J:J,data_tracking[[#This Row],[week]])=0,\"\",SUMIFS('2015 sah unit data'!D:D,'2015 sah unit data'!L:L,data_tracking[[#This Row],[year]],'2015 sah unit data'!K:K,data_tracking[[#This Row],[month]],'2015 sah unit data'!J:J,data_tracking[[#This Row],[week]]))","v":351},{"$f":"IF(SUMIFS('2015 sah unit data'!E:E,'2015 sah unit data'!L:L,data_tracking[[#This Row],[year]],'2015 sah unit data'!K:K,data_tracking[[#This Row],[month]],'2015 sah unit data'!J:J,data_tracking[[#This Row],[week]])=0,\"\",SUMIFS('2015 sah unit data'!E:E,'2015 sah unit data'!L:L,data_tracking[[#This Row],[year]],'2015 sah unit data'!K:K,data_tracking[[#This Row],[month]],'2015 sah unit data'!J:J,data_tracking[[#This Row],[week]]))","v":3529},{"$f":"IF(SUMIFS('2015 sah unit data'!F:F,'2015 sah unit data'!L:L,data_tracking[[#This Row],[year]],'2015 sah unit data'!K:K,data_tracking[[#This Row],[month]],'2015 sah unit data'!J:J,data_tracking[[#This Row],[week]])=0,\"\",SUMIFS('2015 sah unit data'!F:F,'2015 sah unit data'!L:L,data_tracking[[#This Row],[year]],'2015 sah unit data'!K:K,data_tracking[[#This Row],[month]],'2015 sah unit data'!J:J,data_tracking[[#This Row],[week]]))","v":2002},{"$f":"IF(SUMIFS('2015 sah unit data'!G:G,'2015 sah unit data'!L:L,data_tracking[[#This Row],[year]],'2015 sah unit data'!K:K,data_tracking[[#This Row],[month]],'2015 sah unit data'!J:J,data_tracking[[#This Row],[week]])=0,\"\",SUMIFS('2015 sah unit data'!G:G,'2015 sah unit data'!L:L,data_tracking[[#This Row],[year]],'2015 sah unit data'!K:K,data_tracking[[#This Row],[month]],'2015 sah unit data'!J:J,data_tracking[[#This Row],[week]]))","v":351},{"$f":"SUMIFS('2015 sah unit data'!I:I,'2015 sah unit data'!L:L,data_tracking[[#This Row],[year]],'2015 sah unit data'!K:K,data_tracking[[#This Row],[month]],'2015 sah unit data'!J:J,data_tracking[[#This Row],[week]])","v":13},{"$f":"SUMIFS('overhead costs data'!E:E,'overhead costs data'!C:C,data_tracking[[#This Row],[year]],'overhead costs data'!B:B,data_tracking[[#This Row],[month]])","v":66309.382499999992}]
[17,4,2015,36.520000000000003,20.04,{"$f":"IFERROR((data_tracking[[#This Row],[overhead]]+SUMIFS('labor costs data'!H:H,'labor costs data'!D:D,data_tracking[[#This Row],[year]],'labor costs data'!A:A,data_tracking[[#This Row],[week]]))/data_tracking[[#This Row],[SAH Completed (Total)]],\"\")","v":45.223327722477634},{"$f":"IFERROR(SUMIFS('labor costs data'!E:E,'labor costs data'!D:D,data_tracking[[#This Row],[year]],'labor costs data'!A:A,data_tracking[[#This Row],[week]])/data_tracking[[#This Row],[SAH Completed (Total)]],\"\")","v":18.983173296461388},{"$f":"IFERROR((data_tracking[[#This Row],[overhead]]+SUMIFS(labor_costs[total labor cost],labor_costs[year],data_tracking[[#This Row],[year]],labor_costs[week],data_tracking[[#This Row],[week]]))/data_tracking[[#This Row],[Units Completed (Total)]],\"\")","v":40.356034342060525},{"$f":"IF(SUM(data_tracking[[#This Row],[111-FILSN1 SAH]],data_tracking[[#This Row],[112-FILSN2 SAH]],data_tracking[[#This Row],[113-FILSN3 SAH]])=0,\"\",SUM(data_tracking[[#This Row],[111-FILSN1 SAH]],data_tracking[[#This Row],[112-FILSN2 SAH]],data_tracking[[#This Row],[113-FILSN3 SAH]]))","v":5248.932485833333},{"$f":"IF(SUM(data_tracking[[#This Row],[111-FILSN1 Units]],data_tracking[[#This Row],[112-FILSN2 Units]],data_tracking[[#This Row],[113-FILSN3 Units]])=0,\"\",SUM(data_tracking[[#This Row],[111-FILSN1 Units]],data_tracking[[#This Row],[112-FILSN2 Units]],data_tracking[[#This Row],[113-FILSN3 Units]]))","v":5882},{"$f":"IF(SUMIFS('2015 sah unit data'!B:B,'2015 sah unit data'!L:L,data_tracking[[#This Row],[year]],'2015 sah unit data'!K:K,data_tracking[[#This Row],[month]],'2015 sah unit data'!J:J,data_tracking[[#This Row],[week]])=0,\"\",SUMIFS('2015 sah unit data'!B:B,'2015 sah unit data'!L:L,data_tracking[[#This Row],[year]],'2015 sah unit data'!K:K,data_tracking[[#This Row],[month]],'2015 sah unit data'!J:J,data_tracking[[#This Row],[week]]))","v":3359.8006079166657},{"$f":"IF(SUMIFS('2015 sah unit data'!C:C,'2015 sah unit data'!L:L,data_tracking[[#This Row],[year]],'2015 sah unit data'!K:K,data_tracking[[#This Row],[month]],'2015 sah unit data'!J:J,data_tracking[[#This Row],[week]])=0,\"\",SUMIFS('2015 sah unit data'!C:C,'2015 sah unit data'!L:L,data_tracking[[#This Row],[year]],'2015 sah unit data'!K:K,data_tracking[[#This Row],[month]],'2015 sah unit data'!J:J,data_tracking[[#This Row],[week]]))","v":1538.1318779166677},{"$f":"IF(SUMIFS('2015 sah unit data'!D:D,'2015 sah unit data'!L:L,data_tracking[[#This Row],[year]],'2015 sah unit data'!K:K,data_tracking[[#This Row],[month]],'2015 sah unit data'!J:J,data_tracking[[#This Row],[week]])=0,\"\",SUMIFS('2015 sah unit data'!D:D,'2015 sah unit data'!L:L,data_tracking[[#This Row],[year]],'2015 sah unit data'!K:K,data_tracking[[#This Row],[month]],'2015 sah unit data'!J:J,data_tracking[[#This Row],[week]]))","v":351},{"$f":"IF(SUMIFS('2015 sah unit data'!E:E,'2015 sah unit data'!L:L,data_tracking[[#This Row],[year]],'2015 sah unit data'!K:K,data_tracking[[#This Row],[month]],'2015 sah unit data'!J:J,data_tracking[[#This Row],[week]])=0,\"\",SUMIFS('2015 sah unit data'!E:E,'2015 sah unit data'!L:L,data_tracking[[#This Row],[year]],'2015 sah unit data'!K:K,data_tracking[[#This Row],[month]],'2015 sah unit data'!J:J,data_tracking[[#This Row],[week]]))","v":3529},{"$f":"IF(SUMIFS('2015 sah unit data'!F:F,'2015 sah unit data'!L:L,data_tracking[[#This Row],[year]],'2015 sah unit data'!K:K,data_tracking[[#This Row],[month]],'2015 sah unit data'!J:J,data_tracking[[#This Row],[week]])=0,\"\",SUMIFS('2015 sah unit data'!F:F,'2015 sah unit data'!L:L,data_tracking[[#This Row],[year]],'2015 sah unit data'!K:K,data_tracking[[#This Row],[month]],'2015 sah unit data'!J:J,data_tracking[[#This Row],[week]]))","v":2002},{"$f":"IF(SUMIFS('2015 sah unit data'!G:G,'2015 sah unit data'!L:L,data_tracking[[#This Row],[year]],'2015 sah unit data'!K:K,data_tracking[[#This Row],[month]],'2015 sah unit data'!J:J,data_tracking[[#This Row],[week]])=0,\"\",SUMIFS('2015 sah unit data'!G:G,'2015 sah unit data'!L:L,data_tracking[[#This Row],[year]],'2015 sah unit data'!K:K,data_tracking[[#This Row],[month]],'2015 sah unit data'!J:J,data_tracking[[#This Row],[week]]))","v":351},{"$f":"SUMIFS('2015 sah unit data'!I:I,'2015 sah unit data'!L:L,data_tracking[[#This Row],[year]],'2015 sah unit data'!K:K,data_tracking[[#This Row],[month]],'2015 sah unit data'!J:J,data_tracking[[#This Row],[week]])","v":13},{"$f":"SUMIFS('overhead costs data'!E:E,'overhead costs data'!C:C,data_tracking[[#This Row],[year]],'overhead costs data'!B:B,data_tracking[[#This Row],[month]])","v":66309.382499999992}]
[18,4,2015,36.520000000000003,20.04,{"$f":"IFERROR((data_tracking[[#This Row],[overhead]]+SUMIFS('labor costs data'!H:H,'labor costs data'!D:D,data_tracking[[#This Row],[year]],'labor costs data'!A:A,data_tracking[[#This Row],[week]]))/data_tracking[[#This Row],[SAH Completed (Total)]],\"\")","v":45.223327722477634},{"$f":"IFERROR(SUMIFS('labor costs data'!E:E,'labor costs data'!D:D,data_tracking[[#This Row],[year]],'labor costs data'!A:A,data_tracking[[#This Row],[week]])/data_tracking[[#This Row],[SAH Completed (Total)]],\"\")","v":18.983173296461388},{"$f":"IFERROR((data_tracking[[#This Row],[overhead]]+SUMIFS(labor_costs[total labor cost],labor_costs[year],data_tracking[[#This Row],[year]],labor_costs[week],data_tracking[[#This Row],[week]]))/data_tracking[[#This Row],[Units Completed (Total)]],\"\")","v":40.356034342060525},{"$f":"IF(SUM(data_tracking[[#This Row],[111-FILSN1 SAH]],data_tracking[[#This Row],[112-FILSN2 SAH]],data_tracking[[#This Row],[113-FILSN3 SAH]])=0,\"\",SUM(data_tracking[[#This Row],[111-FILSN1 SAH]],data_tracking[[#This Row],[112-FILSN2 SAH]],data_tracking[[#This Row],[113-FILSN3 SAH]]))","v":5248.932485833333},{"$f":"IF(SUM(data_tracking[[#This Row],[111-FILSN1 Units]],data_tracking[[#This Row],[112-FILSN2 Units]],data_tracking[[#This Row],[113-FILSN3 Units]])=0,\"\",SUM(data_tracking[[#This Row],[111-FILSN1 Units]],data_tracking[[#This Row],[112-FILSN2 Units]],data_tracking[[#This Row],[113-FILSN3 Units]]))","v":5882},{"$f":"IF(SUMIFS('2015 sah unit data'!B:B,'2015 sah unit data'!L:L,data_tracking[[#This Row],[year]],'2015 sah unit data'!K:K,data_tracking[[#This Row],[month]],'2015 sah unit data'!J:J,data_tracking[[#This Row],[week]])=0,\"\",SUMIFS('2015 sah unit data'!B:B,'2015 sah unit data'!L:L,data_tracking[[#This Row],[year]],'2015 sah unit data'!K:K,data_tracking[[#This Row],[month]],'2015 sah unit data'!J:J,data_tracking[[#This Row],[week]]))","v":3359.8006079166657},{"$f":"IF(SUMIFS('2015 sah unit data'!C:C,'2015 sah unit data'!L:L,data_tracking[[#This Row],[year]],'2015 sah unit data'!K:K,data_tracking[[#This Row],[month]],'2015 sah unit data'!J:J,data_tracking[[#This Row],[week]])=0,\"\",SUMIFS('2015 sah unit data'!C:C,'2015 sah unit data'!L:L,data_tracking[[#This Row],[year]],'2015 sah unit data'!K:K,data_tracking[[#This Row],[month]],'2015 sah unit data'!J:J,data_tracking[[#This Row],[week]]))","v":1538.1318779166677},{"$f":"IF(SUMIFS('2015 sah unit data'!D:D,'2015 sah unit data'!L:L,data_tracking[[#This Row],[year]],'2015 sah unit data'!K:K,data_tracking[[#This Row],[month]],'2015 sah unit data'!J:J,data_tracking[[#This Row],[week]])=0,\"\",SUMIFS('2015 sah unit data'!D:D,'2015 sah unit data'!L:L,data_tracking[[#This Row],[year]],'2015 sah unit data'!K:K,data_tracking[[#This Row],[month]],'2015 sah unit data'!J:J,data_tracking[[#This Row],[week]]))","v":351},{"$f":"IF(SUMIFS('2015 sah unit data'!E:E,'2015 sah unit data'!L:L,data_tracking[[#This Row],[year]],'2015 sah unit data'!K:K,data_tracking[[#This Row],[month]],'2015 sah unit data'!J:J,data_tracking[[#This Row],[week]])=0,\"\",SUMIFS('2015 sah unit data'!E:E,'2015 sah unit data'!L:L,data_tracking[[#This Row],[year]],'2015 sah unit data'!K:K,data_tracking[[#This Row],[month]],'2015 sah unit data'!J:J,data_tracking[[#This Row],[week]]))","v":3529},{"$f":"IF(SUMIFS('2015 sah unit data'!F:F,'2015 sah unit data'!L:L,data_tracking[[#This Row],[year]],'2015 sah unit data'!K:K,data_tracking[[#This Row],[month]],'2015 sah unit data'!J:J,data_tracking[[#This Row],[week]])=0,\"\",SUMIFS('2015 sah unit data'!F:F,'2015 sah unit data'!L:L,data_tracking[[#This Row],[year]],'2015 sah unit data'!K:K,data_tracking[[#This Row],[month]],'2015 sah unit data'!J:J,data_tracking[[#This Row],[week]]))","v":2002},{"$f":"IF(SUMIFS('2015 sah unit data'!G:G,'2015 sah unit data'!L:L,data_tracking[[#This Row],[year]],'2015 sah unit data'!K:K,data_tracking[[#This Row],[month]],'2015 sah unit data'!J:J,data_tracking[[#This Row],[week]])=0,\"\",SUMIFS('2015 sah unit data'!G:G,'2015 sah unit data'!L:L,data_tracking[[#This Row],[year]],'2015 sah unit data'!K:K,data_tracking[[#This Row],[month]],'2015 sah unit data'!J:J,data_tracking[[#This Row],[week]]))","v":351},{"$f":"SUMIFS('2015 sah unit data'!I:I,'2015 sah unit data'!L:L,data_tracking[[#This Row],[year]],'2015 sah unit data'!K:K,data_tracking[[#This Row],[month]],'2015 sah unit data'!J:J,data_tracking[[#This Row],[week]])","v":13},{"$f":"SUMIFS('overhead costs data'!E:E,'overhead costs data'!C:C,data_tracking[[#This Row],[year]],'overhead costs data'!B:B,data_tracking[[#This Row],[month]])","v":66309.382499999992}]
[19,5,2015,36.520000000000003,20.04,{"$f":"IFERROR((data_tracking[[#This Row],[overhead]]+SUMIFS('labor costs data'!H:H,'labor costs data'!D:D,data_tracking[[#This Row],[year]],'labor costs data'!A:A,data_tracking[[#This Row],[week]]))/data_tracking[[#This Row],[SAH Completed (Total)]],\"\")","v":57.410392820372827},{"$f":"IFERROR(SUMIFS('labor costs data'!E:E,'labor costs data'!D:D,data_tracking[[#This Row],[year]],'labor costs data'!A:A,data_tracking[[#This Row],[week]])/data_tracking[[#This Row],[SAH Completed (Total)]],\"\")","v":23.942686984829265},{"$f":"IFERROR((data_tracking[[#This Row],[overhead]]+SUMIFS(labor_costs[total labor cost],labor_costs[year],data_tracking[[#This Row],[year]],labor_costs[week],data_tracking[[#This Row],[week]]))/data_tracking[[#This Row],[Units Completed (Total)]],\"\")","v":53.410956408434011},{"$f":"IF(SUM(data_tracking[[#This Row],[111-FILSN1 SAH]],data_tracking[[#This Row],[112-FILSN2 SAH]],data_tracking[[#This Row],[113-FILSN3 SAH]])=0,\"\",SUM(data_tracking[[#This Row],[111-FILSN1 SAH]],data_tracking[[#This Row],[112-FILSN2 SAH]],data_tracking[[#This Row],[113-FILSN3 SAH]]))","v":3926.9483437500003},{"$f":"IF(SUM(data_tracking[[#This Row],[111-FILSN1 Units]],data_tracking[[#This Row],[112-FILSN2 Units]],data_tracking[[#This Row],[113-FILSN3 Units]])=0,\"\",SUM(data_tracking[[#This Row],[111-FILSN1 Units]],data_tracking[[#This Row],[112-FILSN2 Units]],data_tracking[[#This Row],[113-FILSN3 Units]]))","v":4221},{"$f":"IF(SUMIFS('2015 sah unit data'!B:B,'2015 sah unit data'!L:L,data_tracking[[#This Row],[year]],'2015 sah unit data'!K:K,data_tracking[[#This Row],[month]],'2015 sah unit data'!J:J,data_tracking[[#This Row],[week]])=0,\"\",SUMIFS('2015 sah unit data'!B:B,'2015 sah unit data'!L:L,data_tracking[[#This Row],[year]],'2015 sah unit data'!K:K,data_tracking[[#This Row],[month]],'2015 sah unit data'!J:J,data_tracking[[#This Row],[week]]))","v":2118.0160687500006},{"$f":"IF(SUMIFS('2015 sah unit data'!C:C,'2015 sah unit data'!L:L,data_tracking[[#This Row],[year]],'2015 sah unit data'!K:K,data_tracking[[#This Row],[month]],'2015 sah unit data'!J:J,data_tracking[[#This Row],[week]])=0,\"\",SUMIFS('2015 sah unit data'!C:C,'2015 sah unit data'!L:L,data_tracking[[#This Row],[year]],'2015 sah unit data'!K:K,data_tracking[[#This Row],[month]],'2015 sah unit data'!J:J,data_tracking[[#This Row],[week]]))","v":1546.9322749999997},{"$f":"IF(SUMIFS('2015 sah unit data'!D:D,'2015 sah unit data'!L:L,data_tracking[[#This Row],[year]],'2015 sah unit data'!K:K,data_tracking[[#This Row],[month]],'2015 sah unit data'!J:J,data_tracking[[#This Row],[week]])=0,\"\",SUMIFS('2015 sah unit data'!D:D,'2015 sah unit data'!L:L,data_tracking[[#This Row],[year]],'2015 sah unit data'!K:K,data_tracking[[#This Row],[month]],'2015 sah unit data'!J:J,data_tracking[[#This Row],[week]]))","v":262},{"$f":"IF(SUMIFS('2015 sah unit data'!E:E,'2015 sah unit data'!L:L,data_tracking[[#This Row],[year]],'2015 sah unit data'!K:K,data_tracking[[#This Row],[month]],'2015 sah unit data'!J:J,data_tracking[[#This Row],[week]])=0,\"\",SUMIFS('2015 sah unit data'!E:E,'2015 sah unit data'!L:L,data_tracking[[#This Row],[year]],'2015 sah unit data'!K:K,data_tracking[[#This Row],[month]],'2015 sah unit data'!J:J,data_tracking[[#This Row],[week]]))","v":1853},{"$f":"IF(SUMIFS('2015 sah unit data'!F:F,'2015 sah unit data'!L:L,data_tracking[[#This Row],[year]],'2015 sah unit data'!K:K,data_tracking[[#This Row],[month]],'2015 sah unit data'!J:J,data_tracking[[#This Row],[week]])=0,\"\",SUMIFS('2015 sah unit data'!F:F,'2015 sah unit data'!L:L,data_tracking[[#This Row],[year]],'2015 sah unit data'!K:K,data_tracking[[#This Row],[month]],'2015 sah unit data'!J:J,data_tracking[[#This Row],[week]]))","v":2106},{"$f":"IF(SUMIFS('2015 sah unit data'!G:G,'2015 sah unit data'!L:L,data_tracking[[#This Row],[year]],'2015 sah unit data'!K:K,data_tracking[[#This Row],[month]],'2015 sah unit data'!J:J,data_tracking[[#This Row],[week]])=0,\"\",SUMIFS('2015 sah unit data'!G:G,'2015 sah unit data'!L:L,data_tracking[[#This Row],[year]],'2015 sah unit data'!K:K,data_tracking[[#This Row],[month]],'2015 sah unit data'!J:J,data_tracking[[#This Row],[week]]))","v":262},{"$f":"SUMIFS('2015 sah unit data'!I:I,'2015 sah unit data'!L:L,data_tracking[[#This Row],[year]],'2015 sah unit data'!K:K,data_tracking[[#This Row],[month]],'2015 sah unit data'!J:J,data_tracking[[#This Row],[week]])","v":13},{"$f":"SUMIFS('overhead costs data'!E:E,'overhead costs data'!C:C,data_tracking[[#This Row],[year]],'overhead costs data'!B:B,data_tracking[[#This Row],[month]])","v":62788.892499999994}]
[20,5,2015,36.520000000000003,20.04,{"$f":"IFERROR((data_tracking[[#This Row],[overhead]]+SUMIFS('labor costs data'!H:H,'labor costs data'!D:D,data_tracking[[#This Row],[year]],'labor costs data'!A:A,data_tracking[[#This Row],[week]]))/data_tracking[[#This Row],[SAH Completed (Total)]],\"\")","v":57.410392820372827},{"$f":"IFERROR(SUMIFS('labor costs data'!E:E,'labor costs data'!D:D,data_tracking[[#This Row],[year]],'labor costs data'!A:A,data_tracking[[#This Row],[week]])/data_tracking[[#This Row],[SAH Completed (Total)]],\"\")","v":23.942686984829265},{"$f":"IFERROR((data_tracking[[#This Row],[overhead]]+SUMIFS(labor_costs[total labor cost],labor_costs[year],data_tracking[[#This Row],[year]],labor_costs[week],data_tracking[[#This Row],[week]]))/data_tracking[[#This Row],[Units Completed (Total)]],\"\")","v":53.410956408434011},{"$f":"IF(SUM(data_tracking[[#This Row],[111-FILSN1 SAH]],data_tracking[[#This Row],[112-FILSN2 SAH]],data_tracking[[#This Row],[113-FILSN3 SAH]])=0,\"\",SUM(data_tracking[[#This Row],[111-FILSN1 SAH]],data_tracking[[#This Row],[112-FILSN2 SAH]],data_tracking[[#This Row],[113-FILSN3 SAH]]))","v":3926.9483437500003},{"$f":"IF(SUM(data_tracking[[#This Row],[111-FILSN1 Units]],data_tracking[[#This Row],[112-FILSN2 Units]],data_tracking[[#This Row],[113-FILSN3 Units]])=0,\"\",SUM(data_tracking[[#This Row],[111-FILSN1 Units]],data_tracking[[#This Row],[112-FILSN2 Units]],data_tracking[[#This Row],[113-FILSN3 Units]]))","v":4221},{"$f":"IF(SUMIFS('2015 sah unit data'!B:B,'2015 sah unit data'!L:L,data_tracking[[#This Row],[year]],'2015 sah unit data'!K:K,data_tracking[[#This Row],[month]],'2015 sah unit data'!J:J,data_tracking[[#This Row],[week]])=0,\"\",SUMIFS('2015 sah unit data'!B:B,'2015 sah unit data'!L:L,data_tracking[[#This Row],[year]],'2015 sah unit data'!K:K,data_tracking[[#This Row],[month]],'2015 sah unit data'!J:J,data_tracking[[#This Row],[week]]))","v":2118.0160687500006},{"$f":"IF(SUMIFS('2015 sah unit data'!C:C,'2015 sah unit data'!L:L,data_tracking[[#This Row],[year]],'2015 sah unit data'!K:K,data_tracking[[#This Row],[month]],'2015 sah unit data'!J:J,data_tracking[[#This Row],[week]])=0,\"\",SUMIFS('2015 sah unit data'!C:C,'2015 sah unit data'!L:L,data_tracking[[#This Row],[year]],'2015 sah unit data'!K:K,data_tracking[[#This Row],[month]],'2015 sah unit data'!J:J,data_tracking[[#This Row],[week]]))","v":1546.9322749999997},{"$f":"IF(SUMIFS('2015 sah unit data'!D:D,'2015 sah unit data'!L:L,data_tracking[[#This Row],[year]],'2015 sah unit data'!K:K,data_tracking[[#This Row],[month]],'2015 sah unit data'!J:J,data_tracking[[#This Row],[week]])=0,\"\",SUMIFS('2015 sah unit data'!D:D,'2015 sah unit data'!L:L,data_tracking[[#This Row],[year]],'2015 sah unit data'!K:K,data_tracking[[#This Row],[month]],'2015 sah unit data'!J:J,data_tracking[[#This Row],[week]]))","v":262},{"$f":"IF(SUMIFS('2015 sah unit data'!E:E,'2015 sah unit data'!L:L,data_tracking[[#This Row],[year]],'2015 sah unit data'!K:K,data_tracking[[#This Row],[month]],'2015 sah unit data'!J:J,data_tracking[[#This Row],[week]])=0,\"\",SUMIFS('2015 sah unit data'!E:E,'2015 sah unit data'!L:L,data_tracking[[#This Row],[year]],'2015 sah unit data'!K:K,data_tracking[[#This Row],[month]],'2015 sah unit data'!J:J,data_tracking[[#This Row],[week]]))","v":1853},{"$f":"IF(SUMIFS('2015 sah unit data'!F:F,'2015 sah unit data'!L:L,data_tracking[[#This Row],[year]],'2015 sah unit data'!K:K,data_tracking[[#This Row],[month]],'2015 sah unit data'!J:J,data_tracking[[#This Row],[week]])=0,\"\",SUMIFS('2015 sah unit data'!F:F,'2015 sah unit data'!L:L,data_tracking[[#This Row],[year]],'2015 sah unit data'!K:K,data_tracking[[#This Row],[month]],'2015 sah unit data'!J:J,data_tracking[[#This Row],[week]]))","v":2106},{"$f":"IF(SUMIFS('2015 sah unit data'!G:G,'2015 sah unit data'!L:L,data_tracking[[#This Row],[year]],'2015 sah unit data'!K:K,data_tracking[[#This Row],[month]],'2015 sah unit data'!J:J,data_tracking[[#This Row],[week]])=0,\"\",SUMIFS('2015 sah unit data'!G:G,'2015 sah unit data'!L:L,data_tracking[[#This Row],[year]],'2015 sah unit data'!K:K,data_tracking[[#This Row],[month]],'2015 sah unit data'!J:J,data_tracking[[#This Row],[week]]))","v":262},{"$f":"SUMIFS('2015 sah unit data'!I:I,'2015 sah unit data'!L:L,data_tracking[[#This Row],[year]],'2015 sah unit data'!K:K,data_tracking[[#This Row],[month]],'2015 sah unit data'!J:J,data_tracking[[#This Row],[week]])","v":13},{"$f":"SUMIFS('overhead costs data'!E:E,'overhead costs data'!C:C,data_tracking[[#This Row],[year]],'overhead costs data'!B:B,data_tracking[[#This Row],[month]])","v":62788.892499999994}]
[21,5,2015,36.520000000000003,20.04,{"$f":"IFERROR((data_tracking[[#This Row],[overhead]]+SUMIFS('labor costs data'!H:H,'labor costs data'!D:D,data_tracking[[#This Row],[year]],'labor costs data'!A:A,data_tracking[[#This Row],[week]]))/data_tracking[[#This Row],[SAH Completed (Total)]],\"\")","v":56.325885557429537},{"$f":"IFERROR(SUMIFS('labor costs data'!E:E,'labor costs data'!D:D,data_tracking[[#This Row],[year]],'labor costs data'!A:A,data_tracking[[#This Row],[week]])/data_tracking[[#This Row],[SAH Completed (Total)]],\"\")","v":22.896480200230545},{"$f":"IFERROR((data_tracking[[#This Row],[overhead]]+SUMIFS(labor_costs[total labor cost],labor_costs[year],data_tracking[[#This Row],[year]],labor_costs[week],data_tracking[[#This Row],[week]]))/data_tracking[[#This Row],[Units Completed (Total)]],\"\")","v":52.402000236910681},{"$f":"IF(SUM(data_tracking[[#This Row],[111-FILSN1 SAH]],data_tracking[[#This Row],[112-FILSN2 SAH]],data_tracking[[#This Row],[113-FILSN3 SAH]])=0,\"\",SUM(data_tracking[[#This Row],[111-FILSN1 SAH]],data_tracking[[#This Row],[112-FILSN2 SAH]],data_tracking[[#This Row],[113-FILSN3 SAH]]))","v":3926.9483437500003},{"$f":"IF(SUM(data_tracking[[#This Row],[111-FILSN1 Units]],data_tracking[[#This Row],[112-FILSN2 Units]],data_tracking[[#This Row],[113-FILSN3 Units]])=0,\"\",SUM(data_tracking[[#This Row],[111-FILSN1 Units]],data_tracking[[#This Row],[112-FILSN2 Units]],data_tracking[[#This Row],[113-FILSN3 Units]]))","v":4221},{"$f":"IF(SUMIFS('2015 sah unit data'!B:B,'2015 sah unit data'!L:L,data_tracking[[#This Row],[year]],'2015 sah unit data'!K:K,data_tracking[[#This Row],[month]],'2015 sah unit data'!J:J,data_tracking[[#This Row],[week]])=0,\"\",SUMIFS('2015 sah unit data'!B:B,'2015 sah unit data'!L:L,data_tracking[[#This Row],[year]],'2015 sah unit data'!K:K,data_tracking[[#This Row],[month]],'2015 sah unit data'!J:J,data_tracking[[#This Row],[week]]))","v":2118.0160687500006},{"$f":"IF(SUMIFS('2015 sah unit data'!C:C,'2015 sah unit data'!L:L,data_tracking[[#This Row],[year]],'2015 sah unit data'!K:K,data_tracking[[#This Row],[month]],'2015 sah unit data'!J:J,data_tracking[[#This Row],[week]])=0,\"\",SUMIFS('2015 sah unit data'!C:C,'2015 sah unit data'!L:L,data_tracking[[#This Row],[year]],'2015 sah unit data'!K:K,data_tracking[[#This Row],[month]],'2015 sah unit data'!J:J,data_tracking[[#This Row],[week]]))","v":1546.9322749999997},{"$f":"IF(SUMIFS('2015 sah unit data'!D:D,'2015 sah unit data'!L:L,data_tracking[[#This Row],[year]],'2015 sah unit data'!K:K,data_tracking[[#This Row],[month]],'2015 sah unit data'!J:J,data_tracking[[#This Row],[week]])=0,\"\",SUMIFS('2015 sah unit data'!D:D,'2015 sah unit data'!L:L,data_tracking[[#This Row],[year]],'2015 sah unit data'!K:K,data_tracking[[#This Row],[month]],'2015 sah unit data'!J:J,data_tracking[[#This Row],[week]]))","v":262},{"$f":"IF(SUMIFS('2015 sah unit data'!E:E,'2015 sah unit data'!L:L,data_tracking[[#This Row],[year]],'2015 sah unit data'!K:K,data_tracking[[#This Row],[month]],'2015 sah unit data'!J:J,data_tracking[[#This Row],[week]])=0,\"\",SUMIFS('2015 sah unit data'!E:E,'2015 sah unit data'!L:L,data_tracking[[#This Row],[year]],'2015 sah unit data'!K:K,data_tracking[[#This Row],[month]],'2015 sah unit data'!J:J,data_tracking[[#This Row],[week]]))","v":1853},{"$f":"IF(SUMIFS('2015 sah unit data'!F:F,'2015 sah unit data'!L:L,data_tracking[[#This Row],[year]],'2015 sah unit data'!K:K,data_tracking[[#This Row],[month]],'2015 sah unit data'!J:J,data_tracking[[#This Row],[week]])=0,\"\",SUMIFS('2015 sah unit data'!F:F,'2015 sah unit data'!L:L,data_tracking[[#This Row],[year]],'2015 sah unit data'!K:K,data_tracking[[#This Row],[month]],'2015 sah unit data'!J:J,data_tracking[[#This Row],[week]]))","v":2106},{"$f":"IF(SUMIFS('2015 sah unit data'!G:G,'2015 sah unit data'!L:L,data_tracking[[#This Row],[year]],'2015 sah unit data'!K:K,data_tracking[[#This Row],[month]],'2015 sah unit data'!J:J,data_tracking[[#This Row],[week]])=0,\"\",SUMIFS('2015 sah unit data'!G:G,'2015 sah unit data'!L:L,data_tracking[[#This Row],[year]],'2015 sah unit data'!K:K,data_tracking[[#This Row],[month]],'2015 sah unit data'!J:J,data_tracking[[#This Row],[week]]))","v":262},{"$f":"SUMIFS('2015 sah unit data'!I:I,'2015 sah unit data'!L:L,data_tracking[[#This Row],[year]],'2015 sah unit data'!K:K,data_tracking[[#This Row],[month]],'2015 sah unit data'!J:J,data_tracking[[#This Row],[week]])","v":13},{"$f":"SUMIFS('overhead costs data'!E:E,'overhead costs data'!C:C,data_tracking[[#This Row],[year]],'overhead costs data'!B:B,data_tracking[[#This Row],[month]])","v":62788.892499999994}]
[22,5,2015,36.520000000000003,20.04,{"$f":"IFERROR((data_tracking[[#This Row],[overhead]]+SUMIFS('labor costs data'!H:H,'labor costs data'!D:D,data_tracking[[#This Row],[year]],'labor costs data'!A:A,data_tracking[[#This Row],[week]]))/data_tracking[[#This Row],[SAH Completed (Total)]],\"\")","v":56.325885557429537},{"$f":"IFERROR(SUMIFS('labor costs data'!E:E,'labor costs data'!D:D,data_tracking[[#This Row],[year]],'labor costs data'!A:A,data_tracking[[#This Row],[week]])/data_tracking[[#This Row],[SAH Completed (Total)]],\"\")","v":22.896480200230545},{"$f":"IFERROR((data_tracking[[#This Row],[overhead]]+SUMIFS(labor_costs[total labor cost],labor_costs[year],data_tracking[[#This Row],[year]],labor_costs[week],data_tracking[[#This Row],[week]]))/data_tracking[[#This Row],[Units Completed (Total)]],\"\")","v":52.402000236910681},{"$f":"IF(SUM(data_tracking[[#This Row],[111-FILSN1 SAH]],data_tracking[[#This Row],[112-FILSN2 SAH]],data_tracking[[#This Row],[113-FILSN3 SAH]])=0,\"\",SUM(data_tracking[[#This Row],[111-FILSN1 SAH]],data_tracking[[#This Row],[112-FILSN2 SAH]],data_tracking[[#This Row],[113-FILSN3 SAH]]))","v":3926.9483437500003},{"$f":"IF(SUM(data_tracking[[#This Row],[111-FILSN1 Units]],data_tracking[[#This Row],[112-FILSN2 Units]],data_tracking[[#This Row],[113-FILSN3 Units]])=0,\"\",SUM(data_tracking[[#This Row],[111-FILSN1 Units]],data_tracking[[#This Row],[112-FILSN2 Units]],data_tracking[[#This Row],[113-FILSN3 Units]]))","v":4221},{"$f":"IF(SUMIFS('2015 sah unit data'!B:B,'2015 sah unit data'!L:L,data_tracking[[#This Row],[year]],'2015 sah unit data'!K:K,data_tracking[[#This Row],[month]],'2015 sah unit data'!J:J,data_tracking[[#This Row],[week]])=0,\"\",SUMIFS('2015 sah unit data'!B:B,'2015 sah unit data'!L:L,data_tracking[[#This Row],[year]],'2015 sah unit data'!K:K,data_tracking[[#This Row],[month]],'2015 sah unit data'!J:J,data_tracking[[#This Row],[week]]))","v":2118.0160687500006},{"$f":"IF(SUMIFS('2015 sah unit data'!C:C,'2015 sah unit data'!L:L,data_tracking[[#This Row],[year]],'2015 sah unit data'!K:K,data_tracking[[#This Row],[month]],'2015 sah unit data'!J:J,data_tracking[[#This Row],[week]])=0,\"\",SUMIFS('2015 sah unit data'!C:C,'2015 sah unit data'!L:L,data_tracking[[#This Row],[year]],'2015 sah unit data'!K:K,data_tracking[[#This Row],[month]],'2015 sah unit data'!J:J,data_tracking[[#This Row],[week]]))","v":1546.9322749999997},{"$f":"IF(SUMIFS('2015 sah unit data'!D:D,'2015 sah unit data'!L:L,data_tracking[[#This Row],[year]],'2015 sah unit data'!K:K,data_tracking[[#This Row],[month]],'2015 sah unit data'!J:J,data_tracking[[#This Row],[week]])=0,\"\",SUMIFS('2015 sah unit data'!D:D,'2015 sah unit data'!L:L,data_tracking[[#This Row],[year]],'2015 sah unit data'!K:K,data_tracking[[#This Row],[month]],'2015 sah unit data'!J:J,data_tracking[[#This Row],[week]]))","v":262},{"$f":"IF(SUMIFS('2015 sah unit data'!E:E,'2015 sah unit data'!L:L,data_tracking[[#This Row],[year]],'2015 sah unit data'!K:K,data_tracking[[#This Row],[month]],'2015 sah unit data'!J:J,data_tracking[[#This Row],[week]])=0,\"\",SUMIFS('2015 sah unit data'!E:E,'2015 sah unit data'!L:L,data_tracking[[#This Row],[year]],'2015 sah unit data'!K:K,data_tracking[[#This Row],[month]],'2015 sah unit data'!J:J,data_tracking[[#This Row],[week]]))","v":1853},{"$f":"IF(SUMIFS('2015 sah unit data'!F:F,'2015 sah unit data'!L:L,data_tracking[[#This Row],[year]],'2015 sah unit data'!K:K,data_tracking[[#This Row],[month]],'2015 sah unit data'!J:J,data_tracking[[#This Row],[week]])=0,\"\",SUMIFS('2015 sah unit data'!F:F,'2015 sah unit data'!L:L,data_tracking[[#This Row],[year]],'2015 sah unit data'!K:K,data_tracking[[#This Row],[month]],'2015 sah unit data'!J:J,data_tracking[[#This Row],[week]]))","v":2106},{"$f":"IF(SUMIFS('2015 sah unit data'!G:G,'2015 sah unit data'!L:L,data_tracking[[#This Row],[year]],'2015 sah unit data'!K:K,data_tracking[[#This Row],[month]],'2015 sah unit data'!J:J,data_tracking[[#This Row],[week]])=0,\"\",SUMIFS('2015 sah unit data'!G:G,'2015 sah unit data'!L:L,data_tracking[[#This Row],[year]],'2015 sah unit data'!K:K,data_tracking[[#This Row],[month]],'2015 sah unit data'!J:J,data_tracking[[#This Row],[week]]))","v":262},{"$f":"SUMIFS('2015 sah unit data'!I:I,'2015 sah unit data'!L:L,data_tracking[[#This Row],[year]],'2015 sah unit data'!K:K,data_tracking[[#This Row],[month]],'2015 sah unit data'!J:J,data_tracking[[#This Row],[week]])","v":13},{"$f":"SUMIFS('overhead costs data'!E:E,'overhead costs data'!C:C,data_tracking[[#This Row],[year]],'overhead costs data'!B:B,data_tracking[[#This Row],[month]])","v":62788.892499999994}]
[23,6,2015,36.520000000000003,20.04,{"$f":"IFERROR((data_tracking[[#This Row],[overhead]]+SUMIFS('labor costs data'!H:H,'labor costs data'!D:D,data_tracking[[#This Row],[year]],'labor costs data'!A:A,data_tracking[[#This Row],[week]]))/data_tracking[[#This Row],[SAH Completed (Total)]],\"\")","v":55.505497641834872},{"$f":"IFERROR(SUMIFS('labor costs data'!E:E,'labor costs data'!D:D,data_tracking[[#This Row],[year]],'labor costs data'!A:A,data_tracking[[#This Row],[week]])/data_tracking[[#This Row],[SAH Completed (Total)]],\"\")","v":25.024960995109399},{"$f":"IFERROR((data_tracking[[#This Row],[overhead]]+SUMIFS(labor_costs[total labor cost],labor_costs[year],data_tracking[[#This Row],[year]],labor_costs[week],data_tracking[[#This Row],[week]]))/data_tracking[[#This Row],[Units Completed (Total)]],\"\")","v":52.53032467372568},{"$f":"IF(SUM(data_tracking[[#This Row],[111-FILSN1 SAH]],data_tracking[[#This Row],[112-FILSN2 SAH]],data_tracking[[#This Row],[113-FILSN3 SAH]])=0,\"\",SUM(data_tracking[[#This Row],[111-FILSN1 SAH]],data_tracking[[#This Row],[112-FILSN2 SAH]],data_tracking[[#This Row],[113-FILSN3 SAH]]))","v":3843.3246716666672},{"$f":"IF(SUM(data_tracking[[#This Row],[111-FILSN1 Units]],data_tracking[[#This Row],[112-FILSN2 Units]],data_tracking[[#This Row],[113-FILSN3 Units]])=0,\"\",SUM(data_tracking[[#This Row],[111-FILSN1 Units]],data_tracking[[#This Row],[112-FILSN2 Units]],data_tracking[[#This Row],[113-FILSN3 Units]]))","v":4061},{"$f":"IF(SUMIFS('2015 sah unit data'!B:B,'2015 sah unit data'!L:L,data_tracking[[#This Row],[year]],'2015 sah unit data'!K:K,data_tracking[[#This Row],[month]],'2015 sah unit data'!J:J,data_tracking[[#This Row],[week]])=0,\"\",SUMIFS('2015 sah unit data'!B:B,'2015 sah unit data'!L:L,data_tracking[[#This Row],[year]],'2015 sah unit data'!K:K,data_tracking[[#This Row],[month]],'2015 sah unit data'!J:J,data_tracking[[#This Row],[week]]))","v":2596.7664206666664},{"$f":"IF(SUMIFS('2015 sah unit data'!C:C,'2015 sah unit data'!L:L,data_tracking[[#This Row],[year]],'2015 sah unit data'!K:K,data_tracking[[#This Row],[month]],'2015 sah unit data'!J:J,data_tracking[[#This Row],[week]])=0,\"\",SUMIFS('2015 sah unit data'!C:C,'2015 sah unit data'!L:L,data_tracking[[#This Row],[year]],'2015 sah unit data'!K:K,data_tracking[[#This Row],[month]],'2015 sah unit data'!J:J,data_tracking[[#This Row],[week]]))","v":1124.5582510000008},{"$f":"IF(SUMIFS('2015 sah unit data'!D:D,'2015 sah unit data'!L:L,data_tracking[[#This Row],[year]],'2015 sah unit data'!K:K,data_tracking[[#This Row],[month]],'2015 sah unit data'!J:J,data_tracking[[#This Row],[week]])=0,\"\",SUMIFS('2015 sah unit data'!D:D,'2015 sah unit data'!L:L,data_tracking[[#This Row],[year]],'2015 sah unit data'!K:K,data_tracking[[#This Row],[month]],'2015 sah unit data'!J:J,data_tracking[[#This Row],[week]]))","v":122},{"$f":"IF(SUMIFS('2015 sah unit data'!E:E,'2015 sah unit data'!L:L,data_tracking[[#This Row],[year]],'2015 sah unit data'!K:K,data_tracking[[#This Row],[month]],'2015 sah unit data'!J:J,data_tracking[[#This Row],[week]])=0,\"\",SUMIFS('2015 sah unit data'!E:E,'2015 sah unit data'!L:L,data_tracking[[#This Row],[year]],'2015 sah unit data'!K:K,data_tracking[[#This Row],[month]],'2015 sah unit data'!J:J,data_tracking[[#This Row],[week]]))","v":2499},{"$f":"IF(SUMIFS('2015 sah unit data'!F:F,'2015 sah unit data'!L:L,data_tracking[[#This Row],[year]],'2015 sah unit data'!K:K,data_tracking[[#This Row],[month]],'2015 sah unit data'!J:J,data_tracking[[#This Row],[week]])=0,\"\",SUMIFS('2015 sah unit data'!F:F,'2015 sah unit data'!L:L,data_tracking[[#This Row],[year]],'2015 sah unit data'!K:K,data_tracking[[#This Row],[month]],'2015 sah unit data'!J:J,data_tracking[[#This Row],[week]]))","v":1440},{"$f":"IF(SUMIFS('2015 sah unit data'!G:G,'2015 sah unit data'!L:L,data_tracking[[#This Row],[year]],'2015 sah unit data'!K:K,data_tracking[[#This Row],[month]],'2015 sah unit data'!J:J,data_tracking[[#This Row],[week]])=0,\"\",SUMIFS('2015 sah unit data'!G:G,'2015 sah unit data'!L:L,data_tracking[[#This Row],[year]],'2015 sah unit data'!K:K,data_tracking[[#This Row],[month]],'2015 sah unit data'!J:J,data_tracking[[#This Row],[week]]))","v":122},{"$f":"SUMIFS('2015 sah unit data'!I:I,'2015 sah unit data'!L:L,data_tracking[[#This Row],[year]],'2015 sah unit data'!K:K,data_tracking[[#This Row],[month]],'2015 sah unit data'!J:J,data_tracking[[#This Row],[week]])","v":14},{"$f":"SUMIFS('overhead costs data'!E:E,'overhead costs data'!C:C,data_tracking[[#This Row],[year]],'overhead costs data'!B:B,data_tracking[[#This Row],[month]])","v":44781.938000000002}]
[24,6,2015,36.520000000000003,20.04,{"$f":"IFERROR((data_tracking[[#This Row],[overhead]]+SUMIFS('labor costs data'!H:H,'labor costs data'!D:D,data_tracking[[#This Row],[year]],'labor costs data'!A:A,data_tracking[[#This Row],[week]]))/data_tracking[[#This Row],[SAH Completed (Total)]],\"\")","v":55.505497641834872},{"$f":"IFERROR(SUMIFS('labor costs data'!E:E,'labor costs data'!D:D,data_tracking[[#This Row],[year]],'labor costs data'!A:A,data_tracking[[#This Row],[week]])/data_tracking[[#This Row],[SAH Completed (Total)]],\"\")","v":25.024960995109399},{"$f":"IFERROR((data_tracking[[#This Row],[overhead]]+SUMIFS(labor_costs[total labor cost],labor_costs[year],data_tracking[[#This Row],[year]],labor_costs[week],data_tracking[[#This Row],[week]]))/data_tracking[[#This Row],[Units Completed (Total)]],\"\")","v":52.53032467372568},{"$f":"IF(SUM(data_tracking[[#This Row],[111-FILSN1 SAH]],data_tracking[[#This Row],[112-FILSN2 SAH]],data_tracking[[#This Row],[113-FILSN3 SAH]])=0,\"\",SUM(data_tracking[[#This Row],[111-FILSN1 SAH]],data_tracking[[#This Row],[112-FILSN2 SAH]],data_tracking[[#This Row],[113-FILSN3 SAH]]))","v":3843.3246716666672},{"$f":"IF(SUM(data_tracking[[#This Row],[111-FILSN1 Units]],data_tracking[[#This Row],[112-FILSN2 Units]],data_tracking[[#This Row],[113-FILSN3 Units]])=0,\"\",SUM(data_tracking[[#This Row],[111-FILSN1 Units]],data_tracking[[#This Row],[112-FILSN2 Units]],data_tracking[[#This Row],[113-FILSN3 Units]]))","v":4061},{"$f":"IF(SUMIFS('2015 sah unit data'!B:B,'2015 sah unit data'!L:L,data_tracking[[#This Row],[year]],'2015 sah unit data'!K:K,data_tracking[[#This Row],[month]],'2015 sah unit data'!J:J,data_tracking[[#This Row],[week]])=0,\"\",SUMIFS('2015 sah unit data'!B:B,'2015 sah unit data'!L:L,data_tracking[[#This Row],[year]],'2015 sah unit data'!K:K,data_tracking[[#This Row],[month]],'2015 sah unit data'!J:J,data_tracking[[#This Row],[week]]))","v":2596.7664206666664},{"$f":"IF(SUMIFS('2015 sah unit data'!C:C,'2015 sah unit data'!L:L,data_tracking[[#This Row],[year]],'2015 sah unit data'!K:K,data_tracking[[#This Row],[month]],'2015 sah unit data'!J:J,data_tracking[[#This Row],[week]])=0,\"\",SUMIFS('2015 sah unit data'!C:C,'2015 sah unit data'!L:L,data_tracking[[#This Row],[year]],'2015 sah unit data'!K:K,data_tracking[[#This Row],[month]],'2015 sah unit data'!J:J,data_tracking[[#This Row],[week]]))","v":1124.5582510000008},{"$f":"IF(SUMIFS('2015 sah unit data'!D:D,'2015 sah unit data'!L:L,data_tracking[[#This Row],[year]],'2015 sah unit data'!K:K,data_tracking[[#This Row],[month]],'2015 sah unit data'!J:J,data_tracking[[#This Row],[week]])=0,\"\",SUMIFS('2015 sah unit data'!D:D,'2015 sah unit data'!L:L,data_tracking[[#This Row],[year]],'2015 sah unit data'!K:K,data_tracking[[#This Row],[month]],'2015 sah unit data'!J:J,data_tracking[[#This Row],[week]]))","v":122},{"$f":"IF(SUMIFS('2015 sah unit data'!E:E,'2015 sah unit data'!L:L,data_tracking[[#This Row],[year]],'2015 sah unit data'!K:K,data_tracking[[#This Row],[month]],'2015 sah unit data'!J:J,data_tracking[[#This Row],[week]])=0,\"\",SUMIFS('2015 sah unit data'!E:E,'2015 sah unit data'!L:L,data_tracking[[#This Row],[year]],'2015 sah unit data'!K:K,data_tracking[[#This Row],[month]],'2015 sah unit data'!J:J,data_tracking[[#This Row],[week]]))","v":2499},{"$f":"IF(SUMIFS('2015 sah unit data'!F:F,'2015 sah unit data'!L:L,data_tracking[[#This Row],[year]],'2015 sah unit data'!K:K,data_tracking[[#This Row],[month]],'2015 sah unit data'!J:J,data_tracking[[#This Row],[week]])=0,\"\",SUMIFS('2015 sah unit data'!F:F,'2015 sah unit data'!L:L,data_tracking[[#This Row],[year]],'2015 sah unit data'!K:K,data_tracking[[#This Row],[month]],'2015 sah unit data'!J:J,data_tracking[[#This Row],[week]]))","v":1440},{"$f":"IF(SUMIFS('2015 sah unit data'!G:G,'2015 sah unit data'!L:L,data_tracking[[#This Row],[year]],'2015 sah unit data'!K:K,data_tracking[[#This Row],[month]],'2015 sah unit data'!J:J,data_tracking[[#This Row],[week]])=0,\"\",SUMIFS('2015 sah unit data'!G:G,'2015 sah unit data'!L:L,data_tracking[[#This Row],[year]],'2015 sah unit data'!K:K,data_tracking[[#This Row],[month]],'2015 sah unit data'!J:J,data_tracking[[#This Row],[week]]))","v":122},{"$f":"SUMIFS('2015 sah unit data'!I:I,'2015 sah unit data'!L:L,data_tracking[[#This Row],[year]],'2015 sah unit data'!K:K,data_tracking[[#This Row],[month]],'2015 sah unit data'!J:J,data_tracking[[#This Row],[week]])","v":14},{"$f":"SUMIFS('overhead costs data'!E:E,'overhead costs data'!C:C,data_tracking[[#This Row],[year]],'overhead costs data'!B:B,data_tracking[[#This Row],[month]])","v":44781.938000000002}]
[25,6,2015,36.520000000000003,20.04,{"$f":"IFERROR((data_tracking[[#This Row],[overhead]]+SUMIFS('labor costs data'!H:H,'labor costs data'!D:D,data_tracking[[#This Row],[year]],'labor costs data'!A:A,data_tracking[[#This Row],[week]]))/data_tracking[[#This Row],[SAH Completed (Total)]],\"\")","v":59.835848684694533},{"$f":"IFERROR(SUMIFS('labor costs data'!E:E,'labor costs data'!D:D,data_tracking[[#This Row],[year]],'labor costs data'!A:A,data_tracking[[#This Row],[week]])/data_tracking[[#This Row],[SAH Completed (Total)]],\"\")","v":28.144355275895215},{"$f":"IFERROR((data_tracking[[#This Row],[overhead]]+SUMIFS(labor_costs[total labor cost],labor_costs[year],data_tracking[[#This Row],[year]],labor_costs[week],data_tracking[[#This Row],[week]]))/data_tracking[[#This Row],[Units Completed (Total)]],\"\")","v":56.628562792415657},{"$f":"IF(SUM(data_tracking[[#This Row],[111-FILSN1 SAH]],data_tracking[[#This Row],[112-FILSN2 SAH]],data_tracking[[#This Row],[113-FILSN3 SAH]])=0,\"\",SUM(data_tracking[[#This Row],[111-FILSN1 SAH]],data_tracking[[#This Row],[112-FILSN2 SAH]],data_tracking[[#This Row],[113-FILSN3 SAH]]))","v":3843.3246716666672},{"$f":"IF(SUM(data_tracking[[#This Row],[111-FILSN1 Units]],data_tracking[[#This Row],[112-FILSN2 Units]],data_tracking[[#This Row],[113-FILSN3 Units]])=0,\"\",SUM(data_tracking[[#This Row],[111-FILSN1 Units]],data_tracking[[#This Row],[112-FILSN2 Units]],data_tracking[[#This Row],[113-FILSN3 Units]]))","v":4061},{"$f":"IF(SUMIFS('2015 sah unit data'!B:B,'2015 sah unit data'!L:L,data_tracking[[#This Row],[year]],'2015 sah unit data'!K:K,data_tracking[[#This Row],[month]],'2015 sah unit data'!J:J,data_tracking[[#This Row],[week]])=0,\"\",SUMIFS('2015 sah unit data'!B:B,'2015 sah unit data'!L:L,data_tracking[[#This Row],[year]],'2015 sah unit data'!K:K,data_tracking[[#This Row],[month]],'2015 sah unit data'!J:J,data_tracking[[#This Row],[week]]))","v":2596.7664206666664},{"$f":"IF(SUMIFS('2015 sah unit data'!C:C,'2015 sah unit data'!L:L,data_tracking[[#This Row],[year]],'2015 sah unit data'!K:K,data_tracking[[#This Row],[month]],'2015 sah unit data'!J:J,data_tracking[[#This Row],[week]])=0,\"\",SUMIFS('2015 sah unit data'!C:C,'2015 sah unit data'!L:L,data_tracking[[#This Row],[year]],'2015 sah unit data'!K:K,data_tracking[[#This Row],[month]],'2015 sah unit data'!J:J,data_tracking[[#This Row],[week]]))","v":1124.5582510000008},{"$f":"IF(SUMIFS('2015 sah unit data'!D:D,'2015 sah unit data'!L:L,data_tracking[[#This Row],[year]],'2015 sah unit data'!K:K,data_tracking[[#This Row],[month]],'2015 sah unit data'!J:J,data_tracking[[#This Row],[week]])=0,\"\",SUMIFS('2015 sah unit data'!D:D,'2015 sah unit data'!L:L,data_tracking[[#This Row],[year]],'2015 sah unit data'!K:K,data_tracking[[#This Row],[month]],'2015 sah unit data'!J:J,data_tracking[[#This Row],[week]]))","v":122},{"$f":"IF(SUMIFS('2015 sah unit data'!E:E,'2015 sah unit data'!L:L,data_tracking[[#This Row],[year]],'2015 sah unit data'!K:K,data_tracking[[#This Row],[month]],'2015 sah unit data'!J:J,data_tracking[[#This Row],[week]])=0,\"\",SUMIFS('2015 sah unit data'!E:E,'2015 sah unit data'!L:L,data_tracking[[#This Row],[year]],'2015 sah unit data'!K:K,data_tracking[[#This Row],[month]],'2015 sah unit data'!J:J,data_tracking[[#This Row],[week]]))","v":2499},{"$f":"IF(SUMIFS('2015 sah unit data'!F:F,'2015 sah unit data'!L:L,data_tracking[[#This Row],[year]],'2015 sah unit data'!K:K,data_tracking[[#This Row],[month]],'2015 sah unit data'!J:J,data_tracking[[#This Row],[week]])=0,\"\",SUMIFS('2015 sah unit data'!F:F,'2015 sah unit data'!L:L,data_tracking[[#This Row],[year]],'2015 sah unit data'!K:K,data_tracking[[#This Row],[month]],'2015 sah unit data'!J:J,data_tracking[[#This Row],[week]]))","v":1440},{"$f":"IF(SUMIFS('2015 sah unit data'!G:G,'2015 sah unit data'!L:L,data_tracking[[#This Row],[year]],'2015 sah unit data'!K:K,data_tracking[[#This Row],[month]],'2015 sah unit data'!J:J,data_tracking[[#This Row],[week]])=0,\"\",SUMIFS('2015 sah unit data'!G:G,'2015 sah unit data'!L:L,data_tracking[[#This Row],[year]],'2015 sah unit data'!K:K,data_tracking[[#This Row],[month]],'2015 sah unit data'!J:J,data_tracking[[#This Row],[week]]))","v":122},{"$f":"SUMIFS('2015 sah unit data'!I:I,'2015 sah unit data'!L:L,data_tracking[[#This Row],[year]],'2015 sah unit data'!K:K,data_tracking[[#This Row],[month]],'2015 sah unit data'!J:J,data_tracking[[#This Row],[week]])","v":14},{"$f":"SUMIFS('overhead costs data'!E:E,'overhead costs data'!C:C,data_tracking[[#This Row],[year]],'overhead costs data'!B:B,data_tracking[[#This Row],[month]])","v":44781.938000000002}]
[26,6,2015,36.520000000000003,20.04,{"$f":"IFERROR((data_tracking[[#This Row],[overhead]]+SUMIFS('labor costs data'!H:H,'labor costs data'!D:D,data_tracking[[#This Row],[year]],'labor costs data'!A:A,data_tracking[[#This Row],[week]]))/data_tracking[[#This Row],[SAH Completed (Total)]],\"\")","v":59.835848684694533},{"$f":"IFERROR(SUMIFS('labor costs data'!E:E,'labor costs data'!D:D,data_tracking[[#This Row],[year]],'labor costs data'!A:A,data_tracking[[#This Row],[week]])/data_tracking[[#This Row],[SAH Completed (Total)]],\"\")","v":28.144355275895215},{"$f":"IFERROR((data_tracking[[#This Row],[overhead]]+SUMIFS(labor_costs[total labor cost],labor_costs[year],data_tracking[[#This Row],[year]],labor_costs[week],data_tracking[[#This Row],[week]]))/data_tracking[[#This Row],[Units Completed (Total)]],\"\")","v":56.628562792415657},{"$f":"IF(SUM(data_tracking[[#This Row],[111-FILSN1 SAH]],data_tracking[[#This Row],[112-FILSN2 SAH]],data_tracking[[#This Row],[113-FILSN3 SAH]])=0,\"\",SUM(data_tracking[[#This Row],[111-FILSN1 SAH]],data_tracking[[#This Row],[112-FILSN2 SAH]],data_tracking[[#This Row],[113-FILSN3 SAH]]))","v":3843.3246716666672},{"$f":"IF(SUM(data_tracking[[#This Row],[111-FILSN1 Units]],data_tracking[[#This Row],[112-FILSN2 Units]],data_tracking[[#This Row],[113-FILSN3 Units]])=0,\"\",SUM(data_tracking[[#This Row],[111-FILSN1 Units]],data_tracking[[#This Row],[112-FILSN2 Units]],data_tracking[[#This Row],[113-FILSN3 Units]]))","v":4061},{"$f":"IF(SUMIFS('2015 sah unit data'!B:B,'2015 sah unit data'!L:L,data_tracking[[#This Row],[year]],'2015 sah unit data'!K:K,data_tracking[[#This Row],[month]],'2015 sah unit data'!J:J,data_tracking[[#This Row],[week]])=0,\"\",SUMIFS('2015 sah unit data'!B:B,'2015 sah unit data'!L:L,data_tracking[[#This Row],[year]],'2015 sah unit data'!K:K,data_tracking[[#This Row],[month]],'2015 sah unit data'!J:J,data_tracking[[#This Row],[week]]))","v":2596.7664206666664},{"$f":"IF(SUMIFS('2015 sah unit data'!C:C,'2015 sah unit data'!L:L,data_tracking[[#This Row],[year]],'2015 sah unit data'!K:K,data_tracking[[#This Row],[month]],'2015 sah unit data'!J:J,data_tracking[[#This Row],[week]])=0,\"\",SUMIFS('2015 sah unit data'!C:C,'2015 sah unit data'!L:L,data_tracking[[#This Row],[year]],'2015 sah unit data'!K:K,data_tracking[[#This Row],[month]],'2015 sah unit data'!J:J,data_tracking[[#This Row],[week]]))","v":1124.5582510000008},{"$f":"IF(SUMIFS('2015 sah unit data'!D:D,'2015 sah unit data'!L:L,data_tracking[[#This Row],[year]],'2015 sah unit data'!K:K,data_tracking[[#This Row],[month]],'2015 sah unit data'!J:J,data_tracking[[#This Row],[week]])=0,\"\",SUMIFS('2015 sah unit data'!D:D,'2015 sah unit data'!L:L,data_tracking[[#This Row],[year]],'2015 sah unit data'!K:K,data_tracking[[#This Row],[month]],'2015 sah unit data'!J:J,data_tracking[[#This Row],[week]]))","v":122},{"$f":"IF(SUMIFS('2015 sah unit data'!E:E,'2015 sah unit data'!L:L,data_tracking[[#This Row],[year]],'2015 sah unit data'!K:K,data_tracking[[#This Row],[month]],'2015 sah unit data'!J:J,data_tracking[[#This Row],[week]])=0,\"\",SUMIFS('2015 sah unit data'!E:E,'2015 sah unit data'!L:L,data_tracking[[#This Row],[year]],'2015 sah unit data'!K:K,data_tracking[[#This Row],[month]],'2015 sah unit data'!J:J,data_tracking[[#This Row],[week]]))","v":2499},{"$f":"IF(SUMIFS('2015 sah unit data'!F:F,'2015 sah unit data'!L:L,data_tracking[[#This Row],[year]],'2015 sah unit data'!K:K,data_tracking[[#This Row],[month]],'2015 sah unit data'!J:J,data_tracking[[#This Row],[week]])=0,\"\",SUMIFS('2015 sah unit data'!F:F,'2015 sah unit data'!L:L,data_tracking[[#This Row],[year]],'2015 sah unit data'!K:K,data_tracking[[#This Row],[month]],'2015 sah unit data'!J:J,data_tracking[[#This Row],[week]]))","v":1440},{"$f":"IF(SUMIFS('2015 sah unit data'!G:G,'2015 sah unit data'!L:L,data_tracking[[#This Row],[year]],'2015 sah unit data'!K:K,data_tracking[[#This Row],[month]],'2015 sah unit data'!J:J,data_tracking[[#This Row],[week]])=0,\"\",SUMIFS('2015 sah unit data'!G:G,'2015 sah unit data'!L:L,data_tracking[[#This Row],[year]],'2015 sah unit data'!K:K,data_tracking[[#This Row],[month]],'2015 sah unit data'!J:J,data_tracking[[#This Row],[week]]))","v":122},{"$f":"SUMIFS('2015 sah unit data'!I:I,'2015 sah unit data'!L:L,data_tracking[[#This Row],[year]],'2015 sah unit data'!K:K,data_tracking[[#This Row],[month]],'2015 sah unit data'!J:J,data_tracking[[#This Row],[week]])","v":14},{"$f":"SUMIFS('overhead costs data'!E:E,'overhead costs data'!C:C,data_tracking[[#This Row],[year]],'overhead costs data'!B:B,data_tracking[[#This Row],[month]])","v":44781.938000000002}]
[27,6,2015,36.520000000000003,20.04,{"$f":"IFERROR((data_tracking[[#This Row],[overhead]]+SUMIFS('labor costs data'!H:H,'labor costs data'!D:D,data_tracking[[#This Row],[year]],'labor costs data'!A:A,data_tracking[[#This Row],[week]]))/data_tracking[[#This Row],[SAH Completed (Total)]],\"\")","v":63.738143255477212},{"$f":"IFERROR(SUMIFS('labor costs data'!E:E,'labor costs data'!D:D,data_tracking[[#This Row],[year]],'labor costs data'!A:A,data_tracking[[#This Row],[week]])/data_tracking[[#This Row],[SAH Completed (Total)]],\"\")","v":30.946375901264332},{"$f":"IFERROR((data_tracking[[#This Row],[overhead]]+SUMIFS(labor_costs[total labor cost],labor_costs[year],data_tracking[[#This Row],[year]],labor_costs[week],data_tracking[[#This Row],[week]]))/data_tracking[[#This Row],[Units Completed (Total)]],\"\")","v":60.321688869736512},{"$f":"IF(SUM(data_tracking[[#This Row],[111-FILSN1 SAH]],data_tracking[[#This Row],[112-FILSN2 SAH]],data_tracking[[#This Row],[113-FILSN3 SAH]])=0,\"\",SUM(data_tracking[[#This Row],[111-FILSN1 SAH]],data_tracking[[#This Row],[112-FILSN2 SAH]],data_tracking[[#This Row],[113-FILSN3 SAH]]))","v":3843.3246716666672},{"$f":"IF(SUM(data_tracking[[#This Row],[111-FILSN1 Units]],data_tracking[[#This Row],[112-FILSN2 Units]],data_tracking[[#This Row],[113-FILSN3 Units]])=0,\"\",SUM(data_tracking[[#This Row],[111-FILSN1 Units]],data_tracking[[#This Row],[112-FILSN2 Units]],data_tracking[[#This Row],[113-FILSN3 Units]]))","v":4061},{"$f":"IF(SUMIFS('2015 sah unit data'!B:B,'2015 sah unit data'!L:L,data_tracking[[#This Row],[year]],'2015 sah unit data'!K:K,data_tracking[[#This Row],[month]],'2015 sah unit data'!J:J,data_tracking[[#This Row],[week]])=0,\"\",SUMIFS('2015 sah unit data'!B:B,'2015 sah unit data'!L:L,data_tracking[[#This Row],[year]],'2015 sah unit data'!K:K,data_tracking[[#This Row],[month]],'2015 sah unit data'!J:J,data_tracking[[#This Row],[week]]))","v":2596.7664206666664},{"$f":"IF(SUMIFS('2015 sah unit data'!C:C,'2015 sah unit data'!L:L,data_tracking[[#This Row],[year]],'2015 sah unit data'!K:K,data_tracking[[#This Row],[month]],'2015 sah unit data'!J:J,data_tracking[[#This Row],[week]])=0,\"\",SUMIFS('2015 sah unit data'!C:C,'2015 sah unit data'!L:L,data_tracking[[#This Row],[year]],'2015 sah unit data'!K:K,data_tracking[[#This Row],[month]],'2015 sah unit data'!J:J,data_tracking[[#This Row],[week]]))","v":1124.5582510000008},{"$f":"IF(SUMIFS('2015 sah unit data'!D:D,'2015 sah unit data'!L:L,data_tracking[[#This Row],[year]],'2015 sah unit data'!K:K,data_tracking[[#This Row],[month]],'2015 sah unit data'!J:J,data_tracking[[#This Row],[week]])=0,\"\",SUMIFS('2015 sah unit data'!D:D,'2015 sah unit data'!L:L,data_tracking[[#This Row],[year]],'2015 sah unit data'!K:K,data_tracking[[#This Row],[month]],'2015 sah unit data'!J:J,data_tracking[[#This Row],[week]]))","v":122},{"$f":"IF(SUMIFS('2015 sah unit data'!E:E,'2015 sah unit data'!L:L,data_tracking[[#This Row],[year]],'2015 sah unit data'!K:K,data_tracking[[#This Row],[month]],'2015 sah unit data'!J:J,data_tracking[[#This Row],[week]])=0,\"\",SUMIFS('2015 sah unit data'!E:E,'2015 sah unit data'!L:L,data_tracking[[#This Row],[year]],'2015 sah unit data'!K:K,data_tracking[[#This Row],[month]],'2015 sah unit data'!J:J,data_tracking[[#This Row],[week]]))","v":2499},{"$f":"IF(SUMIFS('2015 sah unit data'!F:F,'2015 sah unit data'!L:L,data_tracking[[#This Row],[year]],'2015 sah unit data'!K:K,data_tracking[[#This Row],[month]],'2015 sah unit data'!J:J,data_tracking[[#This Row],[week]])=0,\"\",SUMIFS('2015 sah unit data'!F:F,'2015 sah unit data'!L:L,data_tracking[[#This Row],[year]],'2015 sah unit data'!K:K,data_tracking[[#This Row],[month]],'2015 sah unit data'!J:J,data_tracking[[#This Row],[week]]))","v":1440},{"$f":"IF(SUMIFS('2015 sah unit data'!G:G,'2015 sah unit data'!L:L,data_tracking[[#This Row],[year]],'2015 sah unit data'!K:K,data_tracking[[#This Row],[month]],'2015 sah unit data'!J:J,data_tracking[[#This Row],[week]])=0,\"\",SUMIFS('2015 sah unit data'!G:G,'2015 sah unit data'!L:L,data_tracking[[#This Row],[year]],'2015 sah unit data'!K:K,data_tracking[[#This Row],[month]],'2015 sah unit data'!J:J,data_tracking[[#This Row],[week]]))","v":122},{"$f":"SUMIFS('2015 sah unit data'!I:I,'2015 sah unit data'!L:L,data_tracking[[#This Row],[year]],'2015 sah unit data'!K:K,data_tracking[[#This Row],[month]],'2015 sah unit data'!J:J,data_tracking[[#This Row],[week]])","v":14},{"$f":"SUMIFS('overhead costs data'!E:E,'overhead costs data'!C:C,data_tracking[[#This Row],[year]],'overhead costs data'!B:B,data_tracking[[#This Row],[month]])","v":44781.938000000002}]
[28,7,2015,36.520000000000003,20.04,{"$f":"IFERROR((data_tracking[[#This Row],[overhead]]+SUMIFS('labor costs data'!H:H,'labor costs data'!D:D,data_tracking[[#This Row],[year]],'labor costs data'!A:A,data_tracking[[#This Row],[week]]))/data_tracking[[#This Row],[SAH Completed (Total)]],\"\")","v":45.885098069704306},{"$f":"IFERROR(SUMIFS('labor costs data'!E:E,'labor costs data'!D:D,data_tracking[[#This Row],[year]],'labor costs data'!A:A,data_tracking[[#This Row],[week]])/data_tracking[[#This Row],[SAH Completed (Total)]],\"\")","v":20.475925200071387},{"$f":"IFERROR((data_tracking[[#This Row],[overhead]]+SUMIFS(labor_costs[total labor cost],labor_costs[year],data_tracking[[#This Row],[year]],labor_costs[week],data_tracking[[#This Row],[week]]))/data_tracking[[#This Row],[Units Completed (Total)]],\"\")","v":37.481272043313176},{"$f":"IF(SUM(data_tracking[[#This Row],[111-FILSN1 SAH]],data_tracking[[#This Row],[112-FILSN2 SAH]],data_tracking[[#This Row],[113-FILSN3 SAH]])=0,\"\",SUM(data_tracking[[#This Row],[111-FILSN1 SAH]],data_tracking[[#This Row],[112-FILSN2 SAH]],data_tracking[[#This Row],[113-FILSN3 SAH]]))","v":5808.6249504166644},{"$f":"IF(SUM(data_tracking[[#This Row],[111-FILSN1 Units]],data_tracking[[#This Row],[112-FILSN2 Units]],data_tracking[[#This Row],[113-FILSN3 Units]])=0,\"\",SUM(data_tracking[[#This Row],[111-FILSN1 Units]],data_tracking[[#This Row],[112-FILSN2 Units]],data_tracking[[#This Row],[113-FILSN3 Units]]))","v":7111},{"$f":"IF(SUMIFS('2015 sah unit data'!B:B,'2015 sah unit data'!L:L,data_tracking[[#This Row],[year]],'2015 sah unit data'!K:K,data_tracking[[#This Row],[month]],'2015 sah unit data'!J:J,data_tracking[[#This Row],[week]])=0,\"\",SUMIFS('2015 sah unit data'!B:B,'2015 sah unit data'!L:L,data_tracking[[#This Row],[year]],'2015 sah unit data'!K:K,data_tracking[[#This Row],[month]],'2015 sah unit data'!J:J,data_tracking[[#This Row],[week]]))","v":3298.2678954166649},{"$f":"IF(SUMIFS('2015 sah unit data'!C:C,'2015 sah unit data'!L:L,data_tracking[[#This Row],[year]],'2015 sah unit data'!K:K,data_tracking[[#This Row],[month]],'2015 sah unit data'!J:J,data_tracking[[#This Row],[week]])=0,\"\",SUMIFS('2015 sah unit data'!C:C,'2015 sah unit data'!L:L,data_tracking[[#This Row],[year]],'2015 sah unit data'!K:K,data_tracking[[#This Row],[month]],'2015 sah unit data'!J:J,data_tracking[[#This Row],[week]]))","v":2270.3570549999995},{"$f":"IF(SUMIFS('2015 sah unit data'!D:D,'2015 sah unit data'!L:L,data_tracking[[#This Row],[year]],'2015 sah unit data'!K:K,data_tracking[[#This Row],[month]],'2015 sah unit data'!J:J,data_tracking[[#This Row],[week]])=0,\"\",SUMIFS('2015 sah unit data'!D:D,'2015 sah unit data'!L:L,data_tracking[[#This Row],[year]],'2015 sah unit data'!K:K,data_tracking[[#This Row],[month]],'2015 sah unit data'!J:J,data_tracking[[#This Row],[week]]))","v":240},{"$f":"IF(SUMIFS('2015 sah unit data'!E:E,'2015 sah unit data'!L:L,data_tracking[[#This Row],[year]],'2015 sah unit data'!K:K,data_tracking[[#This Row],[month]],'2015 sah unit data'!J:J,data_tracking[[#This Row],[week]])=0,\"\",SUMIFS('2015 sah unit data'!E:E,'2015 sah unit data'!L:L,data_tracking[[#This Row],[year]],'2015 sah unit data'!K:K,data_tracking[[#This Row],[month]],'2015 sah unit data'!J:J,data_tracking[[#This Row],[week]]))","v":3224},{"$f":"IF(SUMIFS('2015 sah unit data'!F:F,'2015 sah unit data'!L:L,data_tracking[[#This Row],[year]],'2015 sah unit data'!K:K,data_tracking[[#This Row],[month]],'2015 sah unit data'!J:J,data_tracking[[#This Row],[week]])=0,\"\",SUMIFS('2015 sah unit data'!F:F,'2015 sah unit data'!L:L,data_tracking[[#This Row],[year]],'2015 sah unit data'!K:K,data_tracking[[#This Row],[month]],'2015 sah unit data'!J:J,data_tracking[[#This Row],[week]]))","v":3647},{"$f":"IF(SUMIFS('2015 sah unit data'!G:G,'2015 sah unit data'!L:L,data_tracking[[#This Row],[year]],'2015 sah unit data'!K:K,data_tracking[[#This Row],[month]],'2015 sah unit data'!J:J,data_tracking[[#This Row],[week]])=0,\"\",SUMIFS('2015 sah unit data'!G:G,'2015 sah unit data'!L:L,data_tracking[[#This Row],[year]],'2015 sah unit data'!K:K,data_tracking[[#This Row],[month]],'2015 sah unit data'!J:J,data_tracking[[#This Row],[week]]))","v":240},{"$f":"SUMIFS('2015 sah unit data'!I:I,'2015 sah unit data'!L:L,data_tracking[[#This Row],[year]],'2015 sah unit data'!K:K,data_tracking[[#This Row],[month]],'2015 sah unit data'!J:J,data_tracking[[#This Row],[week]])","v":19},{"$f":"SUMIFS('overhead costs data'!E:E,'overhead costs data'!C:C,data_tracking[[#This Row],[year]],'overhead costs data'!B:B,data_tracking[[#This Row],[month]])","v":66344.884999999995}]
[29,7,2015,36.520000000000003,20.04,{"$f":"IFERROR((data_tracking[[#This Row],[overhead]]+SUMIFS('labor costs data'!H:H,'labor costs data'!D:D,data_tracking[[#This Row],[year]],'labor costs data'!A:A,data_tracking[[#This Row],[week]]))/data_tracking[[#This Row],[SAH Completed (Total)]],\"\")","v":47.286607302869051},{"$f":"IFERROR(SUMIFS('labor costs data'!E:E,'labor costs data'!D:D,data_tracking[[#This Row],[year]],'labor costs data'!A:A,data_tracking[[#This Row],[week]])/data_tracking[[#This Row],[SAH Completed (Total)]],\"\")","v":21.630451453228595},{"$f":"IFERROR((data_tracking[[#This Row],[overhead]]+SUMIFS(labor_costs[total labor cost],labor_costs[year],data_tracking[[#This Row],[year]],labor_costs[week],data_tracking[[#This Row],[week]]))/data_tracking[[#This Row],[Units Completed (Total)]],\"\")","v":38.626095767121363},{"$f":"IF(SUM(data_tracking[[#This Row],[111-FILSN1 SAH]],data_tracking[[#This Row],[112-FILSN2 SAH]],data_tracking[[#This Row],[113-FILSN3 SAH]])=0,\"\",SUM(data_tracking[[#This Row],[111-FILSN1 SAH]],data_tracking[[#This Row],[112-FILSN2 SAH]],data_tracking[[#This Row],[113-FILSN3 SAH]]))","v":5808.6249504166644},{"$f":"IF(SUM(data_tracking[[#This Row],[111-FILSN1 Units]],data_tracking[[#This Row],[112-FILSN2 Units]],data_tracking[[#This Row],[113-FILSN3 Units]])=0,\"\",SUM(data_tracking[[#This Row],[111-FILSN1 Units]],data_tracking[[#This Row],[112-FILSN2 Units]],data_tracking[[#This Row],[113-FILSN3 Units]]))","v":7111},{"$f":"IF(SUMIFS('2015 sah unit data'!B:B,'2015 sah unit data'!L:L,data_tracking[[#This Row],[year]],'2015 sah unit data'!K:K,data_tracking[[#This Row],[month]],'2015 sah unit data'!J:J,data_tracking[[#This Row],[week]])=0,\"\",SUMIFS('2015 sah unit data'!B:B,'2015 sah unit data'!L:L,data_tracking[[#This Row],[year]],'2015 sah unit data'!K:K,data_tracking[[#This Row],[month]],'2015 sah unit data'!J:J,data_tracking[[#This Row],[week]]))","v":3298.2678954166649},{"$f":"IF(SUMIFS('2015 sah unit data'!C:C,'2015 sah unit data'!L:L,data_tracking[[#This Row],[year]],'2015 sah unit data'!K:K,data_tracking[[#This Row],[month]],'2015 sah unit data'!J:J,data_tracking[[#This Row],[week]])=0,\"\",SUMIFS('2015 sah unit data'!C:C,'2015 sah unit data'!L:L,data_tracking[[#This Row],[year]],'2015 sah unit data'!K:K,data_tracking[[#This Row],[month]],'2015 sah unit data'!J:J,data_tracking[[#This Row],[week]]))","v":2270.3570549999995},{"$f":"IF(SUMIFS('2015 sah unit data'!D:D,'2015 sah unit data'!L:L,data_tracking[[#This Row],[year]],'2015 sah unit data'!K:K,data_tracking[[#This Row],[month]],'2015 sah unit data'!J:J,data_tracking[[#This Row],[week]])=0,\"\",SUMIFS('2015 sah unit data'!D:D,'2015 sah unit data'!L:L,data_tracking[[#This Row],[year]],'2015 sah unit data'!K:K,data_tracking[[#This Row],[month]],'2015 sah unit data'!J:J,data_tracking[[#This Row],[week]]))","v":240},{"$f":"IF(SUMIFS('2015 sah unit data'!E:E,'2015 sah unit data'!L:L,data_tracking[[#This Row],[year]],'2015 sah unit data'!K:K,data_tracking[[#This Row],[month]],'2015 sah unit data'!J:J,data_tracking[[#This Row],[week]])=0,\"\",SUMIFS('2015 sah unit data'!E:E,'2015 sah unit data'!L:L,data_tracking[[#This Row],[year]],'2015 sah unit data'!K:K,data_tracking[[#This Row],[month]],'2015 sah unit data'!J:J,data_tracking[[#This Row],[week]]))","v":3224},{"$f":"IF(SUMIFS('2015 sah unit data'!F:F,'2015 sah unit data'!L:L,data_tracking[[#This Row],[year]],'2015 sah unit data'!K:K,data_tracking[[#This Row],[month]],'2015 sah unit data'!J:J,data_tracking[[#This Row],[week]])=0,\"\",SUMIFS('2015 sah unit data'!F:F,'2015 sah unit data'!L:L,data_tracking[[#This Row],[year]],'2015 sah unit data'!K:K,data_tracking[[#This Row],[month]],'2015 sah unit data'!J:J,data_tracking[[#This Row],[week]]))","v":3647},{"$f":"IF(SUMIFS('2015 sah unit data'!G:G,'2015 sah unit data'!L:L,data_tracking[[#This Row],[year]],'2015 sah unit data'!K:K,data_tracking[[#This Row],[month]],'2015 sah unit data'!J:J,data_tracking[[#This Row],[week]])=0,\"\",SUMIFS('2015 sah unit data'!G:G,'2015 sah unit data'!L:L,data_tracking[[#This Row],[year]],'2015 sah unit data'!K:K,data_tracking[[#This Row],[month]],'2015 sah unit data'!J:J,data_tracking[[#This Row],[week]]))","v":240},{"$f":"SUMIFS('2015 sah unit data'!I:I,'2015 sah unit data'!L:L,data_tracking[[#This Row],[year]],'2015 sah unit data'!K:K,data_tracking[[#This Row],[month]],'2015 sah unit data'!J:J,data_tracking[[#This Row],[week]])","v":19},{"$f":"SUMIFS('overhead costs data'!E:E,'overhead costs data'!C:C,data_tracking[[#This Row],[year]],'overhead costs data'!B:B,data_tracking[[#This Row],[month]])","v":66344.884999999995}]
[30,7,2015,36.520000000000003,20.04,{"$f":"IFERROR((data_tracking[[#This Row],[overhead]]+SUMIFS('labor costs data'!H:H,'labor costs data'!D:D,data_tracking[[#This Row],[year]],'labor costs data'!A:A,data_tracking[[#This Row],[week]]))/data_tracking[[#This Row],[SAH Completed (Total)]],\"\")","v":47.286607302869051},{"$f":"IFERROR(SUMIFS('labor costs data'!E:E,'labor costs data'!D:D,data_tracking[[#This Row],[year]],'labor costs data'!A:A,data_tracking[[#This Row],[week]])/data_tracking[[#This Row],[SAH Completed (Total)]],\"\")","v":21.630451453228595},{"$f":"IFERROR((data_tracking[[#This Row],[overhead]]+SUMIFS(labor_costs[total labor cost],labor_costs[year],data_tracking[[#This Row],[year]],labor_costs[week],data_tracking[[#This Row],[week]]))/data_tracking[[#This Row],[Units Completed (Total)]],\"\")","v":38.626095767121363},{"$f":"IF(SUM(data_tracking[[#This Row],[111-FILSN1 SAH]],data_tracking[[#This Row],[112-FILSN2 SAH]],data_tracking[[#This Row],[113-FILSN3 SAH]])=0,\"\",SUM(data_tracking[[#This Row],[111-FILSN1 SAH]],data_tracking[[#This Row],[112-FILSN2 SAH]],data_tracking[[#This Row],[113-FILSN3 SAH]]))","v":5808.6249504166644},{"$f":"IF(SUM(data_tracking[[#This Row],[111-FILSN1 Units]],data_tracking[[#This Row],[112-FILSN2 Units]],data_tracking[[#This Row],[113-FILSN3 Units]])=0,\"\",SUM(data_tracking[[#This Row],[111-FILSN1 Units]],data_tracking[[#This Row],[112-FILSN2 Units]],data_tracking[[#This Row],[113-FILSN3 Units]]))","v":7111},{"$f":"IF(SUMIFS('2015 sah unit data'!B:B,'2015 sah unit data'!L:L,data_tracking[[#This Row],[year]],'2015 sah unit data'!K:K,data_tracking[[#This Row],[month]],'2015 sah unit data'!J:J,data_tracking[[#This Row],[week]])=0,\"\",SUMIFS('2015 sah unit data'!B:B,'2015 sah unit data'!L:L,data_tracking[[#This Row],[year]],'2015 sah unit data'!K:K,data_tracking[[#This Row],[month]],'2015 sah unit data'!J:J,data_tracking[[#This Row],[week]]))","v":3298.2678954166649},{"$f":"IF(SUMIFS('2015 sah unit data'!C:C,'2015 sah unit data'!L:L,data_tracking[[#This Row],[year]],'2015 sah unit data'!K:K,data_tracking[[#This Row],[month]],'2015 sah unit data'!J:J,data_tracking[[#This Row],[week]])=0,\"\",SUMIFS('2015 sah unit data'!C:C,'2015 sah unit data'!L:L,data_tracking[[#This Row],[year]],'2015 sah unit data'!K:K,data_tracking[[#This Row],[month]],'2015 sah unit data'!J:J,data_tracking[[#This Row],[week]]))","v":2270.3570549999995},{"$f":"IF(SUMIFS('2015 sah unit data'!D:D,'2015 sah unit data'!L:L,data_tracking[[#This Row],[year]],'2015 sah unit data'!K:K,data_tracking[[#This Row],[month]],'2015 sah unit data'!J:J,data_tracking[[#This Row],[week]])=0,\"\",SUMIFS('2015 sah unit data'!D:D,'2015 sah unit data'!L:L,data_tracking[[#This Row],[year]],'2015 sah unit data'!K:K,data_tracking[[#This Row],[month]],'2015 sah unit data'!J:J,data_tracking[[#This Row],[week]]))","v":240},{"$f":"IF(SUMIFS('2015 sah unit data'!E:E,'2015 sah unit data'!L:L,data_tracking[[#This Row],[year]],'2015 sah unit data'!K:K,data_tracking[[#This Row],[month]],'2015 sah unit data'!J:J,data_tracking[[#This Row],[week]])=0,\"\",SUMIFS('2015 sah unit data'!E:E,'2015 sah unit data'!L:L,data_tracking[[#This Row],[year]],'2015 sah unit data'!K:K,data_tracking[[#This Row],[month]],'2015 sah unit data'!J:J,data_tracking[[#This Row],[week]]))","v":3224},{"$f":"IF(SUMIFS('2015 sah unit data'!F:F,'2015 sah unit data'!L:L,data_tracking[[#This Row],[year]],'2015 sah unit data'!K:K,data_tracking[[#This Row],[month]],'2015 sah unit data'!J:J,data_tracking[[#This Row],[week]])=0,\"\",SUMIFS('2015 sah unit data'!F:F,'2015 sah unit data'!L:L,data_tracking[[#This Row],[year]],'2015 sah unit data'!K:K,data_tracking[[#This Row],[month]],'2015 sah unit data'!J:J,data_tracking[[#This Row],[week]]))","v":3647},{"$f":"IF(SUMIFS('2015 sah unit data'!G:G,'2015 sah unit data'!L:L,data_tracking[[#This Row],[year]],'2015 sah unit data'!K:K,data_tracking[[#This Row],[month]],'2015 sah unit data'!J:J,data_tracking[[#This Row],[week]])=0,\"\",SUMIFS('2015 sah unit data'!G:G,'2015 sah unit data'!L:L,data_tracking[[#This Row],[year]],'2015 sah unit data'!K:K,data_tracking[[#This Row],[month]],'2015 sah unit data'!J:J,data_tracking[[#This Row],[week]]))","v":240},{"$f":"SUMIFS('2015 sah unit data'!I:I,'2015 sah unit data'!L:L,data_tracking[[#This Row],[year]],'2015 sah unit data'!K:K,data_tracking[[#This Row],[month]],'2015 sah unit data'!J:J,data_tracking[[#This Row],[week]])","v":19},{"$f":"SUMIFS('overhead costs data'!E:E,'overhead costs data'!C:C,data_tracking[[#This Row],[year]],'overhead costs data'!B:B,data_tracking[[#This Row],[month]])","v":66344.884999999995}]
[31,7,2015,36.520000000000003,20.04,{"$f":"IFERROR((data_tracking[[#This Row],[overhead]]+SUMIFS('labor costs data'!H:H,'labor costs data'!D:D,data_tracking[[#This Row],[year]],'labor costs data'!A:A,data_tracking[[#This Row],[week]]))/data_tracking[[#This Row],[SAH Completed (Total)]],\"\")","v":52.339787057209101},{"$f":"IFERROR(SUMIFS('labor costs data'!E:E,'labor costs data'!D:D,data_tracking[[#This Row],[year]],'labor costs data'!A:A,data_tracking[[#This Row],[week]])/data_tracking[[#This Row],[SAH Completed (Total)]],\"\")","v":24.462668224053143},{"$f":"IFERROR((data_tracking[[#This Row],[overhead]]+SUMIFS(labor_costs[total labor cost],labor_costs[year],data_tracking[[#This Row],[year]],labor_costs[week],data_tracking[[#This Row],[week]]))/data_tracking[[#This Row],[Units Completed (Total)]],\"\")","v":42.753788918576852},{"$f":"IF(SUM(data_tracking[[#This Row],[111-FILSN1 SAH]],data_tracking[[#This Row],[112-FILSN2 SAH]],data_tracking[[#This Row],[113-FILSN3 SAH]])=0,\"\",SUM(data_tracking[[#This Row],[111-FILSN1 SAH]],data_tracking[[#This Row],[112-FILSN2 SAH]],data_tracking[[#This Row],[113-FILSN3 SAH]]))","v":5808.6249504166644},{"$f":"IF(SUM(data_tracking[[#This Row],[111-FILSN1 Units]],data_tracking[[#This Row],[112-FILSN2 Units]],data_tracking[[#This Row],[113-FILSN3 Units]])=0,\"\",SUM(data_tracking[[#This Row],[111-FILSN1 Units]],data_tracking[[#This Row],[112-FILSN2 Units]],data_tracking[[#This Row],[113-FILSN3 Units]]))","v":7111},{"$f":"IF(SUMIFS('2015 sah unit data'!B:B,'2015 sah unit data'!L:L,data_tracking[[#This Row],[year]],'2015 sah unit data'!K:K,data_tracking[[#This Row],[month]],'2015 sah unit data'!J:J,data_tracking[[#This Row],[week]])=0,\"\",SUMIFS('2015 sah unit data'!B:B,'2015 sah unit data'!L:L,data_tracking[[#This Row],[year]],'2015 sah unit data'!K:K,data_tracking[[#This Row],[month]],'2015 sah unit data'!J:J,data_tracking[[#This Row],[week]]))","v":3298.2678954166649},{"$f":"IF(SUMIFS('2015 sah unit data'!C:C,'2015 sah unit data'!L:L,data_tracking[[#This Row],[year]],'2015 sah unit data'!K:K,data_tracking[[#This Row],[month]],'2015 sah unit data'!J:J,data_tracking[[#This Row],[week]])=0,\"\",SUMIFS('2015 sah unit data'!C:C,'2015 sah unit data'!L:L,data_tracking[[#This Row],[year]],'2015 sah unit data'!K:K,data_tracking[[#This Row],[month]],'2015 sah unit data'!J:J,data_tracking[[#This Row],[week]]))","v":2270.3570549999995},{"$f":"IF(SUMIFS('2015 sah unit data'!D:D,'2015 sah unit data'!L:L,data_tracking[[#This Row],[year]],'2015 sah unit data'!K:K,data_tracking[[#This Row],[month]],'2015 sah unit data'!J:J,data_tracking[[#This Row],[week]])=0,\"\",SUMIFS('2015 sah unit data'!D:D,'2015 sah unit data'!L:L,data_tracking[[#This Row],[year]],'2015 sah unit data'!K:K,data_tracking[[#This Row],[month]],'2015 sah unit data'!J:J,data_tracking[[#This Row],[week]]))","v":240},{"$f":"IF(SUMIFS('2015 sah unit data'!E:E,'2015 sah unit data'!L:L,data_tracking[[#This Row],[year]],'2015 sah unit data'!K:K,data_tracking[[#This Row],[month]],'2015 sah unit data'!J:J,data_tracking[[#This Row],[week]])=0,\"\",SUMIFS('2015 sah unit data'!E:E,'2015 sah unit data'!L:L,data_tracking[[#This Row],[year]],'2015 sah unit data'!K:K,data_tracking[[#This Row],[month]],'2015 sah unit data'!J:J,data_tracking[[#This Row],[week]]))","v":3224},{"$f":"IF(SUMIFS('2015 sah unit data'!F:F,'2015 sah unit data'!L:L,data_tracking[[#This Row],[year]],'2015 sah unit data'!K:K,data_tracking[[#This Row],[month]],'2015 sah unit data'!J:J,data_tracking[[#This Row],[week]])=0,\"\",SUMIFS('2015 sah unit data'!F:F,'2015 sah unit data'!L:L,data_tracking[[#This Row],[year]],'2015 sah unit data'!K:K,data_tracking[[#This Row],[month]],'2015 sah unit data'!J:J,data_tracking[[#This Row],[week]]))","v":3647},{"$f":"IF(SUMIFS('2015 sah unit data'!G:G,'2015 sah unit data'!L:L,data_tracking[[#This Row],[year]],'2015 sah unit data'!K:K,data_tracking[[#This Row],[month]],'2015 sah unit data'!J:J,data_tracking[[#This Row],[week]])=0,\"\",SUMIFS('2015 sah unit data'!G:G,'2015 sah unit data'!L:L,data_tracking[[#This Row],[year]],'2015 sah unit data'!K:K,data_tracking[[#This Row],[month]],'2015 sah unit data'!J:J,data_tracking[[#This Row],[week]]))","v":240},{"$f":"SUMIFS('2015 sah unit data'!I:I,'2015 sah unit data'!L:L,data_tracking[[#This Row],[year]],'2015 sah unit data'!K:K,data_tracking[[#This Row],[month]],'2015 sah unit data'!J:J,data_tracking[[#This Row],[week]])","v":19},{"$f":"SUMIFS('overhead costs data'!E:E,'overhead costs data'!C:C,data_tracking[[#This Row],[year]],'overhead costs data'!B:B,data_tracking[[#This Row],[month]])","v":66344.884999999995}]
[32,8,2015,36.520000000000003,20.04,{"$f":"IFERROR((data_tracking[[#This Row],[overhead]]+SUMIFS('labor costs data'!H:H,'labor costs data'!D:D,data_tracking[[#This Row],[year]],'labor costs data'!A:A,data_tracking[[#This Row],[week]]))/data_tracking[[#This Row],[SAH Completed (Total)]],\"\")","v":60.620445446139108},{"$f":"IFERROR(SUMIFS('labor costs data'!E:E,'labor costs data'!D:D,data_tracking[[#This Row],[year]],'labor costs data'!A:A,data_tracking[[#This Row],[week]])/data_tracking[[#This Row],[SAH Completed (Total)]],\"\")","v":27.394481299171535},{"$f":"IFERROR((data_tracking[[#This Row],[overhead]]+SUMIFS(labor_costs[total labor cost],labor_costs[year],data_tracking[[#This Row],[year]],labor_costs[week],data_tracking[[#This Row],[week]]))/data_tracking[[#This Row],[Units Completed (Total)]],\"\")","v":63.65114989878542},{"$f":"IF(SUM(data_tracking[[#This Row],[111-FILSN1 SAH]],data_tracking[[#This Row],[112-FILSN2 SAH]],data_tracking[[#This Row],[113-FILSN3 SAH]])=0,\"\",SUM(data_tracking[[#This Row],[111-FILSN1 SAH]],data_tracking[[#This Row],[112-FILSN2 SAH]],data_tracking[[#This Row],[113-FILSN3 SAH]]))","v":5186.9741006666636},{"$f":"IF(SUM(data_tracking[[#This Row],[111-FILSN1 Units]],data_tracking[[#This Row],[112-FILSN2 Units]],data_tracking[[#This Row],[113-FILSN3 Units]])=0,\"\",SUM(data_tracking[[#This Row],[111-FILSN1 Units]],data_tracking[[#This Row],[112-FILSN2 Units]],data_tracking[[#This Row],[113-FILSN3 Units]]))","v":4940},{"$f":"IF(SUMIFS('2015 sah unit data'!B:B,'2015 sah unit data'!L:L,data_tracking[[#This Row],[year]],'2015 sah unit data'!K:K,data_tracking[[#This Row],[month]],'2015 sah unit data'!J:J,data_tracking[[#This Row],[week]])=0,\"\",SUMIFS('2015 sah unit data'!B:B,'2015 sah unit data'!L:L,data_tracking[[#This Row],[year]],'2015 sah unit data'!K:K,data_tracking[[#This Row],[month]],'2015 sah unit data'!J:J,data_tracking[[#This Row],[week]]))","v":3336.7323199999978},{"$f":"IF(SUMIFS('2015 sah unit data'!C:C,'2015 sah unit data'!L:L,data_tracking[[#This Row],[year]],'2015 sah unit data'!K:K,data_tracking[[#This Row],[month]],'2015 sah unit data'!J:J,data_tracking[[#This Row],[week]])=0,\"\",SUMIFS('2015 sah unit data'!C:C,'2015 sah unit data'!L:L,data_tracking[[#This Row],[year]],'2015 sah unit data'!K:K,data_tracking[[#This Row],[month]],'2015 sah unit data'!J:J,data_tracking[[#This Row],[week]]))","v":1071.2417806666658},{"$f":"IF(SUMIFS('2015 sah unit data'!D:D,'2015 sah unit data'!L:L,data_tracking[[#This Row],[year]],'2015 sah unit data'!K:K,data_tracking[[#This Row],[month]],'2015 sah unit data'!J:J,data_tracking[[#This Row],[week]])=0,\"\",SUMIFS('2015 sah unit data'!D:D,'2015 sah unit data'!L:L,data_tracking[[#This Row],[year]],'2015 sah unit data'!K:K,data_tracking[[#This Row],[month]],'2015 sah unit data'!J:J,data_tracking[[#This Row],[week]]))","v":779},{"$f":"IF(SUMIFS('2015 sah unit data'!E:E,'2015 sah unit data'!L:L,data_tracking[[#This Row],[year]],'2015 sah unit data'!K:K,data_tracking[[#This Row],[month]],'2015 sah unit data'!J:J,data_tracking[[#This Row],[week]])=0,\"\",SUMIFS('2015 sah unit data'!E:E,'2015 sah unit data'!L:L,data_tracking[[#This Row],[year]],'2015 sah unit data'!K:K,data_tracking[[#This Row],[month]],'2015 sah unit data'!J:J,data_tracking[[#This Row],[week]]))","v":2802},{"$f":"IF(SUMIFS('2015 sah unit data'!F:F,'2015 sah unit data'!L:L,data_tracking[[#This Row],[year]],'2015 sah unit data'!K:K,data_tracking[[#This Row],[month]],'2015 sah unit data'!J:J,data_tracking[[#This Row],[week]])=0,\"\",SUMIFS('2015 sah unit data'!F:F,'2015 sah unit data'!L:L,data_tracking[[#This Row],[year]],'2015 sah unit data'!K:K,data_tracking[[#This Row],[month]],'2015 sah unit data'!J:J,data_tracking[[#This Row],[week]]))","v":1359},{"$f":"IF(SUMIFS('2015 sah unit data'!G:G,'2015 sah unit data'!L:L,data_tracking[[#This Row],[year]],'2015 sah unit data'!K:K,data_tracking[[#This Row],[month]],'2015 sah unit data'!J:J,data_tracking[[#This Row],[week]])=0,\"\",SUMIFS('2015 sah unit data'!G:G,'2015 sah unit data'!L:L,data_tracking[[#This Row],[year]],'2015 sah unit data'!K:K,data_tracking[[#This Row],[month]],'2015 sah unit data'!J:J,data_tracking[[#This Row],[week]]))","v":779},{"$f":"SUMIFS('2015 sah unit data'!I:I,'2015 sah unit data'!L:L,data_tracking[[#This Row],[year]],'2015 sah unit data'!K:K,data_tracking[[#This Row],[month]],'2015 sah unit data'!J:J,data_tracking[[#This Row],[week]])","v":16},{"$f":"SUMIFS('overhead costs data'!E:E,'overhead costs data'!C:C,data_tracking[[#This Row],[year]],'overhead costs data'!B:B,data_tracking[[#This Row],[month]])","v":76759.372500000012}]
[33,8,2015,36.520000000000003,20.04,{"$f":"IFERROR((data_tracking[[#This Row],[overhead]]+SUMIFS('labor costs data'!H:H,'labor costs data'!D:D,data_tracking[[#This Row],[year]],'labor costs data'!A:A,data_tracking[[#This Row],[week]]))/data_tracking[[#This Row],[SAH Completed (Total)]],\"\")","v":66.532568854670998},{"$f":"IFERROR(SUMIFS('labor costs data'!E:E,'labor costs data'!D:D,data_tracking[[#This Row],[year]],'labor costs data'!A:A,data_tracking[[#This Row],[week]])/data_tracking[[#This Row],[SAH Completed (Total)]],\"\")","v":31.046035101525323},{"$f":"IFERROR((data_tracking[[#This Row],[overhead]]+SUMIFS(labor_costs[total labor cost],labor_costs[year],data_tracking[[#This Row],[year]],labor_costs[week],data_tracking[[#This Row],[week]]))/data_tracking[[#This Row],[Units Completed (Total)]],\"\")","v":69.858848481781365},{"$f":"IF(SUM(data_tracking[[#This Row],[111-FILSN1 SAH]],data_tracking[[#This Row],[112-FILSN2 SAH]],data_tracking[[#This Row],[113-FILSN3 SAH]])=0,\"\",SUM(data_tracking[[#This Row],[111-FILSN1 SAH]],data_tracking[[#This Row],[112-FILSN2 SAH]],data_tracking[[#This Row],[113-FILSN3 SAH]]))","v":5186.9741006666636},{"$f":"IF(SUM(data_tracking[[#This Row],[111-FILSN1 Units]],data_tracking[[#This Row],[112-FILSN2 Units]],data_tracking[[#This Row],[113-FILSN3 Units]])=0,\"\",SUM(data_tracking[[#This Row],[111-FILSN1 Units]],data_tracking[[#This Row],[112-FILSN2 Units]],data_tracking[[#This Row],[113-FILSN3 Units]]))","v":4940},{"$f":"IF(SUMIFS('2015 sah unit data'!B:B,'2015 sah unit data'!L:L,data_tracking[[#This Row],[year]],'2015 sah unit data'!K:K,data_tracking[[#This Row],[month]],'2015 sah unit data'!J:J,data_tracking[[#This Row],[week]])=0,\"\",SUMIFS('2015 sah unit data'!B:B,'2015 sah unit data'!L:L,data_tracking[[#This Row],[year]],'2015 sah unit data'!K:K,data_tracking[[#This Row],[month]],'2015 sah unit data'!J:J,data_tracking[[#This Row],[week]]))","v":3336.7323199999978},{"$f":"IF(SUMIFS('2015 sah unit data'!C:C,'2015 sah unit data'!L:L,data_tracking[[#This Row],[year]],'2015 sah unit data'!K:K,data_tracking[[#This Row],[month]],'2015 sah unit data'!J:J,data_tracking[[#This Row],[week]])=0,\"\",SUMIFS('2015 sah unit data'!C:C,'2015 sah unit data'!L:L,data_tracking[[#This Row],[year]],'2015 sah unit data'!K:K,data_tracking[[#This Row],[month]],'2015 sah unit data'!J:J,data_tracking[[#This Row],[week]]))","v":1071.2417806666658},{"$f":"IF(SUMIFS('2015 sah unit data'!D:D,'2015 sah unit data'!L:L,data_tracking[[#This Row],[year]],'2015 sah unit data'!K:K,data_tracking[[#This Row],[month]],'2015 sah unit data'!J:J,data_tracking[[#This Row],[week]])=0,\"\",SUMIFS('2015 sah unit data'!D:D,'2015 sah unit data'!L:L,data_tracking[[#This Row],[year]],'2015 sah unit data'!K:K,data_tracking[[#This Row],[month]],'2015 sah unit data'!J:J,data_tracking[[#This Row],[week]]))","v":779},{"$f":"IF(SUMIFS('2015 sah unit data'!E:E,'2015 sah unit data'!L:L,data_tracking[[#This Row],[year]],'2015 sah unit data'!K:K,data_tracking[[#This Row],[month]],'2015 sah unit data'!J:J,data_tracking[[#This Row],[week]])=0,\"\",SUMIFS('2015 sah unit data'!E:E,'2015 sah unit data'!L:L,data_tracking[[#This Row],[year]],'2015 sah unit data'!K:K,data_tracking[[#This Row],[month]],'2015 sah unit data'!J:J,data_tracking[[#This Row],[week]]))","v":2802},{"$f":"IF(SUMIFS('2015 sah unit data'!F:F,'2015 sah unit data'!L:L,data_tracking[[#This Row],[year]],'2015 sah unit data'!K:K,data_tracking[[#This Row],[month]],'2015 sah unit data'!J:J,data_tracking[[#This Row],[week]])=0,\"\",SUMIFS('2015 sah unit data'!F:F,'2015 sah unit data'!L:L,data_tracking[[#This Row],[year]],'2015 sah unit data'!K:K,data_tracking[[#This Row],[month]],'2015 sah unit data'!J:J,data_tracking[[#This Row],[week]]))","v":1359},{"$f":"IF(SUMIFS('2015 sah unit data'!G:G,'2015 sah unit data'!L:L,data_tracking[[#This Row],[year]],'2015 sah unit data'!K:K,data_tracking[[#This Row],[month]],'2015 sah unit data'!J:J,data_tracking[[#This Row],[week]])=0,\"\",SUMIFS('2015 sah unit data'!G:G,'2015 sah unit data'!L:L,data_tracking[[#This Row],[year]],'2015 sah unit data'!K:K,data_tracking[[#This Row],[month]],'2015 sah unit data'!J:J,data_tracking[[#This Row],[week]]))","v":779},{"$f":"SUMIFS('2015 sah unit data'!I:I,'2015 sah unit data'!L:L,data_tracking[[#This Row],[year]],'2015 sah unit data'!K:K,data_tracking[[#This Row],[month]],'2015 sah unit data'!J:J,data_tracking[[#This Row],[week]])","v":16},{"$f":"SUMIFS('overhead costs data'!E:E,'overhead costs data'!C:C,data_tracking[[#This Row],[year]],'overhead costs data'!B:B,data_tracking[[#This Row],[month]])","v":76759.372500000012}]
[34,8,2015,36.520000000000003,20.04,{"$f":"IFERROR((data_tracking[[#This Row],[overhead]]+SUMIFS('labor costs data'!H:H,'labor costs data'!D:D,data_tracking[[#This Row],[year]],'labor costs data'!A:A,data_tracking[[#This Row],[week]]))/data_tracking[[#This Row],[SAH Completed (Total)]],\"\")","v":66.532568854670998},{"$f":"IFERROR(SUMIFS('labor costs data'!E:E,'labor costs data'!D:D,data_tracking[[#This Row],[year]],'labor costs data'!A:A,data_tracking[[#This Row],[week]])/data_tracking[[#This Row],[SAH Completed (Total)]],\"\")","v":31.046035101525323},{"$f":"IFERROR((data_tracking[[#This Row],[overhead]]+SUMIFS(labor_costs[total labor cost],labor_costs[year],data_tracking[[#This Row],[year]],labor_costs[week],data_tracking[[#This Row],[week]]))/data_tracking[[#This Row],[Units Completed (Total)]],\"\")","v":69.858848481781365},{"$f":"IF(SUM(data_tracking[[#This Row],[111-FILSN1 SAH]],data_tracking[[#This Row],[112-FILSN2 SAH]],data_tracking[[#This Row],[113-FILSN3 SAH]])=0,\"\",SUM(data_tracking[[#This Row],[111-FILSN1 SAH]],data_tracking[[#This Row],[112-FILSN2 SAH]],data_tracking[[#This Row],[113-FILSN3 SAH]]))","v":5186.9741006666636},{"$f":"IF(SUM(data_tracking[[#This Row],[111-FILSN1 Units]],data_tracking[[#This Row],[112-FILSN2 Units]],data_tracking[[#This Row],[113-FILSN3 Units]])=0,\"\",SUM(data_tracking[[#This Row],[111-FILSN1 Units]],data_tracking[[#This Row],[112-FILSN2 Units]],data_tracking[[#This Row],[113-FILSN3 Units]]))","v":4940},{"$f":"IF(SUMIFS('2015 sah unit data'!B:B,'2015 sah unit data'!L:L,data_tracking[[#This Row],[year]],'2015 sah unit data'!K:K,data_tracking[[#This Row],[month]],'2015 sah unit data'!J:J,data_tracking[[#This Row],[week]])=0,\"\",SUMIFS('2015 sah unit data'!B:B,'2015 sah unit data'!L:L,data_tracking[[#This Row],[year]],'2015 sah unit data'!K:K,data_tracking[[#This Row],[month]],'2015 sah unit data'!J:J,data_tracking[[#This Row],[week]]))","v":3336.7323199999978},{"$f":"IF(SUMIFS('2015 sah unit data'!C:C,'2015 sah unit data'!L:L,data_tracking[[#This Row],[year]],'2015 sah unit data'!K:K,data_tracking[[#This Row],[month]],'2015 sah unit data'!J:J,data_tracking[[#This Row],[week]])=0,\"\",SUMIFS('2015 sah unit data'!C:C,'2015 sah unit data'!L:L,data_tracking[[#This Row],[year]],'2015 sah unit data'!K:K,data_tracking[[#This Row],[month]],'2015 sah unit data'!J:J,data_tracking[[#This Row],[week]]))","v":1071.2417806666658},{"$f":"IF(SUMIFS('2015 sah unit data'!D:D,'2015 sah unit data'!L:L,data_tracking[[#This Row],[year]],'2015 sah unit data'!K:K,data_tracking[[#This Row],[month]],'2015 sah unit data'!J:J,data_tracking[[#This Row],[week]])=0,\"\",SUMIFS('2015 sah unit data'!D:D,'2015 sah unit data'!L:L,data_tracking[[#This Row],[year]],'2015 sah unit data'!K:K,data_tracking[[#This Row],[month]],'2015 sah unit data'!J:J,data_tracking[[#This Row],[week]]))","v":779},{"$f":"IF(SUMIFS('2015 sah unit data'!E:E,'2015 sah unit data'!L:L,data_tracking[[#This Row],[year]],'2015 sah unit data'!K:K,data_tracking[[#This Row],[month]],'2015 sah unit data'!J:J,data_tracking[[#This Row],[week]])=0,\"\",SUMIFS('2015 sah unit data'!E:E,'2015 sah unit data'!L:L,data_tracking[[#This Row],[year]],'2015 sah unit data'!K:K,data_tracking[[#This Row],[month]],'2015 sah unit data'!J:J,data_tracking[[#This Row],[week]]))","v":2802},{"$f":"IF(SUMIFS('2015 sah unit data'!F:F,'2015 sah unit data'!L:L,data_tracking[[#This Row],[year]],'2015 sah unit data'!K:K,data_tracking[[#This Row],[month]],'2015 sah unit data'!J:J,data_tracking[[#This Row],[week]])=0,\"\",SUMIFS('2015 sah unit data'!F:F,'2015 sah unit data'!L:L,data_tracking[[#This Row],[year]],'2015 sah unit data'!K:K,data_tracking[[#This Row],[month]],'2015 sah unit data'!J:J,data_tracking[[#This Row],[week]]))","v":1359},{"$f":"IF(SUMIFS('2015 sah unit data'!G:G,'2015 sah unit data'!L:L,data_tracking[[#This Row],[year]],'2015 sah unit data'!K:K,data_tracking[[#This Row],[month]],'2015 sah unit data'!J:J,data_tracking[[#This Row],[week]])=0,\"\",SUMIFS('2015 sah unit data'!G:G,'2015 sah unit data'!L:L,data_tracking[[#This Row],[year]],'2015 sah unit data'!K:K,data_tracking[[#This Row],[month]],'2015 sah unit data'!J:J,data_tracking[[#This Row],[week]]))","v":779},{"$f":"SUMIFS('2015 sah unit data'!I:I,'2015 sah unit data'!L:L,data_tracking[[#This Row],[year]],'2015 sah unit data'!K:K,data_tracking[[#This Row],[month]],'2015 sah unit data'!J:J,data_tracking[[#This Row],[week]])","v":16},{"$f":"SUMIFS('overhead costs data'!E:E,'overhead costs data'!C:C,data_tracking[[#This Row],[year]],'overhead costs data'!B:B,data_tracking[[#This Row],[month]])","v":76759.372500000012}]
[35,8,2015,36.520000000000003,20.04,{"$f":"IFERROR((data_tracking[[#This Row],[overhead]]+SUMIFS('labor costs data'!H:H,'labor costs data'!D:D,data_tracking[[#This Row],[year]],'labor costs data'!A:A,data_tracking[[#This Row],[week]]))/data_tracking[[#This Row],[SAH Completed (Total)]],\"\")","v":62.498511310926844},{"$f":"IFERROR(SUMIFS('labor costs data'!E:E,'labor costs data'!D:D,data_tracking[[#This Row],[year]],'labor costs data'!A:A,data_tracking[[#This Row],[week]])/data_tracking[[#This Row],[SAH Completed (Total)]],\"\")","v":28.042993309202139},{"$f":"IFERROR((data_tracking[[#This Row],[overhead]]+SUMIFS(labor_costs[total labor cost],labor_costs[year],data_tracking[[#This Row],[year]],labor_costs[week],data_tracking[[#This Row],[week]]))/data_tracking[[#This Row],[Units Completed (Total)]],\"\")","v":65.623109210526323},{"$f":"IF(SUM(data_tracking[[#This Row],[111-FILSN1 SAH]],data_tracking[[#This Row],[112-FILSN2 SAH]],data_tracking[[#This Row],[113-FILSN3 SAH]])=0,\"\",SUM(data_tracking[[#This Row],[111-FILSN1 SAH]],data_tracking[[#This Row],[112-FILSN2 SAH]],data_tracking[[#This Row],[113-FILSN3 SAH]]))","v":5186.9741006666636},{"$f":"IF(SUM(data_tracking[[#This Row],[111-FILSN1 Units]],data_tracking[[#This Row],[112-FILSN2 Units]],data_tracking[[#This Row],[113-FILSN3 Units]])=0,\"\",SUM(data_tracking[[#This Row],[111-FILSN1 Units]],data_tracking[[#This Row],[112-FILSN2 Units]],data_tracking[[#This Row],[113-FILSN3 Units]]))","v":4940},{"$f":"IF(SUMIFS('2015 sah unit data'!B:B,'2015 sah unit data'!L:L,data_tracking[[#This Row],[year]],'2015 sah unit data'!K:K,data_tracking[[#This Row],[month]],'2015 sah unit data'!J:J,data_tracking[[#This Row],[week]])=0,\"\",SUMIFS('2015 sah unit data'!B:B,'2015 sah unit data'!L:L,data_tracking[[#This Row],[year]],'2015 sah unit data'!K:K,data_tracking[[#This Row],[month]],'2015 sah unit data'!J:J,data_tracking[[#This Row],[week]]))","v":3336.7323199999978},{"$f":"IF(SUMIFS('2015 sah unit data'!C:C,'2015 sah unit data'!L:L,data_tracking[[#This Row],[year]],'2015 sah unit data'!K:K,data_tracking[[#This Row],[month]],'2015 sah unit data'!J:J,data_tracking[[#This Row],[week]])=0,\"\",SUMIFS('2015 sah unit data'!C:C,'2015 sah unit data'!L:L,data_tracking[[#This Row],[year]],'2015 sah unit data'!K:K,data_tracking[[#This Row],[month]],'2015 sah unit data'!J:J,data_tracking[[#This Row],[week]]))","v":1071.2417806666658},{"$f":"IF(SUMIFS('2015 sah unit data'!D:D,'2015 sah unit data'!L:L,data_tracking[[#This Row],[year]],'2015 sah unit data'!K:K,data_tracking[[#This Row],[month]],'2015 sah unit data'!J:J,data_tracking[[#This Row],[week]])=0,\"\",SUMIFS('2015 sah unit data'!D:D,'2015 sah unit data'!L:L,data_tracking[[#This Row],[year]],'2015 sah unit data'!K:K,data_tracking[[#This Row],[month]],'2015 sah unit data'!J:J,data_tracking[[#This Row],[week]]))","v":779},{"$f":"IF(SUMIFS('2015 sah unit data'!E:E,'2015 sah unit data'!L:L,data_tracking[[#This Row],[year]],'2015 sah unit data'!K:K,data_tracking[[#This Row],[month]],'2015 sah unit data'!J:J,data_tracking[[#This Row],[week]])=0,\"\",SUMIFS('2015 sah unit data'!E:E,'2015 sah unit data'!L:L,data_tracking[[#This Row],[year]],'2015 sah unit data'!K:K,data_tracking[[#This Row],[month]],'2015 sah unit data'!J:J,data_tracking[[#This Row],[week]]))","v":2802},{"$f":"IF(SUMIFS('2015 sah unit data'!F:F,'2015 sah unit data'!L:L,data_tracking[[#This Row],[year]],'2015 sah unit data'!K:K,data_tracking[[#This Row],[month]],'2015 sah unit data'!J:J,data_tracking[[#This Row],[week]])=0,\"\",SUMIFS('2015 sah unit data'!F:F,'2015 sah unit data'!L:L,data_tracking[[#This Row],[year]],'2015 sah unit data'!K:K,data_tracking[[#This Row],[month]],'2015 sah unit data'!J:J,data_tracking[[#This Row],[week]]))","v":1359},{"$f":"IF(SUMIFS('2015 sah unit data'!G:G,'2015 sah unit data'!L:L,data_tracking[[#This Row],[year]],'2015 sah unit data'!K:K,data_tracking[[#This Row],[month]],'2015 sah unit data'!J:J,data_tracking[[#This Row],[week]])=0,\"\",SUMIFS('2015 sah unit data'!G:G,'2015 sah unit data'!L:L,data_tracking[[#This Row],[year]],'2015 sah unit data'!K:K,data_tracking[[#This Row],[month]],'2015 sah unit data'!J:J,data_tracking[[#This Row],[week]]))","v":779},{"$f":"SUMIFS('2015 sah unit data'!I:I,'2015 sah unit data'!L:L,data_tracking[[#This Row],[year]],'2015 sah unit data'!K:K,data_tracking[[#This Row],[month]],'2015 sah unit data'!J:J,data_tracking[[#This Row],[week]])","v":16},{"$f":"SUMIFS('overhead costs data'!E:E,'overhead costs data'!C:C,data_tracking[[#This Row],[year]],'overhead costs data'!B:B,data_tracking[[#This Row],[month]])","v":76759.372500000012}]
[36,8,2015,36.520000000000003,20.04,{"$f":"IFERROR((data_tracking[[#This Row],[overhead]]+SUMIFS('labor costs data'!H:H,'labor costs data'!D:D,data_tracking[[#This Row],[year]],'labor costs data'!A:A,data_tracking[[#This Row],[week]]))/data_tracking[[#This Row],[SAH Completed (Total)]],\"\")","v":62.498511310926844},{"$f":"IFERROR(SUMIFS('labor costs data'!E:E,'labor costs data'!D:D,data_tracking[[#This Row],[year]],'labor costs data'!A:A,data_tracking[[#This Row],[week]])/data_tracking[[#This Row],[SAH Completed (Total)]],\"\")","v":28.042993309202139},{"$f":"IFERROR((data_tracking[[#This Row],[overhead]]+SUMIFS(labor_costs[total labor cost],labor_costs[year],data_tracking[[#This Row],[year]],labor_costs[week],data_tracking[[#This Row],[week]]))/data_tracking[[#This Row],[Units Completed (Total)]],\"\")","v":65.623109210526323},{"$f":"IF(SUM(data_tracking[[#This Row],[111-FILSN1 SAH]],data_tracking[[#This Row],[112-FILSN2 SAH]],data_tracking[[#This Row],[113-FILSN3 SAH]])=0,\"\",SUM(data_tracking[[#This Row],[111-FILSN1 SAH]],data_tracking[[#This Row],[112-FILSN2 SAH]],data_tracking[[#This Row],[113-FILSN3 SAH]]))","v":5186.9741006666636},{"$f":"IF(SUM(data_tracking[[#This Row],[111-FILSN1 Units]],data_tracking[[#This Row],[112-FILSN2 Units]],data_tracking[[#This Row],[113-FILSN3 Units]])=0,\"\",SUM(data_tracking[[#This Row],[111-FILSN1 Units]],data_tracking[[#This Row],[112-FILSN2 Units]],data_tracking[[#This Row],[113-FILSN3 Units]]))","v":4940},{"$f":"IF(SUMIFS('2015 sah unit data'!B:B,'2015 sah unit data'!L:L,data_tracking[[#This Row],[year]],'2015 sah unit data'!K:K,data_tracking[[#This Row],[month]],'2015 sah unit data'!J:J,data_tracking[[#This Row],[week]])=0,\"\",SUMIFS('2015 sah unit data'!B:B,'2015 sah unit data'!L:L,data_tracking[[#This Row],[year]],'2015 sah unit data'!K:K,data_tracking[[#This Row],[month]],'2015 sah unit data'!J:J,data_tracking[[#This Row],[week]]))","v":3336.7323199999978},{"$f":"IF(SUMIFS('2015 sah unit data'!C:C,'2015 sah unit data'!L:L,data_tracking[[#This Row],[year]],'2015 sah unit data'!K:K,data_tracking[[#This Row],[month]],'2015 sah unit data'!J:J,data_tracking[[#This Row],[week]])=0,\"\",SUMIFS('2015 sah unit data'!C:C,'2015 sah unit data'!L:L,data_tracking[[#This Row],[year]],'2015 sah unit data'!K:K,data_tracking[[#This Row],[month]],'2015 sah unit data'!J:J,data_tracking[[#This Row],[week]]))","v":1071.2417806666658},{"$f":"IF(SUMIFS('2015 sah unit data'!D:D,'2015 sah unit data'!L:L,data_tracking[[#This Row],[year]],'2015 sah unit data'!K:K,data_tracking[[#This Row],[month]],'2015 sah unit data'!J:J,data_tracking[[#This Row],[week]])=0,\"\",SUMIFS('2015 sah unit data'!D:D,'2015 sah unit data'!L:L,data_tracking[[#This Row],[year]],'2015 sah unit data'!K:K,data_tracking[[#This Row],[month]],'2015 sah unit data'!J:J,data_tracking[[#This Row],[week]]))","v":779},{"$f":"IF(SUMIFS('2015 sah unit data'!E:E,'2015 sah unit data'!L:L,data_tracking[[#This Row],[year]],'2015 sah unit data'!K:K,data_tracking[[#This Row],[month]],'2015 sah unit data'!J:J,data_tracking[[#This Row],[week]])=0,\"\",SUMIFS('2015 sah unit data'!E:E,'2015 sah unit data'!L:L,data_tracking[[#This Row],[year]],'2015 sah unit data'!K:K,data_tracking[[#This Row],[month]],'2015 sah unit data'!J:J,data_tracking[[#This Row],[week]]))","v":2802},{"$f":"IF(SUMIFS('2015 sah unit data'!F:F,'2015 sah unit data'!L:L,data_tracking[[#This Row],[year]],'2015 sah unit data'!K:K,data_tracking[[#This Row],[month]],'2015 sah unit data'!J:J,data_tracking[[#This Row],[week]])=0,\"\",SUMIFS('2015 sah unit data'!F:F,'2015 sah unit data'!L:L,data_tracking[[#This Row],[year]],'2015 sah unit data'!K:K,data_tracking[[#This Row],[month]],'2015 sah unit data'!J:J,data_tracking[[#This Row],[week]]))","v":1359},{"$f":"IF(SUMIFS('2015 sah unit data'!G:G,'2015 sah unit data'!L:L,data_tracking[[#This Row],[year]],'2015 sah unit data'!K:K,data_tracking[[#This Row],[month]],'2015 sah unit data'!J:J,data_tracking[[#This Row],[week]])=0,\"\",SUMIFS('2015 sah unit data'!G:G,'2015 sah unit data'!L:L,data_tracking[[#This Row],[year]],'2015 sah unit data'!K:K,data_tracking[[#This Row],[month]],'2015 sah unit data'!J:J,data_tracking[[#This Row],[week]]))","v":779},{"$f":"SUMIFS('2015 sah unit data'!I:I,'2015 sah unit data'!L:L,data_tracking[[#This Row],[year]],'2015 sah unit data'!K:K,data_tracking[[#This Row],[month]],'2015 sah unit data'!J:J,data_tracking[[#This Row],[week]])","v":16},{"$f":"SUMIFS('overhead costs data'!E:E,'overhead costs data'!C:C,data_tracking[[#This Row],[year]],'overhead costs data'!B:B,data_tracking[[#This Row],[month]])","v":76759.372500000012}]
[37,9,2015,36.520000000000003,20.04,{"$f":"IFERROR((data_tracking[[#This Row],[overhead]]+SUMIFS('labor costs data'!H:H,'labor costs data'!D:D,data_tracking[[#This Row],[year]],'labor costs data'!A:A,data_tracking[[#This Row],[week]]))/data_tracking[[#This Row],[SAH Completed (Total)]],\"\")","v":58.945456183926815},{"$f":"IFERROR(SUMIFS('labor costs data'!E:E,'labor costs data'!D:D,data_tracking[[#This Row],[year]],'labor costs data'!A:A,data_tracking[[#This Row],[week]])/data_tracking[[#This Row],[SAH Completed (Total)]],\"\")","v":26.135262429028447},{"$f":"IFERROR((data_tracking[[#This Row],[overhead]]+SUMIFS(labor_costs[total labor cost],labor_costs[year],data_tracking[[#This Row],[year]],labor_costs[week],data_tracking[[#This Row],[week]]))/data_tracking[[#This Row],[Units Completed (Total)]],\"\")","v":56.423214898667162},{"$f":"IF(SUM(data_tracking[[#This Row],[111-FILSN1 SAH]],data_tracking[[#This Row],[112-FILSN2 SAH]],data_tracking[[#This Row],[113-FILSN3 SAH]])=0,\"\",SUM(data_tracking[[#This Row],[111-FILSN1 SAH]],data_tracking[[#This Row],[112-FILSN2 SAH]],data_tracking[[#This Row],[113-FILSN3 SAH]]))","v":5242.6424020833347},{"$f":"IF(SUM(data_tracking[[#This Row],[111-FILSN1 Units]],data_tracking[[#This Row],[112-FILSN2 Units]],data_tracking[[#This Row],[113-FILSN3 Units]])=0,\"\",SUM(data_tracking[[#This Row],[111-FILSN1 Units]],data_tracking[[#This Row],[112-FILSN2 Units]],data_tracking[[#This Row],[113-FILSN3 Units]]))","v":5477},{"$f":"IF(SUMIFS('2015 sah unit data'!B:B,'2015 sah unit data'!L:L,data_tracking[[#This Row],[year]],'2015 sah unit data'!K:K,data_tracking[[#This Row],[month]],'2015 sah unit data'!J:J,data_tracking[[#This Row],[week]])=0,\"\",SUMIFS('2015 sah unit data'!B:B,'2015 sah unit data'!L:L,data_tracking[[#This Row],[year]],'2015 sah unit data'!K:K,data_tracking[[#This Row],[month]],'2015 sah unit data'!J:J,data_tracking[[#This Row],[week]]))","v":3532.9905791666674},{"$f":"IF(SUMIFS('2015 sah unit data'!C:C,'2015 sah unit data'!L:L,data_tracking[[#This Row],[year]],'2015 sah unit data'!K:K,data_tracking[[#This Row],[month]],'2015 sah unit data'!J:J,data_tracking[[#This Row],[week]])=0,\"\",SUMIFS('2015 sah unit data'!C:C,'2015 sah unit data'!L:L,data_tracking[[#This Row],[year]],'2015 sah unit data'!K:K,data_tracking[[#This Row],[month]],'2015 sah unit data'!J:J,data_tracking[[#This Row],[week]]))","v":1709.6518229166672},{"$f":"IF(SUMIFS('2015 sah unit data'!D:D,'2015 sah unit data'!L:L,data_tracking[[#This Row],[year]],'2015 sah unit data'!K:K,data_tracking[[#This Row],[month]],'2015 sah unit data'!J:J,data_tracking[[#This Row],[week]])=0,\"\",SUMIFS('2015 sah unit data'!D:D,'2015 sah unit data'!L:L,data_tracking[[#This Row],[year]],'2015 sah unit data'!K:K,data_tracking[[#This Row],[month]],'2015 sah unit data'!J:J,data_tracking[[#This Row],[week]]))","v":""},{"$f":"IF(SUMIFS('2015 sah unit data'!E:E,'2015 sah unit data'!L:L,data_tracking[[#This Row],[year]],'2015 sah unit data'!K:K,data_tracking[[#This Row],[month]],'2015 sah unit data'!J:J,data_tracking[[#This Row],[week]])=0,\"\",SUMIFS('2015 sah unit data'!E:E,'2015 sah unit data'!L:L,data_tracking[[#This Row],[year]],'2015 sah unit data'!K:K,data_tracking[[#This Row],[month]],'2015 sah unit data'!J:J,data_tracking[[#This Row],[week]]))","v":3210},{"$f":"IF(SUMIFS('2015 sah unit data'!F:F,'2015 sah unit data'!L:L,data_tracking[[#This Row],[year]],'2015 sah unit data'!K:K,data_tracking[[#This Row],[month]],'2015 sah unit data'!J:J,data_tracking[[#This Row],[week]])=0,\"\",SUMIFS('2015 sah unit data'!F:F,'2015 sah unit data'!L:L,data_tracking[[#This Row],[year]],'2015 sah unit data'!K:K,data_tracking[[#This Row],[month]],'2015 sah unit data'!J:J,data_tracking[[#This Row],[week]]))","v":2267},{"$f":"IF(SUMIFS('2015 sah unit data'!G:G,'2015 sah unit data'!L:L,data_tracking[[#This Row],[year]],'2015 sah unit data'!K:K,data_tracking[[#This Row],[month]],'2015 sah unit data'!J:J,data_tracking[[#This Row],[week]])=0,\"\",SUMIFS('2015 sah unit data'!G:G,'2015 sah unit data'!L:L,data_tracking[[#This Row],[year]],'2015 sah unit data'!K:K,data_tracking[[#This Row],[month]],'2015 sah unit data'!J:J,data_tracking[[#This Row],[week]]))","v":""},{"$f":"SUMIFS('2015 sah unit data'!I:I,'2015 sah unit data'!L:L,data_tracking[[#This Row],[year]],'2015 sah unit data'!K:K,data_tracking[[#This Row],[month]],'2015 sah unit data'!J:J,data_tracking[[#This Row],[week]])","v":20},{"$f":"SUMIFS('overhead costs data'!E:E,'overhead costs data'!C:C,data_tracking[[#This Row],[year]],'overhead costs data'!B:B,data_tracking[[#This Row],[month]])","v":70330.300000000017}]
[38,9,2015,36.520000000000003,20.04,{"$f":"IFERROR((data_tracking[[#This Row],[overhead]]+SUMIFS('labor costs data'!H:H,'labor costs data'!D:D,data_tracking[[#This Row],[year]],'labor costs data'!A:A,data_tracking[[#This Row],[week]]))/data_tracking[[#This Row],[SAH Completed (Total)]],\"\")","v":58.945456183926815},{"$f":"IFERROR(SUMIFS('labor costs data'!E:E,'labor costs data'!D:D,data_tracking[[#This Row],[year]],'labor costs data'!A:A,data_tracking[[#This Row],[week]])/data_tracking[[#This Row],[SAH Completed (Total)]],\"\")","v":26.135262429028447},{"$f":"IFERROR((data_tracking[[#This Row],[overhead]]+SUMIFS(labor_costs[total labor cost],labor_costs[year],data_tracking[[#This Row],[year]],labor_costs[week],data_tracking[[#This Row],[week]]))/data_tracking[[#This Row],[Units Completed (Total)]],\"\")","v":56.423214898667162},{"$f":"IF(SUM(data_tracking[[#This Row],[111-FILSN1 SAH]],data_tracking[[#This Row],[112-FILSN2 SAH]],data_tracking[[#This Row],[113-FILSN3 SAH]])=0,\"\",SUM(data_tracking[[#This Row],[111-FILSN1 SAH]],data_tracking[[#This Row],[112-FILSN2 SAH]],data_tracking[[#This Row],[113-FILSN3 SAH]]))","v":5242.6424020833347},{"$f":"IF(SUM(data_tracking[[#This Row],[111-FILSN1 Units]],data_tracking[[#This Row],[112-FILSN2 Units]],data_tracking[[#This Row],[113-FILSN3 Units]])=0,\"\",SUM(data_tracking[[#This Row],[111-FILSN1 Units]],data_tracking[[#This Row],[112-FILSN2 Units]],data_tracking[[#This Row],[113-FILSN3 Units]]))","v":5477},{"$f":"IF(SUMIFS('2015 sah unit data'!B:B,'2015 sah unit data'!L:L,data_tracking[[#This Row],[year]],'2015 sah unit data'!K:K,data_tracking[[#This Row],[month]],'2015 sah unit data'!J:J,data_tracking[[#This Row],[week]])=0,\"\",SUMIFS('2015 sah unit data'!B:B,'2015 sah unit data'!L:L,data_tracking[[#This Row],[year]],'2015 sah unit data'!K:K,data_tracking[[#This Row],[month]],'2015 sah unit data'!J:J,data_tracking[[#This Row],[week]]))","v":3532.9905791666674},{"$f":"IF(SUMIFS('2015 sah unit data'!C:C,'2015 sah unit data'!L:L,data_tracking[[#This Row],[year]],'2015 sah unit data'!K:K,data_tracking[[#This Row],[month]],'2015 sah unit data'!J:J,data_tracking[[#This Row],[week]])=0,\"\",SUMIFS('2015 sah unit data'!C:C,'2015 sah unit data'!L:L,data_tracking[[#This Row],[year]],'2015 sah unit data'!K:K,data_tracking[[#This Row],[month]],'2015 sah unit data'!J:J,data_tracking[[#This Row],[week]]))","v":1709.6518229166672},{"$f":"IF(SUMIFS('2015 sah unit data'!D:D,'2015 sah unit data'!L:L,data_tracking[[#This Row],[year]],'2015 sah unit data'!K:K,data_tracking[[#This Row],[month]],'2015 sah unit data'!J:J,data_tracking[[#This Row],[week]])=0,\"\",SUMIFS('2015 sah unit data'!D:D,'2015 sah unit data'!L:L,data_tracking[[#This Row],[year]],'2015 sah unit data'!K:K,data_tracking[[#This Row],[month]],'2015 sah unit data'!J:J,data_tracking[[#This Row],[week]]))","v":""},{"$f":"IF(SUMIFS('2015 sah unit data'!E:E,'2015 sah unit data'!L:L,data_tracking[[#This Row],[year]],'2015 sah unit data'!K:K,data_tracking[[#This Row],[month]],'2015 sah unit data'!J:J,data_tracking[[#This Row],[week]])=0,\"\",SUMIFS('2015 sah unit data'!E:E,'2015 sah unit data'!L:L,data_tracking[[#This Row],[year]],'2015 sah unit data'!K:K,data_tracking[[#This Row],[month]],'2015 sah unit data'!J:J,data_tracking[[#This Row],[week]]))","v":3210},{"$f":"IF(SUMIFS('2015 sah unit data'!F:F,'2015 sah unit data'!L:L,data_tracking[[#This Row],[year]],'2015 sah unit data'!K:K,data_tracking[[#This Row],[month]],'2015 sah unit data'!J:J,data_tracking[[#This Row],[week]])=0,\"\",SUMIFS('2015 sah unit data'!F:F,'2015 sah unit data'!L:L,data_tracking[[#This Row],[year]],'2015 sah unit data'!K:K,data_tracking[[#This Row],[month]],'2015 sah unit data'!J:J,data_tracking[[#This Row],[week]]))","v":2267},{"$f":"IF(SUMIFS('2015 sah unit data'!G:G,'2015 sah unit data'!L:L,data_tracking[[#This Row],[year]],'2015 sah unit data'!K:K,data_tracking[[#This Row],[month]],'2015 sah unit data'!J:J,data_tracking[[#This Row],[week]])=0,\"\",SUMIFS('2015 sah unit data'!G:G,'2015 sah unit data'!L:L,data_tracking[[#This Row],[year]],'2015 sah unit data'!K:K,data_tracking[[#This Row],[month]],'2015 sah unit data'!J:J,data_tracking[[#This Row],[week]]))","v":""},{"$f":"SUMIFS('2015 sah unit data'!I:I,'2015 sah unit data'!L:L,data_tracking[[#This Row],[year]],'2015 sah unit data'!K:K,data_tracking[[#This Row],[month]],'2015 sah unit data'!J:J,data_tracking[[#This Row],[week]])","v":20},{"$f":"SUMIFS('overhead costs data'!E:E,'overhead costs data'!C:C,data_tracking[[#This Row],[year]],'overhead costs data'!B:B,data_tracking[[#This Row],[month]])","v":70330.300000000017}]
[39,9,2015,36.520000000000003,20.04,{"$f":"IFERROR((data_tracking[[#This Row],[overhead]]+SUMIFS('labor costs data'!H:H,'labor costs data'!D:D,data_tracking[[#This Row],[year]],'labor costs data'!A:A,data_tracking[[#This Row],[week]]))/data_tracking[[#This Row],[SAH Completed (Total)]],\"\")","v":58.148059150259456},{"$f":"IFERROR(SUMIFS('labor costs data'!E:E,'labor costs data'!D:D,data_tracking[[#This Row],[year]],'labor costs data'!A:A,data_tracking[[#This Row],[week]])/data_tracking[[#This Row],[SAH Completed (Total)]],\"\")","v":25.739506846085096},{"$f":"IFERROR((data_tracking[[#This Row],[overhead]]+SUMIFS(labor_costs[total labor cost],labor_costs[year],data_tracking[[#This Row],[year]],labor_costs[week],data_tracking[[#This Row],[week]]))/data_tracking[[#This Row],[Units Completed (Total)]],\"\")","v":55.659938013511059},{"$f":"IF(SUM(data_tracking[[#This Row],[111-FILSN1 SAH]],data_tracking[[#This Row],[112-FILSN2 SAH]],data_tracking[[#This Row],[113-FILSN3 SAH]])=0,\"\",SUM(data_tracking[[#This Row],[111-FILSN1 SAH]],data_tracking[[#This Row],[112-FILSN2 SAH]],data_tracking[[#This Row],[113-FILSN3 SAH]]))","v":5242.6424020833347},{"$f":"IF(SUM(data_tracking[[#This Row],[111-FILSN1 Units]],data_tracking[[#This Row],[112-FILSN2 Units]],data_tracking[[#This Row],[113-FILSN3 Units]])=0,\"\",SUM(data_tracking[[#This Row],[111-FILSN1 Units]],data_tracking[[#This Row],[112-FILSN2 Units]],data_tracking[[#This Row],[113-FILSN3 Units]]))","v":5477},{"$f":"IF(SUMIFS('2015 sah unit data'!B:B,'2015 sah unit data'!L:L,data_tracking[[#This Row],[year]],'2015 sah unit data'!K:K,data_tracking[[#This Row],[month]],'2015 sah unit data'!J:J,data_tracking[[#This Row],[week]])=0,\"\",SUMIFS('2015 sah unit data'!B:B,'2015 sah unit data'!L:L,data_tracking[[#This Row],[year]],'2015 sah unit data'!K:K,data_tracking[[#This Row],[month]],'2015 sah unit data'!J:J,data_tracking[[#This Row],[week]]))","v":3532.9905791666674},{"$f":"IF(SUMIFS('2015 sah unit data'!C:C,'2015 sah unit data'!L:L,data_tracking[[#This Row],[year]],'2015 sah unit data'!K:K,data_tracking[[#This Row],[month]],'2015 sah unit data'!J:J,data_tracking[[#This Row],[week]])=0,\"\",SUMIFS('2015 sah unit data'!C:C,'2015 sah unit data'!L:L,data_tracking[[#This Row],[year]],'2015 sah unit data'!K:K,data_tracking[[#This Row],[month]],'2015 sah unit data'!J:J,data_tracking[[#This Row],[week]]))","v":1709.6518229166672},{"$f":"IF(SUMIFS('2015 sah unit data'!D:D,'2015 sah unit data'!L:L,data_tracking[[#This Row],[year]],'2015 sah unit data'!K:K,data_tracking[[#This Row],[month]],'2015 sah unit data'!J:J,data_tracking[[#This Row],[week]])=0,\"\",SUMIFS('2015 sah unit data'!D:D,'2015 sah unit data'!L:L,data_tracking[[#This Row],[year]],'2015 sah unit data'!K:K,data_tracking[[#This Row],[month]],'2015 sah unit data'!J:J,data_tracking[[#This Row],[week]]))","v":""},{"$f":"IF(SUMIFS('2015 sah unit data'!E:E,'2015 sah unit data'!L:L,data_tracking[[#This Row],[year]],'2015 sah unit data'!K:K,data_tracking[[#This Row],[month]],'2015 sah unit data'!J:J,data_tracking[[#This Row],[week]])=0,\"\",SUMIFS('2015 sah unit data'!E:E,'2015 sah unit data'!L:L,data_tracking[[#This Row],[year]],'2015 sah unit data'!K:K,data_tracking[[#This Row],[month]],'2015 sah unit data'!J:J,data_tracking[[#This Row],[week]]))","v":3210},{"$f":"IF(SUMIFS('2015 sah unit data'!F:F,'2015 sah unit data'!L:L,data_tracking[[#This Row],[year]],'2015 sah unit data'!K:K,data_tracking[[#This Row],[month]],'2015 sah unit data'!J:J,data_tracking[[#This Row],[week]])=0,\"\",SUMIFS('2015 sah unit data'!F:F,'2015 sah unit data'!L:L,data_tracking[[#This Row],[year]],'2015 sah unit data'!K:K,data_tracking[[#This Row],[month]],'2015 sah unit data'!J:J,data_tracking[[#This Row],[week]]))","v":2267},{"$f":"IF(SUMIFS('2015 sah unit data'!G:G,'2015 sah unit data'!L:L,data_tracking[[#This Row],[year]],'2015 sah unit data'!K:K,data_tracking[[#This Row],[month]],'2015 sah unit data'!J:J,data_tracking[[#This Row],[week]])=0,\"\",SUMIFS('2015 sah unit data'!G:G,'2015 sah unit data'!L:L,data_tracking[[#This Row],[year]],'2015 sah unit data'!K:K,data_tracking[[#This Row],[month]],'2015 sah unit data'!J:J,data_tracking[[#This Row],[week]]))","v":""},{"$f":"SUMIFS('2015 sah unit data'!I:I,'2015 sah unit data'!L:L,data_tracking[[#This Row],[year]],'2015 sah unit data'!K:K,data_tracking[[#This Row],[month]],'2015 sah unit data'!J:J,data_tracking[[#This Row],[week]])","v":20},{"$f":"SUMIFS('overhead costs data'!E:E,'overhead costs data'!C:C,data_tracking[[#This Row],[year]],'overhead costs data'!B:B,data_tracking[[#This Row],[month]])","v":70330.300000000017}]
[40,9,2015,36.520000000000003,20.04,{"$f":"IFERROR((data_tracking[[#This Row],[overhead]]+SUMIFS('labor costs data'!H:H,'labor costs data'!D:D,data_tracking[[#This Row],[year]],'labor costs data'!A:A,data_tracking[[#This Row],[week]]))/data_tracking[[#This Row],[SAH Completed (Total)]],\"\")","v":58.148059150259456},{"$f":"IFERROR(SUMIFS('labor costs data'!E:E,'labor costs data'!D:D,data_tracking[[#This Row],[year]],'labor costs data'!A:A,data_tracking[[#This Row],[week]])/data_tracking[[#This Row],[SAH Completed (Total)]],\"\")","v":25.739506846085096},{"$f":"IFERROR((data_tracking[[#This Row],[overhead]]+SUMIFS(labor_costs[total labor cost],labor_costs[year],data_tracking[[#This Row],[year]],labor_costs[week],data_tracking[[#This Row],[week]]))/data_tracking[[#This Row],[Units Completed (Total)]],\"\")","v":55.659938013511059},{"$f":"IF(SUM(data_tracking[[#This Row],[111-FILSN1 SAH]],data_tracking[[#This Row],[112-FILSN2 SAH]],data_tracking[[#This Row],[113-FILSN3 SAH]])=0,\"\",SUM(data_tracking[[#This Row],[111-FILSN1 SAH]],data_tracking[[#This Row],[112-FILSN2 SAH]],data_tracking[[#This Row],[113-FILSN3 SAH]]))","v":5242.6424020833347},{"$f":"IF(SUM(data_tracking[[#This Row],[111-FILSN1 Units]],data_tracking[[#This Row],[112-FILSN2 Units]],data_tracking[[#This Row],[113-FILSN3 Units]])=0,\"\",SUM(data_tracking[[#This Row],[111-FILSN1 Units]],data_tracking[[#This Row],[112-FILSN2 Units]],data_tracking[[#This Row],[113-FILSN3 Units]]))","v":5477},{"$f":"IF(SUMIFS('2015 sah unit data'!B:B,'2015 sah unit data'!L:L,data_tracking[[#This Row],[year]],'2015 sah unit data'!K:K,data_tracking[[#This Row],[month]],'2015 sah unit data'!J:J,data_tracking[[#This Row],[week]])=0,\"\",SUMIFS('2015 sah unit data'!B:B,'2015 sah unit data'!L:L,data_tracking[[#This Row],[year]],'2015 sah unit data'!K:K,data_tracking[[#This Row],[month]],'2015 sah unit data'!J:J,data_tracking[[#This Row],[week]]))","v":3532.9905791666674},{"$f":"IF(SUMIFS('2015 sah unit data'!C:C,'2015 sah unit data'!L:L,data_tracking[[#This Row],[year]],'2015 sah unit data'!K:K,data_tracking[[#This Row],[month]],'2015 sah unit data'!J:J,data_tracking[[#This Row],[week]])=0,\"\",SUMIFS('2015 sah unit data'!C:C,'2015 sah unit data'!L:L,data_tracking[[#This Row],[year]],'2015 sah unit data'!K:K,data_tracking[[#This Row],[month]],'2015 sah unit data'!J:J,data_tracking[[#This Row],[week]]))","v":1709.6518229166672},{"$f":"IF(SUMIFS('2015 sah unit data'!D:D,'2015 sah unit data'!L:L,data_tracking[[#This Row],[year]],'2015 sah unit data'!K:K,data_tracking[[#This Row],[month]],'2015 sah unit data'!J:J,data_tracking[[#This Row],[week]])=0,\"\",SUMIFS('2015 sah unit data'!D:D,'2015 sah unit data'!L:L,data_tracking[[#This Row],[year]],'2015 sah unit data'!K:K,data_tracking[[#This Row],[month]],'2015 sah unit data'!J:J,data_tracking[[#This Row],[week]]))","v":""},{"$f":"IF(SUMIFS('2015 sah unit data'!E:E,'2015 sah unit data'!L:L,data_tracking[[#This Row],[year]],'2015 sah unit data'!K:K,data_tracking[[#This Row],[month]],'2015 sah unit data'!J:J,data_tracking[[#This Row],[week]])=0,\"\",SUMIFS('2015 sah unit data'!E:E,'2015 sah unit data'!L:L,data_tracking[[#This Row],[year]],'2015 sah unit data'!K:K,data_tracking[[#This Row],[month]],'2015 sah unit data'!J:J,data_tracking[[#This Row],[week]]))","v":3210},{"$f":"IF(SUMIFS('2015 sah unit data'!F:F,'2015 sah unit data'!L:L,data_tracking[[#This Row],[year]],'2015 sah unit data'!K:K,data_tracking[[#This Row],[month]],'2015 sah unit data'!J:J,data_tracking[[#This Row],[week]])=0,\"\",SUMIFS('2015 sah unit data'!F:F,'2015 sah unit data'!L:L,data_tracking[[#This Row],[year]],'2015 sah unit data'!K:K,data_tracking[[#This Row],[month]],'2015 sah unit data'!J:J,data_tracking[[#This Row],[week]]))","v":2267},{"$f":"IF(SUMIFS('2015 sah unit data'!G:G,'2015 sah unit data'!L:L,data_tracking[[#This Row],[year]],'2015 sah unit data'!K:K,data_tracking[[#This Row],[month]],'2015 sah unit data'!J:J,data_tracking[[#This Row],[week]])=0,\"\",SUMIFS('2015 sah unit data'!G:G,'2015 sah unit data'!L:L,data_tracking[[#This Row],[year]],'2015 sah unit data'!K:K,data_tracking[[#This Row],[month]],'2015 sah unit data'!J:J,data_tracking[[#This Row],[week]]))","v":""},{"$f":"SUMIFS('2015 sah unit data'!I:I,'2015 sah unit data'!L:L,data_tracking[[#This Row],[year]],'2015 sah unit data'!K:K,data_tracking[[#This Row],[month]],'2015 sah unit data'!J:J,data_tracking[[#This Row],[week]])","v":20},{"$f":"SUMIFS('overhead costs data'!E:E,'overhead costs data'!C:C,data_tracking[[#This Row],[year]],'overhead costs data'!B:B,data_tracking[[#This Row],[month]])","v":70330.300000000017}]
[41,10,2015,36.520000000000003,20.04,{"$f":"IFERROR((data_tracking[[#This Row],[overhead]]+SUMIFS('labor costs data'!H:H,'labor costs data'!D:D,data_tracking[[#This Row],[year]],'labor costs data'!A:A,data_tracking[[#This Row],[week]]))/data_tracking[[#This Row],[SAH Completed (Total)]],\"\")","v":49.326256055747848},{"$f":"IFERROR(SUMIFS('labor costs data'!E:E,'labor costs data'!D:D,data_tracking[[#This Row],[year]],'labor costs data'!A:A,data_tracking[[#This Row],[week]])/data_tracking[[#This Row],[SAH Completed (Total)]],\"\")","v":21.124906142988387},{"$f":"IFERROR((data_tracking[[#This Row],[overhead]]+SUMIFS(labor_costs[total labor cost],labor_costs[year],data_tracking[[#This Row],[year]],labor_costs[week],data_tracking[[#This Row],[week]]))/data_tracking[[#This Row],[Units Completed (Total)]],\"\")","v":49.023299039098745},{"$f":"IF(SUM(data_tracking[[#This Row],[111-FILSN1 SAH]],data_tracking[[#This Row],[112-FILSN2 SAH]],data_tracking[[#This Row],[113-FILSN3 SAH]])=0,\"\",SUM(data_tracking[[#This Row],[111-FILSN1 SAH]],data_tracking[[#This Row],[112-FILSN2 SAH]],data_tracking[[#This Row],[113-FILSN3 SAH]]))","v":5998.9274812500007},{"$f":"IF(SUM(data_tracking[[#This Row],[111-FILSN1 Units]],data_tracking[[#This Row],[112-FILSN2 Units]],data_tracking[[#This Row],[113-FILSN3 Units]])=0,\"\",SUM(data_tracking[[#This Row],[111-FILSN1 Units]],data_tracking[[#This Row],[112-FILSN2 Units]],data_tracking[[#This Row],[113-FILSN3 Units]]))","v":6036},{"$f":"IF(SUMIFS('2015 sah unit data'!B:B,'2015 sah unit data'!L:L,data_tracking[[#This Row],[year]],'2015 sah unit data'!K:K,data_tracking[[#This Row],[month]],'2015 sah unit data'!J:J,data_tracking[[#This Row],[week]])=0,\"\",SUMIFS('2015 sah unit data'!B:B,'2015 sah unit data'!L:L,data_tracking[[#This Row],[year]],'2015 sah unit data'!K:K,data_tracking[[#This Row],[month]],'2015 sah unit data'!J:J,data_tracking[[#This Row],[week]]))","v":3302.0964645833355},{"$f":"IF(SUMIFS('2015 sah unit data'!C:C,'2015 sah unit data'!L:L,data_tracking[[#This Row],[year]],'2015 sah unit data'!K:K,data_tracking[[#This Row],[month]],'2015 sah unit data'!J:J,data_tracking[[#This Row],[week]])=0,\"\",SUMIFS('2015 sah unit data'!C:C,'2015 sah unit data'!L:L,data_tracking[[#This Row],[year]],'2015 sah unit data'!K:K,data_tracking[[#This Row],[month]],'2015 sah unit data'!J:J,data_tracking[[#This Row],[week]]))","v":2332.8310166666656},{"$f":"IF(SUMIFS('2015 sah unit data'!D:D,'2015 sah unit data'!L:L,data_tracking[[#This Row],[year]],'2015 sah unit data'!K:K,data_tracking[[#This Row],[month]],'2015 sah unit data'!J:J,data_tracking[[#This Row],[week]])=0,\"\",SUMIFS('2015 sah unit data'!D:D,'2015 sah unit data'!L:L,data_tracking[[#This Row],[year]],'2015 sah unit data'!K:K,data_tracking[[#This Row],[month]],'2015 sah unit data'!J:J,data_tracking[[#This Row],[week]]))","v":364},{"$f":"IF(SUMIFS('2015 sah unit data'!E:E,'2015 sah unit data'!L:L,data_tracking[[#This Row],[year]],'2015 sah unit data'!K:K,data_tracking[[#This Row],[month]],'2015 sah unit data'!J:J,data_tracking[[#This Row],[week]])=0,\"\",SUMIFS('2015 sah unit data'!E:E,'2015 sah unit data'!L:L,data_tracking[[#This Row],[year]],'2015 sah unit data'!K:K,data_tracking[[#This Row],[month]],'2015 sah unit data'!J:J,data_tracking[[#This Row],[week]]))","v":3076},{"$f":"IF(SUMIFS('2015 sah unit data'!F:F,'2015 sah unit data'!L:L,data_tracking[[#This Row],[year]],'2015 sah unit data'!K:K,data_tracking[[#This Row],[month]],'2015 sah unit data'!J:J,data_tracking[[#This Row],[week]])=0,\"\",SUMIFS('2015 sah unit data'!F:F,'2015 sah unit data'!L:L,data_tracking[[#This Row],[year]],'2015 sah unit data'!K:K,data_tracking[[#This Row],[month]],'2015 sah unit data'!J:J,data_tracking[[#This Row],[week]]))","v":2596},{"$f":"IF(SUMIFS('2015 sah unit data'!G:G,'2015 sah unit data'!L:L,data_tracking[[#This Row],[year]],'2015 sah unit data'!K:K,data_tracking[[#This Row],[month]],'2015 sah unit data'!J:J,data_tracking[[#This Row],[week]])=0,\"\",SUMIFS('2015 sah unit data'!G:G,'2015 sah unit data'!L:L,data_tracking[[#This Row],[year]],'2015 sah unit data'!K:K,data_tracking[[#This Row],[month]],'2015 sah unit data'!J:J,data_tracking[[#This Row],[week]]))","v":364},{"$f":"SUMIFS('2015 sah unit data'!I:I,'2015 sah unit data'!L:L,data_tracking[[#This Row],[year]],'2015 sah unit data'!K:K,data_tracking[[#This Row],[month]],'2015 sah unit data'!J:J,data_tracking[[#This Row],[week]])","v":18},{"$f":"SUMIFS('overhead costs data'!E:E,'overhead costs data'!C:C,data_tracking[[#This Row],[year]],'overhead costs data'!B:B,data_tracking[[#This Row],[month]])","v":69086.69}]
[42,10,2015,36.520000000000003,20.04,{"$f":"IFERROR((data_tracking[[#This Row],[overhead]]+SUMIFS('labor costs data'!H:H,'labor costs data'!D:D,data_tracking[[#This Row],[year]],'labor costs data'!A:A,data_tracking[[#This Row],[week]]))/data_tracking[[#This Row],[SAH Completed (Total)]],\"\")","v":49.326256055747848},{"$f":"IFERROR(SUMIFS('labor costs data'!E:E,'labor costs data'!D:D,data_tracking[[#This Row],[year]],'labor costs data'!A:A,data_tracking[[#This Row],[week]])/data_tracking[[#This Row],[SAH Completed (Total)]],\"\")","v":21.124906142988387},{"$f":"IFERROR((data_tracking[[#This Row],[overhead]]+SUMIFS(labor_costs[total labor cost],labor_costs[year],data_tracking[[#This Row],[year]],labor_costs[week],data_tracking[[#This Row],[week]]))/data_tracking[[#This Row],[Units Completed (Total)]],\"\")","v":49.023299039098745},{"$f":"IF(SUM(data_tracking[[#This Row],[111-FILSN1 SAH]],data_tracking[[#This Row],[112-FILSN2 SAH]],data_tracking[[#This Row],[113-FILSN3 SAH]])=0,\"\",SUM(data_tracking[[#This Row],[111-FILSN1 SAH]],data_tracking[[#This Row],[112-FILSN2 SAH]],data_tracking[[#This Row],[113-FILSN3 SAH]]))","v":5998.9274812500007},{"$f":"IF(SUM(data_tracking[[#This Row],[111-FILSN1 Units]],data_tracking[[#This Row],[112-FILSN2 Units]],data_tracking[[#This Row],[113-FILSN3 Units]])=0,\"\",SUM(data_tracking[[#This Row],[111-FILSN1 Units]],data_tracking[[#This Row],[112-FILSN2 Units]],data_tracking[[#This Row],[113-FILSN3 Units]]))","v":6036},{"$f":"IF(SUMIFS('2015 sah unit data'!B:B,'2015 sah unit data'!L:L,data_tracking[[#This Row],[year]],'2015 sah unit data'!K:K,data_tracking[[#This Row],[month]],'2015 sah unit data'!J:J,data_tracking[[#This Row],[week]])=0,\"\",SUMIFS('2015 sah unit data'!B:B,'2015 sah unit data'!L:L,data_tracking[[#This Row],[year]],'2015 sah unit data'!K:K,data_tracking[[#This Row],[month]],'2015 sah unit data'!J:J,data_tracking[[#This Row],[week]]))","v":3302.0964645833355},{"$f":"IF(SUMIFS('2015 sah unit data'!C:C,'2015 sah unit data'!L:L,data_tracking[[#This Row],[year]],'2015 sah unit data'!K:K,data_tracking[[#This Row],[month]],'2015 sah unit data'!J:J,data_tracking[[#This Row],[week]])=0,\"\",SUMIFS('2015 sah unit data'!C:C,'2015 sah unit data'!L:L,data_tracking[[#This Row],[year]],'2015 sah unit data'!K:K,data_tracking[[#This Row],[month]],'2015 sah unit data'!J:J,data_tracking[[#This Row],[week]]))","v":2332.8310166666656},{"$f":"IF(SUMIFS('2015 sah unit data'!D:D,'2015 sah unit data'!L:L,data_tracking[[#This Row],[year]],'2015 sah unit data'!K:K,data_tracking[[#This Row],[month]],'2015 sah unit data'!J:J,data_tracking[[#This Row],[week]])=0,\"\",SUMIFS('2015 sah unit data'!D:D,'2015 sah unit data'!L:L,data_tracking[[#This Row],[year]],'2015 sah unit data'!K:K,data_tracking[[#This Row],[month]],'2015 sah unit data'!J:J,data_tracking[[#This Row],[week]]))","v":364},{"$f":"IF(SUMIFS('2015 sah unit data'!E:E,'2015 sah unit data'!L:L,data_tracking[[#This Row],[year]],'2015 sah unit data'!K:K,data_tracking[[#This Row],[month]],'2015 sah unit data'!J:J,data_tracking[[#This Row],[week]])=0,\"\",SUMIFS('2015 sah unit data'!E:E,'2015 sah unit data'!L:L,data_tracking[[#This Row],[year]],'2015 sah unit data'!K:K,data_tracking[[#This Row],[month]],'2015 sah unit data'!J:J,data_tracking[[#This Row],[week]]))","v":3076},{"$f":"IF(SUMIFS('2015 sah unit data'!F:F,'2015 sah unit data'!L:L,data_tracking[[#This Row],[year]],'2015 sah unit data'!K:K,data_tracking[[#This Row],[month]],'2015 sah unit data'!J:J,data_tracking[[#This Row],[week]])=0,\"\",SUMIFS('2015 sah unit data'!F:F,'2015 sah unit data'!L:L,data_tracking[[#This Row],[year]],'2015 sah unit data'!K:K,data_tracking[[#This Row],[month]],'2015 sah unit data'!J:J,data_tracking[[#This Row],[week]]))","v":2596},{"$f":"IF(SUMIFS('2015 sah unit data'!G:G,'2015 sah unit data'!L:L,data_tracking[[#This Row],[year]],'2015 sah unit data'!K:K,data_tracking[[#This Row],[month]],'2015 sah unit data'!J:J,data_tracking[[#This Row],[week]])=0,\"\",SUMIFS('2015 sah unit data'!G:G,'2015 sah unit data'!L:L,data_tracking[[#This Row],[year]],'2015 sah unit data'!K:K,data_tracking[[#This Row],[month]],'2015 sah unit data'!J:J,data_tracking[[#This Row],[week]]))","v":364},{"$f":"SUMIFS('2015 sah unit data'!I:I,'2015 sah unit data'!L:L,data_tracking[[#This Row],[year]],'2015 sah unit data'!K:K,data_tracking[[#This Row],[month]],'2015 sah unit data'!J:J,data_tracking[[#This Row],[week]])","v":18},{"$f":"SUMIFS('overhead costs data'!E:E,'overhead costs data'!C:C,data_tracking[[#This Row],[year]],'overhead costs data'!B:B,data_tracking[[#This Row],[month]])","v":69086.69}]
[43,10,2015,36.520000000000003,20.04,{"$f":"IFERROR((data_tracking[[#This Row],[overhead]]+SUMIFS('labor costs data'!H:H,'labor costs data'!D:D,data_tracking[[#This Row],[year]],'labor costs data'!A:A,data_tracking[[#This Row],[week]]))/data_tracking[[#This Row],[SAH Completed (Total)]],\"\")","v":47.324093412918671},{"$f":"IFERROR(SUMIFS('labor costs data'!E:E,'labor costs data'!D:D,data_tracking[[#This Row],[year]],'labor costs data'!A:A,data_tracking[[#This Row],[week]])/data_tracking[[#This Row],[SAH Completed (Total)]],\"\")","v":20.124403133282165},{"$f":"IFERROR((data_tracking[[#This Row],[overhead]]+SUMIFS(labor_costs[total labor cost],labor_costs[year],data_tracking[[#This Row],[year]],labor_costs[week],data_tracking[[#This Row],[week]]))/data_tracking[[#This Row],[Units Completed (Total)]],\"\")","v":47.033433482438696},{"$f":"IF(SUM(data_tracking[[#This Row],[111-FILSN1 SAH]],data_tracking[[#This Row],[112-FILSN2 SAH]],data_tracking[[#This Row],[113-FILSN3 SAH]])=0,\"\",SUM(data_tracking[[#This Row],[111-FILSN1 SAH]],data_tracking[[#This Row],[112-FILSN2 SAH]],data_tracking[[#This Row],[113-FILSN3 SAH]]))","v":5998.9274812500007},{"$f":"IF(SUM(data_tracking[[#This Row],[111-FILSN1 Units]],data_tracking[[#This Row],[112-FILSN2 Units]],data_tracking[[#This Row],[113-FILSN3 Units]])=0,\"\",SUM(data_tracking[[#This Row],[111-FILSN1 Units]],data_tracking[[#This Row],[112-FILSN2 Units]],data_tracking[[#This Row],[113-FILSN3 Units]]))","v":6036},{"$f":"IF(SUMIFS('2015 sah unit data'!B:B,'2015 sah unit data'!L:L,data_tracking[[#This Row],[year]],'2015 sah unit data'!K:K,data_tracking[[#This Row],[month]],'2015 sah unit data'!J:J,data_tracking[[#This Row],[week]])=0,\"\",SUMIFS('2015 sah unit data'!B:B,'2015 sah unit data'!L:L,data_tracking[[#This Row],[year]],'2015 sah unit data'!K:K,data_tracking[[#This Row],[month]],'2015 sah unit data'!J:J,data_tracking[[#This Row],[week]]))","v":3302.0964645833355},{"$f":"IF(SUMIFS('2015 sah unit data'!C:C,'2015 sah unit data'!L:L,data_tracking[[#This Row],[year]],'2015 sah unit data'!K:K,data_tracking[[#This Row],[month]],'2015 sah unit data'!J:J,data_tracking[[#This Row],[week]])=0,\"\",SUMIFS('2015 sah unit data'!C:C,'2015 sah unit data'!L:L,data_tracking[[#This Row],[year]],'2015 sah unit data'!K:K,data_tracking[[#This Row],[month]],'2015 sah unit data'!J:J,data_tracking[[#This Row],[week]]))","v":2332.8310166666656},{"$f":"IF(SUMIFS('2015 sah unit data'!D:D,'2015 sah unit data'!L:L,data_tracking[[#This Row],[year]],'2015 sah unit data'!K:K,data_tracking[[#This Row],[month]],'2015 sah unit data'!J:J,data_tracking[[#This Row],[week]])=0,\"\",SUMIFS('2015 sah unit data'!D:D,'2015 sah unit data'!L:L,data_tracking[[#This Row],[year]],'2015 sah unit data'!K:K,data_tracking[[#This Row],[month]],'2015 sah unit data'!J:J,data_tracking[[#This Row],[week]]))","v":364},{"$f":"IF(SUMIFS('2015 sah unit data'!E:E,'2015 sah unit data'!L:L,data_tracking[[#This Row],[year]],'2015 sah unit data'!K:K,data_tracking[[#This Row],[month]],'2015 sah unit data'!J:J,data_tracking[[#This Row],[week]])=0,\"\",SUMIFS('2015 sah unit data'!E:E,'2015 sah unit data'!L:L,data_tracking[[#This Row],[year]],'2015 sah unit data'!K:K,data_tracking[[#This Row],[month]],'2015 sah unit data'!J:J,data_tracking[[#This Row],[week]]))","v":3076},{"$f":"IF(SUMIFS('2015 sah unit data'!F:F,'2015 sah unit data'!L:L,data_tracking[[#This Row],[year]],'2015 sah unit data'!K:K,data_tracking[[#This Row],[month]],'2015 sah unit data'!J:J,data_tracking[[#This Row],[week]])=0,\"\",SUMIFS('2015 sah unit data'!F:F,'2015 sah unit data'!L:L,data_tracking[[#This Row],[year]],'2015 sah unit data'!K:K,data_tracking[[#This Row],[month]],'2015 sah unit data'!J:J,data_tracking[[#This Row],[week]]))","v":2596},{"$f":"IF(SUMIFS('2015 sah unit data'!G:G,'2015 sah unit data'!L:L,data_tracking[[#This Row],[year]],'2015 sah unit data'!K:K,data_tracking[[#This Row],[month]],'2015 sah unit data'!J:J,data_tracking[[#This Row],[week]])=0,\"\",SUMIFS('2015 sah unit data'!G:G,'2015 sah unit data'!L:L,data_tracking[[#This Row],[year]],'2015 sah unit data'!K:K,data_tracking[[#This Row],[month]],'2015 sah unit data'!J:J,data_tracking[[#This Row],[week]]))","v":364},{"$f":"SUMIFS('2015 sah unit data'!I:I,'2015 sah unit data'!L:L,data_tracking[[#This Row],[year]],'2015 sah unit data'!K:K,data_tracking[[#This Row],[month]],'2015 sah unit data'!J:J,data_tracking[[#This Row],[week]])","v":18},{"$f":"SUMIFS('overhead costs data'!E:E,'overhead costs data'!C:C,data_tracking[[#This Row],[year]],'overhead costs data'!B:B,data_tracking[[#This Row],[month]])","v":69086.69}]
[44,10,2015,36.520000000000003,20.04,{"$f":"IFERROR((data_tracking[[#This Row],[overhead]]+SUMIFS('labor costs data'!H:H,'labor costs data'!D:D,data_tracking[[#This Row],[year]],'labor costs data'!A:A,data_tracking[[#This Row],[week]]))/data_tracking[[#This Row],[SAH Completed (Total)]],\"\")","v":47.324093412918671},{"$f":"IFERROR(SUMIFS('labor costs data'!E:E,'labor costs data'!D:D,data_tracking[[#This Row],[year]],'labor costs data'!A:A,data_tracking[[#This Row],[week]])/data_tracking[[#This Row],[SAH Completed (Total)]],\"\")","v":20.124403133282165},{"$f":"IFERROR((data_tracking[[#This Row],[overhead]]+SUMIFS(labor_costs[total labor cost],labor_costs[year],data_tracking[[#This Row],[year]],labor_costs[week],data_tracking[[#This Row],[week]]))/data_tracking[[#This Row],[Units Completed (Total)]],\"\")","v":47.033433482438696},{"$f":"IF(SUM(data_tracking[[#This Row],[111-FILSN1 SAH]],data_tracking[[#This Row],[112-FILSN2 SAH]],data_tracking[[#This Row],[113-FILSN3 SAH]])=0,\"\",SUM(data_tracking[[#This Row],[111-FILSN1 SAH]],data_tracking[[#This Row],[112-FILSN2 SAH]],data_tracking[[#This Row],[113-FILSN3 SAH]]))","v":5998.9274812500007},{"$f":"IF(SUM(data_tracking[[#This Row],[111-FILSN1 Units]],data_tracking[[#This Row],[112-FILSN2 Units]],data_tracking[[#This Row],[113-FILSN3 Units]])=0,\"\",SUM(data_tracking[[#This Row],[111-FILSN1 Units]],data_tracking[[#This Row],[112-FILSN2 Units]],data_tracking[[#This Row],[113-FILSN3 Units]]))","v":6036},{"$f":"IF(SUMIFS('2015 sah unit data'!B:B,'2015 sah unit data'!L:L,data_tracking[[#This Row],[year]],'2015 sah unit data'!K:K,data_tracking[[#This Row],[month]],'2015 sah unit data'!J:J,data_tracking[[#This Row],[week]])=0,\"\",SUMIFS('2015 sah unit data'!B:B,'2015 sah unit data'!L:L,data_tracking[[#This Row],[year]],'2015 sah unit data'!K:K,data_tracking[[#This Row],[month]],'2015 sah unit data'!J:J,data_tracking[[#This Row],[week]]))","v":3302.0964645833355},{"$f":"IF(SUMIFS('2015 sah unit data'!C:C,'2015 sah unit data'!L:L,data_tracking[[#This Row],[year]],'2015 sah unit data'!K:K,data_tracking[[#This Row],[month]],'2015 sah unit data'!J:J,data_tracking[[#This Row],[week]])=0,\"\",SUMIFS('2015 sah unit data'!C:C,'2015 sah unit data'!L:L,data_tracking[[#This Row],[year]],'2015 sah unit data'!K:K,data_tracking[[#This Row],[month]],'2015 sah unit data'!J:J,data_tracking[[#This Row],[week]]))","v":2332.8310166666656},{"$f":"IF(SUMIFS('2015 sah unit data'!D:D,'2015 sah unit data'!L:L,data_tracking[[#This Row],[year]],'2015 sah unit data'!K:K,data_tracking[[#This Row],[month]],'2015 sah unit data'!J:J,data_tracking[[#This Row],[week]])=0,\"\",SUMIFS('2015 sah unit data'!D:D,'2015 sah unit data'!L:L,data_tracking[[#This Row],[year]],'2015 sah unit data'!K:K,data_tracking[[#This Row],[month]],'2015 sah unit data'!J:J,data_tracking[[#This Row],[week]]))","v":364},{"$f":"IF(SUMIFS('2015 sah unit data'!E:E,'2015 sah unit data'!L:L,data_tracking[[#This Row],[year]],'2015 sah unit data'!K:K,data_tracking[[#This Row],[month]],'2015 sah unit data'!J:J,data_tracking[[#This Row],[week]])=0,\"\",SUMIFS('2015 sah unit data'!E:E,'2015 sah unit data'!L:L,data_tracking[[#This Row],[year]],'2015 sah unit data'!K:K,data_tracking[[#This Row],[month]],'2015 sah unit data'!J:J,data_tracking[[#This Row],[week]]))","v":3076},{"$f":"IF(SUMIFS('2015 sah unit data'!F:F,'2015 sah unit data'!L:L,data_tracking[[#This Row],[year]],'2015 sah unit data'!K:K,data_tracking[[#This Row],[month]],'2015 sah unit data'!J:J,data_tracking[[#This Row],[week]])=0,\"\",SUMIFS('2015 sah unit data'!F:F,'2015 sah unit data'!L:L,data_tracking[[#This Row],[year]],'2015 sah unit data'!K:K,data_tracking[[#This Row],[month]],'2015 sah unit data'!J:J,data_tracking[[#This Row],[week]]))","v":2596},{"$f":"IF(SUMIFS('2015 sah unit data'!G:G,'2015 sah unit data'!L:L,data_tracking[[#This Row],[year]],'2015 sah unit data'!K:K,data_tracking[[#This Row],[month]],'2015 sah unit data'!J:J,data_tracking[[#This Row],[week]])=0,\"\",SUMIFS('2015 sah unit data'!G:G,'2015 sah unit data'!L:L,data_tracking[[#This Row],[year]],'2015 sah unit data'!K:K,data_tracking[[#This Row],[month]],'2015 sah unit data'!J:J,data_tracking[[#This Row],[week]]))","v":364},{"$f":"SUMIFS('2015 sah unit data'!I:I,'2015 sah unit data'!L:L,data_tracking[[#This Row],[year]],'2015 sah unit data'!K:K,data_tracking[[#This Row],[month]],'2015 sah unit data'!J:J,data_tracking[[#This Row],[week]])","v":18},{"$f":"SUMIFS('overhead costs data'!E:E,'overhead costs data'!C:C,data_tracking[[#This Row],[year]],'overhead costs data'!B:B,data_tracking[[#This Row],[month]])","v":69086.69}]
[45,11,2015,36.520000000000003,20.04,{"$f":"IFERROR((data_tracking[[#This Row],[overhead]]+SUMIFS('labor costs data'!H:H,'labor costs data'!D:D,data_tracking[[#This Row],[year]],'labor costs data'!A:A,data_tracking[[#This Row],[week]]))/data_tracking[[#This Row],[SAH Completed (Total)]],\"\")","v":54.82431443061521},{"$f":"IFERROR(SUMIFS('labor costs data'!E:E,'labor costs data'!D:D,data_tracking[[#This Row],[year]],'labor costs data'!A:A,data_tracking[[#This Row],[week]])/data_tracking[[#This Row],[SAH Completed (Total)]],\"\")","v":20.124300763001962},{"$f":"IFERROR((data_tracking[[#This Row],[overhead]]+SUMIFS(labor_costs[total labor cost],labor_costs[year],data_tracking[[#This Row],[year]],labor_costs[week],data_tracking[[#This Row],[week]]))/data_tracking[[#This Row],[Units Completed (Total)]],\"\")","v":65.217615355521929},{"$f":"IF(SUM(data_tracking[[#This Row],[111-FILSN1 SAH]],data_tracking[[#This Row],[112-FILSN2 SAH]],data_tracking[[#This Row],[113-FILSN3 SAH]])=0,\"\",SUM(data_tracking[[#This Row],[111-FILSN1 SAH]],data_tracking[[#This Row],[112-FILSN2 SAH]],data_tracking[[#This Row],[113-FILSN3 SAH]]))","v":4717.853112916664},{"$f":"IF(SUM(data_tracking[[#This Row],[111-FILSN1 Units]],data_tracking[[#This Row],[112-FILSN2 Units]],data_tracking[[#This Row],[113-FILSN3 Units]])=0,\"\",SUM(data_tracking[[#This Row],[111-FILSN1 Units]],data_tracking[[#This Row],[112-FILSN2 Units]],data_tracking[[#This Row],[113-FILSN3 Units]]))","v":3966},{"$f":"IF(SUMIFS('2015 sah unit data'!B:B,'2015 sah unit data'!L:L,data_tracking[[#This Row],[year]],'2015 sah unit data'!K:K,data_tracking[[#This Row],[month]],'2015 sah unit data'!J:J,data_tracking[[#This Row],[week]])=0,\"\",SUMIFS('2015 sah unit data'!B:B,'2015 sah unit data'!L:L,data_tracking[[#This Row],[year]],'2015 sah unit data'!K:K,data_tracking[[#This Row],[month]],'2015 sah unit data'!J:J,data_tracking[[#This Row],[week]]))","v":2433.1029820833323},{"$f":"IF(SUMIFS('2015 sah unit data'!C:C,'2015 sah unit data'!L:L,data_tracking[[#This Row],[year]],'2015 sah unit data'!K:K,data_tracking[[#This Row],[month]],'2015 sah unit data'!J:J,data_tracking[[#This Row],[week]])=0,\"\",SUMIFS('2015 sah unit data'!C:C,'2015 sah unit data'!L:L,data_tracking[[#This Row],[year]],'2015 sah unit data'!K:K,data_tracking[[#This Row],[month]],'2015 sah unit data'!J:J,data_tracking[[#This Row],[week]]))","v":1633.7501308333315},{"$f":"IF(SUMIFS('2015 sah unit data'!D:D,'2015 sah unit data'!L:L,data_tracking[[#This Row],[year]],'2015 sah unit data'!K:K,data_tracking[[#This Row],[month]],'2015 sah unit data'!J:J,data_tracking[[#This Row],[week]])=0,\"\",SUMIFS('2015 sah unit data'!D:D,'2015 sah unit data'!L:L,data_tracking[[#This Row],[year]],'2015 sah unit data'!K:K,data_tracking[[#This Row],[month]],'2015 sah unit data'!J:J,data_tracking[[#This Row],[week]]))","v":651},{"$f":"IF(SUMIFS('2015 sah unit data'!E:E,'2015 sah unit data'!L:L,data_tracking[[#This Row],[year]],'2015 sah unit data'!K:K,data_tracking[[#This Row],[month]],'2015 sah unit data'!J:J,data_tracking[[#This Row],[week]])=0,\"\",SUMIFS('2015 sah unit data'!E:E,'2015 sah unit data'!L:L,data_tracking[[#This Row],[year]],'2015 sah unit data'!K:K,data_tracking[[#This Row],[month]],'2015 sah unit data'!J:J,data_tracking[[#This Row],[week]]))","v":1872},{"$f":"IF(SUMIFS('2015 sah unit data'!F:F,'2015 sah unit data'!L:L,data_tracking[[#This Row],[year]],'2015 sah unit data'!K:K,data_tracking[[#This Row],[month]],'2015 sah unit data'!J:J,data_tracking[[#This Row],[week]])=0,\"\",SUMIFS('2015 sah unit data'!F:F,'2015 sah unit data'!L:L,data_tracking[[#This Row],[year]],'2015 sah unit data'!K:K,data_tracking[[#This Row],[month]],'2015 sah unit data'!J:J,data_tracking[[#This Row],[week]]))","v":1443},{"$f":"IF(SUMIFS('2015 sah unit data'!G:G,'2015 sah unit data'!L:L,data_tracking[[#This Row],[year]],'2015 sah unit data'!K:K,data_tracking[[#This Row],[month]],'2015 sah unit data'!J:J,data_tracking[[#This Row],[week]])=0,\"\",SUMIFS('2015 sah unit data'!G:G,'2015 sah unit data'!L:L,data_tracking[[#This Row],[year]],'2015 sah unit data'!K:K,data_tracking[[#This Row],[month]],'2015 sah unit data'!J:J,data_tracking[[#This Row],[week]]))","v":651},{"$f":"SUMIFS('2015 sah unit data'!I:I,'2015 sah unit data'!L:L,data_tracking[[#This Row],[year]],'2015 sah unit data'!K:K,data_tracking[[#This Row],[month]],'2015 sah unit data'!J:J,data_tracking[[#This Row],[week]])","v":13},{"$f":"SUMIFS('overhead costs data'!E:E,'overhead costs data'!C:C,data_tracking[[#This Row],[year]],'overhead costs data'!B:B,data_tracking[[#This Row],[month]])","v":72217.307499999981}]
[46,11,2015,36.520000000000003,20.04,{"$f":"IFERROR((data_tracking[[#This Row],[overhead]]+SUMIFS('labor costs data'!H:H,'labor costs data'!D:D,data_tracking[[#This Row],[year]],'labor costs data'!A:A,data_tracking[[#This Row],[week]]))/data_tracking[[#This Row],[SAH Completed (Total)]],\"\")","v":54.82431443061521},{"$f":"IFERROR(SUMIFS('labor costs data'!E:E,'labor costs data'!D:D,data_tracking[[#This Row],[year]],'labor costs data'!A:A,data_tracking[[#This Row],[week]])/data_tracking[[#This Row],[SAH Completed (Total)]],\"\")","v":20.124300763001962},{"$f":"IFERROR((data_tracking[[#This Row],[overhead]]+SUMIFS(labor_costs[total labor cost],labor_costs[year],data_tracking[[#This Row],[year]],labor_costs[week],data_tracking[[#This Row],[week]]))/data_tracking[[#This Row],[Units Completed (Total)]],\"\")","v":65.217615355521929},{"$f":"IF(SUM(data_tracking[[#This Row],[111-FILSN1 SAH]],data_tracking[[#This Row],[112-FILSN2 SAH]],data_tracking[[#This Row],[113-FILSN3 SAH]])=0,\"\",SUM(data_tracking[[#This Row],[111-FILSN1 SAH]],data_tracking[[#This Row],[112-FILSN2 SAH]],data_tracking[[#This Row],[113-FILSN3 SAH]]))","v":4717.853112916664},{"$f":"IF(SUM(data_tracking[[#This Row],[111-FILSN1 Units]],data_tracking[[#This Row],[112-FILSN2 Units]],data_tracking[[#This Row],[113-FILSN3 Units]])=0,\"\",SUM(data_tracking[[#This Row],[111-FILSN1 Units]],data_tracking[[#This Row],[112-FILSN2 Units]],data_tracking[[#This Row],[113-FILSN3 Units]]))","v":3966},{"$f":"IF(SUMIFS('2015 sah unit data'!B:B,'2015 sah unit data'!L:L,data_tracking[[#This Row],[year]],'2015 sah unit data'!K:K,data_tracking[[#This Row],[month]],'2015 sah unit data'!J:J,data_tracking[[#This Row],[week]])=0,\"\",SUMIFS('2015 sah unit data'!B:B,'2015 sah unit data'!L:L,data_tracking[[#This Row],[year]],'2015 sah unit data'!K:K,data_tracking[[#This Row],[month]],'2015 sah unit data'!J:J,data_tracking[[#This Row],[week]]))","v":2433.1029820833323},{"$f":"IF(SUMIFS('2015 sah unit data'!C:C,'2015 sah unit data'!L:L,data_tracking[[#This Row],[year]],'2015 sah unit data'!K:K,data_tracking[[#This Row],[month]],'2015 sah unit data'!J:J,data_tracking[[#This Row],[week]])=0,\"\",SUMIFS('2015 sah unit data'!C:C,'2015 sah unit data'!L:L,data_tracking[[#This Row],[year]],'2015 sah unit data'!K:K,data_tracking[[#This Row],[month]],'2015 sah unit data'!J:J,data_tracking[[#This Row],[week]]))","v":1633.7501308333315},{"$f":"IF(SUMIFS('2015 sah unit data'!D:D,'2015 sah unit data'!L:L,data_tracking[[#This Row],[year]],'2015 sah unit data'!K:K,data_tracking[[#This Row],[month]],'2015 sah unit data'!J:J,data_tracking[[#This Row],[week]])=0,\"\",SUMIFS('2015 sah unit data'!D:D,'2015 sah unit data'!L:L,data_tracking[[#This Row],[year]],'2015 sah unit data'!K:K,data_tracking[[#This Row],[month]],'2015 sah unit data'!J:J,data_tracking[[#This Row],[week]]))","v":651},{"$f":"IF(SUMIFS('2015 sah unit data'!E:E,'2015 sah unit data'!L:L,data_tracking[[#This Row],[year]],'2015 sah unit data'!K:K,data_tracking[[#This Row],[month]],'2015 sah unit data'!J:J,data_tracking[[#This Row],[week]])=0,\"\",SUMIFS('2015 sah unit data'!E:E,'2015 sah unit data'!L:L,data_tracking[[#This Row],[year]],'2015 sah unit data'!K:K,data_tracking[[#This Row],[month]],'2015 sah unit data'!J:J,data_tracking[[#This Row],[week]]))","v":1872},{"$f":"IF(SUMIFS('2015 sah unit data'!F:F,'2015 sah unit data'!L:L,data_tracking[[#This Row],[year]],'2015 sah unit data'!K:K,data_tracking[[#This Row],[month]],'2015 sah unit data'!J:J,data_tracking[[#This Row],[week]])=0,\"\",SUMIFS('2015 sah unit data'!F:F,'2015 sah unit data'!L:L,data_tracking[[#This Row],[year]],'2015 sah unit data'!K:K,data_tracking[[#This Row],[month]],'2015 sah unit data'!J:J,data_tracking[[#This Row],[week]]))","v":1443},{"$f":"IF(SUMIFS('2015 sah unit data'!G:G,'2015 sah unit data'!L:L,data_tracking[[#This Row],[year]],'2015 sah unit data'!K:K,data_tracking[[#This Row],[month]],'2015 sah unit data'!J:J,data_tracking[[#This Row],[week]])=0,\"\",SUMIFS('2015 sah unit data'!G:G,'2015 sah unit data'!L:L,data_tracking[[#This Row],[year]],'2015 sah unit data'!K:K,data_tracking[[#This Row],[month]],'2015 sah unit data'!J:J,data_tracking[[#This Row],[week]]))","v":651},{"$f":"SUMIFS('2015 sah unit data'!I:I,'2015 sah unit data'!L:L,data_tracking[[#This Row],[year]],'2015 sah unit data'!K:K,data_tracking[[#This Row],[month]],'2015 sah unit data'!J:J,data_tracking[[#This Row],[week]])","v":13},{"$f":"SUMIFS('overhead costs data'!E:E,'overhead costs data'!C:C,data_tracking[[#This Row],[year]],'overhead costs data'!B:B,data_tracking[[#This Row],[month]])","v":72217.307499999981}]
[47,11,2015,36.520000000000003,20.04,{"$f":"IFERROR((data_tracking[[#This Row],[overhead]]+SUMIFS('labor costs data'!H:H,'labor costs data'!D:D,data_tracking[[#This Row],[year]],'labor costs data'!A:A,data_tracking[[#This Row],[week]]))/data_tracking[[#This Row],[SAH Completed (Total)]],\"\")","v":59.667845895687272},{"$f":"IFERROR(SUMIFS('labor costs data'!E:E,'labor costs data'!D:D,data_tracking[[#This Row],[year]],'labor costs data'!A:A,data_tracking[[#This Row],[week]])/data_tracking[[#This Row],[SAH Completed (Total)]],\"\")","v":23.661516653490576},{"$f":"IFERROR((data_tracking[[#This Row],[overhead]]+SUMIFS(labor_costs[total labor cost],labor_costs[year],data_tracking[[#This Row],[year]],labor_costs[week],data_tracking[[#This Row],[week]]))/data_tracking[[#This Row],[Units Completed (Total)]],\"\")","v":70.979357665153813},{"$f":"IF(SUM(data_tracking[[#This Row],[111-FILSN1 SAH]],data_tracking[[#This Row],[112-FILSN2 SAH]],data_tracking[[#This Row],[113-FILSN3 SAH]])=0,\"\",SUM(data_tracking[[#This Row],[111-FILSN1 SAH]],data_tracking[[#This Row],[112-FILSN2 SAH]],data_tracking[[#This Row],[113-FILSN3 SAH]]))","v":4717.853112916664},{"$f":"IF(SUM(data_tracking[[#This Row],[111-FILSN1 Units]],data_tracking[[#This Row],[112-FILSN2 Units]],data_tracking[[#This Row],[113-FILSN3 Units]])=0,\"\",SUM(data_tracking[[#This Row],[111-FILSN1 Units]],data_tracking[[#This Row],[112-FILSN2 Units]],data_tracking[[#This Row],[113-FILSN3 Units]]))","v":3966},{"$f":"IF(SUMIFS('2015 sah unit data'!B:B,'2015 sah unit data'!L:L,data_tracking[[#This Row],[year]],'2015 sah unit data'!K:K,data_tracking[[#This Row],[month]],'2015 sah unit data'!J:J,data_tracking[[#This Row],[week]])=0,\"\",SUMIFS('2015 sah unit data'!B:B,'2015 sah unit data'!L:L,data_tracking[[#This Row],[year]],'2015 sah unit data'!K:K,data_tracking[[#This Row],[month]],'2015 sah unit data'!J:J,data_tracking[[#This Row],[week]]))","v":2433.1029820833323},{"$f":"IF(SUMIFS('2015 sah unit data'!C:C,'2015 sah unit data'!L:L,data_tracking[[#This Row],[year]],'2015 sah unit data'!K:K,data_tracking[[#This Row],[month]],'2015 sah unit data'!J:J,data_tracking[[#This Row],[week]])=0,\"\",SUMIFS('2015 sah unit data'!C:C,'2015 sah unit data'!L:L,data_tracking[[#This Row],[year]],'2015 sah unit data'!K:K,data_tracking[[#This Row],[month]],'2015 sah unit data'!J:J,data_tracking[[#This Row],[week]]))","v":1633.7501308333315},{"$f":"IF(SUMIFS('2015 sah unit data'!D:D,'2015 sah unit data'!L:L,data_tracking[[#This Row],[year]],'2015 sah unit data'!K:K,data_tracking[[#This Row],[month]],'2015 sah unit data'!J:J,data_tracking[[#This Row],[week]])=0,\"\",SUMIFS('2015 sah unit data'!D:D,'2015 sah unit data'!L:L,data_tracking[[#This Row],[year]],'2015 sah unit data'!K:K,data_tracking[[#This Row],[month]],'2015 sah unit data'!J:J,data_tracking[[#This Row],[week]]))","v":651},{"$f":"IF(SUMIFS('2015 sah unit data'!E:E,'2015 sah unit data'!L:L,data_tracking[[#This Row],[year]],'2015 sah unit data'!K:K,data_tracking[[#This Row],[month]],'2015 sah unit data'!J:J,data_tracking[[#This Row],[week]])=0,\"\",SUMIFS('2015 sah unit data'!E:E,'2015 sah unit data'!L:L,data_tracking[[#This Row],[year]],'2015 sah unit data'!K:K,data_tracking[[#This Row],[month]],'2015 sah unit data'!J:J,data_tracking[[#This Row],[week]]))","v":1872},{"$f":"IF(SUMIFS('2015 sah unit data'!F:F,'2015 sah unit data'!L:L,data_tracking[[#This Row],[year]],'2015 sah unit data'!K:K,data_tracking[[#This Row],[month]],'2015 sah unit data'!J:J,data_tracking[[#This Row],[week]])=0,\"\",SUMIFS('2015 sah unit data'!F:F,'2015 sah unit data'!L:L,data_tracking[[#This Row],[year]],'2015 sah unit data'!K:K,data_tracking[[#This Row],[month]],'2015 sah unit data'!J:J,data_tracking[[#This Row],[week]]))","v":1443},{"$f":"IF(SUMIFS('2015 sah unit data'!G:G,'2015 sah unit data'!L:L,data_tracking[[#This Row],[year]],'2015 sah unit data'!K:K,data_tracking[[#This Row],[month]],'2015 sah unit data'!J:J,data_tracking[[#This Row],[week]])=0,\"\",SUMIFS('2015 sah unit data'!G:G,'2015 sah unit data'!L:L,data_tracking[[#This Row],[year]],'2015 sah unit data'!K:K,data_tracking[[#This Row],[month]],'2015 sah unit data'!J:J,data_tracking[[#This Row],[week]]))","v":651},{"$f":"SUMIFS('2015 sah unit data'!I:I,'2015 sah unit data'!L:L,data_tracking[[#This Row],[year]],'2015 sah unit data'!K:K,data_tracking[[#This Row],[month]],'2015 sah unit data'!J:J,data_tracking[[#This Row],[week]])","v":13},{"$f":"SUMIFS('overhead costs data'!E:E,'overhead costs data'!C:C,data_tracking[[#This Row],[year]],'overhead costs data'!B:B,data_tracking[[#This Row],[month]])","v":72217.307499999981}]
[48,11,2015,36.520000000000003,20.04,{"$f":"IFERROR((data_tracking[[#This Row],[overhead]]+SUMIFS('labor costs data'!H:H,'labor costs data'!D:D,data_tracking[[#This Row],[year]],'labor costs data'!A:A,data_tracking[[#This Row],[week]]))/data_tracking[[#This Row],[SAH Completed (Total)]],\"\")","v":59.667845895687272},{"$f":"IFERROR(SUMIFS('labor costs data'!E:E,'labor costs data'!D:D,data_tracking[[#This Row],[year]],'labor costs data'!A:A,data_tracking[[#This Row],[week]])/data_tracking[[#This Row],[SAH Completed (Total)]],\"\")","v":23.661516653490576},{"$f":"IFERROR((data_tracking[[#This Row],[overhead]]+SUMIFS(labor_costs[total labor cost],labor_costs[year],data_tracking[[#This Row],[year]],labor_costs[week],data_tracking[[#This Row],[week]]))/data_tracking[[#This Row],[Units Completed (Total)]],\"\")","v":70.979357665153813},{"$f":"IF(SUM(data_tracking[[#This Row],[111-FILSN1 SAH]],data_tracking[[#This Row],[112-FILSN2 SAH]],data_tracking[[#This Row],[113-FILSN3 SAH]])=0,\"\",SUM(data_tracking[[#This Row],[111-FILSN1 SAH]],data_tracking[[#This Row],[112-FILSN2 SAH]],data_tracking[[#This Row],[113-FILSN3 SAH]]))","v":4717.853112916664},{"$f":"IF(SUM(data_tracking[[#This Row],[111-FILSN1 Units]],data_tracking[[#This Row],[112-FILSN2 Units]],data_tracking[[#This Row],[113-FILSN3 Units]])=0,\"\",SUM(data_tracking[[#This Row],[111-FILSN1 Units]],data_tracking[[#This Row],[112-FILSN2 Units]],data_tracking[[#This Row],[113-FILSN3 Units]]))","v":3966},{"$f":"IF(SUMIFS('2015 sah unit data'!B:B,'2015 sah unit data'!L:L,data_tracking[[#This Row],[year]],'2015 sah unit data'!K:K,data_tracking[[#This Row],[month]],'2015 sah unit data'!J:J,data_tracking[[#This Row],[week]])=0,\"\",SUMIFS('2015 sah unit data'!B:B,'2015 sah unit data'!L:L,data_tracking[[#This Row],[year]],'2015 sah unit data'!K:K,data_tracking[[#This Row],[month]],'2015 sah unit data'!J:J,data_tracking[[#This Row],[week]]))","v":2433.1029820833323},{"$f":"IF(SUMIFS('2015 sah unit data'!C:C,'2015 sah unit data'!L:L,data_tracking[[#This Row],[year]],'2015 sah unit data'!K:K,data_tracking[[#This Row],[month]],'2015 sah unit data'!J:J,data_tracking[[#This Row],[week]])=0,\"\",SUMIFS('2015 sah unit data'!C:C,'2015 sah unit data'!L:L,data_tracking[[#This Row],[year]],'2015 sah unit data'!K:K,data_tracking[[#This Row],[month]],'2015 sah unit data'!J:J,data_tracking[[#This Row],[week]]))","v":1633.7501308333315},{"$f":"IF(SUMIFS('2015 sah unit data'!D:D,'2015 sah unit data'!L:L,data_tracking[[#This Row],[year]],'2015 sah unit data'!K:K,data_tracking[[#This Row],[month]],'2015 sah unit data'!J:J,data_tracking[[#This Row],[week]])=0,\"\",SUMIFS('2015 sah unit data'!D:D,'2015 sah unit data'!L:L,data_tracking[[#This Row],[year]],'2015 sah unit data'!K:K,data_tracking[[#This Row],[month]],'2015 sah unit data'!J:J,data_tracking[[#This Row],[week]]))","v":651},{"$f":"IF(SUMIFS('2015 sah unit data'!E:E,'2015 sah unit data'!L:L,data_tracking[[#This Row],[year]],'2015 sah unit data'!K:K,data_tracking[[#This Row],[month]],'2015 sah unit data'!J:J,data_tracking[[#This Row],[week]])=0,\"\",SUMIFS('2015 sah unit data'!E:E,'2015 sah unit data'!L:L,data_tracking[[#This Row],[year]],'2015 sah unit data'!K:K,data_tracking[[#This Row],[month]],'2015 sah unit data'!J:J,data_tracking[[#This Row],[week]]))","v":1872},{"$f":"IF(SUMIFS('2015 sah unit data'!F:F,'2015 sah unit data'!L:L,data_tracking[[#This Row],[year]],'2015 sah unit data'!K:K,data_tracking[[#This Row],[month]],'2015 sah unit data'!J:J,data_tracking[[#This Row],[week]])=0,\"\",SUMIFS('2015 sah unit data'!F:F,'2015 sah unit data'!L:L,data_tracking[[#This Row],[year]],'2015 sah unit data'!K:K,data_tracking[[#This Row],[month]],'2015 sah unit data'!J:J,data_tracking[[#This Row],[week]]))","v":1443},{"$f":"IF(SUMIFS('2015 sah unit data'!G:G,'2015 sah unit data'!L:L,data_tracking[[#This Row],[year]],'2015 sah unit data'!K:K,data_tracking[[#This Row],[month]],'2015 sah unit data'!J:J,data_tracking[[#This Row],[week]])=0,\"\",SUMIFS('2015 sah unit data'!G:G,'2015 sah unit data'!L:L,data_tracking[[#This Row],[year]],'2015 sah unit data'!K:K,data_tracking[[#This Row],[month]],'2015 sah unit data'!J:J,data_tracking[[#This Row],[week]]))","v":651},{"$f":"SUMIFS('2015 sah unit data'!I:I,'2015 sah unit data'!L:L,data_tracking[[#This Row],[year]],'2015 sah unit data'!K:K,data_tracking[[#This Row],[month]],'2015 sah unit data'!J:J,data_tracking[[#This Row],[week]])","v":13},{"$f":"SUMIFS('overhead costs data'!E:E,'overhead costs data'!C:C,data_tracking[[#This Row],[year]],'overhead costs data'!B:B,data_tracking[[#This Row],[month]])","v":72217.307499999981}]
[49,12,2015,36.520000000000003,20.04,{"$f":"IFERROR((data_tracking[[#This Row],[overhead]]+SUMIFS('labor costs data'!H:H,'labor costs data'!D:D,data_tracking[[#This Row],[year]],'labor costs data'!A:A,data_tracking[[#This Row],[week]]))/data_tracking[[#This Row],[SAH Completed (Total)]],\"\")","v":62.442673027172667},{"$f":"IFERROR(SUMIFS('labor costs data'!E:E,'labor costs data'!D:D,data_tracking[[#This Row],[year]],'labor costs data'!A:A,data_tracking[[#This Row],[week]])/data_tracking[[#This Row],[SAH Completed (Total)]],\"\")","v":24.078181405913178},{"$f":"IFERROR((data_tracking[[#This Row],[overhead]]+SUMIFS(labor_costs[total labor cost],labor_costs[year],data_tracking[[#This Row],[year]],labor_costs[week],data_tracking[[#This Row],[week]]))/data_tracking[[#This Row],[Units Completed (Total)]],\"\")","v":65.869688566363834},{"$f":"IF(SUM(data_tracking[[#This Row],[111-FILSN1 SAH]],data_tracking[[#This Row],[112-FILSN2 SAH]],data_tracking[[#This Row],[113-FILSN3 SAH]])=0,\"\",SUM(data_tracking[[#This Row],[111-FILSN1 SAH]],data_tracking[[#This Row],[112-FILSN2 SAH]],data_tracking[[#This Row],[113-FILSN3 SAH]]))","v":4760.6851226666658},{"$f":"IF(SUM(data_tracking[[#This Row],[111-FILSN1 Units]],data_tracking[[#This Row],[112-FILSN2 Units]],data_tracking[[#This Row],[113-FILSN3 Units]])=0,\"\",SUM(data_tracking[[#This Row],[111-FILSN1 Units]],data_tracking[[#This Row],[112-FILSN2 Units]],data_tracking[[#This Row],[113-FILSN3 Units]]))","v":4513},{"$f":"IF(SUMIFS('2015 sah unit data'!B:B,'2015 sah unit data'!L:L,data_tracking[[#This Row],[year]],'2015 sah unit data'!K:K,data_tracking[[#This Row],[month]],'2015 sah unit data'!J:J,data_tracking[[#This Row],[week]])=0,\"\",SUMIFS('2015 sah unit data'!B:B,'2015 sah unit data'!L:L,data_tracking[[#This Row],[year]],'2015 sah unit data'!K:K,data_tracking[[#This Row],[month]],'2015 sah unit data'!J:J,data_tracking[[#This Row],[week]]))","v":2640.2621456666679},{"$f":"IF(SUMIFS('2015 sah unit data'!C:C,'2015 sah unit data'!L:L,data_tracking[[#This Row],[year]],'2015 sah unit data'!K:K,data_tracking[[#This Row],[month]],'2015 sah unit data'!J:J,data_tracking[[#This Row],[week]])=0,\"\",SUMIFS('2015 sah unit data'!C:C,'2015 sah unit data'!L:L,data_tracking[[#This Row],[year]],'2015 sah unit data'!K:K,data_tracking[[#This Row],[month]],'2015 sah unit data'!J:J,data_tracking[[#This Row],[week]]))","v":1576.4229769999981},{"$f":"IF(SUMIFS('2015 sah unit data'!D:D,'2015 sah unit data'!L:L,data_tracking[[#This Row],[year]],'2015 sah unit data'!K:K,data_tracking[[#This Row],[month]],'2015 sah unit data'!J:J,data_tracking[[#This Row],[week]])=0,\"\",SUMIFS('2015 sah unit data'!D:D,'2015 sah unit data'!L:L,data_tracking[[#This Row],[year]],'2015 sah unit data'!K:K,data_tracking[[#This Row],[month]],'2015 sah unit data'!J:J,data_tracking[[#This Row],[week]]))","v":544},{"$f":"IF(SUMIFS('2015 sah unit data'!E:E,'2015 sah unit data'!L:L,data_tracking[[#This Row],[year]],'2015 sah unit data'!K:K,data_tracking[[#This Row],[month]],'2015 sah unit data'!J:J,data_tracking[[#This Row],[week]])=0,\"\",SUMIFS('2015 sah unit data'!E:E,'2015 sah unit data'!L:L,data_tracking[[#This Row],[year]],'2015 sah unit data'!K:K,data_tracking[[#This Row],[month]],'2015 sah unit data'!J:J,data_tracking[[#This Row],[week]]))","v":2227},{"$f":"IF(SUMIFS('2015 sah unit data'!F:F,'2015 sah unit data'!L:L,data_tracking[[#This Row],[year]],'2015 sah unit data'!K:K,data_tracking[[#This Row],[month]],'2015 sah unit data'!J:J,data_tracking[[#This Row],[week]])=0,\"\",SUMIFS('2015 sah unit data'!F:F,'2015 sah unit data'!L:L,data_tracking[[#This Row],[year]],'2015 sah unit data'!K:K,data_tracking[[#This Row],[month]],'2015 sah unit data'!J:J,data_tracking[[#This Row],[week]]))","v":1742},{"$f":"IF(SUMIFS('2015 sah unit data'!G:G,'2015 sah unit data'!L:L,data_tracking[[#This Row],[year]],'2015 sah unit data'!K:K,data_tracking[[#This Row],[month]],'2015 sah unit data'!J:J,data_tracking[[#This Row],[week]])=0,\"\",SUMIFS('2015 sah unit data'!G:G,'2015 sah unit data'!L:L,data_tracking[[#This Row],[year]],'2015 sah unit data'!K:K,data_tracking[[#This Row],[month]],'2015 sah unit data'!J:J,data_tracking[[#This Row],[week]]))","v":544},{"$f":"SUMIFS('2015 sah unit data'!I:I,'2015 sah unit data'!L:L,data_tracking[[#This Row],[year]],'2015 sah unit data'!K:K,data_tracking[[#This Row],[month]],'2015 sah unit data'!J:J,data_tracking[[#This Row],[week]])","v":16},{"$f":"SUMIFS('overhead costs data'!E:E,'overhead costs data'!C:C,data_tracking[[#This Row],[year]],'overhead costs data'!B:B,data_tracking[[#This Row],[month]])","v":80054.604000000007}]
[50,12,2015,36.520000000000003,20.04,{"$f":"IFERROR((data_tracking[[#This Row],[overhead]]+SUMIFS('labor costs data'!H:H,'labor costs data'!D:D,data_tracking[[#This Row],[year]],'labor costs data'!A:A,data_tracking[[#This Row],[week]]))/data_tracking[[#This Row],[SAH Completed (Total)]],\"\")","v":62.442673027172667},{"$f":"IFERROR(SUMIFS('labor costs data'!E:E,'labor costs data'!D:D,data_tracking[[#This Row],[year]],'labor costs data'!A:A,data_tracking[[#This Row],[week]])/data_tracking[[#This Row],[SAH Completed (Total)]],\"\")","v":24.078181405913178},{"$f":"IFERROR((data_tracking[[#This Row],[overhead]]+SUMIFS(labor_costs[total labor cost],labor_costs[year],data_tracking[[#This Row],[year]],labor_costs[week],data_tracking[[#This Row],[week]]))/data_tracking[[#This Row],[Units Completed (Total)]],\"\")","v":65.869688566363834},{"$f":"IF(SUM(data_tracking[[#This Row],[111-FILSN1 SAH]],data_tracking[[#This Row],[112-FILSN2 SAH]],data_tracking[[#This Row],[113-FILSN3 SAH]])=0,\"\",SUM(data_tracking[[#This Row],[111-FILSN1 SAH]],data_tracking[[#This Row],[112-FILSN2 SAH]],data_tracking[[#This Row],[113-FILSN3 SAH]]))","v":4760.6851226666658},{"$f":"IF(SUM(data_tracking[[#This Row],[111-FILSN1 Units]],data_tracking[[#This Row],[112-FILSN2 Units]],data_tracking[[#This Row],[113-FILSN3 Units]])=0,\"\",SUM(data_tracking[[#This Row],[111-FILSN1 Units]],data_tracking[[#This Row],[112-FILSN2 Units]],data_tracking[[#This Row],[113-FILSN3 Units]]))","v":4513},{"$f":"IF(SUMIFS('2015 sah unit data'!B:B,'2015 sah unit data'!L:L,data_tracking[[#This Row],[year]],'2015 sah unit data'!K:K,data_tracking[[#This Row],[month]],'2015 sah unit data'!J:J,data_tracking[[#This Row],[week]])=0,\"\",SUMIFS('2015 sah unit data'!B:B,'2015 sah unit data'!L:L,data_tracking[[#This Row],[year]],'2015 sah unit data'!K:K,data_tracking[[#This Row],[month]],'2015 sah unit data'!J:J,data_tracking[[#This Row],[week]]))","v":2640.2621456666679},{"$f":"IF(SUMIFS('2015 sah unit data'!C:C,'2015 sah unit data'!L:L,data_tracking[[#This Row],[year]],'2015 sah unit data'!K:K,data_tracking[[#This Row],[month]],'2015 sah unit data'!J:J,data_tracking[[#This Row],[week]])=0,\"\",SUMIFS('2015 sah unit data'!C:C,'2015 sah unit data'!L:L,data_tracking[[#This Row],[year]],'2015 sah unit data'!K:K,data_tracking[[#This Row],[month]],'2015 sah unit data'!J:J,data_tracking[[#This Row],[week]]))","v":1576.4229769999981},{"$f":"IF(SUMIFS('2015 sah unit data'!D:D,'2015 sah unit data'!L:L,data_tracking[[#This Row],[year]],'2015 sah unit data'!K:K,data_tracking[[#This Row],[month]],'2015 sah unit data'!J:J,data_tracking[[#This Row],[week]])=0,\"\",SUMIFS('2015 sah unit data'!D:D,'2015 sah unit data'!L:L,data_tracking[[#This Row],[year]],'2015 sah unit data'!K:K,data_tracking[[#This Row],[month]],'2015 sah unit data'!J:J,data_tracking[[#This Row],[week]]))","v":544},{"$f":"IF(SUMIFS('2015 sah unit data'!E:E,'2015 sah unit data'!L:L,data_tracking[[#This Row],[year]],'2015 sah unit data'!K:K,data_tracking[[#This Row],[month]],'2015 sah unit data'!J:J,data_tracking[[#This Row],[week]])=0,\"\",SUMIFS('2015 sah unit data'!E:E,'2015 sah unit data'!L:L,data_tracking[[#This Row],[year]],'2015 sah unit data'!K:K,data_tracking[[#This Row],[month]],'2015 sah unit data'!J:J,data_tracking[[#This Row],[week]]))","v":2227},{"$f":"IF(SUMIFS('2015 sah unit data'!F:F,'2015 sah unit data'!L:L,data_tracking[[#This Row],[year]],'2015 sah unit data'!K:K,data_tracking[[#This Row],[month]],'2015 sah unit data'!J:J,data_tracking[[#This Row],[week]])=0,\"\",SUMIFS('2015 sah unit data'!F:F,'2015 sah unit data'!L:L,data_tracking[[#This Row],[year]],'2015 sah unit data'!K:K,data_tracking[[#This Row],[month]],'2015 sah unit data'!J:J,data_tracking[[#This Row],[week]]))","v":1742},{"$f":"IF(SUMIFS('2015 sah unit data'!G:G,'2015 sah unit data'!L:L,data_tracking[[#This Row],[year]],'2015 sah unit data'!K:K,data_tracking[[#This Row],[month]],'2015 sah unit data'!J:J,data_tracking[[#This Row],[week]])=0,\"\",SUMIFS('2015 sah unit data'!G:G,'2015 sah unit data'!L:L,data_tracking[[#This Row],[year]],'2015 sah unit data'!K:K,data_tracking[[#This Row],[month]],'2015 sah unit data'!J:J,data_tracking[[#This Row],[week]]))","v":544},{"$f":"SUMIFS('2015 sah unit data'!I:I,'2015 sah unit data'!L:L,data_tracking[[#This Row],[year]],'2015 sah unit data'!K:K,data_tracking[[#This Row],[month]],'2015 sah unit data'!J:J,data_tracking[[#This Row],[week]])","v":16},{"$f":"SUMIFS('overhead costs data'!E:E,'overhead costs data'!C:C,data_tracking[[#This Row],[year]],'overhead costs data'!B:B,data_tracking[[#This Row],[month]])","v":80054.604000000007}]
[51,12,2015,36.520000000000003,20.04,{"$f":"IFERROR((data_tracking[[#This Row],[overhead]]+SUMIFS('labor costs data'!H:H,'labor costs data'!D:D,data_tracking[[#This Row],[year]],'labor costs data'!A:A,data_tracking[[#This Row],[week]]))/data_tracking[[#This Row],[SAH Completed (Total)]],\"\")","v":64.683133743470876},{"$f":"IFERROR(SUMIFS('labor costs data'!E:E,'labor costs data'!D:D,data_tracking[[#This Row],[year]],'labor costs data'!A:A,data_tracking[[#This Row],[week]])/data_tracking[[#This Row],[SAH Completed (Total)]],\"\")","v":25.782724930828042},{"$f":"IFERROR((data_tracking[[#This Row],[overhead]]+SUMIFS(labor_costs[total labor cost],labor_costs[year],data_tracking[[#This Row],[year]],labor_costs[week],data_tracking[[#This Row],[week]]))/data_tracking[[#This Row],[Units Completed (Total)]],\"\")","v":68.233111566585421},{"$f":"IF(SUM(data_tracking[[#This Row],[111-FILSN1 SAH]],data_tracking[[#This Row],[112-FILSN2 SAH]],data_tracking[[#This Row],[113-FILSN3 SAH]])=0,\"\",SUM(data_tracking[[#This Row],[111-FILSN1 SAH]],data_tracking[[#This Row],[112-FILSN2 SAH]],data_tracking[[#This Row],[113-FILSN3 SAH]]))","v":4760.6851226666658},{"$f":"IF(SUM(data_tracking[[#This Row],[111-FILSN1 Units]],data_tracking[[#This Row],[112-FILSN2 Units]],data_tracking[[#This Row],[113-FILSN3 Units]])=0,\"\",SUM(data_tracking[[#This Row],[111-FILSN1 Units]],data_tracking[[#This Row],[112-FILSN2 Units]],data_tracking[[#This Row],[113-FILSN3 Units]]))","v":4513},{"$f":"IF(SUMIFS('2015 sah unit data'!B:B,'2015 sah unit data'!L:L,data_tracking[[#This Row],[year]],'2015 sah unit data'!K:K,data_tracking[[#This Row],[month]],'2015 sah unit data'!J:J,data_tracking[[#This Row],[week]])=0,\"\",SUMIFS('2015 sah unit data'!B:B,'2015 sah unit data'!L:L,data_tracking[[#This Row],[year]],'2015 sah unit data'!K:K,data_tracking[[#This Row],[month]],'2015 sah unit data'!J:J,data_tracking[[#This Row],[week]]))","v":2640.2621456666679},{"$f":"IF(SUMIFS('2015 sah unit data'!C:C,'2015 sah unit data'!L:L,data_tracking[[#This Row],[year]],'2015 sah unit data'!K:K,data_tracking[[#This Row],[month]],'2015 sah unit data'!J:J,data_tracking[[#This Row],[week]])=0,\"\",SUMIFS('2015 sah unit data'!C:C,'2015 sah unit data'!L:L,data_tracking[[#This Row],[year]],'2015 sah unit data'!K:K,data_tracking[[#This Row],[month]],'2015 sah unit data'!J:J,data_tracking[[#This Row],[week]]))","v":1576.4229769999981},{"$f":"IF(SUMIFS('2015 sah unit data'!D:D,'2015 sah unit data'!L:L,data_tracking[[#This Row],[year]],'2015 sah unit data'!K:K,data_tracking[[#This Row],[month]],'2015 sah unit data'!J:J,data_tracking[[#This Row],[week]])=0,\"\",SUMIFS('2015 sah unit data'!D:D,'2015 sah unit data'!L:L,data_tracking[[#This Row],[year]],'2015 sah unit data'!K:K,data_tracking[[#This Row],[month]],'2015 sah unit data'!J:J,data_tracking[[#This Row],[week]]))","v":544},{"$f":"IF(SUMIFS('2015 sah unit data'!E:E,'2015 sah unit data'!L:L,data_tracking[[#This Row],[year]],'2015 sah unit data'!K:K,data_tracking[[#This Row],[month]],'2015 sah unit data'!J:J,data_tracking[[#This Row],[week]])=0,\"\",SUMIFS('2015 sah unit data'!E:E,'2015 sah unit data'!L:L,data_tracking[[#This Row],[year]],'2015 sah unit data'!K:K,data_tracking[[#This Row],[month]],'2015 sah unit data'!J:J,data_tracking[[#This Row],[week]]))","v":2227},{"$f":"IF(SUMIFS('2015 sah unit data'!F:F,'2015 sah unit data'!L:L,data_tracking[[#This Row],[year]],'2015 sah unit data'!K:K,data_tracking[[#This Row],[month]],'2015 sah unit data'!J:J,data_tracking[[#This Row],[week]])=0,\"\",SUMIFS('2015 sah unit data'!F:F,'2015 sah unit data'!L:L,data_tracking[[#This Row],[year]],'2015 sah unit data'!K:K,data_tracking[[#This Row],[month]],'2015 sah unit data'!J:J,data_tracking[[#This Row],[week]]))","v":1742},{"$f":"IF(SUMIFS('2015 sah unit data'!G:G,'2015 sah unit data'!L:L,data_tracking[[#This Row],[year]],'2015 sah unit data'!K:K,data_tracking[[#This Row],[month]],'2015 sah unit data'!J:J,data_tracking[[#This Row],[week]])=0,\"\",SUMIFS('2015 sah unit data'!G:G,'2015 sah unit data'!L:L,data_tracking[[#This Row],[year]],'2015 sah unit data'!K:K,data_tracking[[#This Row],[month]],'2015 sah unit data'!J:J,data_tracking[[#This Row],[week]]))","v":544},{"$f":"SUMIFS('2015 sah unit data'!I:I,'2015 sah unit data'!L:L,data_tracking[[#This Row],[year]],'2015 sah unit data'!K:K,data_tracking[[#This Row],[month]],'2015 sah unit data'!J:J,data_tracking[[#This Row],[week]])","v":16},{"$f":"SUMIFS('overhead costs data'!E:E,'overhead costs data'!C:C,data_tracking[[#This Row],[year]],'overhead costs data'!B:B,data_tracking[[#This Row],[month]])","v":80054.604000000007}]
[52,12,2015,36.520000000000003,20.04,{"$f":"IFERROR((data_tracking[[#This Row],[overhead]]+SUMIFS('labor costs data'!H:H,'labor costs data'!D:D,data_tracking[[#This Row],[year]],'labor costs data'!A:A,data_tracking[[#This Row],[week]]))/data_tracking[[#This Row],[SAH Completed (Total)]],\"\")","v":64.683133743470876},{"$f":"IFERROR(SUMIFS('labor costs data'!E:E,'labor costs data'!D:D,data_tracking[[#This Row],[year]],'labor costs data'!A:A,data_tracking[[#This Row],[week]])/data_tracking[[#This Row],[SAH Completed (Total)]],\"\")","v":25.782724930828042},{"$f":"IFERROR((data_tracking[[#This Row],[overhead]]+SUMIFS(labor_costs[total labor cost],labor_costs[year],data_tracking[[#This Row],[year]],labor_costs[week],data_tracking[[#This Row],[week]]))/data_tracking[[#This Row],[Units Completed (Total)]],\"\")","v":68.233111566585421},{"$f":"IF(SUM(data_tracking[[#This Row],[111-FILSN1 SAH]],data_tracking[[#This Row],[112-FILSN2 SAH]],data_tracking[[#This Row],[113-FILSN3 SAH]])=0,\"\",SUM(data_tracking[[#This Row],[111-FILSN1 SAH]],data_tracking[[#This Row],[112-FILSN2 SAH]],data_tracking[[#This Row],[113-FILSN3 SAH]]))","v":4760.6851226666658},{"$f":"IF(SUM(data_tracking[[#This Row],[111-FILSN1 Units]],data_tracking[[#This Row],[112-FILSN2 Units]],data_tracking[[#This Row],[113-FILSN3 Units]])=0,\"\",SUM(data_tracking[[#This Row],[111-FILSN1 Units]],data_tracking[[#This Row],[112-FILSN2 Units]],data_tracking[[#This Row],[113-FILSN3 Units]]))","v":4513},{"$f":"IF(SUMIFS('2015 sah unit data'!B:B,'2015 sah unit data'!L:L,data_tracking[[#This Row],[year]],'2015 sah unit data'!K:K,data_tracking[[#This Row],[month]],'2015 sah unit data'!J:J,data_tracking[[#This Row],[week]])=0,\"\",SUMIFS('2015 sah unit data'!B:B,'2015 sah unit data'!L:L,data_tracking[[#This Row],[year]],'2015 sah unit data'!K:K,data_tracking[[#This Row],[month]],'2015 sah unit data'!J:J,data_tracking[[#This Row],[week]]))","v":2640.2621456666679},{"$f":"IF(SUMIFS('2015 sah unit data'!C:C,'2015 sah unit data'!L:L,data_tracking[[#This Row],[year]],'2015 sah unit data'!K:K,data_tracking[[#This Row],[month]],'2015 sah unit data'!J:J,data_tracking[[#This Row],[week]])=0,\"\",SUMIFS('2015 sah unit data'!C:C,'2015 sah unit data'!L:L,data_tracking[[#This Row],[year]],'2015 sah unit data'!K:K,data_tracking[[#This Row],[month]],'2015 sah unit data'!J:J,data_tracking[[#This Row],[week]]))","v":1576.4229769999981},{"$f":"IF(SUMIFS('2015 sah unit data'!D:D,'2015 sah unit data'!L:L,data_tracking[[#This Row],[year]],'2015 sah unit data'!K:K,data_tracking[[#This Row],[month]],'2015 sah unit data'!J:J,data_tracking[[#This Row],[week]])=0,\"\",SUMIFS('2015 sah unit data'!D:D,'2015 sah unit data'!L:L,data_tracking[[#This Row],[year]],'2015 sah unit data'!K:K,data_tracking[[#This Row],[month]],'2015 sah unit data'!J:J,data_tracking[[#This Row],[week]]))","v":544},{"$f":"IF(SUMIFS('2015 sah unit data'!E:E,'2015 sah unit data'!L:L,data_tracking[[#This Row],[year]],'2015 sah unit data'!K:K,data_tracking[[#This Row],[month]],'2015 sah unit data'!J:J,data_tracking[[#This Row],[week]])=0,\"\",SUMIFS('2015 sah unit data'!E:E,'2015 sah unit data'!L:L,data_tracking[[#This Row],[year]],'2015 sah unit data'!K:K,data_tracking[[#This Row],[month]],'2015 sah unit data'!J:J,data_tracking[[#This Row],[week]]))","v":2227},{"$f":"IF(SUMIFS('2015 sah unit data'!F:F,'2015 sah unit data'!L:L,data_tracking[[#This Row],[year]],'2015 sah unit data'!K:K,data_tracking[[#This Row],[month]],'2015 sah unit data'!J:J,data_tracking[[#This Row],[week]])=0,\"\",SUMIFS('2015 sah unit data'!F:F,'2015 sah unit data'!L:L,data_tracking[[#This Row],[year]],'2015 sah unit data'!K:K,data_tracking[[#This Row],[month]],'2015 sah unit data'!J:J,data_tracking[[#This Row],[week]]))","v":1742},{"$f":"IF(SUMIFS('2015 sah unit data'!G:G,'2015 sah unit data'!L:L,data_tracking[[#This Row],[year]],'2015 sah unit data'!K:K,data_tracking[[#This Row],[month]],'2015 sah unit data'!J:J,data_tracking[[#This Row],[week]])=0,\"\",SUMIFS('2015 sah unit data'!G:G,'2015 sah unit data'!L:L,data_tracking[[#This Row],[year]],'2015 sah unit data'!K:K,data_tracking[[#This Row],[month]],'2015 sah unit data'!J:J,data_tracking[[#This Row],[week]]))","v":544},{"$f":"SUMIFS('2015 sah unit data'!I:I,'2015 sah unit data'!L:L,data_tracking[[#This Row],[year]],'2015 sah unit data'!K:K,data_tracking[[#This Row],[month]],'2015 sah unit data'!J:J,data_tracking[[#This Row],[week]])","v":16},{"$f":"SUMIFS('overhead costs data'!E:E,'overhead costs data'!C:C,data_tracking[[#This Row],[year]],'overhead costs data'!B:B,data_tracking[[#This Row],[month]])","v":80054.604000000007}]
[53,12,2015,36.520000000000003,20.04,{"$f":"IFERROR((data_tracking[[#This Row],[overhead]]+SUMIFS('labor costs data'!H:H,'labor costs data'!D:D,data_tracking[[#This Row],[year]],'labor costs data'!A:A,data_tracking[[#This Row],[week]]))/data_tracking[[#This Row],[SAH Completed (Total)]],\"\")","v":30.93188263993293},{"$f":"IFERROR(SUMIFS('labor costs data'!E:E,'labor costs data'!D:D,data_tracking[[#This Row],[year]],'labor costs data'!A:A,data_tracking[[#This Row],[week]])/data_tracking[[#This Row],[SAH Completed (Total)]],\"\")","v":4.2303280895668918},{"$f":"IFERROR((data_tracking[[#This Row],[overhead]]+SUMIFS(labor_costs[total labor cost],labor_costs[year],data_tracking[[#This Row],[year]],labor_costs[week],data_tracking[[#This Row],[week]]))/data_tracking[[#This Row],[Units Completed (Total)]],\"\")","v":32.629504431641926},{"$f":"IF(SUM(data_tracking[[#This Row],[111-FILSN1 SAH]],data_tracking[[#This Row],[112-FILSN2 SAH]],data_tracking[[#This Row],[113-FILSN3 SAH]])=0,\"\",SUM(data_tracking[[#This Row],[111-FILSN1 SAH]],data_tracking[[#This Row],[112-FILSN2 SAH]],data_tracking[[#This Row],[113-FILSN3 SAH]]))","v":4760.6851226666658},{"$f":"IF(SUM(data_tracking[[#This Row],[111-FILSN1 Units]],data_tracking[[#This Row],[112-FILSN2 Units]],data_tracking[[#This Row],[113-FILSN3 Units]])=0,\"\",SUM(data_tracking[[#This Row],[111-FILSN1 Units]],data_tracking[[#This Row],[112-FILSN2 Units]],data_tracking[[#This Row],[113-FILSN3 Units]]))","v":4513},{"$f":"IF(SUMIFS('2015 sah unit data'!B:B,'2015 sah unit data'!L:L,data_tracking[[#This Row],[year]],'2015 sah unit data'!K:K,data_tracking[[#This Row],[month]],'2015 sah unit data'!J:J,data_tracking[[#This Row],[week]])=0,\"\",SUMIFS('2015 sah unit data'!B:B,'2015 sah unit data'!L:L,data_tracking[[#This Row],[year]],'2015 sah unit data'!K:K,data_tracking[[#This Row],[month]],'2015 sah unit data'!J:J,data_tracking[[#This Row],[week]]))","v":2640.2621456666679},{"$f":"IF(SUMIFS('2015 sah unit data'!C:C,'2015 sah unit data'!L:L,data_tracking[[#This Row],[year]],'2015 sah unit data'!K:K,data_tracking[[#This Row],[month]],'2015 sah unit data'!J:J,data_tracking[[#This Row],[week]])=0,\"\",SUMIFS('2015 sah unit data'!C:C,'2015 sah unit data'!L:L,data_tracking[[#This Row],[year]],'2015 sah unit data'!K:K,data_tracking[[#This Row],[month]],'2015 sah unit data'!J:J,data_tracking[[#This Row],[week]]))","v":1576.4229769999981},{"$f":"IF(SUMIFS('2015 sah unit data'!D:D,'2015 sah unit data'!L:L,data_tracking[[#This Row],[year]],'2015 sah unit data'!K:K,data_tracking[[#This Row],[month]],'2015 sah unit data'!J:J,data_tracking[[#This Row],[week]])=0,\"\",SUMIFS('2015 sah unit data'!D:D,'2015 sah unit data'!L:L,data_tracking[[#This Row],[year]],'2015 sah unit data'!K:K,data_tracking[[#This Row],[month]],'2015 sah unit data'!J:J,data_tracking[[#This Row],[week]]))","v":544},{"$f":"IF(SUMIFS('2015 sah unit data'!E:E,'2015 sah unit data'!L:L,data_tracking[[#This Row],[year]],'2015 sah unit data'!K:K,data_tracking[[#This Row],[month]],'2015 sah unit data'!J:J,data_tracking[[#This Row],[week]])=0,\"\",SUMIFS('2015 sah unit data'!E:E,'2015 sah unit data'!L:L,data_tracking[[#This Row],[year]],'2015 sah unit data'!K:K,data_tracking[[#This Row],[month]],'2015 sah unit data'!J:J,data_tracking[[#This Row],[week]]))","v":2227},{"$f":"IF(SUMIFS('2015 sah unit data'!F:F,'2015 sah unit data'!L:L,data_tracking[[#This Row],[year]],'2015 sah unit data'!K:K,data_tracking[[#This Row],[month]],'2015 sah unit data'!J:J,data_tracking[[#This Row],[week]])=0,\"\",SUMIFS('2015 sah unit data'!F:F,'2015 sah unit data'!L:L,data_tracking[[#This Row],[year]],'2015 sah unit data'!K:K,data_tracking[[#This Row],[month]],'2015 sah unit data'!J:J,data_tracking[[#This Row],[week]]))","v":1742},{"$f":"IF(SUMIFS('2015 sah unit data'!G:G,'2015 sah unit data'!L:L,data_tracking[[#This Row],[year]],'2015 sah unit data'!K:K,data_tracking[[#This Row],[month]],'2015 sah unit data'!J:J,data_tracking[[#This Row],[week]])=0,\"\",SUMIFS('2015 sah unit data'!G:G,'2015 sah unit data'!L:L,data_tracking[[#This Row],[year]],'2015 sah unit data'!K:K,data_tracking[[#This Row],[month]],'2015 sah unit data'!J:J,data_tracking[[#This Row],[week]]))","v":544},{"$f":"SUMIFS('2015 sah unit data'!I:I,'2015 sah unit data'!L:L,data_tracking[[#This Row],[year]],'2015 sah unit data'!K:K,data_tracking[[#This Row],[month]],'2015 sah unit data'!J:J,data_tracking[[#This Row],[week]])","v":16},{"$f":"SUMIFS('overhead costs data'!E:E,'overhead costs data'!C:C,data_tracking[[#This Row],[year]],'overhead costs data'!B:B,data_tracking[[#This Row],[month]])","v":80054.604000000007}]
[1,1,2016,{"$f":"D54*1.089","v":39.77028},{"$f":"E54*1.089","v":21.823559999999997},{"$f":"IFERROR((data_tracking[[#This Row],[overhead]]+SUMIFS('labor costs data'!H:H,'labor costs data'!D:D,data_tracking[[#This Row],[year]],'labor costs data'!A:A,data_tracking[[#This Row],[week]]))/data_tracking[[#This Row],[SAH Completed (Total)]],\"\")","v":""},{"$f":"IFERROR(SUMIFS('labor costs data'!E:E,'labor costs data'!D:D,data_tracking[[#This Row],[year]],'labor costs data'!A:A,data_tracking[[#This Row],[week]])/data_tracking[[#This Row],[SAH Completed (Total)]],\"\")","v":""},{"$f":"IFERROR((data_tracking[[#This Row],[overhead]]+SUMIFS(labor_costs[total labor cost],labor_costs[year],data_tracking[[#This Row],[year]],labor_costs[week],data_tracking[[#This Row],[week]]))/data_tracking[[#This Row],[Units Completed (Total)]],\"\")","v":""},{"$f":"IF(SUM(data_tracking[[#This Row],[111-FILSN1 SAH]],data_tracking[[#This Row],[112-FILSN2 SAH]],data_tracking[[#This Row],[113-FILSN3 SAH]])=0,\"\",SUM(data_tracking[[#This Row],[111-FILSN1 SAH]],data_tracking[[#This Row],[112-FILSN2 SAH]],data_tracking[[#This Row],[113-FILSN3 SAH]]))","v":""},{"$f":"IF(SUM(data_tracking[[#This Row],[111-FILSN1 Units]],data_tracking[[#This Row],[112-FILSN2 Units]],data_tracking[[#This Row],[113-FILSN3 Units]])=0,\"\",SUM(data_tracking[[#This Row],[111-FILSN1 Units]],data_tracking[[#This Row],[112-FILSN2 Units]],data_tracking[[#This Row],[113-FILSN3 Units]]))","v":""},{"$f":"IF(SUMIFS('2015 sah unit data'!B:B,'2015 sah unit data'!L:L,data_tracking[[#This Row],[year]],'2015 sah unit data'!K:K,data_tracking[[#This Row],[month]],'2015 sah unit data'!J:J,data_tracking[[#This Row],[week]])=0,\"\",SUMIFS('2015 sah unit data'!B:B,'2015 sah unit data'!L:L,data_tracking[[#This Row],[year]],'2015 sah unit data'!K:K,data_tracking[[#This Row],[month]],'2015 sah unit data'!J:J,data_tracking[[#This Row],[week]]))","v":""},{"$f":"IF(SUMIFS('2015 sah unit data'!C:C,'2015 sah unit data'!L:L,data_tracking[[#This Row],[year]],'2015 sah unit data'!K:K,data_tracking[[#This Row],[month]],'2015 sah unit data'!J:J,data_tracking[[#This Row],[week]])=0,\"\",SUMIFS('2015 sah unit data'!C:C,'2015 sah unit data'!L:L,data_tracking[[#This Row],[year]],'2015 sah unit data'!K:K,data_tracking[[#This Row],[month]],'2015 sah unit data'!J:J,data_tracking[[#This Row],[week]]))","v":""},{"$f":"IF(SUMIFS('2015 sah unit data'!D:D,'2015 sah unit data'!L:L,data_tracking[[#This Row],[year]],'2015 sah unit data'!K:K,data_tracking[[#This Row],[month]],'2015 sah unit data'!J:J,data_tracking[[#This Row],[week]])=0,\"\",SUMIFS('2015 sah unit data'!D:D,'2015 sah unit data'!L:L,data_tracking[[#This Row],[year]],'2015 sah unit data'!K:K,data_tracking[[#This Row],[month]],'2015 sah unit data'!J:J,data_tracking[[#This Row],[week]]))","v":""},{"$f":"IF(SUMIFS('2015 sah unit data'!E:E,'2015 sah unit data'!L:L,data_tracking[[#This Row],[year]],'2015 sah unit data'!K:K,data_tracking[[#This Row],[month]],'2015 sah unit data'!J:J,data_tracking[[#This Row],[week]])=0,\"\",SUMIFS('2015 sah unit data'!E:E,'2015 sah unit data'!L:L,data_tracking[[#This Row],[year]],'2015 sah unit data'!K:K,data_tracking[[#This Row],[month]],'2015 sah unit data'!J:J,data_tracking[[#This Row],[week]]))","v":""},{"$f":"IF(SUMIFS('2015 sah unit data'!F:F,'2015 sah unit data'!L:L,data_tracking[[#This Row],[year]],'2015 sah unit data'!K:K,data_tracking[[#This Row],[month]],'2015 sah unit data'!J:J,data_tracking[[#This Row],[week]])=0,\"\",SUMIFS('2015 sah unit data'!F:F,'2015 sah unit data'!L:L,data_tracking[[#This Row],[year]],'2015 sah unit data'!K:K,data_tracking[[#This Row],[month]],'2015 sah unit data'!J:J,data_tracking[[#This Row],[week]]))","v":""},{"$f":"IF(SUMIFS('2015 sah unit data'!G:G,'2015 sah unit data'!L:L,data_tracking[[#This Row],[year]],'2015 sah unit data'!K:K,data_tracking[[#This Row],[month]],'2015 sah unit data'!J:J,data_tracking[[#This Row],[week]])=0,\"\",SUMIFS('2015 sah unit data'!G:G,'2015 sah unit data'!L:L,data_tracking[[#This Row],[year]],'2015 sah unit data'!K:K,data_tracking[[#This Row],[month]],'2015 sah unit data'!J:J,data_tracking[[#This Row],[week]]))","v":""},null,{"$f":"SUMIFS('overhead costs data'!E:E,'overhead costs data'!C:C,data_tracking[[#This Row],[year]],'overhead costs data'!B:B,data_tracking[[#This Row],[month]])","v":70000}]
[2,1,2016,39.77028,21.823559999999997,{"$f":"IFERROR((data_tracking[[#This Row],[overhead]]+SUMIFS('labor costs data'!H:H,'labor costs data'!D:D,data_tracking[[#This Row],[year]],'labor costs data'!A:A,data_tracking[[#This Row],[week]]))/data_tracking[[#This Row],[SAH Completed (Total)]],\"\")","v":67.539080018918739},{"$f":"IFERROR(SUMIFS('labor costs data'!E:E,'labor costs data'!D:D,data_tracking[[#This Row],[year]],'labor costs data'!A:A,data_tracking[[#This Row],[week]])/data_tracking[[#This Row],[SAH Completed (Total)]],\"\")","v":29.286201324865161},{"$f":"IFERROR((data_tracking[[#This Row],[overhead]]+SUMIFS(labor_costs[total labor cost],labor_costs[year],data_tracking[[#This Row],[year]],labor_costs[week],data_tracking[[#This Row],[week]]))/data_tracking[[#This Row],[Units Completed (Total)]],\"\")","v":53.234131478260878},{"$f":"IF(SUM(data_tracking[[#This Row],[111-FILSN1 SAH]],data_tracking[[#This Row],[112-FILSN2 SAH]],data_tracking[[#This Row],[113-FILSN3 SAH]])=0,\"\",SUM(data_tracking[[#This Row],[111-FILSN1 SAH]],data_tracking[[#This Row],[112-FILSN2 SAH]],data_tracking[[#This Row],[113-FILSN3 SAH]]))","v":4532.1354083333345},{"$f":"IF(SUM(data_tracking[[#This Row],[111-FILSN1 Units]],data_tracking[[#This Row],[112-FILSN2 Units]],data_tracking[[#This Row],[113-FILSN3 Units]])=0,\"\",SUM(data_tracking[[#This Row],[111-FILSN1 Units]],data_tracking[[#This Row],[112-FILSN2 Units]],data_tracking[[#This Row],[113-FILSN3 Units]]))","v":5750},{"$f":"IF(SUMIFS('2015 sah unit data'!B:B,'2015 sah unit data'!L:L,data_tracking[[#This Row],[year]],'2015 sah unit data'!K:K,data_tracking[[#This Row],[month]],'2015 sah unit data'!J:J,data_tracking[[#This Row],[week]])=0,\"\",SUMIFS('2015 sah unit data'!B:B,'2015 sah unit data'!L:L,data_tracking[[#This Row],[year]],'2015 sah unit data'!K:K,data_tracking[[#This Row],[month]],'2015 sah unit data'!J:J,data_tracking[[#This Row],[week]]))","v":1948.3436666666666},{"$f":"IF(SUMIFS('2015 sah unit data'!C:C,'2015 sah unit data'!L:L,data_tracking[[#This Row],[year]],'2015 sah unit data'!K:K,data_tracking[[#This Row],[month]],'2015 sah unit data'!J:J,data_tracking[[#This Row],[week]])=0,\"\",SUMIFS('2015 sah unit data'!C:C,'2015 sah unit data'!L:L,data_tracking[[#This Row],[year]],'2015 sah unit data'!K:K,data_tracking[[#This Row],[month]],'2015 sah unit data'!J:J,data_tracking[[#This Row],[week]]))","v":1694.6167416666676},{"$f":"IF(SUMIFS('2015 sah unit data'!D:D,'2015 sah unit data'!L:L,data_tracking[[#This Row],[year]],'2015 sah unit data'!K:K,data_tracking[[#This Row],[month]],'2015 sah unit data'!J:J,data_tracking[[#This Row],[week]])=0,\"\",SUMIFS('2015 sah unit data'!D:D,'2015 sah unit data'!L:L,data_tracking[[#This Row],[year]],'2015 sah unit data'!K:K,data_tracking[[#This Row],[month]],'2015 sah unit data'!J:J,data_tracking[[#This Row],[week]]))","v":889.17499999999984},{"$f":"IF(SUMIFS('2015 sah unit data'!E:E,'2015 sah unit data'!L:L,data_tracking[[#This Row],[year]],'2015 sah unit data'!K:K,data_tracking[[#This Row],[month]],'2015 sah unit data'!J:J,data_tracking[[#This Row],[week]])=0,\"\",SUMIFS('2015 sah unit data'!E:E,'2015 sah unit data'!L:L,data_tracking[[#This Row],[year]],'2015 sah unit data'!K:K,data_tracking[[#This Row],[month]],'2015 sah unit data'!J:J,data_tracking[[#This Row],[week]]))","v":1575},{"$f":"IF(SUMIFS('2015 sah unit data'!F:F,'2015 sah unit data'!L:L,data_tracking[[#This Row],[year]],'2015 sah unit data'!K:K,data_tracking[[#This Row],[month]],'2015 sah unit data'!J:J,data_tracking[[#This Row],[week]])=0,\"\",SUMIFS('2015 sah unit data'!F:F,'2015 sah unit data'!L:L,data_tracking[[#This Row],[year]],'2015 sah unit data'!K:K,data_tracking[[#This Row],[month]],'2015 sah unit data'!J:J,data_tracking[[#This Row],[week]]))","v":2465},{"$f":"IF(SUMIFS('2015 sah unit data'!G:G,'2015 sah unit data'!L:L,data_tracking[[#This Row],[year]],'2015 sah unit data'!K:K,data_tracking[[#This Row],[month]],'2015 sah unit data'!J:J,data_tracking[[#This Row],[week]])=0,\"\",SUMIFS('2015 sah unit data'!G:G,'2015 sah unit data'!L:L,data_tracking[[#This Row],[year]],'2015 sah unit data'!K:K,data_tracking[[#This Row],[month]],'2015 sah unit data'!J:J,data_tracking[[#This Row],[week]]))","v":1710},null,{"$f":"SUMIFS('overhead costs data'!E:E,'overhead costs data'!C:C,data_tracking[[#This Row],[year]],'overhead costs data'!B:B,data_tracking[[#This Row],[month]])","v":70000}]
[3,1,2016,39.77028,21.823559999999997,{"$f":"IFERROR((data_tracking[[#This Row],[overhead]]+SUMIFS('labor costs data'!H:H,'labor costs data'!D:D,data_tracking[[#This Row],[year]],'labor costs data'!A:A,data_tracking[[#This Row],[week]]))/data_tracking[[#This Row],[SAH Completed (Total)]],\"\")","v":44.192066890956312},{"$f":"IFERROR(SUMIFS('labor costs data'!E:E,'labor costs data'!D:D,data_tracking[[#This Row],[year]],'labor costs data'!A:A,data_tracking[[#This Row],[week]])/data_tracking[[#This Row],[SAH Completed (Total)]],\"\")","v":17.230228358218739},{"$f":"IFERROR((data_tracking[[#This Row],[overhead]]+SUMIFS(labor_costs[total labor cost],labor_costs[year],data_tracking[[#This Row],[year]],labor_costs[week],data_tracking[[#This Row],[week]]))/data_tracking[[#This Row],[Units Completed (Total)]],\"\")","v":47.679510835629017},{"$f":"IF(SUM(data_tracking[[#This Row],[111-FILSN1 SAH]],data_tracking[[#This Row],[112-FILSN2 SAH]],data_tracking[[#This Row],[113-FILSN3 SAH]])=0,\"\",SUM(data_tracking[[#This Row],[111-FILSN1 SAH]],data_tracking[[#This Row],[112-FILSN2 SAH]],data_tracking[[#This Row],[113-FILSN3 SAH]]))","v":5874.6954999999998},{"$f":"IF(SUM(data_tracking[[#This Row],[111-FILSN1 Units]],data_tracking[[#This Row],[112-FILSN2 Units]],data_tracking[[#This Row],[113-FILSN3 Units]])=0,\"\",SUM(data_tracking[[#This Row],[111-FILSN1 Units]],data_tracking[[#This Row],[112-FILSN2 Units]],data_tracking[[#This Row],[113-FILSN3 Units]]))","v":5445},{"$f":"IF(SUMIFS('2015 sah unit data'!B:B,'2015 sah unit data'!L:L,data_tracking[[#This Row],[year]],'2015 sah unit data'!K:K,data_tracking[[#This Row],[month]],'2015 sah unit data'!J:J,data_tracking[[#This Row],[week]])=0,\"\",SUMIFS('2015 sah unit data'!B:B,'2015 sah unit data'!L:L,data_tracking[[#This Row],[year]],'2015 sah unit data'!K:K,data_tracking[[#This Row],[month]],'2015 sah unit data'!J:J,data_tracking[[#This Row],[week]]))","v":3488.0236666666665},{"$f":"IF(SUMIFS('2015 sah unit data'!C:C,'2015 sah unit data'!L:L,data_tracking[[#This Row],[year]],'2015 sah unit data'!K:K,data_tracking[[#This Row],[month]],'2015 sah unit data'!J:J,data_tracking[[#This Row],[week]])=0,\"\",SUMIFS('2015 sah unit data'!C:C,'2015 sah unit data'!L:L,data_tracking[[#This Row],[year]],'2015 sah unit data'!K:K,data_tracking[[#This Row],[month]],'2015 sah unit data'!J:J,data_tracking[[#This Row],[week]]))","v":1695.3755000000006},{"$f":"IF(SUMIFS('2015 sah unit data'!D:D,'2015 sah unit data'!L:L,data_tracking[[#This Row],[year]],'2015 sah unit data'!K:K,data_tracking[[#This Row],[month]],'2015 sah unit data'!J:J,data_tracking[[#This Row],[week]])=0,\"\",SUMIFS('2015 sah unit data'!D:D,'2015 sah unit data'!L:L,data_tracking[[#This Row],[year]],'2015 sah unit data'!K:K,data_tracking[[#This Row],[month]],'2015 sah unit data'!J:J,data_tracking[[#This Row],[week]]))","v":691.29633333333311},{"$f":"IF(SUMIFS('2015 sah unit data'!E:E,'2015 sah unit data'!L:L,data_tracking[[#This Row],[year]],'2015 sah unit data'!K:K,data_tracking[[#This Row],[month]],'2015 sah unit data'!J:J,data_tracking[[#This Row],[week]])=0,\"\",SUMIFS('2015 sah unit data'!E:E,'2015 sah unit data'!L:L,data_tracking[[#This Row],[year]],'2015 sah unit data'!K:K,data_tracking[[#This Row],[month]],'2015 sah unit data'!J:J,data_tracking[[#This Row],[week]]))","v":3160},{"$f":"IF(SUMIFS('2015 sah unit data'!F:F,'2015 sah unit data'!L:L,data_tracking[[#This Row],[year]],'2015 sah unit data'!K:K,data_tracking[[#This Row],[month]],'2015 sah unit data'!J:J,data_tracking[[#This Row],[week]])=0,\"\",SUMIFS('2015 sah unit data'!F:F,'2015 sah unit data'!L:L,data_tracking[[#This Row],[year]],'2015 sah unit data'!K:K,data_tracking[[#This Row],[month]],'2015 sah unit data'!J:J,data_tracking[[#This Row],[week]]))","v":1570},{"$f":"IF(SUMIFS('2015 sah unit data'!G:G,'2015 sah unit data'!L:L,data_tracking[[#This Row],[year]],'2015 sah unit data'!K:K,data_tracking[[#This Row],[month]],'2015 sah unit data'!J:J,data_tracking[[#This Row],[week]])=0,\"\",SUMIFS('2015 sah unit data'!G:G,'2015 sah unit data'!L:L,data_tracking[[#This Row],[year]],'2015 sah unit data'!K:K,data_tracking[[#This Row],[month]],'2015 sah unit data'!J:J,data_tracking[[#This Row],[week]]))","v":715},null,{"$f":"SUMIFS('overhead costs data'!E:E,'overhead costs data'!C:C,data_tracking[[#This Row],[year]],'overhead costs data'!B:B,data_tracking[[#This Row],[month]])","v":70000}]
[4,1,2016,39.77028,21.823559999999997,{"$f":"IFERROR((data_tracking[[#This Row],[overhead]]+SUMIFS('labor costs data'!H:H,'labor costs data'!D:D,data_tracking[[#This Row],[year]],'labor costs data'!A:A,data_tracking[[#This Row],[week]]))/data_tracking[[#This Row],[SAH Completed (Total)]],\"\")","v":54.432995776935506},{"$f":"IFERROR(SUMIFS('labor costs data'!E:E,'labor costs data'!D:D,data_tracking[[#This Row],[year]],'labor costs data'!A:A,data_tracking[[#This Row],[week]])/data_tracking[[#This Row],[SAH Completed (Total)]],\"\")","v":21.223106621665849},{"$f":"IFERROR((data_tracking[[#This Row],[overhead]]+SUMIFS(labor_costs[total labor cost],labor_costs[year],data_tracking[[#This Row],[year]],labor_costs[week],data_tracking[[#This Row],[week]]))/data_tracking[[#This Row],[Units Completed (Total)]],\"\")","v":54.199360438413365},{"$f":"IF(SUM(data_tracking[[#This Row],[111-FILSN1 SAH]],data_tracking[[#This Row],[112-FILSN2 SAH]],data_tracking[[#This Row],[113-FILSN3 SAH]])=0,\"\",SUM(data_tracking[[#This Row],[111-FILSN1 SAH]],data_tracking[[#This Row],[112-FILSN2 SAH]],data_tracking[[#This Row],[113-FILSN3 SAH]]))","v":4769.4405349999997},{"$f":"IF(SUM(data_tracking[[#This Row],[111-FILSN1 Units]],data_tracking[[#This Row],[112-FILSN2 Units]],data_tracking[[#This Row],[113-FILSN3 Units]])=0,\"\",SUM(data_tracking[[#This Row],[111-FILSN1 Units]],data_tracking[[#This Row],[112-FILSN2 Units]],data_tracking[[#This Row],[113-FILSN3 Units]]))","v":4790},{"$f":"IF(SUMIFS('2015 sah unit data'!B:B,'2015 sah unit data'!L:L,data_tracking[[#This Row],[year]],'2015 sah unit data'!K:K,data_tracking[[#This Row],[month]],'2015 sah unit data'!J:J,data_tracking[[#This Row],[week]])=0,\"\",SUMIFS('2015 sah unit data'!B:B,'2015 sah unit data'!L:L,data_tracking[[#This Row],[year]],'2015 sah unit data'!K:K,data_tracking[[#This Row],[month]],'2015 sah unit data'!J:J,data_tracking[[#This Row],[week]]))","v":2336.9504166666666},{"$f":"IF(SUMIFS('2015 sah unit data'!C:C,'2015 sah unit data'!L:L,data_tracking[[#This Row],[year]],'2015 sah unit data'!K:K,data_tracking[[#This Row],[month]],'2015 sah unit data'!J:J,data_tracking[[#This Row],[week]])=0,\"\",SUMIFS('2015 sah unit data'!C:C,'2015 sah unit data'!L:L,data_tracking[[#This Row],[year]],'2015 sah unit data'!K:K,data_tracking[[#This Row],[month]],'2015 sah unit data'!J:J,data_tracking[[#This Row],[week]]))","v":1916.4033683333334},{"$f":"IF(SUMIFS('2015 sah unit data'!D:D,'2015 sah unit data'!L:L,data_tracking[[#This Row],[year]],'2015 sah unit data'!K:K,data_tracking[[#This Row],[month]],'2015 sah unit data'!J:J,data_tracking[[#This Row],[week]])=0,\"\",SUMIFS('2015 sah unit data'!D:D,'2015 sah unit data'!L:L,data_tracking[[#This Row],[year]],'2015 sah unit data'!K:K,data_tracking[[#This Row],[month]],'2015 sah unit data'!J:J,data_tracking[[#This Row],[week]]))","v":516.08674999999994},{"$f":"IF(SUMIFS('2015 sah unit data'!E:E,'2015 sah unit data'!L:L,data_tracking[[#This Row],[year]],'2015 sah unit data'!K:K,data_tracking[[#This Row],[month]],'2015 sah unit data'!J:J,data_tracking[[#This Row],[week]])=0,\"\",SUMIFS('2015 sah unit data'!E:E,'2015 sah unit data'!L:L,data_tracking[[#This Row],[year]],'2015 sah unit data'!K:K,data_tracking[[#This Row],[month]],'2015 sah unit data'!J:J,data_tracking[[#This Row],[week]]))","v":2275},{"$f":"IF(SUMIFS('2015 sah unit data'!F:F,'2015 sah unit data'!L:L,data_tracking[[#This Row],[year]],'2015 sah unit data'!K:K,data_tracking[[#This Row],[month]],'2015 sah unit data'!J:J,data_tracking[[#This Row],[week]])=0,\"\",SUMIFS('2015 sah unit data'!F:F,'2015 sah unit data'!L:L,data_tracking[[#This Row],[year]],'2015 sah unit data'!K:K,data_tracking[[#This Row],[month]],'2015 sah unit data'!J:J,data_tracking[[#This Row],[week]]))","v":1810},{"$f":"IF(SUMIFS('2015 sah unit data'!G:G,'2015 sah unit data'!L:L,data_tracking[[#This Row],[year]],'2015 sah unit data'!K:K,data_tracking[[#This Row],[month]],'2015 sah unit data'!J:J,data_tracking[[#This Row],[week]])=0,\"\",SUMIFS('2015 sah unit data'!G:G,'2015 sah unit data'!L:L,data_tracking[[#This Row],[year]],'2015 sah unit data'!K:K,data_tracking[[#This Row],[month]],'2015 sah unit data'!J:J,data_tracking[[#This Row],[week]]))","v":705},null,{"$f":"SUMIFS('overhead costs data'!E:E,'overhead costs data'!C:C,data_tracking[[#This Row],[year]],'overhead costs data'!B:B,data_tracking[[#This Row],[month]])","v":70000}]
[5,2,2016,39.77028,21.823559999999997,{"$f":"IFERROR((data_tracking[[#This Row],[overhead]]+SUMIFS('labor costs data'!H:H,'labor costs data'!D:D,data_tracking[[#This Row],[year]],'labor costs data'!A:A,data_tracking[[#This Row],[week]]))/data_tracking[[#This Row],[SAH Completed (Total)]],\"\")","v":50.381675681140962},{"$f":"IFERROR(SUMIFS('labor costs data'!E:E,'labor costs data'!D:D,data_tracking[[#This Row],[year]],'labor costs data'!A:A,data_tracking[[#This Row],[week]])/data_tracking[[#This Row],[SAH Completed (Total)]],\"\")","v":19.249536324436523},{"$f":"IFERROR((data_tracking[[#This Row],[overhead]]+SUMIFS(labor_costs[total labor cost],labor_costs[year],data_tracking[[#This Row],[year]],labor_costs[week],data_tracking[[#This Row],[week]]))/data_tracking[[#This Row],[Units Completed (Total)]],\"\")","v":71.553969373803668},{"$f":"IF(SUM(data_tracking[[#This Row],[111-FILSN1 SAH]],data_tracking[[#This Row],[112-FILSN2 SAH]],data_tracking[[#This Row],[113-FILSN3 SAH]])=0,\"\",SUM(data_tracking[[#This Row],[111-FILSN1 SAH]],data_tracking[[#This Row],[112-FILSN2 SAH]],data_tracking[[#This Row],[113-FILSN3 SAH]]))","v":5193.8102983333338},{"$f":"IF(SUM(data_tracking[[#This Row],[111-FILSN1 Units]],data_tracking[[#This Row],[112-FILSN2 Units]],data_tracking[[#This Row],[113-FILSN3 Units]])=0,\"\",SUM(data_tracking[[#This Row],[111-FILSN1 Units]],data_tracking[[#This Row],[112-FILSN2 Units]],data_tracking[[#This Row],[113-FILSN3 Units]]))","v":3657},{"$f":"IF(SUMIFS('2015 sah unit data'!B:B,'2015 sah unit data'!L:L,data_tracking[[#This Row],[year]],'2015 sah unit data'!K:K,data_tracking[[#This Row],[month]],'2015 sah unit data'!J:J,data_tracking[[#This Row],[week]])=0,\"\",SUMIFS('2015 sah unit data'!B:B,'2015 sah unit data'!L:L,data_tracking[[#This Row],[year]],'2015 sah unit data'!K:K,data_tracking[[#This Row],[month]],'2015 sah unit data'!J:J,data_tracking[[#This Row],[week]]))","v":2932.0265416666671},{"$f":"IF(SUMIFS('2015 sah unit data'!C:C,'2015 sah unit data'!L:L,data_tracking[[#This Row],[year]],'2015 sah unit data'!K:K,data_tracking[[#This Row],[month]],'2015 sah unit data'!J:J,data_tracking[[#This Row],[week]])=0,\"\",SUMIFS('2015 sah unit data'!C:C,'2015 sah unit data'!L:L,data_tracking[[#This Row],[year]],'2015 sah unit data'!K:K,data_tracking[[#This Row],[month]],'2015 sah unit data'!J:J,data_tracking[[#This Row],[week]]))","v":2054.4504233333337},{"$f":"IF(SUMIFS('2015 sah unit data'!D:D,'2015 sah unit data'!L:L,data_tracking[[#This Row],[year]],'2015 sah unit data'!K:K,data_tracking[[#This Row],[month]],'2015 sah unit data'!J:J,data_tracking[[#This Row],[week]])=0,\"\",SUMIFS('2015 sah unit data'!D:D,'2015 sah unit data'!L:L,data_tracking[[#This Row],[year]],'2015 sah unit data'!K:K,data_tracking[[#This Row],[month]],'2015 sah unit data'!J:J,data_tracking[[#This Row],[week]]))","v":207.33333333333334},{"$f":"IF(SUMIFS('2015 sah unit data'!E:E,'2015 sah unit data'!L:L,data_tracking[[#This Row],[year]],'2015 sah unit data'!K:K,data_tracking[[#This Row],[month]],'2015 sah unit data'!J:J,data_tracking[[#This Row],[week]])=0,\"\",SUMIFS('2015 sah unit data'!E:E,'2015 sah unit data'!L:L,data_tracking[[#This Row],[year]],'2015 sah unit data'!K:K,data_tracking[[#This Row],[month]],'2015 sah unit data'!J:J,data_tracking[[#This Row],[week]]))","v":2025},{"$f":"IF(SUMIFS('2015 sah unit data'!F:F,'2015 sah unit data'!L:L,data_tracking[[#This Row],[year]],'2015 sah unit data'!K:K,data_tracking[[#This Row],[month]],'2015 sah unit data'!J:J,data_tracking[[#This Row],[week]])=0,\"\",SUMIFS('2015 sah unit data'!F:F,'2015 sah unit data'!L:L,data_tracking[[#This Row],[year]],'2015 sah unit data'!K:K,data_tracking[[#This Row],[month]],'2015 sah unit data'!J:J,data_tracking[[#This Row],[week]]))","v":1232},{"$f":"IF(SUMIFS('2015 sah unit data'!G:G,'2015 sah unit data'!L:L,data_tracking[[#This Row],[year]],'2015 sah unit data'!K:K,data_tracking[[#This Row],[month]],'2015 sah unit data'!J:J,data_tracking[[#This Row],[week]])=0,\"\",SUMIFS('2015 sah unit data'!G:G,'2015 sah unit data'!L:L,data_tracking[[#This Row],[year]],'2015 sah unit data'!K:K,data_tracking[[#This Row],[month]],'2015 sah unit data'!J:J,data_tracking[[#This Row],[week]]))","v":400},null,{"$f":"SUMIFS('overhead costs data'!E:E,'overhead costs data'!C:C,data_tracking[[#This Row],[year]],'overhead costs data'!B:B,data_tracking[[#This Row],[month]])","v":70000}]
[6,2,2016,39.77028,21.823559999999997,{"$f":"IFERROR((data_tracking[[#This Row],[overhead]]+SUMIFS('labor costs data'!H:H,'labor costs data'!D:D,data_tracking[[#This Row],[year]],'labor costs data'!A:A,data_tracking[[#This Row],[week]]))/data_tracking[[#This Row],[SAH Completed (Total)]],\"\")","v":43.104869052246762},{"$f":"IFERROR(SUMIFS('labor costs data'!E:E,'labor costs data'!D:D,data_tracking[[#This Row],[year]],'labor costs data'!A:A,data_tracking[[#This Row],[week]])/data_tracking[[#This Row],[SAH Completed (Total)]],\"\")","v":16.469256557337932},{"$f":"IFERROR((data_tracking[[#This Row],[overhead]]+SUMIFS(labor_costs[total labor cost],labor_costs[year],data_tracking[[#This Row],[year]],labor_costs[week],data_tracking[[#This Row],[week]]))/data_tracking[[#This Row],[Units Completed (Total)]],\"\")","v":49.465570132325141},{"$f":"IF(SUM(data_tracking[[#This Row],[111-FILSN1 SAH]],data_tracking[[#This Row],[112-FILSN2 SAH]],data_tracking[[#This Row],[113-FILSN3 SAH]])=0,\"\",SUM(data_tracking[[#This Row],[111-FILSN1 SAH]],data_tracking[[#This Row],[112-FILSN2 SAH]],data_tracking[[#This Row],[113-FILSN3 SAH]]))","v":6070.6103916666643},{"$f":"IF(SUM(data_tracking[[#This Row],[111-FILSN1 Units]],data_tracking[[#This Row],[112-FILSN2 Units]],data_tracking[[#This Row],[113-FILSN3 Units]])=0,\"\",SUM(data_tracking[[#This Row],[111-FILSN1 Units]],data_tracking[[#This Row],[112-FILSN2 Units]],data_tracking[[#This Row],[113-FILSN3 Units]]))","v":5290},{"$f":"IF(SUMIFS('2015 sah unit data'!B:B,'2015 sah unit data'!L:L,data_tracking[[#This Row],[year]],'2015 sah unit data'!K:K,data_tracking[[#This Row],[month]],'2015 sah unit data'!J:J,data_tracking[[#This Row],[week]])=0,\"\",SUMIFS('2015 sah unit data'!B:B,'2015 sah unit data'!L:L,data_tracking[[#This Row],[year]],'2015 sah unit data'!K:K,data_tracking[[#This Row],[month]],'2015 sah unit data'!J:J,data_tracking[[#This Row],[week]]))","v":2697.3881249999999},{"$f":"IF(SUMIFS('2015 sah unit data'!C:C,'2015 sah unit data'!L:L,data_tracking[[#This Row],[year]],'2015 sah unit data'!K:K,data_tracking[[#This Row],[month]],'2015 sah unit data'!J:J,data_tracking[[#This Row],[week]])=0,\"\",SUMIFS('2015 sah unit data'!C:C,'2015 sah unit data'!L:L,data_tracking[[#This Row],[year]],'2015 sah unit data'!K:K,data_tracking[[#This Row],[month]],'2015 sah unit data'!J:J,data_tracking[[#This Row],[week]]))","v":2506.3689333333314},{"$f":"IF(SUMIFS('2015 sah unit data'!D:D,'2015 sah unit data'!L:L,data_tracking[[#This Row],[year]],'2015 sah unit data'!K:K,data_tracking[[#This Row],[month]],'2015 sah unit data'!J:J,data_tracking[[#This Row],[week]])=0,\"\",SUMIFS('2015 sah unit data'!D:D,'2015 sah unit data'!L:L,data_tracking[[#This Row],[year]],'2015 sah unit data'!K:K,data_tracking[[#This Row],[month]],'2015 sah unit data'!J:J,data_tracking[[#This Row],[week]]))","v":866.85333333333335},{"$f":"IF(SUMIFS('2015 sah unit data'!E:E,'2015 sah unit data'!L:L,data_tracking[[#This Row],[year]],'2015 sah unit data'!K:K,data_tracking[[#This Row],[month]],'2015 sah unit data'!J:J,data_tracking[[#This Row],[week]])=0,\"\",SUMIFS('2015 sah unit data'!E:E,'2015 sah unit data'!L:L,data_tracking[[#This Row],[year]],'2015 sah unit data'!K:K,data_tracking[[#This Row],[month]],'2015 sah unit data'!J:J,data_tracking[[#This Row],[week]]))","v":1650},{"$f":"IF(SUMIFS('2015 sah unit data'!F:F,'2015 sah unit data'!L:L,data_tracking[[#This Row],[year]],'2015 sah unit data'!K:K,data_tracking[[#This Row],[month]],'2015 sah unit data'!J:J,data_tracking[[#This Row],[week]])=0,\"\",SUMIFS('2015 sah unit data'!F:F,'2015 sah unit data'!L:L,data_tracking[[#This Row],[year]],'2015 sah unit data'!K:K,data_tracking[[#This Row],[month]],'2015 sah unit data'!J:J,data_tracking[[#This Row],[week]]))","v":2040},{"$f":"IF(SUMIFS('2015 sah unit data'!G:G,'2015 sah unit data'!L:L,data_tracking[[#This Row],[year]],'2015 sah unit data'!K:K,data_tracking[[#This Row],[month]],'2015 sah unit data'!J:J,data_tracking[[#This Row],[week]])=0,\"\",SUMIFS('2015 sah unit data'!G:G,'2015 sah unit data'!L:L,data_tracking[[#This Row],[year]],'2015 sah unit data'!K:K,data_tracking[[#This Row],[month]],'2015 sah unit data'!J:J,data_tracking[[#This Row],[week]]))","v":1600},null,{"$f":"SUMIFS('overhead costs data'!E:E,'overhead costs data'!C:C,data_tracking[[#This Row],[year]],'overhead costs data'!B:B,data_tracking[[#This Row],[month]])","v":70000}]
[7,2,2016,39.77028,21.823559999999997,{"$f":"IFERROR((data_tracking[[#This Row],[overhead]]+SUMIFS('labor costs data'!H:H,'labor costs data'!D:D,data_tracking[[#This Row],[year]],'labor costs data'!A:A,data_tracking[[#This Row],[week]]))/data_tracking[[#This Row],[SAH Completed (Total)]],\"\")","v":48.95059797747124},{"$f":"IFERROR(SUMIFS('labor costs data'!E:E,'labor costs data'!D:D,data_tracking[[#This Row],[year]],'labor costs data'!A:A,data_tracking[[#This Row],[week]])/data_tracking[[#This Row],[SAH Completed (Total)]],\"\")","v":18.47642136854304},{"$f":"IFERROR((data_tracking[[#This Row],[overhead]]+SUMIFS(labor_costs[total labor cost],labor_costs[year],data_tracking[[#This Row],[year]],labor_costs[week],data_tracking[[#This Row],[week]]))/data_tracking[[#This Row],[Units Completed (Total)]],\"\")","v":34.86092177197802},{"$f":"IF(SUM(data_tracking[[#This Row],[111-FILSN1 SAH]],data_tracking[[#This Row],[112-FILSN2 SAH]],data_tracking[[#This Row],[113-FILSN3 SAH]])=0,\"\",SUM(data_tracking[[#This Row],[111-FILSN1 SAH]],data_tracking[[#This Row],[112-FILSN2 SAH]],data_tracking[[#This Row],[113-FILSN3 SAH]]))","v":5184.5640499999981},{"$f":"IF(SUM(data_tracking[[#This Row],[111-FILSN1 Units]],data_tracking[[#This Row],[112-FILSN2 Units]],data_tracking[[#This Row],[113-FILSN3 Units]])=0,\"\",SUM(data_tracking[[#This Row],[111-FILSN1 Units]],data_tracking[[#This Row],[112-FILSN2 Units]],data_tracking[[#This Row],[113-FILSN3 Units]]))","v":7280},{"$f":"IF(SUMIFS('2015 sah unit data'!B:B,'2015 sah unit data'!L:L,data_tracking[[#This Row],[year]],'2015 sah unit data'!K:K,data_tracking[[#This Row],[month]],'2015 sah unit data'!J:J,data_tracking[[#This Row],[week]])=0,\"\",SUMIFS('2015 sah unit data'!B:B,'2015 sah unit data'!L:L,data_tracking[[#This Row],[year]],'2015 sah unit data'!K:K,data_tracking[[#This Row],[month]],'2015 sah unit data'!J:J,data_tracking[[#This Row],[week]]))","v":2572.8296666666665},{"$f":"IF(SUMIFS('2015 sah unit data'!C:C,'2015 sah unit data'!L:L,data_tracking[[#This Row],[year]],'2015 sah unit data'!K:K,data_tracking[[#This Row],[month]],'2015 sah unit data'!J:J,data_tracking[[#This Row],[week]])=0,\"\",SUMIFS('2015 sah unit data'!C:C,'2015 sah unit data'!L:L,data_tracking[[#This Row],[year]],'2015 sah unit data'!K:K,data_tracking[[#This Row],[month]],'2015 sah unit data'!J:J,data_tracking[[#This Row],[week]]))","v":1655.6607166666652},{"$f":"IF(SUMIFS('2015 sah unit data'!D:D,'2015 sah unit data'!L:L,data_tracking[[#This Row],[year]],'2015 sah unit data'!K:K,data_tracking[[#This Row],[month]],'2015 sah unit data'!J:J,data_tracking[[#This Row],[week]])=0,\"\",SUMIFS('2015 sah unit data'!D:D,'2015 sah unit data'!L:L,data_tracking[[#This Row],[year]],'2015 sah unit data'!K:K,data_tracking[[#This Row],[month]],'2015 sah unit data'!J:J,data_tracking[[#This Row],[week]]))","v":956.07366666666655},{"$f":"IF(SUMIFS('2015 sah unit data'!E:E,'2015 sah unit data'!L:L,data_tracking[[#This Row],[year]],'2015 sah unit data'!K:K,data_tracking[[#This Row],[month]],'2015 sah unit data'!J:J,data_tracking[[#This Row],[week]])=0,\"\",SUMIFS('2015 sah unit data'!E:E,'2015 sah unit data'!L:L,data_tracking[[#This Row],[year]],'2015 sah unit data'!K:K,data_tracking[[#This Row],[month]],'2015 sah unit data'!J:J,data_tracking[[#This Row],[week]]))","v":1750},{"$f":"IF(SUMIFS('2015 sah unit data'!F:F,'2015 sah unit data'!L:L,data_tracking[[#This Row],[year]],'2015 sah unit data'!K:K,data_tracking[[#This Row],[month]],'2015 sah unit data'!J:J,data_tracking[[#This Row],[week]])=0,\"\",SUMIFS('2015 sah unit data'!F:F,'2015 sah unit data'!L:L,data_tracking[[#This Row],[year]],'2015 sah unit data'!K:K,data_tracking[[#This Row],[month]],'2015 sah unit data'!J:J,data_tracking[[#This Row],[week]]))","v":3250},{"$f":"IF(SUMIFS('2015 sah unit data'!G:G,'2015 sah unit data'!L:L,data_tracking[[#This Row],[year]],'2015 sah unit data'!K:K,data_tracking[[#This Row],[month]],'2015 sah unit data'!J:J,data_tracking[[#This Row],[week]])=0,\"\",SUMIFS('2015 sah unit data'!G:G,'2015 sah unit data'!L:L,data_tracking[[#This Row],[year]],'2015 sah unit data'!K:K,data_tracking[[#This Row],[month]],'2015 sah unit data'!J:J,data_tracking[[#This Row],[week]]))","v":2280},null,{"$f":"SUMIFS('overhead costs data'!E:E,'overhead costs data'!C:C,data_tracking[[#This Row],[year]],'overhead costs data'!B:B,data_tracking[[#This Row],[month]])","v":70000}]
[8,2,2016,39.77028,21.823559999999997,{"$f":"IFERROR((data_tracking[[#This Row],[overhead]]+SUMIFS('labor costs data'!H:H,'labor costs data'!D:D,data_tracking[[#This Row],[year]],'labor costs data'!A:A,data_tracking[[#This Row],[week]]))/data_tracking[[#This Row],[SAH Completed (Total)]],\"\")","v":73.476491733235051},{"$f":"IFERROR(SUMIFS('labor costs data'!E:E,'labor costs data'!D:D,data_tracking[[#This Row],[year]],'labor costs data'!A:A,data_tracking[[#This Row],[week]])/data_tracking[[#This Row],[SAH Completed (Total)]],\"\")","v":27.733729066401327},{"$f":"IFERROR((data_tracking[[#This Row],[overhead]]+SUMIFS(labor_costs[total labor cost],labor_costs[year],data_tracking[[#This Row],[year]],labor_costs[week],data_tracking[[#This Row],[week]]))/data_tracking[[#This Row],[Units Completed (Total)]],\"\")","v":72.11921298664393},{"$f":"IF(SUM(data_tracking[[#This Row],[111-FILSN1 SAH]],data_tracking[[#This Row],[112-FILSN2 SAH]],data_tracking[[#This Row],[113-FILSN3 SAH]])=0,\"\",SUM(data_tracking[[#This Row],[111-FILSN1 SAH]],data_tracking[[#This Row],[112-FILSN2 SAH]],data_tracking[[#This Row],[113-FILSN3 SAH]]))","v":3453.9960266666658},{"$f":"IF(SUM(data_tracking[[#This Row],[111-FILSN1 Units]],data_tracking[[#This Row],[112-FILSN2 Units]],data_tracking[[#This Row],[113-FILSN3 Units]])=0,\"\",SUM(data_tracking[[#This Row],[111-FILSN1 Units]],data_tracking[[#This Row],[112-FILSN2 Units]],data_tracking[[#This Row],[113-FILSN3 Units]]))","v":3519},{"$f":"IF(SUMIFS('2015 sah unit data'!B:B,'2015 sah unit data'!L:L,data_tracking[[#This Row],[year]],'2015 sah unit data'!K:K,data_tracking[[#This Row],[month]],'2015 sah unit data'!J:J,data_tracking[[#This Row],[week]])=0,\"\",SUMIFS('2015 sah unit data'!B:B,'2015 sah unit data'!L:L,data_tracking[[#This Row],[year]],'2015 sah unit data'!K:K,data_tracking[[#This Row],[month]],'2015 sah unit data'!J:J,data_tracking[[#This Row],[week]]))","v":1439.3876666666665},{"$f":"IF(SUMIFS('2015 sah unit data'!C:C,'2015 sah unit data'!L:L,data_tracking[[#This Row],[year]],'2015 sah unit data'!K:K,data_tracking[[#This Row],[month]],'2015 sah unit data'!J:J,data_tracking[[#This Row],[week]])=0,\"\",SUMIFS('2015 sah unit data'!C:C,'2015 sah unit data'!L:L,data_tracking[[#This Row],[year]],'2015 sah unit data'!K:K,data_tracking[[#This Row],[month]],'2015 sah unit data'!J:J,data_tracking[[#This Row],[week]]))","v":1494.8728999999996},{"$f":"IF(SUMIFS('2015 sah unit data'!D:D,'2015 sah unit data'!L:L,data_tracking[[#This Row],[year]],'2015 sah unit data'!K:K,data_tracking[[#This Row],[month]],'2015 sah unit data'!J:J,data_tracking[[#This Row],[week]])=0,\"\",SUMIFS('2015 sah unit data'!D:D,'2015 sah unit data'!L:L,data_tracking[[#This Row],[year]],'2015 sah unit data'!K:K,data_tracking[[#This Row],[month]],'2015 sah unit data'!J:J,data_tracking[[#This Row],[week]]))","v":519.7354600000001},{"$f":"IF(SUMIFS('2015 sah unit data'!E:E,'2015 sah unit data'!L:L,data_tracking[[#This Row],[year]],'2015 sah unit data'!K:K,data_tracking[[#This Row],[month]],'2015 sah unit data'!J:J,data_tracking[[#This Row],[week]])=0,\"\",SUMIFS('2015 sah unit data'!E:E,'2015 sah unit data'!L:L,data_tracking[[#This Row],[year]],'2015 sah unit data'!K:K,data_tracking[[#This Row],[month]],'2015 sah unit data'!J:J,data_tracking[[#This Row],[week]]))","v":1200},{"$f":"IF(SUMIFS('2015 sah unit data'!F:F,'2015 sah unit data'!L:L,data_tracking[[#This Row],[year]],'2015 sah unit data'!K:K,data_tracking[[#This Row],[month]],'2015 sah unit data'!J:J,data_tracking[[#This Row],[week]])=0,\"\",SUMIFS('2015 sah unit data'!F:F,'2015 sah unit data'!L:L,data_tracking[[#This Row],[year]],'2015 sah unit data'!K:K,data_tracking[[#This Row],[month]],'2015 sah unit data'!J:J,data_tracking[[#This Row],[week]]))","v":1090},{"$f":"IF(SUMIFS('2015 sah unit data'!G:G,'2015 sah unit data'!L:L,data_tracking[[#This Row],[year]],'2015 sah unit data'!K:K,data_tracking[[#This Row],[month]],'2015 sah unit data'!J:J,data_tracking[[#This Row],[week]])=0,\"\",SUMIFS('2015 sah unit data'!G:G,'2015 sah unit data'!L:L,data_tracking[[#This Row],[year]],'2015 sah unit data'!K:K,data_tracking[[#This Row],[month]],'2015 sah unit data'!J:J,data_tracking[[#This Row],[week]]))","v":1229},null,{"$f":"SUMIFS('overhead costs data'!E:E,'overhead costs data'!C:C,data_tracking[[#This Row],[year]],'overhead costs data'!B:B,data_tracking[[#This Row],[month]])","v":70000}]
[9,3,2016,39.77028,21.823559999999997,{"$f":"IFERROR((data_tracking[[#This Row],[overhead]]+SUMIFS('labor costs data'!H:H,'labor costs data'!D:D,data_tracking[[#This Row],[year]],'labor costs data'!A:A,data_tracking[[#This Row],[week]]))/data_tracking[[#This Row],[SAH Completed (Total)]],\"\")","v":50.465363583969513},{"$f":"IFERROR(SUMIFS('labor costs data'!E:E,'labor costs data'!D:D,data_tracking[[#This Row],[year]],'labor costs data'!A:A,data_tracking[[#This Row],[week]])/data_tracking[[#This Row],[SAH Completed (Total)]],\"\")","v":20.460471903163292},{"$f":"IFERROR((data_tracking[[#This Row],[overhead]]+SUMIFS(labor_costs[total labor cost],labor_costs[year],data_tracking[[#This Row],[year]],labor_costs[week],data_tracking[[#This Row],[week]]))/data_tracking[[#This Row],[Units Completed (Total)]],\"\")","v":49.267707182873153},{"$f":"IF(SUM(data_tracking[[#This Row],[111-FILSN1 SAH]],data_tracking[[#This Row],[112-FILSN2 SAH]],data_tracking[[#This Row],[113-FILSN3 SAH]])=0,\"\",SUM(data_tracking[[#This Row],[111-FILSN1 SAH]],data_tracking[[#This Row],[112-FILSN2 SAH]],data_tracking[[#This Row],[113-FILSN3 SAH]]))","v":4879.3862366666663},{"$f":"IF(SUM(data_tracking[[#This Row],[111-FILSN1 Units]],data_tracking[[#This Row],[112-FILSN2 Units]],data_tracking[[#This Row],[113-FILSN3 Units]])=0,\"\",SUM(data_tracking[[#This Row],[111-FILSN1 Units]],data_tracking[[#This Row],[112-FILSN2 Units]],data_tracking[[#This Row],[113-FILSN3 Units]]))","v":4998},{"$f":"IF(SUMIFS('2015 sah unit data'!B:B,'2015 sah unit data'!L:L,data_tracking[[#This Row],[year]],'2015 sah unit data'!K:K,data_tracking[[#This Row],[month]],'2015 sah unit data'!J:J,data_tracking[[#This Row],[week]])=0,\"\",SUMIFS('2015 sah unit data'!B:B,'2015 sah unit data'!L:L,data_tracking[[#This Row],[year]],'2015 sah unit data'!K:K,data_tracking[[#This Row],[month]],'2015 sah unit data'!J:J,data_tracking[[#This Row],[week]]))","v":2744.5970833333326},{"$f":"IF(SUMIFS('2015 sah unit data'!C:C,'2015 sah unit data'!L:L,data_tracking[[#This Row],[year]],'2015 sah unit data'!K:K,data_tracking[[#This Row],[month]],'2015 sah unit data'!J:J,data_tracking[[#This Row],[week]])=0,\"\",SUMIFS('2015 sah unit data'!C:C,'2015 sah unit data'!L:L,data_tracking[[#This Row],[year]],'2015 sah unit data'!K:K,data_tracking[[#This Row],[month]],'2015 sah unit data'!J:J,data_tracking[[#This Row],[week]]))","v":1359.1701500000001},{"$f":"IF(SUMIFS('2015 sah unit data'!D:D,'2015 sah unit data'!L:L,data_tracking[[#This Row],[year]],'2015 sah unit data'!K:K,data_tracking[[#This Row],[month]],'2015 sah unit data'!J:J,data_tracking[[#This Row],[week]])=0,\"\",SUMIFS('2015 sah unit data'!D:D,'2015 sah unit data'!L:L,data_tracking[[#This Row],[year]],'2015 sah unit data'!K:K,data_tracking[[#This Row],[month]],'2015 sah unit data'!J:J,data_tracking[[#This Row],[week]]))","v":775.61900333333335},{"$f":"IF(SUMIFS('2015 sah unit data'!E:E,'2015 sah unit data'!L:L,data_tracking[[#This Row],[year]],'2015 sah unit data'!K:K,data_tracking[[#This Row],[month]],'2015 sah unit data'!J:J,data_tracking[[#This Row],[week]])=0,\"\",SUMIFS('2015 sah unit data'!E:E,'2015 sah unit data'!L:L,data_tracking[[#This Row],[year]],'2015 sah unit data'!K:K,data_tracking[[#This Row],[month]],'2015 sah unit data'!J:J,data_tracking[[#This Row],[week]]))","v":2000},{"$f":"IF(SUMIFS('2015 sah unit data'!F:F,'2015 sah unit data'!L:L,data_tracking[[#This Row],[year]],'2015 sah unit data'!K:K,data_tracking[[#This Row],[month]],'2015 sah unit data'!J:J,data_tracking[[#This Row],[week]])=0,\"\",SUMIFS('2015 sah unit data'!F:F,'2015 sah unit data'!L:L,data_tracking[[#This Row],[year]],'2015 sah unit data'!K:K,data_tracking[[#This Row],[month]],'2015 sah unit data'!J:J,data_tracking[[#This Row],[week]]))","v":2080},{"$f":"IF(SUMIFS('2015 sah unit data'!G:G,'2015 sah unit data'!L:L,data_tracking[[#This Row],[year]],'2015 sah unit data'!K:K,data_tracking[[#This Row],[month]],'2015 sah unit data'!J:J,data_tracking[[#This Row],[week]])=0,\"\",SUMIFS('2015 sah unit data'!G:G,'2015 sah unit data'!L:L,data_tracking[[#This Row],[year]],'2015 sah unit data'!K:K,data_tracking[[#This Row],[month]],'2015 sah unit data'!J:J,data_tracking[[#This Row],[week]]))","v":918},null,{"$f":"SUMIFS('overhead costs data'!E:E,'overhead costs data'!C:C,data_tracking[[#This Row],[year]],'overhead costs data'!B:B,data_tracking[[#This Row],[month]])","v":56000}]
[10,3,2016,39.77028,21.823559999999997,{"$f":"IFERROR((data_tracking[[#This Row],[overhead]]+SUMIFS('labor costs data'!H:H,'labor costs data'!D:D,data_tracking[[#This Row],[year]],'labor costs data'!A:A,data_tracking[[#This Row],[week]]))/data_tracking[[#This Row],[SAH Completed (Total)]],\"\")","v":48.274614271475585},{"$f":"IFERROR(SUMIFS('labor costs data'!E:E,'labor costs data'!D:D,data_tracking[[#This Row],[year]],'labor costs data'!A:A,data_tracking[[#This Row],[week]])/data_tracking[[#This Row],[SAH Completed (Total)]],\"\")","v":19.572263405852578},{"$f":"IFERROR((data_tracking[[#This Row],[overhead]]+SUMIFS(labor_costs[total labor cost],labor_costs[year],data_tracking[[#This Row],[year]],labor_costs[week],data_tracking[[#This Row],[week]]))/data_tracking[[#This Row],[Units Completed (Total)]],\"\")","v":51.493099226265166},{"$f":"IF(SUM(data_tracking[[#This Row],[111-FILSN1 SAH]],data_tracking[[#This Row],[112-FILSN2 SAH]],data_tracking[[#This Row],[113-FILSN3 SAH]])=0,\"\",SUM(data_tracking[[#This Row],[111-FILSN1 SAH]],data_tracking[[#This Row],[112-FILSN2 SAH]],data_tracking[[#This Row],[113-FILSN3 SAH]]))","v":5100.8175666666666},{"$f":"IF(SUM(data_tracking[[#This Row],[111-FILSN1 Units]],data_tracking[[#This Row],[112-FILSN2 Units]],data_tracking[[#This Row],[113-FILSN3 Units]])=0,\"\",SUM(data_tracking[[#This Row],[111-FILSN1 Units]],data_tracking[[#This Row],[112-FILSN2 Units]],data_tracking[[#This Row],[113-FILSN3 Units]]))","v":4782},{"$f":"IF(SUMIFS('2015 sah unit data'!B:B,'2015 sah unit data'!L:L,data_tracking[[#This Row],[year]],'2015 sah unit data'!K:K,data_tracking[[#This Row],[month]],'2015 sah unit data'!J:J,data_tracking[[#This Row],[week]])=0,\"\",SUMIFS('2015 sah unit data'!B:B,'2015 sah unit data'!L:L,data_tracking[[#This Row],[year]],'2015 sah unit data'!K:K,data_tracking[[#This Row],[month]],'2015 sah unit data'!J:J,data_tracking[[#This Row],[week]]))","v":3523.5938333333334},{"$f":"IF(SUMIFS('2015 sah unit data'!C:C,'2015 sah unit data'!L:L,data_tracking[[#This Row],[year]],'2015 sah unit data'!K:K,data_tracking[[#This Row],[month]],'2015 sah unit data'!J:J,data_tracking[[#This Row],[week]])=0,\"\",SUMIFS('2015 sah unit data'!C:C,'2015 sah unit data'!L:L,data_tracking[[#This Row],[year]],'2015 sah unit data'!K:K,data_tracking[[#This Row],[month]],'2015 sah unit data'!J:J,data_tracking[[#This Row],[week]]))","v":929.58566666666638},{"$f":"IF(SUMIFS('2015 sah unit data'!D:D,'2015 sah unit data'!L:L,data_tracking[[#This Row],[year]],'2015 sah unit data'!K:K,data_tracking[[#This Row],[month]],'2015 sah unit data'!J:J,data_tracking[[#This Row],[week]])=0,\"\",SUMIFS('2015 sah unit data'!D:D,'2015 sah unit data'!L:L,data_tracking[[#This Row],[year]],'2015 sah unit data'!K:K,data_tracking[[#This Row],[month]],'2015 sah unit data'!J:J,data_tracking[[#This Row],[week]]))","v":647.63806666666653},{"$f":"IF(SUMIFS('2015 sah unit data'!E:E,'2015 sah unit data'!L:L,data_tracking[[#This Row],[year]],'2015 sah unit data'!K:K,data_tracking[[#This Row],[month]],'2015 sah unit data'!J:J,data_tracking[[#This Row],[week]])=0,\"\",SUMIFS('2015 sah unit data'!E:E,'2015 sah unit data'!L:L,data_tracking[[#This Row],[year]],'2015 sah unit data'!K:K,data_tracking[[#This Row],[month]],'2015 sah unit data'!J:J,data_tracking[[#This Row],[week]]))","v":2900},{"$f":"IF(SUMIFS('2015 sah unit data'!F:F,'2015 sah unit data'!L:L,data_tracking[[#This Row],[year]],'2015 sah unit data'!K:K,data_tracking[[#This Row],[month]],'2015 sah unit data'!J:J,data_tracking[[#This Row],[week]])=0,\"\",SUMIFS('2015 sah unit data'!F:F,'2015 sah unit data'!L:L,data_tracking[[#This Row],[year]],'2015 sah unit data'!K:K,data_tracking[[#This Row],[month]],'2015 sah unit data'!J:J,data_tracking[[#This Row],[week]]))","v":1000},{"$f":"IF(SUMIFS('2015 sah unit data'!G:G,'2015 sah unit data'!L:L,data_tracking[[#This Row],[year]],'2015 sah unit data'!K:K,data_tracking[[#This Row],[month]],'2015 sah unit data'!J:J,data_tracking[[#This Row],[week]])=0,\"\",SUMIFS('2015 sah unit data'!G:G,'2015 sah unit data'!L:L,data_tracking[[#This Row],[year]],'2015 sah unit data'!K:K,data_tracking[[#This Row],[month]],'2015 sah unit data'!J:J,data_tracking[[#This Row],[week]]))","v":882},null,{"$f":"SUMIFS('overhead costs data'!E:E,'overhead costs data'!C:C,data_tracking[[#This Row],[year]],'overhead costs data'!B:B,data_tracking[[#This Row],[month]])","v":56000}]
[11,3,2016,39.77028,21.823559999999997,{"$f":"IFERROR((data_tracking[[#This Row],[overhead]]+SUMIFS('labor costs data'!H:H,'labor costs data'!D:D,data_tracking[[#This Row],[year]],'labor costs data'!A:A,data_tracking[[#This Row],[week]]))/data_tracking[[#This Row],[SAH Completed (Total)]],\"\")","v":41.674528685123967},{"$f":"IFERROR(SUMIFS('labor costs data'!E:E,'labor costs data'!D:D,data_tracking[[#This Row],[year]],'labor costs data'!A:A,data_tracking[[#This Row],[week]])/data_tracking[[#This Row],[SAH Completed (Total)]],\"\")","v":17.066220889083436},{"$f":"IFERROR((data_tracking[[#This Row],[overhead]]+SUMIFS(labor_costs[total labor cost],labor_costs[year],data_tracking[[#This Row],[year]],labor_costs[week],data_tracking[[#This Row],[week]]))/data_tracking[[#This Row],[Units Completed (Total)]],\"\")","v":45.163735607068212},{"$f":"IF(SUM(data_tracking[[#This Row],[111-FILSN1 SAH]],data_tracking[[#This Row],[112-FILSN2 SAH]],data_tracking[[#This Row],[113-FILSN3 SAH]])=0,\"\",SUM(data_tracking[[#This Row],[111-FILSN1 SAH]],data_tracking[[#This Row],[112-FILSN2 SAH]],data_tracking[[#This Row],[113-FILSN3 SAH]]))","v":5703.6455600000008},{"$f":"IF(SUM(data_tracking[[#This Row],[111-FILSN1 Units]],data_tracking[[#This Row],[112-FILSN2 Units]],data_tracking[[#This Row],[113-FILSN3 Units]])=0,\"\",SUM(data_tracking[[#This Row],[111-FILSN1 Units]],data_tracking[[#This Row],[112-FILSN2 Units]],data_tracking[[#This Row],[113-FILSN3 Units]]))","v":5263},{"$f":"IF(SUMIFS('2015 sah unit data'!B:B,'2015 sah unit data'!L:L,data_tracking[[#This Row],[year]],'2015 sah unit data'!K:K,data_tracking[[#This Row],[month]],'2015 sah unit data'!J:J,data_tracking[[#This Row],[week]])=0,\"\",SUMIFS('2015 sah unit data'!B:B,'2015 sah unit data'!L:L,data_tracking[[#This Row],[year]],'2015 sah unit data'!K:K,data_tracking[[#This Row],[month]],'2015 sah unit data'!J:J,data_tracking[[#This Row],[week]]))","v":2833.0279166666669},{"$f":"IF(SUMIFS('2015 sah unit data'!C:C,'2015 sah unit data'!L:L,data_tracking[[#This Row],[year]],'2015 sah unit data'!K:K,data_tracking[[#This Row],[month]],'2015 sah unit data'!J:J,data_tracking[[#This Row],[week]])=0,\"\",SUMIFS('2015 sah unit data'!C:C,'2015 sah unit data'!L:L,data_tracking[[#This Row],[year]],'2015 sah unit data'!K:K,data_tracking[[#This Row],[month]],'2015 sah unit data'!J:J,data_tracking[[#This Row],[week]]))","v":1796.0267333333338},{"$f":"IF(SUMIFS('2015 sah unit data'!D:D,'2015 sah unit data'!L:L,data_tracking[[#This Row],[year]],'2015 sah unit data'!K:K,data_tracking[[#This Row],[month]],'2015 sah unit data'!J:J,data_tracking[[#This Row],[week]])=0,\"\",SUMIFS('2015 sah unit data'!D:D,'2015 sah unit data'!L:L,data_tracking[[#This Row],[year]],'2015 sah unit data'!K:K,data_tracking[[#This Row],[month]],'2015 sah unit data'!J:J,data_tracking[[#This Row],[week]]))","v":1074.5909099999999},{"$f":"IF(SUMIFS('2015 sah unit data'!E:E,'2015 sah unit data'!L:L,data_tracking[[#This Row],[year]],'2015 sah unit data'!K:K,data_tracking[[#This Row],[month]],'2015 sah unit data'!J:J,data_tracking[[#This Row],[week]])=0,\"\",SUMIFS('2015 sah unit data'!E:E,'2015 sah unit data'!L:L,data_tracking[[#This Row],[year]],'2015 sah unit data'!K:K,data_tracking[[#This Row],[month]],'2015 sah unit data'!J:J,data_tracking[[#This Row],[week]]))","v":1735},{"$f":"IF(SUMIFS('2015 sah unit data'!F:F,'2015 sah unit data'!L:L,data_tracking[[#This Row],[year]],'2015 sah unit data'!K:K,data_tracking[[#This Row],[month]],'2015 sah unit data'!J:J,data_tracking[[#This Row],[week]])=0,\"\",SUMIFS('2015 sah unit data'!F:F,'2015 sah unit data'!L:L,data_tracking[[#This Row],[year]],'2015 sah unit data'!K:K,data_tracking[[#This Row],[month]],'2015 sah unit data'!J:J,data_tracking[[#This Row],[week]]))","v":2690},{"$f":"IF(SUMIFS('2015 sah unit data'!G:G,'2015 sah unit data'!L:L,data_tracking[[#This Row],[year]],'2015 sah unit data'!K:K,data_tracking[[#This Row],[month]],'2015 sah unit data'!J:J,data_tracking[[#This Row],[week]])=0,\"\",SUMIFS('2015 sah unit data'!G:G,'2015 sah unit data'!L:L,data_tracking[[#This Row],[year]],'2015 sah unit data'!K:K,data_tracking[[#This Row],[month]],'2015 sah unit data'!J:J,data_tracking[[#This Row],[week]]))","v":838},null,{"$f":"SUMIFS('overhead costs data'!E:E,'overhead costs data'!C:C,data_tracking[[#This Row],[year]],'overhead costs data'!B:B,data_tracking[[#This Row],[month]])","v":56000}]
[12,3,2016,39.77028,21.823559999999997,{"$f":"IFERROR((data_tracking[[#This Row],[overhead]]+SUMIFS('labor costs data'!H:H,'labor costs data'!D:D,data_tracking[[#This Row],[year]],'labor costs data'!A:A,data_tracking[[#This Row],[week]]))/data_tracking[[#This Row],[SAH Completed (Total)]],\"\")","v":46.099291367697852},{"$f":"IFERROR(SUMIFS('labor costs data'!E:E,'labor costs data'!D:D,data_tracking[[#This Row],[year]],'labor costs data'!A:A,data_tracking[[#This Row],[week]])/data_tracking[[#This Row],[SAH Completed (Total)]],\"\")","v":18.878214442583047},{"$f":"IFERROR((data_tracking[[#This Row],[overhead]]+SUMIFS(labor_costs[total labor cost],labor_costs[year],data_tracking[[#This Row],[year]],labor_costs[week],data_tracking[[#This Row],[week]]))/data_tracking[[#This Row],[Units Completed (Total)]],\"\")","v":51.305145801856249},{"$f":"IF(SUM(data_tracking[[#This Row],[111-FILSN1 SAH]],data_tracking[[#This Row],[112-FILSN2 SAH]],data_tracking[[#This Row],[113-FILSN3 SAH]])=0,\"\",SUM(data_tracking[[#This Row],[111-FILSN1 SAH]],data_tracking[[#This Row],[112-FILSN2 SAH]],data_tracking[[#This Row],[113-FILSN3 SAH]]))","v":5156.1907666666657},{"$f":"IF(SUM(data_tracking[[#This Row],[111-FILSN1 Units]],data_tracking[[#This Row],[112-FILSN2 Units]],data_tracking[[#This Row],[113-FILSN3 Units]])=0,\"\",SUM(data_tracking[[#This Row],[111-FILSN1 Units]],data_tracking[[#This Row],[112-FILSN2 Units]],data_tracking[[#This Row],[113-FILSN3 Units]]))","v":4633},{"$f":"IF(SUMIFS('2015 sah unit data'!B:B,'2015 sah unit data'!L:L,data_tracking[[#This Row],[year]],'2015 sah unit data'!K:K,data_tracking[[#This Row],[month]],'2015 sah unit data'!J:J,data_tracking[[#This Row],[week]])=0,\"\",SUMIFS('2015 sah unit data'!B:B,'2015 sah unit data'!L:L,data_tracking[[#This Row],[year]],'2015 sah unit data'!K:K,data_tracking[[#This Row],[month]],'2015 sah unit data'!J:J,data_tracking[[#This Row],[week]]))","v":3052.485666666666},{"$f":"IF(SUMIFS('2015 sah unit data'!C:C,'2015 sah unit data'!L:L,data_tracking[[#This Row],[year]],'2015 sah unit data'!K:K,data_tracking[[#This Row],[month]],'2015 sah unit data'!J:J,data_tracking[[#This Row],[week]])=0,\"\",SUMIFS('2015 sah unit data'!C:C,'2015 sah unit data'!L:L,data_tracking[[#This Row],[year]],'2015 sah unit data'!K:K,data_tracking[[#This Row],[month]],'2015 sah unit data'!J:J,data_tracking[[#This Row],[week]]))","v":1040.7956666666664},{"$f":"IF(SUMIFS('2015 sah unit data'!D:D,'2015 sah unit data'!L:L,data_tracking[[#This Row],[year]],'2015 sah unit data'!K:K,data_tracking[[#This Row],[month]],'2015 sah unit data'!J:J,data_tracking[[#This Row],[week]])=0,\"\",SUMIFS('2015 sah unit data'!D:D,'2015 sah unit data'!L:L,data_tracking[[#This Row],[year]],'2015 sah unit data'!K:K,data_tracking[[#This Row],[month]],'2015 sah unit data'!J:J,data_tracking[[#This Row],[week]]))","v":1062.9094333333333},{"$f":"IF(SUMIFS('2015 sah unit data'!E:E,'2015 sah unit data'!L:L,data_tracking[[#This Row],[year]],'2015 sah unit data'!K:K,data_tracking[[#This Row],[month]],'2015 sah unit data'!J:J,data_tracking[[#This Row],[week]])=0,\"\",SUMIFS('2015 sah unit data'!E:E,'2015 sah unit data'!L:L,data_tracking[[#This Row],[year]],'2015 sah unit data'!K:K,data_tracking[[#This Row],[month]],'2015 sah unit data'!J:J,data_tracking[[#This Row],[week]]))","v":1875},{"$f":"IF(SUMIFS('2015 sah unit data'!F:F,'2015 sah unit data'!L:L,data_tracking[[#This Row],[year]],'2015 sah unit data'!K:K,data_tracking[[#This Row],[month]],'2015 sah unit data'!J:J,data_tracking[[#This Row],[week]])=0,\"\",SUMIFS('2015 sah unit data'!F:F,'2015 sah unit data'!L:L,data_tracking[[#This Row],[year]],'2015 sah unit data'!K:K,data_tracking[[#This Row],[month]],'2015 sah unit data'!J:J,data_tracking[[#This Row],[week]]))","v":1120},{"$f":"IF(SUMIFS('2015 sah unit data'!G:G,'2015 sah unit data'!L:L,data_tracking[[#This Row],[year]],'2015 sah unit data'!K:K,data_tracking[[#This Row],[month]],'2015 sah unit data'!J:J,data_tracking[[#This Row],[week]])=0,\"\",SUMIFS('2015 sah unit data'!G:G,'2015 sah unit data'!L:L,data_tracking[[#This Row],[year]],'2015 sah unit data'!K:K,data_tracking[[#This Row],[month]],'2015 sah unit data'!J:J,data_tracking[[#This Row],[week]]))","v":1638},null,{"$f":"SUMIFS('overhead costs data'!E:E,'overhead costs data'!C:C,data_tracking[[#This Row],[year]],'overhead costs data'!B:B,data_tracking[[#This Row],[month]])","v":56000}]
[13,3,2016,39.77028,21.823559999999997,{"$f":"IFERROR((data_tracking[[#This Row],[overhead]]+SUMIFS('labor costs data'!H:H,'labor costs data'!D:D,data_tracking[[#This Row],[year]],'labor costs data'!A:A,data_tracking[[#This Row],[week]]))/data_tracking[[#This Row],[SAH Completed (Total)]],\"\")","v":59.182662724450836},{"$f":"IFERROR(SUMIFS('labor costs data'!E:E,'labor costs data'!D:D,data_tracking[[#This Row],[year]],'labor costs data'!A:A,data_tracking[[#This Row],[week]])/data_tracking[[#This Row],[SAH Completed (Total)]],\"\")","v":24.83833281581304},{"$f":"IFERROR((data_tracking[[#This Row],[overhead]]+SUMIFS(labor_costs[total labor cost],labor_costs[year],data_tracking[[#This Row],[year]],labor_costs[week],data_tracking[[#This Row],[week]]))/data_tracking[[#This Row],[Units Completed (Total)]],\"\")","v":44.042643315018317},{"$f":"IF(SUM(data_tracking[[#This Row],[111-FILSN1 SAH]],data_tracking[[#This Row],[112-FILSN2 SAH]],data_tracking[[#This Row],[113-FILSN3 SAH]])=0,\"\",SUM(data_tracking[[#This Row],[111-FILSN1 SAH]],data_tracking[[#This Row],[112-FILSN2 SAH]],data_tracking[[#This Row],[113-FILSN3 SAH]]))","v":4063.2310448690005},{"$f":"IF(SUM(data_tracking[[#This Row],[111-FILSN1 Units]],data_tracking[[#This Row],[112-FILSN2 Units]],data_tracking[[#This Row],[113-FILSN3 Units]])=0,\"\",SUM(data_tracking[[#This Row],[111-FILSN1 Units]],data_tracking[[#This Row],[112-FILSN2 Units]],data_tracking[[#This Row],[113-FILSN3 Units]]))","v":5460},{"$f":"IF(SUMIFS('2015 sah unit data'!B:B,'2015 sah unit data'!L:L,data_tracking[[#This Row],[year]],'2015 sah unit data'!K:K,data_tracking[[#This Row],[month]],'2015 sah unit data'!J:J,data_tracking[[#This Row],[week]])=0,\"\",SUMIFS('2015 sah unit data'!B:B,'2015 sah unit data'!L:L,data_tracking[[#This Row],[year]],'2015 sah unit data'!K:K,data_tracking[[#This Row],[month]],'2015 sah unit data'!J:J,data_tracking[[#This Row],[week]]))","v":2706.4122500000003},{"$f":"IF(SUMIFS('2015 sah unit data'!C:C,'2015 sah unit data'!L:L,data_tracking[[#This Row],[year]],'2015 sah unit data'!K:K,data_tracking[[#This Row],[month]],'2015 sah unit data'!J:J,data_tracking[[#This Row],[week]])=0,\"\",SUMIFS('2015 sah unit data'!C:C,'2015 sah unit data'!L:L,data_tracking[[#This Row],[year]],'2015 sah unit data'!K:K,data_tracking[[#This Row],[month]],'2015 sah unit data'!J:J,data_tracking[[#This Row],[week]]))","v":750.08619153566667},{"$f":"IF(SUMIFS('2015 sah unit data'!D:D,'2015 sah unit data'!L:L,data_tracking[[#This Row],[year]],'2015 sah unit data'!K:K,data_tracking[[#This Row],[month]],'2015 sah unit data'!J:J,data_tracking[[#This Row],[week]])=0,\"\",SUMIFS('2015 sah unit data'!D:D,'2015 sah unit data'!L:L,data_tracking[[#This Row],[year]],'2015 sah unit data'!K:K,data_tracking[[#This Row],[month]],'2015 sah unit data'!J:J,data_tracking[[#This Row],[week]]))","v":606.73260333333326},{"$f":"IF(SUMIFS('2015 sah unit data'!E:E,'2015 sah unit data'!L:L,data_tracking[[#This Row],[year]],'2015 sah unit data'!K:K,data_tracking[[#This Row],[month]],'2015 sah unit data'!J:J,data_tracking[[#This Row],[week]])=0,\"\",SUMIFS('2015 sah unit data'!E:E,'2015 sah unit data'!L:L,data_tracking[[#This Row],[year]],'2015 sah unit data'!K:K,data_tracking[[#This Row],[month]],'2015 sah unit data'!J:J,data_tracking[[#This Row],[week]]))","v":1850},{"$f":"IF(SUMIFS('2015 sah unit data'!F:F,'2015 sah unit data'!L:L,data_tracking[[#This Row],[year]],'2015 sah unit data'!K:K,data_tracking[[#This Row],[month]],'2015 sah unit data'!J:J,data_tracking[[#This Row],[week]])=0,\"\",SUMIFS('2015 sah unit data'!F:F,'2015 sah unit data'!L:L,data_tracking[[#This Row],[year]],'2015 sah unit data'!K:K,data_tracking[[#This Row],[month]],'2015 sah unit data'!J:J,data_tracking[[#This Row],[week]]))","v":2505},{"$f":"IF(SUMIFS('2015 sah unit data'!G:G,'2015 sah unit data'!L:L,data_tracking[[#This Row],[year]],'2015 sah unit data'!K:K,data_tracking[[#This Row],[month]],'2015 sah unit data'!J:J,data_tracking[[#This Row],[week]])=0,\"\",SUMIFS('2015 sah unit data'!G:G,'2015 sah unit data'!L:L,data_tracking[[#This Row],[year]],'2015 sah unit data'!K:K,data_tracking[[#This Row],[month]],'2015 sah unit data'!J:J,data_tracking[[#This Row],[week]]))","v":1105},null,{"$f":"SUMIFS('overhead costs data'!E:E,'overhead costs data'!C:C,data_tracking[[#This Row],[year]],'overhead costs data'!B:B,data_tracking[[#This Row],[month]])","v":56000}]
[14,3,2016,39.77028,21.823559999999997,{"$f":"IFERROR((data_tracking[[#This Row],[overhead]]+SUMIFS('labor costs data'!H:H,'labor costs data'!D:D,data_tracking[[#This Row],[year]],'labor costs data'!A:A,data_tracking[[#This Row],[week]]))/data_tracking[[#This Row],[SAH Completed (Total)]],\"\")","v":53.055612569203795},{"$f":"IFERROR(SUMIFS('labor costs data'!E:E,'labor costs data'!D:D,data_tracking[[#This Row],[year]],'labor costs data'!A:A,data_tracking[[#This Row],[week]])/data_tracking[[#This Row],[SAH Completed (Total)]],\"\")","v":22.266875163700156},{"$f":"IFERROR((data_tracking[[#This Row],[overhead]]+SUMIFS(labor_costs[total labor cost],labor_costs[year],data_tracking[[#This Row],[year]],labor_costs[week],data_tracking[[#This Row],[week]]))/data_tracking[[#This Row],[Units Completed (Total)]],\"\")","v":56.224651040448919},{"$f":"IF(SUM(data_tracking[[#This Row],[111-FILSN1 SAH]],data_tracking[[#This Row],[112-FILSN2 SAH]],data_tracking[[#This Row],[113-FILSN3 SAH]])=0,\"\",SUM(data_tracking[[#This Row],[111-FILSN1 SAH]],data_tracking[[#This Row],[112-FILSN2 SAH]],data_tracking[[#This Row],[113-FILSN3 SAH]]))","v":4532.4673650000004},{"$f":"IF(SUM(data_tracking[[#This Row],[111-FILSN1 Units]],data_tracking[[#This Row],[112-FILSN2 Units]],data_tracking[[#This Row],[113-FILSN3 Units]])=0,\"\",SUM(data_tracking[[#This Row],[111-FILSN1 Units]],data_tracking[[#This Row],[112-FILSN2 Units]],data_tracking[[#This Row],[113-FILSN3 Units]]))","v":4277},{"$f":"IF(SUMIFS('2015 sah unit data'!B:B,'2015 sah unit data'!L:L,data_tracking[[#This Row],[year]],'2015 sah unit data'!K:K,data_tracking[[#This Row],[month]],'2015 sah unit data'!J:J,data_tracking[[#This Row],[week]])=0,\"\",SUMIFS('2015 sah unit data'!B:B,'2015 sah unit data'!L:L,data_tracking[[#This Row],[year]],'2015 sah unit data'!K:K,data_tracking[[#This Row],[month]],'2015 sah unit data'!J:J,data_tracking[[#This Row],[week]]))","v":2949.3000833333335},{"$f":"IF(SUMIFS('2015 sah unit data'!C:C,'2015 sah unit data'!L:L,data_tracking[[#This Row],[year]],'2015 sah unit data'!K:K,data_tracking[[#This Row],[month]],'2015 sah unit data'!J:J,data_tracking[[#This Row],[week]])=0,\"\",SUMIFS('2015 sah unit data'!C:C,'2015 sah unit data'!L:L,data_tracking[[#This Row],[year]],'2015 sah unit data'!K:K,data_tracking[[#This Row],[month]],'2015 sah unit data'!J:J,data_tracking[[#This Row],[week]]))","v":438.95908333333335},{"$f":"IF(SUMIFS('2015 sah unit data'!D:D,'2015 sah unit data'!L:L,data_tracking[[#This Row],[year]],'2015 sah unit data'!K:K,data_tracking[[#This Row],[month]],'2015 sah unit data'!J:J,data_tracking[[#This Row],[week]])=0,\"\",SUMIFS('2015 sah unit data'!D:D,'2015 sah unit data'!L:L,data_tracking[[#This Row],[year]],'2015 sah unit data'!K:K,data_tracking[[#This Row],[month]],'2015 sah unit data'!J:J,data_tracking[[#This Row],[week]]))","v":1144.2081983333335},{"$f":"IF(SUMIFS('2015 sah unit data'!E:E,'2015 sah unit data'!L:L,data_tracking[[#This Row],[year]],'2015 sah unit data'!K:K,data_tracking[[#This Row],[month]],'2015 sah unit data'!J:J,data_tracking[[#This Row],[week]])=0,\"\",SUMIFS('2015 sah unit data'!E:E,'2015 sah unit data'!L:L,data_tracking[[#This Row],[year]],'2015 sah unit data'!K:K,data_tracking[[#This Row],[month]],'2015 sah unit data'!J:J,data_tracking[[#This Row],[week]]))","v":2050},{"$f":"IF(SUMIFS('2015 sah unit data'!F:F,'2015 sah unit data'!L:L,data_tracking[[#This Row],[year]],'2015 sah unit data'!K:K,data_tracking[[#This Row],[month]],'2015 sah unit data'!J:J,data_tracking[[#This Row],[week]])=0,\"\",SUMIFS('2015 sah unit data'!F:F,'2015 sah unit data'!L:L,data_tracking[[#This Row],[year]],'2015 sah unit data'!K:K,data_tracking[[#This Row],[month]],'2015 sah unit data'!J:J,data_tracking[[#This Row],[week]]))","v":1310},{"$f":"IF(SUMIFS('2015 sah unit data'!G:G,'2015 sah unit data'!L:L,data_tracking[[#This Row],[year]],'2015 sah unit data'!K:K,data_tracking[[#This Row],[month]],'2015 sah unit data'!J:J,data_tracking[[#This Row],[week]])=0,\"\",SUMIFS('2015 sah unit data'!G:G,'2015 sah unit data'!L:L,data_tracking[[#This Row],[year]],'2015 sah unit data'!K:K,data_tracking[[#This Row],[month]],'2015 sah unit data'!J:J,data_tracking[[#This Row],[week]]))","v":917},null,{"$f":"SUMIFS('overhead costs data'!E:E,'overhead costs data'!C:C,data_tracking[[#This Row],[year]],'overhead costs data'!B:B,data_tracking[[#This Row],[month]])","v":56000}]
[15,4,2016,39.77028,21.823559999999997,{"$f":"IFERROR((data_tracking[[#This Row],[overhead]]+SUMIFS('labor costs data'!H:H,'labor costs data'!D:D,data_tracking[[#This Row],[year]],'labor costs data'!A:A,data_tracking[[#This Row],[week]]))/data_tracking[[#This Row],[SAH Completed (Total)]],\"\")","v":27.424871651623651},{"$f":"IFERROR(SUMIFS('labor costs data'!E:E,'labor costs data'!D:D,data_tracking[[#This Row],[year]],'labor costs data'!A:A,data_tracking[[#This Row],[week]])/data_tracking[[#This Row],[SAH Completed (Total)]],\"\")","v":11.146647842443574},{"$f":"IFERROR((data_tracking[[#This Row],[overhead]]+SUMIFS(labor_costs[total labor cost],labor_costs[year],data_tracking[[#This Row],[year]],labor_costs[week],data_tracking[[#This Row],[week]]))/data_tracking[[#This Row],[Units Completed (Total)]],\"\")","v":30.289973804100224},{"$f":"IF(SUM(data_tracking[[#This Row],[111-FILSN1 SAH]],data_tracking[[#This Row],[112-FILSN2 SAH]],data_tracking[[#This Row],[113-FILSN3 SAH]])=0,\"\",SUM(data_tracking[[#This Row],[111-FILSN1 SAH]],data_tracking[[#This Row],[112-FILSN2 SAH]],data_tracking[[#This Row],[113-FILSN3 SAH]]))","v":9697.2548633333354},{"$f":"IF(SUM(data_tracking[[#This Row],[111-FILSN1 Units]],data_tracking[[#This Row],[112-FILSN2 Units]],data_tracking[[#This Row],[113-FILSN3 Units]])=0,\"\",SUM(data_tracking[[#This Row],[111-FILSN1 Units]],data_tracking[[#This Row],[112-FILSN2 Units]],data_tracking[[#This Row],[113-FILSN3 Units]]))","v":8780},{"$f":"IF(SUMIFS('2015 sah unit data'!B:B,'2015 sah unit data'!L:L,data_tracking[[#This Row],[year]],'2015 sah unit data'!K:K,data_tracking[[#This Row],[month]],'2015 sah unit data'!J:J,data_tracking[[#This Row],[week]])=0,\"\",SUMIFS('2015 sah unit data'!B:B,'2015 sah unit data'!L:L,data_tracking[[#This Row],[year]],'2015 sah unit data'!K:K,data_tracking[[#This Row],[month]],'2015 sah unit data'!J:J,data_tracking[[#This Row],[week]]))","v":5315.9264166666653},{"$f":"IF(SUMIFS('2015 sah unit data'!C:C,'2015 sah unit data'!L:L,data_tracking[[#This Row],[year]],'2015 sah unit data'!K:K,data_tracking[[#This Row],[month]],'2015 sah unit data'!J:J,data_tracking[[#This Row],[week]])=0,\"\",SUMIFS('2015 sah unit data'!C:C,'2015 sah unit data'!L:L,data_tracking[[#This Row],[year]],'2015 sah unit data'!K:K,data_tracking[[#This Row],[month]],'2015 sah unit data'!J:J,data_tracking[[#This Row],[week]]))","v":3487.7241333333372},{"$f":"IF(SUMIFS('2015 sah unit data'!D:D,'2015 sah unit data'!L:L,data_tracking[[#This Row],[year]],'2015 sah unit data'!K:K,data_tracking[[#This Row],[month]],'2015 sah unit data'!J:J,data_tracking[[#This Row],[week]])=0,\"\",SUMIFS('2015 sah unit data'!D:D,'2015 sah unit data'!L:L,data_tracking[[#This Row],[year]],'2015 sah unit data'!K:K,data_tracking[[#This Row],[month]],'2015 sah unit data'!J:J,data_tracking[[#This Row],[week]]))","v":893.60431333333349},{"$f":"IF(SUMIFS('2015 sah unit data'!E:E,'2015 sah unit data'!L:L,data_tracking[[#This Row],[year]],'2015 sah unit data'!K:K,data_tracking[[#This Row],[month]],'2015 sah unit data'!J:J,data_tracking[[#This Row],[week]])=0,\"\",SUMIFS('2015 sah unit data'!E:E,'2015 sah unit data'!L:L,data_tracking[[#This Row],[year]],'2015 sah unit data'!K:K,data_tracking[[#This Row],[month]],'2015 sah unit data'!J:J,data_tracking[[#This Row],[week]]))","v":3750},{"$f":"IF(SUMIFS('2015 sah unit data'!F:F,'2015 sah unit data'!L:L,data_tracking[[#This Row],[year]],'2015 sah unit data'!K:K,data_tracking[[#This Row],[month]],'2015 sah unit data'!J:J,data_tracking[[#This Row],[week]])=0,\"\",SUMIFS('2015 sah unit data'!F:F,'2015 sah unit data'!L:L,data_tracking[[#This Row],[year]],'2015 sah unit data'!K:K,data_tracking[[#This Row],[month]],'2015 sah unit data'!J:J,data_tracking[[#This Row],[week]]))","v":3940},{"$f":"IF(SUMIFS('2015 sah unit data'!G:G,'2015 sah unit data'!L:L,data_tracking[[#This Row],[year]],'2015 sah unit data'!K:K,data_tracking[[#This Row],[month]],'2015 sah unit data'!J:J,data_tracking[[#This Row],[week]])=0,\"\",SUMIFS('2015 sah unit data'!G:G,'2015 sah unit data'!L:L,data_tracking[[#This Row],[year]],'2015 sah unit data'!K:K,data_tracking[[#This Row],[month]],'2015 sah unit data'!J:J,data_tracking[[#This Row],[week]]))","v":1090},null,{"$f":"SUMIFS('overhead costs data'!E:E,'overhead costs data'!C:C,data_tracking[[#This Row],[year]],'overhead costs data'!B:B,data_tracking[[#This Row],[month]])","v":70000}]
[16,4,2016,39.77028,21.823559999999997,{"$f":"IFERROR((data_tracking[[#This Row],[overhead]]+SUMIFS('labor costs data'!H:H,'labor costs data'!D:D,data_tracking[[#This Row],[year]],'labor costs data'!A:A,data_tracking[[#This Row],[week]]))/data_tracking[[#This Row],[SAH Completed (Total)]],\"\")","v":18.479826933641913},{"$f":"IFERROR(SUMIFS('labor costs data'!E:E,'labor costs data'!D:D,data_tracking[[#This Row],[year]],'labor costs data'!A:A,data_tracking[[#This Row],[week]])/data_tracking[[#This Row],[SAH Completed (Total)]],\"\")","v":7.5109967928114276},{"$f":"IFERROR((data_tracking[[#This Row],[overhead]]+SUMIFS(labor_costs[total labor cost],labor_costs[year],data_tracking[[#This Row],[year]],labor_costs[week],data_tracking[[#This Row],[week]]))/data_tracking[[#This Row],[Units Completed (Total)]],\"\")","v":17.916058340070059},{"$f":"IF(SUM(data_tracking[[#This Row],[111-FILSN1 SAH]],data_tracking[[#This Row],[112-FILSN2 SAH]],data_tracking[[#This Row],[113-FILSN3 SAH]])=0,\"\",SUM(data_tracking[[#This Row],[111-FILSN1 SAH]],data_tracking[[#This Row],[112-FILSN2 SAH]],data_tracking[[#This Row],[113-FILSN3 SAH]]))","v":14391.150466666662},{"$f":"IF(SUM(data_tracking[[#This Row],[111-FILSN1 Units]],data_tracking[[#This Row],[112-FILSN2 Units]],data_tracking[[#This Row],[113-FILSN3 Units]])=0,\"\",SUM(data_tracking[[#This Row],[111-FILSN1 Units]],data_tracking[[#This Row],[112-FILSN2 Units]],data_tracking[[#This Row],[113-FILSN3 Units]]))","v":14844},{"$f":"IF(SUMIFS('2015 sah unit data'!B:B,'2015 sah unit data'!L:L,data_tracking[[#This Row],[year]],'2015 sah unit data'!K:K,data_tracking[[#This Row],[month]],'2015 sah unit data'!J:J,data_tracking[[#This Row],[week]])=0,\"\",SUMIFS('2015 sah unit data'!B:B,'2015 sah unit data'!L:L,data_tracking[[#This Row],[year]],'2015 sah unit data'!K:K,data_tracking[[#This Row],[month]],'2015 sah unit data'!J:J,data_tracking[[#This Row],[week]]))","v":8374.7198333333326},{"$f":"IF(SUMIFS('2015 sah unit data'!C:C,'2015 sah unit data'!L:L,data_tracking[[#This Row],[year]],'2015 sah unit data'!K:K,data_tracking[[#This Row],[month]],'2015 sah unit data'!J:J,data_tracking[[#This Row],[week]])=0,\"\",SUMIFS('2015 sah unit data'!C:C,'2015 sah unit data'!L:L,data_tracking[[#This Row],[year]],'2015 sah unit data'!K:K,data_tracking[[#This Row],[month]],'2015 sah unit data'!J:J,data_tracking[[#This Row],[week]]))","v":5640.585566666663},{"$f":"IF(SUMIFS('2015 sah unit data'!D:D,'2015 sah unit data'!L:L,data_tracking[[#This Row],[year]],'2015 sah unit data'!K:K,data_tracking[[#This Row],[month]],'2015 sah unit data'!J:J,data_tracking[[#This Row],[week]])=0,\"\",SUMIFS('2015 sah unit data'!D:D,'2015 sah unit data'!L:L,data_tracking[[#This Row],[year]],'2015 sah unit data'!K:K,data_tracking[[#This Row],[month]],'2015 sah unit data'!J:J,data_tracking[[#This Row],[week]]))","v":375.84506666666675},{"$f":"IF(SUMIFS('2015 sah unit data'!E:E,'2015 sah unit data'!L:L,data_tracking[[#This Row],[year]],'2015 sah unit data'!K:K,data_tracking[[#This Row],[month]],'2015 sah unit data'!J:J,data_tracking[[#This Row],[week]])=0,\"\",SUMIFS('2015 sah unit data'!E:E,'2015 sah unit data'!L:L,data_tracking[[#This Row],[year]],'2015 sah unit data'!K:K,data_tracking[[#This Row],[month]],'2015 sah unit data'!J:J,data_tracking[[#This Row],[week]]))","v":6680},{"$f":"IF(SUMIFS('2015 sah unit data'!F:F,'2015 sah unit data'!L:L,data_tracking[[#This Row],[year]],'2015 sah unit data'!K:K,data_tracking[[#This Row],[month]],'2015 sah unit data'!J:J,data_tracking[[#This Row],[week]])=0,\"\",SUMIFS('2015 sah unit data'!F:F,'2015 sah unit data'!L:L,data_tracking[[#This Row],[year]],'2015 sah unit data'!K:K,data_tracking[[#This Row],[month]],'2015 sah unit data'!J:J,data_tracking[[#This Row],[week]]))","v":7820},{"$f":"IF(SUMIFS('2015 sah unit data'!G:G,'2015 sah unit data'!L:L,data_tracking[[#This Row],[year]],'2015 sah unit data'!K:K,data_tracking[[#This Row],[month]],'2015 sah unit data'!J:J,data_tracking[[#This Row],[week]])=0,\"\",SUMIFS('2015 sah unit data'!G:G,'2015 sah unit data'!L:L,data_tracking[[#This Row],[year]],'2015 sah unit data'!K:K,data_tracking[[#This Row],[month]],'2015 sah unit data'!J:J,data_tracking[[#This Row],[week]]))","v":344},null,{"$f":"SUMIFS('overhead costs data'!E:E,'overhead costs data'!C:C,data_tracking[[#This Row],[year]],'overhead costs data'!B:B,data_tracking[[#This Row],[month]])","v":70000}]
[17,4,2016,39.77028,21.823559999999997,{"$f":"IFERROR((data_tracking[[#This Row],[overhead]]+SUMIFS('labor costs data'!H:H,'labor costs data'!D:D,data_tracking[[#This Row],[year]],'labor costs data'!A:A,data_tracking[[#This Row],[week]]))/data_tracking[[#This Row],[SAH Completed (Total)]],\"\")","v":23.433351342020849},{"$f":"IFERROR(SUMIFS('labor costs data'!E:E,'labor costs data'!D:D,data_tracking[[#This Row],[year]],'labor costs data'!A:A,data_tracking[[#This Row],[week]])/data_tracking[[#This Row],[SAH Completed (Total)]],\"\")","v":9.5459074692515884},{"$f":"IFERROR((data_tracking[[#This Row],[overhead]]+SUMIFS(labor_costs[total labor cost],labor_costs[year],data_tracking[[#This Row],[year]],labor_costs[week],data_tracking[[#This Row],[week]]))/data_tracking[[#This Row],[Units Completed (Total)]],\"\")","v":18.529913665466186},{"$f":"IF(SUM(data_tracking[[#This Row],[111-FILSN1 SAH]],data_tracking[[#This Row],[112-FILSN2 SAH]],data_tracking[[#This Row],[113-FILSN3 SAH]])=0,\"\",SUM(data_tracking[[#This Row],[111-FILSN1 SAH]],data_tracking[[#This Row],[112-FILSN2 SAH]],data_tracking[[#This Row],[113-FILSN3 SAH]]))","v":11856.499800000003},{"$f":"IF(SUM(data_tracking[[#This Row],[111-FILSN1 Units]],data_tracking[[#This Row],[112-FILSN2 Units]],data_tracking[[#This Row],[113-FILSN3 Units]])=0,\"\",SUM(data_tracking[[#This Row],[111-FILSN1 Units]],data_tracking[[#This Row],[112-FILSN2 Units]],data_tracking[[#This Row],[113-FILSN3 Units]]))","v":14994},{"$f":"IF(SUMIFS('2015 sah unit data'!B:B,'2015 sah unit data'!L:L,data_tracking[[#This Row],[year]],'2015 sah unit data'!K:K,data_tracking[[#This Row],[month]],'2015 sah unit data'!J:J,data_tracking[[#This Row],[week]])=0,\"\",SUMIFS('2015 sah unit data'!B:B,'2015 sah unit data'!L:L,data_tracking[[#This Row],[year]],'2015 sah unit data'!K:K,data_tracking[[#This Row],[month]],'2015 sah unit data'!J:J,data_tracking[[#This Row],[week]]))","v":6970.0231666666705},{"$f":"IF(SUMIFS('2015 sah unit data'!C:C,'2015 sah unit data'!L:L,data_tracking[[#This Row],[year]],'2015 sah unit data'!K:K,data_tracking[[#This Row],[month]],'2015 sah unit data'!J:J,data_tracking[[#This Row],[week]])=0,\"\",SUMIFS('2015 sah unit data'!C:C,'2015 sah unit data'!L:L,data_tracking[[#This Row],[year]],'2015 sah unit data'!K:K,data_tracking[[#This Row],[month]],'2015 sah unit data'!J:J,data_tracking[[#This Row],[week]]))","v":3223.2241333333332},{"$f":"IF(SUMIFS('2015 sah unit data'!D:D,'2015 sah unit data'!L:L,data_tracking[[#This Row],[year]],'2015 sah unit data'!K:K,data_tracking[[#This Row],[month]],'2015 sah unit data'!J:J,data_tracking[[#This Row],[week]])=0,\"\",SUMIFS('2015 sah unit data'!D:D,'2015 sah unit data'!L:L,data_tracking[[#This Row],[year]],'2015 sah unit data'!K:K,data_tracking[[#This Row],[month]],'2015 sah unit data'!J:J,data_tracking[[#This Row],[week]]))","v":1663.2524999999998},{"$f":"IF(SUMIFS('2015 sah unit data'!E:E,'2015 sah unit data'!L:L,data_tracking[[#This Row],[year]],'2015 sah unit data'!K:K,data_tracking[[#This Row],[month]],'2015 sah unit data'!J:J,data_tracking[[#This Row],[week]])=0,\"\",SUMIFS('2015 sah unit data'!E:E,'2015 sah unit data'!L:L,data_tracking[[#This Row],[year]],'2015 sah unit data'!K:K,data_tracking[[#This Row],[month]],'2015 sah unit data'!J:J,data_tracking[[#This Row],[week]]))","v":6180},{"$f":"IF(SUMIFS('2015 sah unit data'!F:F,'2015 sah unit data'!L:L,data_tracking[[#This Row],[year]],'2015 sah unit data'!K:K,data_tracking[[#This Row],[month]],'2015 sah unit data'!J:J,data_tracking[[#This Row],[week]])=0,\"\",SUMIFS('2015 sah unit data'!F:F,'2015 sah unit data'!L:L,data_tracking[[#This Row],[year]],'2015 sah unit data'!K:K,data_tracking[[#This Row],[month]],'2015 sah unit data'!J:J,data_tracking[[#This Row],[week]]))","v":6280},{"$f":"IF(SUMIFS('2015 sah unit data'!G:G,'2015 sah unit data'!L:L,data_tracking[[#This Row],[year]],'2015 sah unit data'!K:K,data_tracking[[#This Row],[month]],'2015 sah unit data'!J:J,data_tracking[[#This Row],[week]])=0,\"\",SUMIFS('2015 sah unit data'!G:G,'2015 sah unit data'!L:L,data_tracking[[#This Row],[year]],'2015 sah unit data'!K:K,data_tracking[[#This Row],[month]],'2015 sah unit data'!J:J,data_tracking[[#This Row],[week]]))","v":2534},null,{"$f":"SUMIFS('overhead costs data'!E:E,'overhead costs data'!C:C,data_tracking[[#This Row],[year]],'overhead costs data'!B:B,data_tracking[[#This Row],[month]])","v":70000}]
[18,4,2016,39.77028,21.823559999999997,{"$f":"IFERROR((data_tracking[[#This Row],[overhead]]+SUMIFS('labor costs data'!H:H,'labor costs data'!D:D,data_tracking[[#This Row],[year]],'labor costs data'!A:A,data_tracking[[#This Row],[week]]))/data_tracking[[#This Row],[SAH Completed (Total)]],\"\")","v":42.624686786128763},{"$f":"IFERROR(SUMIFS('labor costs data'!E:E,'labor costs data'!D:D,data_tracking[[#This Row],[year]],'labor costs data'!A:A,data_tracking[[#This Row],[week]])/data_tracking[[#This Row],[SAH Completed (Total)]],\"\")","v":17.363769698471415},{"$f":"IFERROR((data_tracking[[#This Row],[overhead]]+SUMIFS(labor_costs[total labor cost],labor_costs[year],data_tracking[[#This Row],[year]],labor_costs[week],data_tracking[[#This Row],[week]]))/data_tracking[[#This Row],[Units Completed (Total)]],\"\")","v":25.611866288716811},{"$f":"IF(SUM(data_tracking[[#This Row],[111-FILSN1 SAH]],data_tracking[[#This Row],[112-FILSN2 SAH]],data_tracking[[#This Row],[113-FILSN3 SAH]])=0,\"\",SUM(data_tracking[[#This Row],[111-FILSN1 SAH]],data_tracking[[#This Row],[112-FILSN2 SAH]],data_tracking[[#This Row],[113-FILSN3 SAH]]))","v":6518.2303131999997},{"$f":"IF(SUM(data_tracking[[#This Row],[111-FILSN1 Units]],data_tracking[[#This Row],[112-FILSN2 Units]],data_tracking[[#This Row],[113-FILSN3 Units]])=0,\"\",SUM(data_tracking[[#This Row],[111-FILSN1 Units]],data_tracking[[#This Row],[112-FILSN2 Units]],data_tracking[[#This Row],[113-FILSN3 Units]]))","v":10848},{"$f":"IF(SUMIFS('2015 sah unit data'!B:B,'2015 sah unit data'!L:L,data_tracking[[#This Row],[year]],'2015 sah unit data'!K:K,data_tracking[[#This Row],[month]],'2015 sah unit data'!J:J,data_tracking[[#This Row],[week]])=0,\"\",SUMIFS('2015 sah unit data'!B:B,'2015 sah unit data'!L:L,data_tracking[[#This Row],[year]],'2015 sah unit data'!K:K,data_tracking[[#This Row],[month]],'2015 sah unit data'!J:J,data_tracking[[#This Row],[week]]))","v":2806.9962500000001},{"$f":"IF(SUMIFS('2015 sah unit data'!C:C,'2015 sah unit data'!L:L,data_tracking[[#This Row],[year]],'2015 sah unit data'!K:K,data_tracking[[#This Row],[month]],'2015 sah unit data'!J:J,data_tracking[[#This Row],[week]])=0,\"\",SUMIFS('2015 sah unit data'!C:C,'2015 sah unit data'!L:L,data_tracking[[#This Row],[year]],'2015 sah unit data'!K:K,data_tracking[[#This Row],[month]],'2015 sah unit data'!J:J,data_tracking[[#This Row],[week]]))","v":2531.821466533333},{"$f":"IF(SUMIFS('2015 sah unit data'!D:D,'2015 sah unit data'!L:L,data_tracking[[#This Row],[year]],'2015 sah unit data'!K:K,data_tracking[[#This Row],[month]],'2015 sah unit data'!J:J,data_tracking[[#This Row],[week]])=0,\"\",SUMIFS('2015 sah unit data'!D:D,'2015 sah unit data'!L:L,data_tracking[[#This Row],[year]],'2015 sah unit data'!K:K,data_tracking[[#This Row],[month]],'2015 sah unit data'!J:J,data_tracking[[#This Row],[week]]))","v":1179.4125966666666},{"$f":"IF(SUMIFS('2015 sah unit data'!E:E,'2015 sah unit data'!L:L,data_tracking[[#This Row],[year]],'2015 sah unit data'!K:K,data_tracking[[#This Row],[month]],'2015 sah unit data'!J:J,data_tracking[[#This Row],[week]])=0,\"\",SUMIFS('2015 sah unit data'!E:E,'2015 sah unit data'!L:L,data_tracking[[#This Row],[year]],'2015 sah unit data'!K:K,data_tracking[[#This Row],[month]],'2015 sah unit data'!J:J,data_tracking[[#This Row],[week]]))","v":2250},{"$f":"IF(SUMIFS('2015 sah unit data'!F:F,'2015 sah unit data'!L:L,data_tracking[[#This Row],[year]],'2015 sah unit data'!K:K,data_tracking[[#This Row],[month]],'2015 sah unit data'!J:J,data_tracking[[#This Row],[week]])=0,\"\",SUMIFS('2015 sah unit data'!F:F,'2015 sah unit data'!L:L,data_tracking[[#This Row],[year]],'2015 sah unit data'!K:K,data_tracking[[#This Row],[month]],'2015 sah unit data'!J:J,data_tracking[[#This Row],[week]]))","v":6392},{"$f":"IF(SUMIFS('2015 sah unit data'!G:G,'2015 sah unit data'!L:L,data_tracking[[#This Row],[year]],'2015 sah unit data'!K:K,data_tracking[[#This Row],[month]],'2015 sah unit data'!J:J,data_tracking[[#This Row],[week]])=0,\"\",SUMIFS('2015 sah unit data'!G:G,'2015 sah unit data'!L:L,data_tracking[[#This Row],[year]],'2015 sah unit data'!K:K,data_tracking[[#This Row],[month]],'2015 sah unit data'!J:J,data_tracking[[#This Row],[week]]))","v":2206},null,{"$f":"SUMIFS('overhead costs data'!E:E,'overhead costs data'!C:C,data_tracking[[#This Row],[year]],'overhead costs data'!B:B,data_tracking[[#This Row],[month]])","v":70000}]
[19,4,2016,39.77028,21.823559999999997,{"$f":"IFERROR((data_tracking[[#This Row],[overhead]]+SUMIFS('labor costs data'!H:H,'labor costs data'!D:D,data_tracking[[#This Row],[year]],'labor costs data'!A:A,data_tracking[[#This Row],[week]]))/data_tracking[[#This Row],[SAH Completed (Total)]],\"\")","v":""},{"$f":"IFERROR(SUMIFS('labor costs data'!E:E,'labor costs data'!D:D,data_tracking[[#This Row],[year]],'labor costs data'!A:A,data_tracking[[#This Row],[week]])/data_tracking[[#This Row],[SAH Completed (Total)]],\"\")","v":""},{"$f":"IFERROR((data_tracking[[#This Row],[overhead]]+SUMIFS(labor_costs[total labor cost],labor_costs[year],data_tracking[[#This Row],[year]],labor_costs[week],data_tracking[[#This Row],[week]]))/data_tracking[[#This Row],[Units Completed (Total)]],\"\")","v":""},{"$f":"IF(SUM(data_tracking[[#This Row],[111-FILSN1 SAH]],data_tracking[[#This Row],[112-FILSN2 SAH]],data_tracking[[#This Row],[113-FILSN3 SAH]])=0,\"\",SUM(data_tracking[[#This Row],[111-FILSN1 SAH]],data_tracking[[#This Row],[112-FILSN2 SAH]],data_tracking[[#This Row],[113-FILSN3 SAH]]))","v":""},{"$f":"IF(SUM(data_tracking[[#This Row],[111-FILSN1 Units]],data_tracking[[#This Row],[112-FILSN2 Units]],data_tracking[[#This Row],[113-FILSN3 Units]])=0,\"\",SUM(data_tracking[[#This Row],[111-FILSN1 Units]],data_tracking[[#This Row],[112-FILSN2 Units]],data_tracking[[#This Row],[113-FILSN3 Units]]))","v":""},{"$f":"IF(SUMIFS('2015 sah unit data'!B:B,'2015 sah unit data'!L:L,data_tracking[[#This Row],[year]],'2015 sah unit data'!K:K,data_tracking[[#This Row],[month]],'2015 sah unit data'!J:J,data_tracking[[#This Row],[week]])=0,\"\",SUMIFS('2015 sah unit data'!B:B,'2015 sah unit data'!L:L,data_tracking[[#This Row],[year]],'2015 sah unit data'!K:K,data_tracking[[#This Row],[month]],'2015 sah unit data'!J:J,data_tracking[[#This Row],[week]]))","v":""},{"$f":"IF(SUMIFS('2015 sah unit data'!C:C,'2015 sah unit data'!L:L,data_tracking[[#This Row],[year]],'2015 sah unit data'!K:K,data_tracking[[#This Row],[month]],'2015 sah unit data'!J:J,data_tracking[[#This Row],[week]])=0,\"\",SUMIFS('2015 sah unit data'!C:C,'2015 sah unit data'!L:L,data_tracking[[#This Row],[year]],'2015 sah unit data'!K:K,data_tracking[[#This Row],[month]],'2015 sah unit data'!J:J,data_tracking[[#This Row],[week]]))","v":""},{"$f":"IF(SUMIFS('2015 sah unit data'!D:D,'2015 sah unit data'!L:L,data_tracking[[#This Row],[year]],'2015 sah unit data'!K:K,data_tracking[[#This Row],[month]],'2015 sah unit data'!J:J,data_tracking[[#This Row],[week]])=0,\"\",SUMIFS('2015 sah unit data'!D:D,'2015 sah unit data'!L:L,data_tracking[[#This Row],[year]],'2015 sah unit data'!K:K,data_tracking[[#This Row],[month]],'2015 sah unit data'!J:J,data_tracking[[#This Row],[week]]))","v":""},{"$f":"IF(SUMIFS('2015 sah unit data'!E:E,'2015 sah unit data'!L:L,data_tracking[[#This Row],[year]],'2015 sah unit data'!K:K,data_tracking[[#This Row],[month]],'2015 sah unit data'!J:J,data_tracking[[#This Row],[week]])=0,\"\",SUMIFS('2015 sah unit data'!E:E,'2015 sah unit data'!L:L,data_tracking[[#This Row],[year]],'2015 sah unit data'!K:K,data_tracking[[#This Row],[month]],'2015 sah unit data'!J:J,data_tracking[[#This Row],[week]]))","v":""},{"$f":"IF(SUMIFS('2015 sah unit data'!F:F,'2015 sah unit data'!L:L,data_tracking[[#This Row],[year]],'2015 sah unit data'!K:K,data_tracking[[#This Row],[month]],'2015 sah unit data'!J:J,data_tracking[[#This Row],[week]])=0,\"\",SUMIFS('2015 sah unit data'!F:F,'2015 sah unit data'!L:L,data_tracking[[#This Row],[year]],'2015 sah unit data'!K:K,data_tracking[[#This Row],[month]],'2015 sah unit data'!J:J,data_tracking[[#This Row],[week]]))","v":""},{"$f":"IF(SUMIFS('2015 sah unit data'!G:G,'2015 sah unit data'!L:L,data_tracking[[#This Row],[year]],'2015 sah unit data'!K:K,data_tracking[[#This Row],[month]],'2015 sah unit data'!J:J,data_tracking[[#This Row],[week]])=0,\"\",SUMIFS('2015 sah unit data'!G:G,'2015 sah unit data'!L:L,data_tracking[[#This Row],[year]],'2015 sah unit data'!K:K,data_tracking[[#This Row],[month]],'2015 sah unit data'!J:J,data_tracking[[#This Row],[week]]))","v":""},null,{"$f":"SUMIFS('overhead costs data'!E:E,'overhead costs data'!C:C,data_tracking[[#This Row],[year]],'overhead costs data'!B:B,data_tracking[[#This Row],[month]])","v":70000}]
[20,5,2016,39.77028,21.823559999999997,{"$f":"IFERROR((data_tracking[[#This Row],[overhead]]+SUMIFS('labor costs data'!H:H,'labor costs data'!D:D,data_tracking[[#This Row],[year]],'labor costs data'!A:A,data_tracking[[#This Row],[week]]))/data_tracking[[#This Row],[SAH Completed (Total)]],\"\")","v":""},{"$f":"IFERROR(SUMIFS('labor costs data'!E:E,'labor costs data'!D:D,data_tracking[[#This Row],[year]],'labor costs data'!A:A,data_tracking[[#This Row],[week]])/data_tracking[[#This Row],[SAH Completed (Total)]],\"\")","v":""},{"$f":"IFERROR((data_tracking[[#This Row],[overhead]]+SUMIFS(labor_costs[total labor cost],labor_costs[year],data_tracking[[#This Row],[year]],labor_costs[week],data_tracking[[#This Row],[week]]))/data_tracking[[#This Row],[Units Completed (Total)]],\"\")","v":""},{"$f":"IF(SUM(data_tracking[[#This Row],[111-FILSN1 SAH]],data_tracking[[#This Row],[112-FILSN2 SAH]],data_tracking[[#This Row],[113-FILSN3 SAH]])=0,\"\",SUM(data_tracking[[#This Row],[111-FILSN1 SAH]],data_tracking[[#This Row],[112-FILSN2 SAH]],data_tracking[[#This Row],[113-FILSN3 SAH]]))","v":""},{"$f":"IF(SUM(data_tracking[[#This Row],[111-FILSN1 Units]],data_tracking[[#This Row],[112-FILSN2 Units]],data_tracking[[#This Row],[113-FILSN3 Units]])=0,\"\",SUM(data_tracking[[#This Row],[111-FILSN1 Units]],data_tracking[[#This Row],[112-FILSN2 Units]],data_tracking[[#This Row],[113-FILSN3 Units]]))","v":""},{"$f":"IF(SUMIFS('2015 sah unit data'!B:B,'2015 sah unit data'!L:L,data_tracking[[#This Row],[year]],'2015 sah unit data'!K:K,data_tracking[[#This Row],[month]],'2015 sah unit data'!J:J,data_tracking[[#This Row],[week]])=0,\"\",SUMIFS('2015 sah unit data'!B:B,'2015 sah unit data'!L:L,data_tracking[[#This Row],[year]],'2015 sah unit data'!K:K,data_tracking[[#This Row],[month]],'2015 sah unit data'!J:J,data_tracking[[#This Row],[week]]))","v":""},{"$f":"IF(SUMIFS('2015 sah unit data'!C:C,'2015 sah unit data'!L:L,data_tracking[[#This Row],[year]],'2015 sah unit data'!K:K,data_tracking[[#This Row],[month]],'2015 sah unit data'!J:J,data_tracking[[#This Row],[week]])=0,\"\",SUMIFS('2015 sah unit data'!C:C,'2015 sah unit data'!L:L,data_tracking[[#This Row],[year]],'2015 sah unit data'!K:K,data_tracking[[#This Row],[month]],'2015 sah unit data'!J:J,data_tracking[[#This Row],[week]]))","v":""},{"$f":"IF(SUMIFS('2015 sah unit data'!D:D,'2015 sah unit data'!L:L,data_tracking[[#This Row],[year]],'2015 sah unit data'!K:K,data_tracking[[#This Row],[month]],'2015 sah unit data'!J:J,data_tracking[[#This Row],[week]])=0,\"\",SUMIFS('2015 sah unit data'!D:D,'2015 sah unit data'!L:L,data_tracking[[#This Row],[year]],'2015 sah unit data'!K:K,data_tracking[[#This Row],[month]],'2015 sah unit data'!J:J,data_tracking[[#This Row],[week]]))","v":""},{"$f":"IF(SUMIFS('2015 sah unit data'!E:E,'2015 sah unit data'!L:L,data_tracking[[#This Row],[year]],'2015 sah unit data'!K:K,data_tracking[[#This Row],[month]],'2015 sah unit data'!J:J,data_tracking[[#This Row],[week]])=0,\"\",SUMIFS('2015 sah unit data'!E:E,'2015 sah unit data'!L:L,data_tracking[[#This Row],[year]],'2015 sah unit data'!K:K,data_tracking[[#This Row],[month]],'2015 sah unit data'!J:J,data_tracking[[#This Row],[week]]))","v":""},{"$f":"IF(SUMIFS('2015 sah unit data'!F:F,'2015 sah unit data'!L:L,data_tracking[[#This Row],[year]],'2015 sah unit data'!K:K,data_tracking[[#This Row],[month]],'2015 sah unit data'!J:J,data_tracking[[#This Row],[week]])=0,\"\",SUMIFS('2015 sah unit data'!F:F,'2015 sah unit data'!L:L,data_tracking[[#This Row],[year]],'2015 sah unit data'!K:K,data_tracking[[#This Row],[month]],'2015 sah unit data'!J:J,data_tracking[[#This Row],[week]]))","v":""},{"$f":"IF(SUMIFS('2015 sah unit data'!G:G,'2015 sah unit data'!L:L,data_tracking[[#This Row],[year]],'2015 sah unit data'!K:K,data_tracking[[#This Row],[month]],'2015 sah unit data'!J:J,data_tracking[[#This Row],[week]])=0,\"\",SUMIFS('2015 sah unit data'!G:G,'2015 sah unit data'!L:L,data_tracking[[#This Row],[year]],'2015 sah unit data'!K:K,data_tracking[[#This Row],[month]],'2015 sah unit data'!J:J,data_tracking[[#This Row],[week]]))","v":""},null,{"$f":"SUMIFS('overhead costs data'!E:E,'overhead costs data'!C:C,data_tracking[[#This Row],[year]],'overhead costs data'!B:B,data_tracking[[#This Row],[month]])","v":70000}]
[21,5,2016,39.77028,21.823559999999997,{"$f":"IFERROR((data_tracking[[#This Row],[overhead]]+SUMIFS('labor costs data'!H:H,'labor costs data'!D:D,data_tracking[[#This Row],[year]],'labor costs data'!A:A,data_tracking[[#This Row],[week]]))/data_tracking[[#This Row],[SAH Completed (Total)]],\"\")","v":""},{"$f":"IFERROR(SUMIFS('labor costs data'!E:E,'labor costs data'!D:D,data_tracking[[#This Row],[year]],'labor costs data'!A:A,data_tracking[[#This Row],[week]])/data_tracking[[#This Row],[SAH Completed (Total)]],\"\")","v":""},{"$f":"IFERROR((data_tracking[[#This Row],[overhead]]+SUMIFS(labor_costs[total labor cost],labor_costs[year],data_tracking[[#This Row],[year]],labor_costs[week],data_tracking[[#This Row],[week]]))/data_tracking[[#This Row],[Units Completed (Total)]],\"\")","v":""},{"$f":"IF(SUM(data_tracking[[#This Row],[111-FILSN1 SAH]],data_tracking[[#This Row],[112-FILSN2 SAH]],data_tracking[[#This Row],[113-FILSN3 SAH]])=0,\"\",SUM(data_tracking[[#This Row],[111-FILSN1 SAH]],data_tracking[[#This Row],[112-FILSN2 SAH]],data_tracking[[#This Row],[113-FILSN3 SAH]]))","v":""},{"$f":"IF(SUM(data_tracking[[#This Row],[111-FILSN1 Units]],data_tracking[[#This Row],[112-FILSN2 Units]],data_tracking[[#This Row],[113-FILSN3 Units]])=0,\"\",SUM(data_tracking[[#This Row],[111-FILSN1 Units]],data_tracking[[#This Row],[112-FILSN2 Units]],data_tracking[[#This Row],[113-FILSN3 Units]]))","v":""},{"$f":"IF(SUMIFS('2015 sah unit data'!B:B,'2015 sah unit data'!L:L,data_tracking[[#This Row],[year]],'2015 sah unit data'!K:K,data_tracking[[#This Row],[month]],'2015 sah unit data'!J:J,data_tracking[[#This Row],[week]])=0,\"\",SUMIFS('2015 sah unit data'!B:B,'2015 sah unit data'!L:L,data_tracking[[#This Row],[year]],'2015 sah unit data'!K:K,data_tracking[[#This Row],[month]],'2015 sah unit data'!J:J,data_tracking[[#This Row],[week]]))","v":""},{"$f":"IF(SUMIFS('2015 sah unit data'!C:C,'2015 sah unit data'!L:L,data_tracking[[#This Row],[year]],'2015 sah unit data'!K:K,data_tracking[[#This Row],[month]],'2015 sah unit data'!J:J,data_tracking[[#This Row],[week]])=0,\"\",SUMIFS('2015 sah unit data'!C:C,'2015 sah unit data'!L:L,data_tracking[[#This Row],[year]],'2015 sah unit data'!K:K,data_tracking[[#This Row],[month]],'2015 sah unit data'!J:J,data_tracking[[#This Row],[week]]))","v":""},{"$f":"IF(SUMIFS('2015 sah unit data'!D:D,'2015 sah unit data'!L:L,data_tracking[[#This Row],[year]],'2015 sah unit data'!K:K,data_tracking[[#This Row],[month]],'2015 sah unit data'!J:J,data_tracking[[#This Row],[week]])=0,\"\",SUMIFS('2015 sah unit data'!D:D,'2015 sah unit data'!L:L,data_tracking[[#This Row],[year]],'2015 sah unit data'!K:K,data_tracking[[#This Row],[month]],'2015 sah unit data'!J:J,data_tracking[[#This Row],[week]]))","v":""},{"$f":"IF(SUMIFS('2015 sah unit data'!E:E,'2015 sah unit data'!L:L,data_tracking[[#This Row],[year]],'2015 sah unit data'!K:K,data_tracking[[#This Row],[month]],'2015 sah unit data'!J:J,data_tracking[[#This Row],[week]])=0,\"\",SUMIFS('2015 sah unit data'!E:E,'2015 sah unit data'!L:L,data_tracking[[#This Row],[year]],'2015 sah unit data'!K:K,data_tracking[[#This Row],[month]],'2015 sah unit data'!J:J,data_tracking[[#This Row],[week]]))","v":""},{"$f":"IF(SUMIFS('2015 sah unit data'!F:F,'2015 sah unit data'!L:L,data_tracking[[#This Row],[year]],'2015 sah unit data'!K:K,data_tracking[[#This Row],[month]],'2015 sah unit data'!J:J,data_tracking[[#This Row],[week]])=0,\"\",SUMIFS('2015 sah unit data'!F:F,'2015 sah unit data'!L:L,data_tracking[[#This Row],[year]],'2015 sah unit data'!K:K,data_tracking[[#This Row],[month]],'2015 sah unit data'!J:J,data_tracking[[#This Row],[week]]))","v":""},{"$f":"IF(SUMIFS('2015 sah unit data'!G:G,'2015 sah unit data'!L:L,data_tracking[[#This Row],[year]],'2015 sah unit data'!K:K,data_tracking[[#This Row],[month]],'2015 sah unit data'!J:J,data_tracking[[#This Row],[week]])=0,\"\",SUMIFS('2015 sah unit data'!G:G,'2015 sah unit data'!L:L,data_tracking[[#This Row],[year]],'2015 sah unit data'!K:K,data_tracking[[#This Row],[month]],'2015 sah unit data'!J:J,data_tracking[[#This Row],[week]]))","v":""},null,{"$f":"SUMIFS('overhead costs data'!E:E,'overhead costs data'!C:C,data_tracking[[#This Row],[year]],'overhead costs data'!B:B,data_tracking[[#This Row],[month]])","v":70000}]
[22,5,2016,39.77028,21.823559999999997,{"$f":"IFERROR((data_tracking[[#This Row],[overhead]]+SUMIFS('labor costs data'!H:H,'labor costs data'!D:D,data_tracking[[#This Row],[year]],'labor costs data'!A:A,data_tracking[[#This Row],[week]]))/data_tracking[[#This Row],[SAH Completed (Total)]],\"\")","v":""},{"$f":"IFERROR(SUMIFS('labor costs data'!E:E,'labor costs data'!D:D,data_tracking[[#This Row],[year]],'labor costs data'!A:A,data_tracking[[#This Row],[week]])/data_tracking[[#This Row],[SAH Completed (Total)]],\"\")","v":""},{"$f":"IFERROR((data_tracking[[#This Row],[overhead]]+SUMIFS(labor_costs[total labor cost],labor_costs[year],data_tracking[[#This Row],[year]],labor_costs[week],data_tracking[[#This Row],[week]]))/data_tracking[[#This Row],[Units Completed (Total)]],\"\")","v":""},{"$f":"IF(SUM(data_tracking[[#This Row],[111-FILSN1 SAH]],data_tracking[[#This Row],[112-FILSN2 SAH]],data_tracking[[#This Row],[113-FILSN3 SAH]])=0,\"\",SUM(data_tracking[[#This Row],[111-FILSN1 SAH]],data_tracking[[#This Row],[112-FILSN2 SAH]],data_tracking[[#This Row],[113-FILSN3 SAH]]))","v":""},{"$f":"IF(SUM(data_tracking[[#This Row],[111-FILSN1 Units]],data_tracking[[#This Row],[112-FILSN2 Units]],data_tracking[[#This Row],[113-FILSN3 Units]])=0,\"\",SUM(data_tracking[[#This Row],[111-FILSN1 Units]],data_tracking[[#This Row],[112-FILSN2 Units]],data_tracking[[#This Row],[113-FILSN3 Units]]))","v":""},{"$f":"IF(SUMIFS('2015 sah unit data'!B:B,'2015 sah unit data'!L:L,data_tracking[[#This Row],[year]],'2015 sah unit data'!K:K,data_tracking[[#This Row],[month]],'2015 sah unit data'!J:J,data_tracking[[#This Row],[week]])=0,\"\",SUMIFS('2015 sah unit data'!B:B,'2015 sah unit data'!L:L,data_tracking[[#This Row],[year]],'2015 sah unit data'!K:K,data_tracking[[#This Row],[month]],'2015 sah unit data'!J:J,data_tracking[[#This Row],[week]]))","v":""},{"$f":"IF(SUMIFS('2015 sah unit data'!C:C,'2015 sah unit data'!L:L,data_tracking[[#This Row],[year]],'2015 sah unit data'!K:K,data_tracking[[#This Row],[month]],'2015 sah unit data'!J:J,data_tracking[[#This Row],[week]])=0,\"\",SUMIFS('2015 sah unit data'!C:C,'2015 sah unit data'!L:L,data_tracking[[#This Row],[year]],'2015 sah unit data'!K:K,data_tracking[[#This Row],[month]],'2015 sah unit data'!J:J,data_tracking[[#This Row],[week]]))","v":""},{"$f":"IF(SUMIFS('2015 sah unit data'!D:D,'2015 sah unit data'!L:L,data_tracking[[#This Row],[year]],'2015 sah unit data'!K:K,data_tracking[[#This Row],[month]],'2015 sah unit data'!J:J,data_tracking[[#This Row],[week]])=0,\"\",SUMIFS('2015 sah unit data'!D:D,'2015 sah unit data'!L:L,data_tracking[[#This Row],[year]],'2015 sah unit data'!K:K,data_tracking[[#This Row],[month]],'2015 sah unit data'!J:J,data_tracking[[#This Row],[week]]))","v":""},{"$f":"IF(SUMIFS('2015 sah unit data'!E:E,'2015 sah unit data'!L:L,data_tracking[[#This Row],[year]],'2015 sah unit data'!K:K,data_tracking[[#This Row],[month]],'2015 sah unit data'!J:J,data_tracking[[#This Row],[week]])=0,\"\",SUMIFS('2015 sah unit data'!E:E,'2015 sah unit data'!L:L,data_tracking[[#This Row],[year]],'2015 sah unit data'!K:K,data_tracking[[#This Row],[month]],'2015 sah unit data'!J:J,data_tracking[[#This Row],[week]]))","v":""},{"$f":"IF(SUMIFS('2015 sah unit data'!F:F,'2015 sah unit data'!L:L,data_tracking[[#This Row],[year]],'2015 sah unit data'!K:K,data_tracking[[#This Row],[month]],'2015 sah unit data'!J:J,data_tracking[[#This Row],[week]])=0,\"\",SUMIFS('2015 sah unit data'!F:F,'2015 sah unit data'!L:L,data_tracking[[#This Row],[year]],'2015 sah unit data'!K:K,data_tracking[[#This Row],[month]],'2015 sah unit data'!J:J,data_tracking[[#This Row],[week]]))","v":""},{"$f":"IF(SUMIFS('2015 sah unit data'!G:G,'2015 sah unit data'!L:L,data_tracking[[#This Row],[year]],'2015 sah unit data'!K:K,data_tracking[[#This Row],[month]],'2015 sah unit data'!J:J,data_tracking[[#This Row],[week]])=0,\"\",SUMIFS('2015 sah unit data'!G:G,'2015 sah unit data'!L:L,data_tracking[[#This Row],[year]],'2015 sah unit data'!K:K,data_tracking[[#This Row],[month]],'2015 sah unit data'!J:J,data_tracking[[#This Row],[week]]))","v":""},null,{"$f":"SUMIFS('overhead costs data'!E:E,'overhead costs data'!C:C,data_tracking[[#This Row],[year]],'overhead costs data'!B:B,data_tracking[[#This Row],[month]])","v":70000}]
[23,5,2016,39.77028,21.823559999999997,{"$f":"IFERROR((data_tracking[[#This Row],[overhead]]+SUMIFS('labor costs data'!H:H,'labor costs data'!D:D,data_tracking[[#This Row],[year]],'labor costs data'!A:A,data_tracking[[#This Row],[week]]))/data_tracking[[#This Row],[SAH Completed (Total)]],\"\")","v":""},{"$f":"IFERROR(SUMIFS('labor costs data'!E:E,'labor costs data'!D:D,data_tracking[[#This Row],[year]],'labor costs data'!A:A,data_tracking[[#This Row],[week]])/data_tracking[[#This Row],[SAH Completed (Total)]],\"\")","v":""},{"$f":"IFERROR((data_tracking[[#This Row],[overhead]]+SUMIFS(labor_costs[total labor cost],labor_costs[year],data_tracking[[#This Row],[year]],labor_costs[week],data_tracking[[#This Row],[week]]))/data_tracking[[#This Row],[Units Completed (Total)]],\"\")","v":""},{"$f":"IF(SUM(data_tracking[[#This Row],[111-FILSN1 SAH]],data_tracking[[#This Row],[112-FILSN2 SAH]],data_tracking[[#This Row],[113-FILSN3 SAH]])=0,\"\",SUM(data_tracking[[#This Row],[111-FILSN1 SAH]],data_tracking[[#This Row],[112-FILSN2 SAH]],data_tracking[[#This Row],[113-FILSN3 SAH]]))","v":""},{"$f":"IF(SUM(data_tracking[[#This Row],[111-FILSN1 Units]],data_tracking[[#This Row],[112-FILSN2 Units]],data_tracking[[#This Row],[113-FILSN3 Units]])=0,\"\",SUM(data_tracking[[#This Row],[111-FILSN1 Units]],data_tracking[[#This Row],[112-FILSN2 Units]],data_tracking[[#This Row],[113-FILSN3 Units]]))","v":""},{"$f":"IF(SUMIFS('2015 sah unit data'!B:B,'2015 sah unit data'!L:L,data_tracking[[#This Row],[year]],'2015 sah unit data'!K:K,data_tracking[[#This Row],[month]],'2015 sah unit data'!J:J,data_tracking[[#This Row],[week]])=0,\"\",SUMIFS('2015 sah unit data'!B:B,'2015 sah unit data'!L:L,data_tracking[[#This Row],[year]],'2015 sah unit data'!K:K,data_tracking[[#This Row],[month]],'2015 sah unit data'!J:J,data_tracking[[#This Row],[week]]))","v":""},{"$f":"IF(SUMIFS('2015 sah unit data'!C:C,'2015 sah unit data'!L:L,data_tracking[[#This Row],[year]],'2015 sah unit data'!K:K,data_tracking[[#This Row],[month]],'2015 sah unit data'!J:J,data_tracking[[#This Row],[week]])=0,\"\",SUMIFS('2015 sah unit data'!C:C,'2015 sah unit data'!L:L,data_tracking[[#This Row],[year]],'2015 sah unit data'!K:K,data_tracking[[#This Row],[month]],'2015 sah unit data'!J:J,data_tracking[[#This Row],[week]]))","v":""},{"$f":"IF(SUMIFS('2015 sah unit data'!D:D,'2015 sah unit data'!L:L,data_tracking[[#This Row],[year]],'2015 sah unit data'!K:K,data_tracking[[#This Row],[month]],'2015 sah unit data'!J:J,data_tracking[[#This Row],[week]])=0,\"\",SUMIFS('2015 sah unit data'!D:D,'2015 sah unit data'!L:L,data_tracking[[#This Row],[year]],'2015 sah unit data'!K:K,data_tracking[[#This Row],[month]],'2015 sah unit data'!J:J,data_tracking[[#This Row],[week]]))","v":""},{"$f":"IF(SUMIFS('2015 sah unit data'!E:E,'2015 sah unit data'!L:L,data_tracking[[#This Row],[year]],'2015 sah unit data'!K:K,data_tracking[[#This Row],[month]],'2015 sah unit data'!J:J,data_tracking[[#This Row],[week]])=0,\"\",SUMIFS('2015 sah unit data'!E:E,'2015 sah unit data'!L:L,data_tracking[[#This Row],[year]],'2015 sah unit data'!K:K,data_tracking[[#This Row],[month]],'2015 sah unit data'!J:J,data_tracking[[#This Row],[week]]))","v":""},{"$f":"IF(SUMIFS('2015 sah unit data'!F:F,'2015 sah unit data'!L:L,data_tracking[[#This Row],[year]],'2015 sah unit data'!K:K,data_tracking[[#This Row],[month]],'2015 sah unit data'!J:J,data_tracking[[#This Row],[week]])=0,\"\",SUMIFS('2015 sah unit data'!F:F,'2015 sah unit data'!L:L,data_tracking[[#This Row],[year]],'2015 sah unit data'!K:K,data_tracking[[#This Row],[month]],'2015 sah unit data'!J:J,data_tracking[[#This Row],[week]]))","v":""},{"$f":"IF(SUMIFS('2015 sah unit data'!G:G,'2015 sah unit data'!L:L,data_tracking[[#This Row],[year]],'2015 sah unit data'!K:K,data_tracking[[#This Row],[month]],'2015 sah unit data'!J:J,data_tracking[[#This Row],[week]])=0,\"\",SUMIFS('2015 sah unit data'!G:G,'2015 sah unit data'!L:L,data_tracking[[#This Row],[year]],'2015 sah unit data'!K:K,data_tracking[[#This Row],[month]],'2015 sah unit data'!J:J,data_tracking[[#This Row],[week]]))","v":""},null,{"$f":"SUMIFS('overhead costs data'!E:E,'overhead costs data'!C:C,data_tracking[[#This Row],[year]],'overhead costs data'!B:B,data_tracking[[#This Row],[month]])","v":70000}]
[24,6,2016,39.77028,21.823559999999997,{"$f":"IFERROR((data_tracking[[#This Row],[overhead]]+SUMIFS('labor costs data'!H:H,'labor costs data'!D:D,data_tracking[[#This Row],[year]],'labor costs data'!A:A,data_tracking[[#This Row],[week]]))/data_tracking[[#This Row],[SAH Completed (Total)]],\"\")","v":""},{"$f":"IFERROR(SUMIFS('labor costs data'!E:E,'labor costs data'!D:D,data_tracking[[#This Row],[year]],'labor costs data'!A:A,data_tracking[[#This Row],[week]])/data_tracking[[#This Row],[SAH Completed (Total)]],\"\")","v":""},{"$f":"IFERROR((data_tracking[[#This Row],[overhead]]+SUMIFS(labor_costs[total labor cost],labor_costs[year],data_tracking[[#This Row],[year]],labor_costs[week],data_tracking[[#This Row],[week]]))/data_tracking[[#This Row],[Units Completed (Total)]],\"\")","v":""},{"$f":"IF(SUM(data_tracking[[#This Row],[111-FILSN1 SAH]],data_tracking[[#This Row],[112-FILSN2 SAH]],data_tracking[[#This Row],[113-FILSN3 SAH]])=0,\"\",SUM(data_tracking[[#This Row],[111-FILSN1 SAH]],data_tracking[[#This Row],[112-FILSN2 SAH]],data_tracking[[#This Row],[113-FILSN3 SAH]]))","v":""},{"$f":"IF(SUM(data_tracking[[#This Row],[111-FILSN1 Units]],data_tracking[[#This Row],[112-FILSN2 Units]],data_tracking[[#This Row],[113-FILSN3 Units]])=0,\"\",SUM(data_tracking[[#This Row],[111-FILSN1 Units]],data_tracking[[#This Row],[112-FILSN2 Units]],data_tracking[[#This Row],[113-FILSN3 Units]]))","v":""},{"$f":"IF(SUMIFS('2015 sah unit data'!B:B,'2015 sah unit data'!L:L,data_tracking[[#This Row],[year]],'2015 sah unit data'!K:K,data_tracking[[#This Row],[month]],'2015 sah unit data'!J:J,data_tracking[[#This Row],[week]])=0,\"\",SUMIFS('2015 sah unit data'!B:B,'2015 sah unit data'!L:L,data_tracking[[#This Row],[year]],'2015 sah unit data'!K:K,data_tracking[[#This Row],[month]],'2015 sah unit data'!J:J,data_tracking[[#This Row],[week]]))","v":""},{"$f":"IF(SUMIFS('2015 sah unit data'!C:C,'2015 sah unit data'!L:L,data_tracking[[#This Row],[year]],'2015 sah unit data'!K:K,data_tracking[[#This Row],[month]],'2015 sah unit data'!J:J,data_tracking[[#This Row],[week]])=0,\"\",SUMIFS('2015 sah unit data'!C:C,'2015 sah unit data'!L:L,data_tracking[[#This Row],[year]],'2015 sah unit data'!K:K,data_tracking[[#This Row],[month]],'2015 sah unit data'!J:J,data_tracking[[#This Row],[week]]))","v":""},{"$f":"IF(SUMIFS('2015 sah unit data'!D:D,'2015 sah unit data'!L:L,data_tracking[[#This Row],[year]],'2015 sah unit data'!K:K,data_tracking[[#This Row],[month]],'2015 sah unit data'!J:J,data_tracking[[#This Row],[week]])=0,\"\",SUMIFS('2015 sah unit data'!D:D,'2015 sah unit data'!L:L,data_tracking[[#This Row],[year]],'2015 sah unit data'!K:K,data_tracking[[#This Row],[month]],'2015 sah unit data'!J:J,data_tracking[[#This Row],[week]]))","v":""},{"$f":"IF(SUMIFS('2015 sah unit data'!E:E,'2015 sah unit data'!L:L,data_tracking[[#This Row],[year]],'2015 sah unit data'!K:K,data_tracking[[#This Row],[month]],'2015 sah unit data'!J:J,data_tracking[[#This Row],[week]])=0,\"\",SUMIFS('2015 sah unit data'!E:E,'2015 sah unit data'!L:L,data_tracking[[#This Row],[year]],'2015 sah unit data'!K:K,data_tracking[[#This Row],[month]],'2015 sah unit data'!J:J,data_tracking[[#This Row],[week]]))","v":""},{"$f":"IF(SUMIFS('2015 sah unit data'!F:F,'2015 sah unit data'!L:L,data_tracking[[#This Row],[year]],'2015 sah unit data'!K:K,data_tracking[[#This Row],[month]],'2015 sah unit data'!J:J,data_tracking[[#This Row],[week]])=0,\"\",SUMIFS('2015 sah unit data'!F:F,'2015 sah unit data'!L:L,data_tracking[[#This Row],[year]],'2015 sah unit data'!K:K,data_tracking[[#This Row],[month]],'2015 sah unit data'!J:J,data_tracking[[#This Row],[week]]))","v":""},{"$f":"IF(SUMIFS('2015 sah unit data'!G:G,'2015 sah unit data'!L:L,data_tracking[[#This Row],[year]],'2015 sah unit data'!K:K,data_tracking[[#This Row],[month]],'2015 sah unit data'!J:J,data_tracking[[#This Row],[week]])=0,\"\",SUMIFS('2015 sah unit data'!G:G,'2015 sah unit data'!L:L,data_tracking[[#This Row],[year]],'2015 sah unit data'!K:K,data_tracking[[#This Row],[month]],'2015 sah unit data'!J:J,data_tracking[[#This Row],[week]]))","v":""},null,{"$f":"SUMIFS('overhead costs data'!E:E,'overhead costs data'!C:C,data_tracking[[#This Row],[year]],'overhead costs data'!B:B,data_tracking[[#This Row],[month]])","v":56000}]
[25,6,2016,39.77028,21.823559999999997,{"$f":"IFERROR((data_tracking[[#This Row],[overhead]]+SUMIFS('labor costs data'!H:H,'labor costs data'!D:D,data_tracking[[#This Row],[year]],'labor costs data'!A:A,data_tracking[[#This Row],[week]]))/data_tracking[[#This Row],[SAH Completed (Total)]],\"\")","v":""},{"$f":"IFERROR(SUMIFS('labor costs data'!E:E,'labor costs data'!D:D,data_tracking[[#This Row],[year]],'labor costs data'!A:A,data_tracking[[#This Row],[week]])/data_tracking[[#This Row],[SAH Completed (Total)]],\"\")","v":""},{"$f":"IFERROR((data_tracking[[#This Row],[overhead]]+SUMIFS(labor_costs[total labor cost],labor_costs[year],data_tracking[[#This Row],[year]],labor_costs[week],data_tracking[[#This Row],[week]]))/data_tracking[[#This Row],[Units Completed (Total)]],\"\")","v":""},{"$f":"IF(SUM(data_tracking[[#This Row],[111-FILSN1 SAH]],data_tracking[[#This Row],[112-FILSN2 SAH]],data_tracking[[#This Row],[113-FILSN3 SAH]])=0,\"\",SUM(data_tracking[[#This Row],[111-FILSN1 SAH]],data_tracking[[#This Row],[112-FILSN2 SAH]],data_tracking[[#This Row],[113-FILSN3 SAH]]))","v":""},{"$f":"IF(SUM(data_tracking[[#This Row],[111-FILSN1 Units]],data_tracking[[#This Row],[112-FILSN2 Units]],data_tracking[[#This Row],[113-FILSN3 Units]])=0,\"\",SUM(data_tracking[[#This Row],[111-FILSN1 Units]],data_tracking[[#This Row],[112-FILSN2 Units]],data_tracking[[#This Row],[113-FILSN3 Units]]))","v":""},{"$f":"IF(SUMIFS('2015 sah unit data'!B:B,'2015 sah unit data'!L:L,data_tracking[[#This Row],[year]],'2015 sah unit data'!K:K,data_tracking[[#This Row],[month]],'2015 sah unit data'!J:J,data_tracking[[#This Row],[week]])=0,\"\",SUMIFS('2015 sah unit data'!B:B,'2015 sah unit data'!L:L,data_tracking[[#This Row],[year]],'2015 sah unit data'!K:K,data_tracking[[#This Row],[month]],'2015 sah unit data'!J:J,data_tracking[[#This Row],[week]]))","v":""},{"$f":"IF(SUMIFS('2015 sah unit data'!C:C,'2015 sah unit data'!L:L,data_tracking[[#This Row],[year]],'2015 sah unit data'!K:K,data_tracking[[#This Row],[month]],'2015 sah unit data'!J:J,data_tracking[[#This Row],[week]])=0,\"\",SUMIFS('2015 sah unit data'!C:C,'2015 sah unit data'!L:L,data_tracking[[#This Row],[year]],'2015 sah unit data'!K:K,data_tracking[[#This Row],[month]],'2015 sah unit data'!J:J,data_tracking[[#This Row],[week]]))","v":""},{"$f":"IF(SUMIFS('2015 sah unit data'!D:D,'2015 sah unit data'!L:L,data_tracking[[#This Row],[year]],'2015 sah unit data'!K:K,data_tracking[[#This Row],[month]],'2015 sah unit data'!J:J,data_tracking[[#This Row],[week]])=0,\"\",SUMIFS('2015 sah unit data'!D:D,'2015 sah unit data'!L:L,data_tracking[[#This Row],[year]],'2015 sah unit data'!K:K,data_tracking[[#This Row],[month]],'2015 sah unit data'!J:J,data_tracking[[#This Row],[week]]))","v":""},{"$f":"IF(SUMIFS('2015 sah unit data'!E:E,'2015 sah unit data'!L:L,data_tracking[[#This Row],[year]],'2015 sah unit data'!K:K,data_tracking[[#This Row],[month]],'2015 sah unit data'!J:J,data_tracking[[#This Row],[week]])=0,\"\",SUMIFS('2015 sah unit data'!E:E,'2015 sah unit data'!L:L,data_tracking[[#This Row],[year]],'2015 sah unit data'!K:K,data_tracking[[#This Row],[month]],'2015 sah unit data'!J:J,data_tracking[[#This Row],[week]]))","v":""},{"$f":"IF(SUMIFS('2015 sah unit data'!F:F,'2015 sah unit data'!L:L,data_tracking[[#This Row],[year]],'2015 sah unit data'!K:K,data_tracking[[#This Row],[month]],'2015 sah unit data'!J:J,data_tracking[[#This Row],[week]])=0,\"\",SUMIFS('2015 sah unit data'!F:F,'2015 sah unit data'!L:L,data_tracking[[#This Row],[year]],'2015 sah unit data'!K:K,data_tracking[[#This Row],[month]],'2015 sah unit data'!J:J,data_tracking[[#This Row],[week]]))","v":""},{"$f":"IF(SUMIFS('2015 sah unit data'!G:G,'2015 sah unit data'!L:L,data_tracking[[#This Row],[year]],'2015 sah unit data'!K:K,data_tracking[[#This Row],[month]],'2015 sah unit data'!J:J,data_tracking[[#This Row],[week]])=0,\"\",SUMIFS('2015 sah unit data'!G:G,'2015 sah unit data'!L:L,data_tracking[[#This Row],[year]],'2015 sah unit data'!K:K,data_tracking[[#This Row],[month]],'2015 sah unit data'!J:J,data_tracking[[#This Row],[week]]))","v":""},null,{"$f":"SUMIFS('overhead costs data'!E:E,'overhead costs data'!C:C,data_tracking[[#This Row],[year]],'overhead costs data'!B:B,data_tracking[[#This Row],[month]])","v":56000}]
[26,6,2016,39.77028,21.823559999999997,{"$f":"IFERROR((data_tracking[[#This Row],[overhead]]+SUMIFS('labor costs data'!H:H,'labor costs data'!D:D,data_tracking[[#This Row],[year]],'labor costs data'!A:A,data_tracking[[#This Row],[week]]))/data_tracking[[#This Row],[SAH Completed (Total)]],\"\")","v":""},{"$f":"IFERROR(SUMIFS('labor costs data'!E:E,'labor costs data'!D:D,data_tracking[[#This Row],[year]],'labor costs data'!A:A,data_tracking[[#This Row],[week]])/data_tracking[[#This Row],[SAH Completed (Total)]],\"\")","v":""},{"$f":"IFERROR((data_tracking[[#This Row],[overhead]]+SUMIFS(labor_costs[total labor cost],labor_costs[year],data_tracking[[#This Row],[year]],labor_costs[week],data_tracking[[#This Row],[week]]))/data_tracking[[#This Row],[Units Completed (Total)]],\"\")","v":""},{"$f":"IF(SUM(data_tracking[[#This Row],[111-FILSN1 SAH]],data_tracking[[#This Row],[112-FILSN2 SAH]],data_tracking[[#This Row],[113-FILSN3 SAH]])=0,\"\",SUM(data_tracking[[#This Row],[111-FILSN1 SAH]],data_tracking[[#This Row],[112-FILSN2 SAH]],data_tracking[[#This Row],[113-FILSN3 SAH]]))","v":""},{"$f":"IF(SUM(data_tracking[[#This Row],[111-FILSN1 Units]],data_tracking[[#This Row],[112-FILSN2 Units]],data_tracking[[#This Row],[113-FILSN3 Units]])=0,\"\",SUM(data_tracking[[#This Row],[111-FILSN1 Units]],data_tracking[[#This Row],[112-FILSN2 Units]],data_tracking[[#This Row],[113-FILSN3 Units]]))","v":""},{"$f":"IF(SUMIFS('2015 sah unit data'!B:B,'2015 sah unit data'!L:L,data_tracking[[#This Row],[year]],'2015 sah unit data'!K:K,data_tracking[[#This Row],[month]],'2015 sah unit data'!J:J,data_tracking[[#This Row],[week]])=0,\"\",SUMIFS('2015 sah unit data'!B:B,'2015 sah unit data'!L:L,data_tracking[[#This Row],[year]],'2015 sah unit data'!K:K,data_tracking[[#This Row],[month]],'2015 sah unit data'!J:J,data_tracking[[#This Row],[week]]))","v":""},{"$f":"IF(SUMIFS('2015 sah unit data'!C:C,'2015 sah unit data'!L:L,data_tracking[[#This Row],[year]],'2015 sah unit data'!K:K,data_tracking[[#This Row],[month]],'2015 sah unit data'!J:J,data_tracking[[#This Row],[week]])=0,\"\",SUMIFS('2015 sah unit data'!C:C,'2015 sah unit data'!L:L,data_tracking[[#This Row],[year]],'2015 sah unit data'!K:K,data_tracking[[#This Row],[month]],'2015 sah unit data'!J:J,data_tracking[[#This Row],[week]]))","v":""},{"$f":"IF(SUMIFS('2015 sah unit data'!D:D,'2015 sah unit data'!L:L,data_tracking[[#This Row],[year]],'2015 sah unit data'!K:K,data_tracking[[#This Row],[month]],'2015 sah unit data'!J:J,data_tracking[[#This Row],[week]])=0,\"\",SUMIFS('2015 sah unit data'!D:D,'2015 sah unit data'!L:L,data_tracking[[#This Row],[year]],'2015 sah unit data'!K:K,data_tracking[[#This Row],[month]],'2015 sah unit data'!J:J,data_tracking[[#This Row],[week]]))","v":""},{"$f":"IF(SUMIFS('2015 sah unit data'!E:E,'2015 sah unit data'!L:L,data_tracking[[#This Row],[year]],'2015 sah unit data'!K:K,data_tracking[[#This Row],[month]],'2015 sah unit data'!J:J,data_tracking[[#This Row],[week]])=0,\"\",SUMIFS('2015 sah unit data'!E:E,'2015 sah unit data'!L:L,data_tracking[[#This Row],[year]],'2015 sah unit data'!K:K,data_tracking[[#This Row],[month]],'2015 sah unit data'!J:J,data_tracking[[#This Row],[week]]))","v":""},{"$f":"IF(SUMIFS('2015 sah unit data'!F:F,'2015 sah unit data'!L:L,data_tracking[[#This Row],[year]],'2015 sah unit data'!K:K,data_tracking[[#This Row],[month]],'2015 sah unit data'!J:J,data_tracking[[#This Row],[week]])=0,\"\",SUMIFS('2015 sah unit data'!F:F,'2015 sah unit data'!L:L,data_tracking[[#This Row],[year]],'2015 sah unit data'!K:K,data_tracking[[#This Row],[month]],'2015 sah unit data'!J:J,data_tracking[[#This Row],[week]]))","v":""},{"$f":"IF(SUMIFS('2015 sah unit data'!G:G,'2015 sah unit data'!L:L,data_tracking[[#This Row],[year]],'2015 sah unit data'!K:K,data_tracking[[#This Row],[month]],'2015 sah unit data'!J:J,data_tracking[[#This Row],[week]])=0,\"\",SUMIFS('2015 sah unit data'!G:G,'2015 sah unit data'!L:L,data_tracking[[#This Row],[year]],'2015 sah unit data'!K:K,data_tracking[[#This Row],[month]],'2015 sah unit data'!J:J,data_tracking[[#This Row],[week]]))","v":""},null,{"$f":"SUMIFS('overhead costs data'!E:E,'overhead costs data'!C:C,data_tracking[[#This Row],[year]],'overhead costs data'!B:B,data_tracking[[#This Row],[month]])","v":56000}]
[27,6,2016,39.77028,21.823559999999997,{"$f":"IFERROR((data_tracking[[#This Row],[overhead]]+SUMIFS('labor costs data'!H:H,'labor costs data'!D:D,data_tracking[[#This Row],[year]],'labor costs data'!A:A,data_tracking[[#This Row],[week]]))/data_tracking[[#This Row],[SAH Completed (Total)]],\"\")","v":""},{"$f":"IFERROR(SUMIFS('labor costs data'!E:E,'labor costs data'!D:D,data_tracking[[#This Row],[year]],'labor costs data'!A:A,data_tracking[[#This Row],[week]])/data_tracking[[#This Row],[SAH Completed (Total)]],\"\")","v":""},{"$f":"IFERROR((data_tracking[[#This Row],[overhead]]+SUMIFS(labor_costs[total labor cost],labor_costs[year],data_tracking[[#This Row],[year]],labor_costs[week],data_tracking[[#This Row],[week]]))/data_tracking[[#This Row],[Units Completed (Total)]],\"\")","v":""},{"$f":"IF(SUM(data_tracking[[#This Row],[111-FILSN1 SAH]],data_tracking[[#This Row],[112-FILSN2 SAH]],data_tracking[[#This Row],[113-FILSN3 SAH]])=0,\"\",SUM(data_tracking[[#This Row],[111-FILSN1 SAH]],data_tracking[[#This Row],[112-FILSN2 SAH]],data_tracking[[#This Row],[113-FILSN3 SAH]]))","v":""},{"$f":"IF(SUM(data_tracking[[#This Row],[111-FILSN1 Units]],data_tracking[[#This Row],[112-FILSN2 Units]],data_tracking[[#This Row],[113-FILSN3 Units]])=0,\"\",SUM(data_tracking[[#This Row],[111-FILSN1 Units]],data_tracking[[#This Row],[112-FILSN2 Units]],data_tracking[[#This Row],[113-FILSN3 Units]]))","v":""},{"$f":"IF(SUMIFS('2015 sah unit data'!B:B,'2015 sah unit data'!L:L,data_tracking[[#This Row],[year]],'2015 sah unit data'!K:K,data_tracking[[#This Row],[month]],'2015 sah unit data'!J:J,data_tracking[[#This Row],[week]])=0,\"\",SUMIFS('2015 sah unit data'!B:B,'2015 sah unit data'!L:L,data_tracking[[#This Row],[year]],'2015 sah unit data'!K:K,data_tracking[[#This Row],[month]],'2015 sah unit data'!J:J,data_tracking[[#This Row],[week]]))","v":""},{"$f":"IF(SUMIFS('2015 sah unit data'!C:C,'2015 sah unit data'!L:L,data_tracking[[#This Row],[year]],'2015 sah unit data'!K:K,data_tracking[[#This Row],[month]],'2015 sah unit data'!J:J,data_tracking[[#This Row],[week]])=0,\"\",SUMIFS('2015 sah unit data'!C:C,'2015 sah unit data'!L:L,data_tracking[[#This Row],[year]],'2015 sah unit data'!K:K,data_tracking[[#This Row],[month]],'2015 sah unit data'!J:J,data_tracking[[#This Row],[week]]))","v":""},{"$f":"IF(SUMIFS('2015 sah unit data'!D:D,'2015 sah unit data'!L:L,data_tracking[[#This Row],[year]],'2015 sah unit data'!K:K,data_tracking[[#This Row],[month]],'2015 sah unit data'!J:J,data_tracking[[#This Row],[week]])=0,\"\",SUMIFS('2015 sah unit data'!D:D,'2015 sah unit data'!L:L,data_tracking[[#This Row],[year]],'2015 sah unit data'!K:K,data_tracking[[#This Row],[month]],'2015 sah unit data'!J:J,data_tracking[[#This Row],[week]]))","v":""},{"$f":"IF(SUMIFS('2015 sah unit data'!E:E,'2015 sah unit data'!L:L,data_tracking[[#This Row],[year]],'2015 sah unit data'!K:K,data_tracking[[#This Row],[month]],'2015 sah unit data'!J:J,data_tracking[[#This Row],[week]])=0,\"\",SUMIFS('2015 sah unit data'!E:E,'2015 sah unit data'!L:L,data_tracking[[#This Row],[year]],'2015 sah unit data'!K:K,data_tracking[[#This Row],[month]],'2015 sah unit data'!J:J,data_tracking[[#This Row],[week]]))","v":""},{"$f":"IF(SUMIFS('2015 sah unit data'!F:F,'2015 sah unit data'!L:L,data_tracking[[#This Row],[year]],'2015 sah unit data'!K:K,data_tracking[[#This Row],[month]],'2015 sah unit data'!J:J,data_tracking[[#This Row],[week]])=0,\"\",SUMIFS('2015 sah unit data'!F:F,'2015 sah unit data'!L:L,data_tracking[[#This Row],[year]],'2015 sah unit data'!K:K,data_tracking[[#This Row],[month]],'2015 sah unit data'!J:J,data_tracking[[#This Row],[week]]))","v":""},{"$f":"IF(SUMIFS('2015 sah unit data'!G:G,'2015 sah unit data'!L:L,data_tracking[[#This Row],[year]],'2015 sah unit data'!K:K,data_tracking[[#This Row],[month]],'2015 sah unit data'!J:J,data_tracking[[#This Row],[week]])=0,\"\",SUMIFS('2015 sah unit data'!G:G,'2015 sah unit data'!L:L,data_tracking[[#This Row],[year]],'2015 sah unit data'!K:K,data_tracking[[#This Row],[month]],'2015 sah unit data'!J:J,data_tracking[[#This Row],[week]]))","v":""},null,{"$f":"SUMIFS('overhead costs data'!E:E,'overhead costs data'!C:C,data_tracking[[#This Row],[year]],'overhead costs data'!B:B,data_tracking[[#This Row],[month]])","v":56000}]
[28,7,2016,39.77028,21.823559999999997,{"$f":"IFERROR((data_tracking[[#This Row],[overhead]]+SUMIFS('labor costs data'!H:H,'labor costs data'!D:D,data_tracking[[#This Row],[year]],'labor costs data'!A:A,data_tracking[[#This Row],[week]]))/data_tracking[[#This Row],[SAH Completed (Total)]],\"\")","v":""},{"$f":"IFERROR(SUMIFS('labor costs data'!E:E,'labor costs data'!D:D,data_tracking[[#This Row],[year]],'labor costs data'!A:A,data_tracking[[#This Row],[week]])/data_tracking[[#This Row],[SAH Completed (Total)]],\"\")","v":""},{"$f":"IFERROR((data_tracking[[#This Row],[overhead]]+SUMIFS(labor_costs[total labor cost],labor_costs[year],data_tracking[[#This Row],[year]],labor_costs[week],data_tracking[[#This Row],[week]]))/data_tracking[[#This Row],[Units Completed (Total)]],\"\")","v":""},{"$f":"IF(SUM(data_tracking[[#This Row],[111-FILSN1 SAH]],data_tracking[[#This Row],[112-FILSN2 SAH]],data_tracking[[#This Row],[113-FILSN3 SAH]])=0,\"\",SUM(data_tracking[[#This Row],[111-FILSN1 SAH]],data_tracking[[#This Row],[112-FILSN2 SAH]],data_tracking[[#This Row],[113-FILSN3 SAH]]))","v":""},{"$f":"IF(SUM(data_tracking[[#This Row],[111-FILSN1 Units]],data_tracking[[#This Row],[112-FILSN2 Units]],data_tracking[[#This Row],[113-FILSN3 Units]])=0,\"\",SUM(data_tracking[[#This Row],[111-FILSN1 Units]],data_tracking[[#This Row],[112-FILSN2 Units]],data_tracking[[#This Row],[113-FILSN3 Units]]))","v":""},{"$f":"IF(SUMIFS('2015 sah unit data'!B:B,'2015 sah unit data'!L:L,data_tracking[[#This Row],[year]],'2015 sah unit data'!K:K,data_tracking[[#This Row],[month]],'2015 sah unit data'!J:J,data_tracking[[#This Row],[week]])=0,\"\",SUMIFS('2015 sah unit data'!B:B,'2015 sah unit data'!L:L,data_tracking[[#This Row],[year]],'2015 sah unit data'!K:K,data_tracking[[#This Row],[month]],'2015 sah unit data'!J:J,data_tracking[[#This Row],[week]]))","v":""},{"$f":"IF(SUMIFS('2015 sah unit data'!C:C,'2015 sah unit data'!L:L,data_tracking[[#This Row],[year]],'2015 sah unit data'!K:K,data_tracking[[#This Row],[month]],'2015 sah unit data'!J:J,data_tracking[[#This Row],[week]])=0,\"\",SUMIFS('2015 sah unit data'!C:C,'2015 sah unit data'!L:L,data_tracking[[#This Row],[year]],'2015 sah unit data'!K:K,data_tracking[[#This Row],[month]],'2015 sah unit data'!J:J,data_tracking[[#This Row],[week]]))","v":""},{"$f":"IF(SUMIFS('2015 sah unit data'!D:D,'2015 sah unit data'!L:L,data_tracking[[#This Row],[year]],'2015 sah unit data'!K:K,data_tracking[[#This Row],[month]],'2015 sah unit data'!J:J,data_tracking[[#This Row],[week]])=0,\"\",SUMIFS('2015 sah unit data'!D:D,'2015 sah unit data'!L:L,data_tracking[[#This Row],[year]],'2015 sah unit data'!K:K,data_tracking[[#This Row],[month]],'2015 sah unit data'!J:J,data_tracking[[#This Row],[week]]))","v":""},{"$f":"IF(SUMIFS('2015 sah unit data'!E:E,'2015 sah unit data'!L:L,data_tracking[[#This Row],[year]],'2015 sah unit data'!K:K,data_tracking[[#This Row],[month]],'2015 sah unit data'!J:J,data_tracking[[#This Row],[week]])=0,\"\",SUMIFS('2015 sah unit data'!E:E,'2015 sah unit data'!L:L,data_tracking[[#This Row],[year]],'2015 sah unit data'!K:K,data_tracking[[#This Row],[month]],'2015 sah unit data'!J:J,data_tracking[[#This Row],[week]]))","v":""},{"$f":"IF(SUMIFS('2015 sah unit data'!F:F,'2015 sah unit data'!L:L,data_tracking[[#This Row],[year]],'2015 sah unit data'!K:K,data_tracking[[#This Row],[month]],'2015 sah unit data'!J:J,data_tracking[[#This Row],[week]])=0,\"\",SUMIFS('2015 sah unit data'!F:F,'2015 sah unit data'!L:L,data_tracking[[#This Row],[year]],'2015 sah unit data'!K:K,data_tracking[[#This Row],[month]],'2015 sah unit data'!J:J,data_tracking[[#This Row],[week]]))","v":""},{"$f":"IF(SUMIFS('2015 sah unit data'!G:G,'2015 sah unit data'!L:L,data_tracking[[#This Row],[year]],'2015 sah unit data'!K:K,data_tracking[[#This Row],[month]],'2015 sah unit data'!J:J,data_tracking[[#This Row],[week]])=0,\"\",SUMIFS('2015 sah unit data'!G:G,'2015 sah unit data'!L:L,data_tracking[[#This Row],[year]],'2015 sah unit data'!K:K,data_tracking[[#This Row],[month]],'2015 sah unit data'!J:J,data_tracking[[#This Row],[week]]))","v":""},null,{"$f":"SUMIFS('overhead costs data'!E:E,'overhead costs data'!C:C,data_tracking[[#This Row],[year]],'overhead costs data'!B:B,data_tracking[[#This Row],[month]])","v":70000}]
[29,7,2016,39.77028,21.823559999999997,{"$f":"IFERROR((data_tracking[[#This Row],[overhead]]+SUMIFS('labor costs data'!H:H,'labor costs data'!D:D,data_tracking[[#This Row],[year]],'labor costs data'!A:A,data_tracking[[#This Row],[week]]))/data_tracking[[#This Row],[SAH Completed (Total)]],\"\")","v":""},{"$f":"IFERROR(SUMIFS('labor costs data'!E:E,'labor costs data'!D:D,data_tracking[[#This Row],[year]],'labor costs data'!A:A,data_tracking[[#This Row],[week]])/data_tracking[[#This Row],[SAH Completed (Total)]],\"\")","v":""},{"$f":"IFERROR((data_tracking[[#This Row],[overhead]]+SUMIFS(labor_costs[total labor cost],labor_costs[year],data_tracking[[#This Row],[year]],labor_costs[week],data_tracking[[#This Row],[week]]))/data_tracking[[#This Row],[Units Completed (Total)]],\"\")","v":""},{"$f":"IF(SUM(data_tracking[[#This Row],[111-FILSN1 SAH]],data_tracking[[#This Row],[112-FILSN2 SAH]],data_tracking[[#This Row],[113-FILSN3 SAH]])=0,\"\",SUM(data_tracking[[#This Row],[111-FILSN1 SAH]],data_tracking[[#This Row],[112-FILSN2 SAH]],data_tracking[[#This Row],[113-FILSN3 SAH]]))","v":""},{"$f":"IF(SUM(data_tracking[[#This Row],[111-FILSN1 Units]],data_tracking[[#This Row],[112-FILSN2 Units]],data_tracking[[#This Row],[113-FILSN3 Units]])=0,\"\",SUM(data_tracking[[#This Row],[111-FILSN1 Units]],data_tracking[[#This Row],[112-FILSN2 Units]],data_tracking[[#This Row],[113-FILSN3 Units]]))","v":""},{"$f":"IF(SUMIFS('2015 sah unit data'!B:B,'2015 sah unit data'!L:L,data_tracking[[#This Row],[year]],'2015 sah unit data'!K:K,data_tracking[[#This Row],[month]],'2015 sah unit data'!J:J,data_tracking[[#This Row],[week]])=0,\"\",SUMIFS('2015 sah unit data'!B:B,'2015 sah unit data'!L:L,data_tracking[[#This Row],[year]],'2015 sah unit data'!K:K,data_tracking[[#This Row],[month]],'2015 sah unit data'!J:J,data_tracking[[#This Row],[week]]))","v":""},{"$f":"IF(SUMIFS('2015 sah unit data'!C:C,'2015 sah unit data'!L:L,data_tracking[[#This Row],[year]],'2015 sah unit data'!K:K,data_tracking[[#This Row],[month]],'2015 sah unit data'!J:J,data_tracking[[#This Row],[week]])=0,\"\",SUMIFS('2015 sah unit data'!C:C,'2015 sah unit data'!L:L,data_tracking[[#This Row],[year]],'2015 sah unit data'!K:K,data_tracking[[#This Row],[month]],'2015 sah unit data'!J:J,data_tracking[[#This Row],[week]]))","v":""},{"$f":"IF(SUMIFS('2015 sah unit data'!D:D,'2015 sah unit data'!L:L,data_tracking[[#This Row],[year]],'2015 sah unit data'!K:K,data_tracking[[#This Row],[month]],'2015 sah unit data'!J:J,data_tracking[[#This Row],[week]])=0,\"\",SUMIFS('2015 sah unit data'!D:D,'2015 sah unit data'!L:L,data_tracking[[#This Row],[year]],'2015 sah unit data'!K:K,data_tracking[[#This Row],[month]],'2015 sah unit data'!J:J,data_tracking[[#This Row],[week]]))","v":""},{"$f":"IF(SUMIFS('2015 sah unit data'!E:E,'2015 sah unit data'!L:L,data_tracking[[#This Row],[year]],'2015 sah unit data'!K:K,data_tracking[[#This Row],[month]],'2015 sah unit data'!J:J,data_tracking[[#This Row],[week]])=0,\"\",SUMIFS('2015 sah unit data'!E:E,'2015 sah unit data'!L:L,data_tracking[[#This Row],[year]],'2015 sah unit data'!K:K,data_tracking[[#This Row],[month]],'2015 sah unit data'!J:J,data_tracking[[#This Row],[week]]))","v":""},{"$f":"IF(SUMIFS('2015 sah unit data'!F:F,'2015 sah unit data'!L:L,data_tracking[[#This Row],[year]],'2015 sah unit data'!K:K,data_tracking[[#This Row],[month]],'2015 sah unit data'!J:J,data_tracking[[#This Row],[week]])=0,\"\",SUMIFS('2015 sah unit data'!F:F,'2015 sah unit data'!L:L,data_tracking[[#This Row],[year]],'2015 sah unit data'!K:K,data_tracking[[#This Row],[month]],'2015 sah unit data'!J:J,data_tracking[[#This Row],[week]]))","v":""},{"$f":"IF(SUMIFS('2015 sah unit data'!G:G,'2015 sah unit data'!L:L,data_tracking[[#This Row],[year]],'2015 sah unit data'!K:K,data_tracking[[#This Row],[month]],'2015 sah unit data'!J:J,data_tracking[[#This Row],[week]])=0,\"\",SUMIFS('2015 sah unit data'!G:G,'2015 sah unit data'!L:L,data_tracking[[#This Row],[year]],'2015 sah unit data'!K:K,data_tracking[[#This Row],[month]],'2015 sah unit data'!J:J,data_tracking[[#This Row],[week]]))","v":""},null,{"$f":"SUMIFS('overhead costs data'!E:E,'overhead costs data'!C:C,data_tracking[[#This Row],[year]],'overhead costs data'!B:B,data_tracking[[#This Row],[month]])","v":70000}]
[30,7,2016,39.77028,21.823559999999997,{"$f":"IFERROR((data_tracking[[#This Row],[overhead]]+SUMIFS('labor costs data'!H:H,'labor costs data'!D:D,data_tracking[[#This Row],[year]],'labor costs data'!A:A,data_tracking[[#This Row],[week]]))/data_tracking[[#This Row],[SAH Completed (Total)]],\"\")","v":""},{"$f":"IFERROR(SUMIFS('labor costs data'!E:E,'labor costs data'!D:D,data_tracking[[#This Row],[year]],'labor costs data'!A:A,data_tracking[[#This Row],[week]])/data_tracking[[#This Row],[SAH Completed (Total)]],\"\")","v":""},{"$f":"IFERROR((data_tracking[[#This Row],[overhead]]+SUMIFS(labor_costs[total labor cost],labor_costs[year],data_tracking[[#This Row],[year]],labor_costs[week],data_tracking[[#This Row],[week]]))/data_tracking[[#This Row],[Units Completed (Total)]],\"\")","v":""},{"$f":"IF(SUM(data_tracking[[#This Row],[111-FILSN1 SAH]],data_tracking[[#This Row],[112-FILSN2 SAH]],data_tracking[[#This Row],[113-FILSN3 SAH]])=0,\"\",SUM(data_tracking[[#This Row],[111-FILSN1 SAH]],data_tracking[[#This Row],[112-FILSN2 SAH]],data_tracking[[#This Row],[113-FILSN3 SAH]]))","v":""},{"$f":"IF(SUM(data_tracking[[#This Row],[111-FILSN1 Units]],data_tracking[[#This Row],[112-FILSN2 Units]],data_tracking[[#This Row],[113-FILSN3 Units]])=0,\"\",SUM(data_tracking[[#This Row],[111-FILSN1 Units]],data_tracking[[#This Row],[112-FILSN2 Units]],data_tracking[[#This Row],[113-FILSN3 Units]]))","v":""},{"$f":"IF(SUMIFS('2015 sah unit data'!B:B,'2015 sah unit data'!L:L,data_tracking[[#This Row],[year]],'2015 sah unit data'!K:K,data_tracking[[#This Row],[month]],'2015 sah unit data'!J:J,data_tracking[[#This Row],[week]])=0,\"\",SUMIFS('2015 sah unit data'!B:B,'2015 sah unit data'!L:L,data_tracking[[#This Row],[year]],'2015 sah unit data'!K:K,data_tracking[[#This Row],[month]],'2015 sah unit data'!J:J,data_tracking[[#This Row],[week]]))","v":""},{"$f":"IF(SUMIFS('2015 sah unit data'!C:C,'2015 sah unit data'!L:L,data_tracking[[#This Row],[year]],'2015 sah unit data'!K:K,data_tracking[[#This Row],[month]],'2015 sah unit data'!J:J,data_tracking[[#This Row],[week]])=0,\"\",SUMIFS('2015 sah unit data'!C:C,'2015 sah unit data'!L:L,data_tracking[[#This Row],[year]],'2015 sah unit data'!K:K,data_tracking[[#This Row],[month]],'2015 sah unit data'!J:J,data_tracking[[#This Row],[week]]))","v":""},{"$f":"IF(SUMIFS('2015 sah unit data'!D:D,'2015 sah unit data'!L:L,data_tracking[[#This Row],[year]],'2015 sah unit data'!K:K,data_tracking[[#This Row],[month]],'2015 sah unit data'!J:J,data_tracking[[#This Row],[week]])=0,\"\",SUMIFS('2015 sah unit data'!D:D,'2015 sah unit data'!L:L,data_tracking[[#This Row],[year]],'2015 sah unit data'!K:K,data_tracking[[#This Row],[month]],'2015 sah unit data'!J:J,data_tracking[[#This Row],[week]]))","v":""},{"$f":"IF(SUMIFS('2015 sah unit data'!E:E,'2015 sah unit data'!L:L,data_tracking[[#This Row],[year]],'2015 sah unit data'!K:K,data_tracking[[#This Row],[month]],'2015 sah unit data'!J:J,data_tracking[[#This Row],[week]])=0,\"\",SUMIFS('2015 sah unit data'!E:E,'2015 sah unit data'!L:L,data_tracking[[#This Row],[year]],'2015 sah unit data'!K:K,data_tracking[[#This Row],[month]],'2015 sah unit data'!J:J,data_tracking[[#This Row],[week]]))","v":""},{"$f":"IF(SUMIFS('2015 sah unit data'!F:F,'2015 sah unit data'!L:L,data_tracking[[#This Row],[year]],'2015 sah unit data'!K:K,data_tracking[[#This Row],[month]],'2015 sah unit data'!J:J,data_tracking[[#This Row],[week]])=0,\"\",SUMIFS('2015 sah unit data'!F:F,'2015 sah unit data'!L:L,data_tracking[[#This Row],[year]],'2015 sah unit data'!K:K,data_tracking[[#This Row],[month]],'2015 sah unit data'!J:J,data_tracking[[#This Row],[week]]))","v":""},{"$f":"IF(SUMIFS('2015 sah unit data'!G:G,'2015 sah unit data'!L:L,data_tracking[[#This Row],[year]],'2015 sah unit data'!K:K,data_tracking[[#This Row],[month]],'2015 sah unit data'!J:J,data_tracking[[#This Row],[week]])=0,\"\",SUMIFS('2015 sah unit data'!G:G,'2015 sah unit data'!L:L,data_tracking[[#This Row],[year]],'2015 sah unit data'!K:K,data_tracking[[#This Row],[month]],'2015 sah unit data'!J:J,data_tracking[[#This Row],[week]]))","v":""},null,{"$f":"SUMIFS('overhead costs data'!E:E,'overhead costs data'!C:C,data_tracking[[#This Row],[year]],'overhead costs data'!B:B,data_tracking[[#This Row],[month]])","v":70000}]
[31,7,2016,39.77028,21.823559999999997,{"$f":"IFERROR((data_tracking[[#This Row],[overhead]]+SUMIFS('labor costs data'!H:H,'labor costs data'!D:D,data_tracking[[#This Row],[year]],'labor costs data'!A:A,data_tracking[[#This Row],[week]]))/data_tracking[[#This Row],[SAH Completed (Total)]],\"\")","v":""},{"$f":"IFERROR(SUMIFS('labor costs data'!E:E,'labor costs data'!D:D,data_tracking[[#This Row],[year]],'labor costs data'!A:A,data_tracking[[#This Row],[week]])/data_tracking[[#This Row],[SAH Completed (Total)]],\"\")","v":""},{"$f":"IFERROR((data_tracking[[#This Row],[overhead]]+SUMIFS(labor_costs[total labor cost],labor_costs[year],data_tracking[[#This Row],[year]],labor_costs[week],data_tracking[[#This Row],[week]]))/data_tracking[[#This Row],[Units Completed (Total)]],\"\")","v":""},{"$f":"IF(SUM(data_tracking[[#This Row],[111-FILSN1 SAH]],data_tracking[[#This Row],[112-FILSN2 SAH]],data_tracking[[#This Row],[113-FILSN3 SAH]])=0,\"\",SUM(data_tracking[[#This Row],[111-FILSN1 SAH]],data_tracking[[#This Row],[112-FILSN2 SAH]],data_tracking[[#This Row],[113-FILSN3 SAH]]))","v":""},{"$f":"IF(SUM(data_tracking[[#This Row],[111-FILSN1 Units]],data_tracking[[#This Row],[112-FILSN2 Units]],data_tracking[[#This Row],[113-FILSN3 Units]])=0,\"\",SUM(data_tracking[[#This Row],[111-FILSN1 Units]],data_tracking[[#This Row],[112-FILSN2 Units]],data_tracking[[#This Row],[113-FILSN3 Units]]))","v":""},{"$f":"IF(SUMIFS('2015 sah unit data'!B:B,'2015 sah unit data'!L:L,data_tracking[[#This Row],[year]],'2015 sah unit data'!K:K,data_tracking[[#This Row],[month]],'2015 sah unit data'!J:J,data_tracking[[#This Row],[week]])=0,\"\",SUMIFS('2015 sah unit data'!B:B,'2015 sah unit data'!L:L,data_tracking[[#This Row],[year]],'2015 sah unit data'!K:K,data_tracking[[#This Row],[month]],'2015 sah unit data'!J:J,data_tracking[[#This Row],[week]]))","v":""},{"$f":"IF(SUMIFS('2015 sah unit data'!C:C,'2015 sah unit data'!L:L,data_tracking[[#This Row],[year]],'2015 sah unit data'!K:K,data_tracking[[#This Row],[month]],'2015 sah unit data'!J:J,data_tracking[[#This Row],[week]])=0,\"\",SUMIFS('2015 sah unit data'!C:C,'2015 sah unit data'!L:L,data_tracking[[#This Row],[year]],'2015 sah unit data'!K:K,data_tracking[[#This Row],[month]],'2015 sah unit data'!J:J,data_tracking[[#This Row],[week]]))","v":""},{"$f":"IF(SUMIFS('2015 sah unit data'!D:D,'2015 sah unit data'!L:L,data_tracking[[#This Row],[year]],'2015 sah unit data'!K:K,data_tracking[[#This Row],[month]],'2015 sah unit data'!J:J,data_tracking[[#This Row],[week]])=0,\"\",SUMIFS('2015 sah unit data'!D:D,'2015 sah unit data'!L:L,data_tracking[[#This Row],[year]],'2015 sah unit data'!K:K,data_tracking[[#This Row],[month]],'2015 sah unit data'!J:J,data_tracking[[#This Row],[week]]))","v":""},{"$f":"IF(SUMIFS('2015 sah unit data'!E:E,'2015 sah unit data'!L:L,data_tracking[[#This Row],[year]],'2015 sah unit data'!K:K,data_tracking[[#This Row],[month]],'2015 sah unit data'!J:J,data_tracking[[#This Row],[week]])=0,\"\",SUMIFS('2015 sah unit data'!E:E,'2015 sah unit data'!L:L,data_tracking[[#This Row],[year]],'2015 sah unit data'!K:K,data_tracking[[#This Row],[month]],'2015 sah unit data'!J:J,data_tracking[[#This Row],[week]]))","v":""},{"$f":"IF(SUMIFS('2015 sah unit data'!F:F,'2015 sah unit data'!L:L,data_tracking[[#This Row],[year]],'2015 sah unit data'!K:K,data_tracking[[#This Row],[month]],'2015 sah unit data'!J:J,data_tracking[[#This Row],[week]])=0,\"\",SUMIFS('2015 sah unit data'!F:F,'2015 sah unit data'!L:L,data_tracking[[#This Row],[year]],'2015 sah unit data'!K:K,data_tracking[[#This Row],[month]],'2015 sah unit data'!J:J,data_tracking[[#This Row],[week]]))","v":""},{"$f":"IF(SUMIFS('2015 sah unit data'!G:G,'2015 sah unit data'!L:L,data_tracking[[#This Row],[year]],'2015 sah unit data'!K:K,data_tracking[[#This Row],[month]],'2015 sah unit data'!J:J,data_tracking[[#This Row],[week]])=0,\"\",SUMIFS('2015 sah unit data'!G:G,'2015 sah unit data'!L:L,data_tracking[[#This Row],[year]],'2015 sah unit data'!K:K,data_tracking[[#This Row],[month]],'2015 sah unit data'!J:J,data_tracking[[#This Row],[week]]))","v":""},null,{"$f":"SUMIFS('overhead costs data'!E:E,'overhead costs data'!C:C,data_tracking[[#This Row],[year]],'overhead costs data'!B:B,data_tracking[[#This Row],[month]])","v":70000}]
[32,8,2016,39.77028,21.823559999999997,{"$f":"IFERROR((data_tracking[[#This Row],[overhead]]+SUMIFS('labor costs data'!H:H,'labor costs data'!D:D,data_tracking[[#This Row],[year]],'labor costs data'!A:A,data_tracking[[#This Row],[week]]))/data_tracking[[#This Row],[SAH Completed (Total)]],\"\")","v":""},{"$f":"IFERROR(SUMIFS('labor costs data'!E:E,'labor costs data'!D:D,data_tracking[[#This Row],[year]],'labor costs data'!A:A,data_tracking[[#This Row],[week]])/data_tracking[[#This Row],[SAH Completed (Total)]],\"\")","v":""},{"$f":"IFERROR((data_tracking[[#This Row],[overhead]]+SUMIFS(labor_costs[total labor cost],labor_costs[year],data_tracking[[#This Row],[year]],labor_costs[week],data_tracking[[#This Row],[week]]))/data_tracking[[#This Row],[Units Completed (Total)]],\"\")","v":""},{"$f":"IF(SUM(data_tracking[[#This Row],[111-FILSN1 SAH]],data_tracking[[#This Row],[112-FILSN2 SAH]],data_tracking[[#This Row],[113-FILSN3 SAH]])=0,\"\",SUM(data_tracking[[#This Row],[111-FILSN1 SAH]],data_tracking[[#This Row],[112-FILSN2 SAH]],data_tracking[[#This Row],[113-FILSN3 SAH]]))","v":""},{"$f":"IF(SUM(data_tracking[[#This Row],[111-FILSN1 Units]],data_tracking[[#This Row],[112-FILSN2 Units]],data_tracking[[#This Row],[113-FILSN3 Units]])=0,\"\",SUM(data_tracking[[#This Row],[111-FILSN1 Units]],data_tracking[[#This Row],[112-FILSN2 Units]],data_tracking[[#This Row],[113-FILSN3 Units]]))","v":""},{"$f":"IF(SUMIFS('2015 sah unit data'!B:B,'2015 sah unit data'!L:L,data_tracking[[#This Row],[year]],'2015 sah unit data'!K:K,data_tracking[[#This Row],[month]],'2015 sah unit data'!J:J,data_tracking[[#This Row],[week]])=0,\"\",SUMIFS('2015 sah unit data'!B:B,'2015 sah unit data'!L:L,data_tracking[[#This Row],[year]],'2015 sah unit data'!K:K,data_tracking[[#This Row],[month]],'2015 sah unit data'!J:J,data_tracking[[#This Row],[week]]))","v":""},{"$f":"IF(SUMIFS('2015 sah unit data'!C:C,'2015 sah unit data'!L:L,data_tracking[[#This Row],[year]],'2015 sah unit data'!K:K,data_tracking[[#This Row],[month]],'2015 sah unit data'!J:J,data_tracking[[#This Row],[week]])=0,\"\",SUMIFS('2015 sah unit data'!C:C,'2015 sah unit data'!L:L,data_tracking[[#This Row],[year]],'2015 sah unit data'!K:K,data_tracking[[#This Row],[month]],'2015 sah unit data'!J:J,data_tracking[[#This Row],[week]]))","v":""},{"$f":"IF(SUMIFS('2015 sah unit data'!D:D,'2015 sah unit data'!L:L,data_tracking[[#This Row],[year]],'2015 sah unit data'!K:K,data_tracking[[#This Row],[month]],'2015 sah unit data'!J:J,data_tracking[[#This Row],[week]])=0,\"\",SUMIFS('2015 sah unit data'!D:D,'2015 sah unit data'!L:L,data_tracking[[#This Row],[year]],'2015 sah unit data'!K:K,data_tracking[[#This Row],[month]],'2015 sah unit data'!J:J,data_tracking[[#This Row],[week]]))","v":""},{"$f":"IF(SUMIFS('2015 sah unit data'!E:E,'2015 sah unit data'!L:L,data_tracking[[#This Row],[year]],'2015 sah unit data'!K:K,data_tracking[[#This Row],[month]],'2015 sah unit data'!J:J,data_tracking[[#This Row],[week]])=0,\"\",SUMIFS('2015 sah unit data'!E:E,'2015 sah unit data'!L:L,data_tracking[[#This Row],[year]],'2015 sah unit data'!K:K,data_tracking[[#This Row],[month]],'2015 sah unit data'!J:J,data_tracking[[#This Row],[week]]))","v":""},{"$f":"IF(SUMIFS('2015 sah unit data'!F:F,'2015 sah unit data'!L:L,data_tracking[[#This Row],[year]],'2015 sah unit data'!K:K,data_tracking[[#This Row],[month]],'2015 sah unit data'!J:J,data_tracking[[#This Row],[week]])=0,\"\",SUMIFS('2015 sah unit data'!F:F,'2015 sah unit data'!L:L,data_tracking[[#This Row],[year]],'2015 sah unit data'!K:K,data_tracking[[#This Row],[month]],'2015 sah unit data'!J:J,data_tracking[[#This Row],[week]]))","v":""},{"$f":"IF(SUMIFS('2015 sah unit data'!G:G,'2015 sah unit data'!L:L,data_tracking[[#This Row],[year]],'2015 sah unit data'!K:K,data_tracking[[#This Row],[month]],'2015 sah unit data'!J:J,data_tracking[[#This Row],[week]])=0,\"\",SUMIFS('2015 sah unit data'!G:G,'2015 sah unit data'!L:L,data_tracking[[#This Row],[year]],'2015 sah unit data'!K:K,data_tracking[[#This Row],[month]],'2015 sah unit data'!J:J,data_tracking[[#This Row],[week]]))","v":""},null,{"$f":"SUMIFS('overhead costs data'!E:E,'overhead costs data'!C:C,data_tracking[[#This Row],[year]],'overhead costs data'!B:B,data_tracking[[#This Row],[month]])","v":70000}]
[33,8,2016,39.77028,21.823559999999997,{"$f":"IFERROR((data_tracking[[#This Row],[overhead]]+SUMIFS('labor costs data'!H:H,'labor costs data'!D:D,data_tracking[[#This Row],[year]],'labor costs data'!A:A,data_tracking[[#This Row],[week]]))/data_tracking[[#This Row],[SAH Completed (Total)]],\"\")","v":""},{"$f":"IFERROR(SUMIFS('labor costs data'!E:E,'labor costs data'!D:D,data_tracking[[#This Row],[year]],'labor costs data'!A:A,data_tracking[[#This Row],[week]])/data_tracking[[#This Row],[SAH Completed (Total)]],\"\")","v":""},{"$f":"IFERROR((data_tracking[[#This Row],[overhead]]+SUMIFS(labor_costs[total labor cost],labor_costs[year],data_tracking[[#This Row],[year]],labor_costs[week],data_tracking[[#This Row],[week]]))/data_tracking[[#This Row],[Units Completed (Total)]],\"\")","v":""},{"$f":"IF(SUM(data_tracking[[#This Row],[111-FILSN1 SAH]],data_tracking[[#This Row],[112-FILSN2 SAH]],data_tracking[[#This Row],[113-FILSN3 SAH]])=0,\"\",SUM(data_tracking[[#This Row],[111-FILSN1 SAH]],data_tracking[[#This Row],[112-FILSN2 SAH]],data_tracking[[#This Row],[113-FILSN3 SAH]]))","v":""},{"$f":"IF(SUM(data_tracking[[#This Row],[111-FILSN1 Units]],data_tracking[[#This Row],[112-FILSN2 Units]],data_tracking[[#This Row],[113-FILSN3 Units]])=0,\"\",SUM(data_tracking[[#This Row],[111-FILSN1 Units]],data_tracking[[#This Row],[112-FILSN2 Units]],data_tracking[[#This Row],[113-FILSN3 Units]]))","v":""},{"$f":"IF(SUMIFS('2015 sah unit data'!B:B,'2015 sah unit data'!L:L,data_tracking[[#This Row],[year]],'2015 sah unit data'!K:K,data_tracking[[#This Row],[month]],'2015 sah unit data'!J:J,data_tracking[[#This Row],[week]])=0,\"\",SUMIFS('2015 sah unit data'!B:B,'2015 sah unit data'!L:L,data_tracking[[#This Row],[year]],'2015 sah unit data'!K:K,data_tracking[[#This Row],[month]],'2015 sah unit data'!J:J,data_tracking[[#This Row],[week]]))","v":""},{"$f":"IF(SUMIFS('2015 sah unit data'!C:C,'2015 sah unit data'!L:L,data_tracking[[#This Row],[year]],'2015 sah unit data'!K:K,data_tracking[[#This Row],[month]],'2015 sah unit data'!J:J,data_tracking[[#This Row],[week]])=0,\"\",SUMIFS('2015 sah unit data'!C:C,'2015 sah unit data'!L:L,data_tracking[[#This Row],[year]],'2015 sah unit data'!K:K,data_tracking[[#This Row],[month]],'2015 sah unit data'!J:J,data_tracking[[#This Row],[week]]))","v":""},{"$f":"IF(SUMIFS('2015 sah unit data'!D:D,'2015 sah unit data'!L:L,data_tracking[[#This Row],[year]],'2015 sah unit data'!K:K,data_tracking[[#This Row],[month]],'2015 sah unit data'!J:J,data_tracking[[#This Row],[week]])=0,\"\",SUMIFS('2015 sah unit data'!D:D,'2015 sah unit data'!L:L,data_tracking[[#This Row],[year]],'2015 sah unit data'!K:K,data_tracking[[#This Row],[month]],'2015 sah unit data'!J:J,data_tracking[[#This Row],[week]]))","v":""},{"$f":"IF(SUMIFS('2015 sah unit data'!E:E,'2015 sah unit data'!L:L,data_tracking[[#This Row],[year]],'2015 sah unit data'!K:K,data_tracking[[#This Row],[month]],'2015 sah unit data'!J:J,data_tracking[[#This Row],[week]])=0,\"\",SUMIFS('2015 sah unit data'!E:E,'2015 sah unit data'!L:L,data_tracking[[#This Row],[year]],'2015 sah unit data'!K:K,data_tracking[[#This Row],[month]],'2015 sah unit data'!J:J,data_tracking[[#This Row],[week]]))","v":""},{"$f":"IF(SUMIFS('2015 sah unit data'!F:F,'2015 sah unit data'!L:L,data_tracking[[#This Row],[year]],'2015 sah unit data'!K:K,data_tracking[[#This Row],[month]],'2015 sah unit data'!J:J,data_tracking[[#This Row],[week]])=0,\"\",SUMIFS('2015 sah unit data'!F:F,'2015 sah unit data'!L:L,data_tracking[[#This Row],[year]],'2015 sah unit data'!K:K,data_tracking[[#This Row],[month]],'2015 sah unit data'!J:J,data_tracking[[#This Row],[week]]))","v":""},{"$f":"IF(SUMIFS('2015 sah unit data'!G:G,'2015 sah unit data'!L:L,data_tracking[[#This Row],[year]],'2015 sah unit data'!K:K,data_tracking[[#This Row],[month]],'2015 sah unit data'!J:J,data_tracking[[#This Row],[week]])=0,\"\",SUMIFS('2015 sah unit data'!G:G,'2015 sah unit data'!L:L,data_tracking[[#This Row],[year]],'2015 sah unit data'!K:K,data_tracking[[#This Row],[month]],'2015 sah unit data'!J:J,data_tracking[[#This Row],[week]]))","v":""},null,{"$f":"SUMIFS('overhead costs data'!E:E,'overhead costs data'!C:C,data_tracking[[#This Row],[year]],'overhead costs data'!B:B,data_tracking[[#This Row],[month]])","v":70000}]
[34,8,2016,39.77028,21.823559999999997,{"$f":"IFERROR((data_tracking[[#This Row],[overhead]]+SUMIFS('labor costs data'!H:H,'labor costs data'!D:D,data_tracking[[#This Row],[year]],'labor costs data'!A:A,data_tracking[[#This Row],[week]]))/data_tracking[[#This Row],[SAH Completed (Total)]],\"\")","v":""},{"$f":"IFERROR(SUMIFS('labor costs data'!E:E,'labor costs data'!D:D,data_tracking[[#This Row],[year]],'labor costs data'!A:A,data_tracking[[#This Row],[week]])/data_tracking[[#This Row],[SAH Completed (Total)]],\"\")","v":""},{"$f":"IFERROR((data_tracking[[#This Row],[overhead]]+SUMIFS(labor_costs[total labor cost],labor_costs[year],data_tracking[[#This Row],[year]],labor_costs[week],data_tracking[[#This Row],[week]]))/data_tracking[[#This Row],[Units Completed (Total)]],\"\")","v":""},{"$f":"IF(SUM(data_tracking[[#This Row],[111-FILSN1 SAH]],data_tracking[[#This Row],[112-FILSN2 SAH]],data_tracking[[#This Row],[113-FILSN3 SAH]])=0,\"\",SUM(data_tracking[[#This Row],[111-FILSN1 SAH]],data_tracking[[#This Row],[112-FILSN2 SAH]],data_tracking[[#This Row],[113-FILSN3 SAH]]))","v":""},{"$f":"IF(SUM(data_tracking[[#This Row],[111-FILSN1 Units]],data_tracking[[#This Row],[112-FILSN2 Units]],data_tracking[[#This Row],[113-FILSN3 Units]])=0,\"\",SUM(data_tracking[[#This Row],[111-FILSN1 Units]],data_tracking[[#This Row],[112-FILSN2 Units]],data_tracking[[#This Row],[113-FILSN3 Units]]))","v":""},{"$f":"IF(SUMIFS('2015 sah unit data'!B:B,'2015 sah unit data'!L:L,data_tracking[[#This Row],[year]],'2015 sah unit data'!K:K,data_tracking[[#This Row],[month]],'2015 sah unit data'!J:J,data_tracking[[#This Row],[week]])=0,\"\",SUMIFS('2015 sah unit data'!B:B,'2015 sah unit data'!L:L,data_tracking[[#This Row],[year]],'2015 sah unit data'!K:K,data_tracking[[#This Row],[month]],'2015 sah unit data'!J:J,data_tracking[[#This Row],[week]]))","v":""},{"$f":"IF(SUMIFS('2015 sah unit data'!C:C,'2015 sah unit data'!L:L,data_tracking[[#This Row],[year]],'2015 sah unit data'!K:K,data_tracking[[#This Row],[month]],'2015 sah unit data'!J:J,data_tracking[[#This Row],[week]])=0,\"\",SUMIFS('2015 sah unit data'!C:C,'2015 sah unit data'!L:L,data_tracking[[#This Row],[year]],'2015 sah unit data'!K:K,data_tracking[[#This Row],[month]],'2015 sah unit data'!J:J,data_tracking[[#This Row],[week]]))","v":""},{"$f":"IF(SUMIFS('2015 sah unit data'!D:D,'2015 sah unit data'!L:L,data_tracking[[#This Row],[year]],'2015 sah unit data'!K:K,data_tracking[[#This Row],[month]],'2015 sah unit data'!J:J,data_tracking[[#This Row],[week]])=0,\"\",SUMIFS('2015 sah unit data'!D:D,'2015 sah unit data'!L:L,data_tracking[[#This Row],[year]],'2015 sah unit data'!K:K,data_tracking[[#This Row],[month]],'2015 sah unit data'!J:J,data_tracking[[#This Row],[week]]))","v":""},{"$f":"IF(SUMIFS('2015 sah unit data'!E:E,'2015 sah unit data'!L:L,data_tracking[[#This Row],[year]],'2015 sah unit data'!K:K,data_tracking[[#This Row],[month]],'2015 sah unit data'!J:J,data_tracking[[#This Row],[week]])=0,\"\",SUMIFS('2015 sah unit data'!E:E,'2015 sah unit data'!L:L,data_tracking[[#This Row],[year]],'2015 sah unit data'!K:K,data_tracking[[#This Row],[month]],'2015 sah unit data'!J:J,data_tracking[[#This Row],[week]]))","v":""},{"$f":"IF(SUMIFS('2015 sah unit data'!F:F,'2015 sah unit data'!L:L,data_tracking[[#This Row],[year]],'2015 sah unit data'!K:K,data_tracking[[#This Row],[month]],'2015 sah unit data'!J:J,data_tracking[[#This Row],[week]])=0,\"\",SUMIFS('2015 sah unit data'!F:F,'2015 sah unit data'!L:L,data_tracking[[#This Row],[year]],'2015 sah unit data'!K:K,data_tracking[[#This Row],[month]],'2015 sah unit data'!J:J,data_tracking[[#This Row],[week]]))","v":""},{"$f":"IF(SUMIFS('2015 sah unit data'!G:G,'2015 sah unit data'!L:L,data_tracking[[#This Row],[year]],'2015 sah unit data'!K:K,data_tracking[[#This Row],[month]],'2015 sah unit data'!J:J,data_tracking[[#This Row],[week]])=0,\"\",SUMIFS('2015 sah unit data'!G:G,'2015 sah unit data'!L:L,data_tracking[[#This Row],[year]],'2015 sah unit data'!K:K,data_tracking[[#This Row],[month]],'2015 sah unit data'!J:J,data_tracking[[#This Row],[week]]))","v":""},null,{"$f":"SUMIFS('overhead costs data'!E:E,'overhead costs data'!C:C,data_tracking[[#This Row],[year]],'overhead costs data'!B:B,data_tracking[[#This Row],[month]])","v":70000}]
[35,8,2016,39.77028,21.823559999999997,{"$f":"IFERROR((data_tracking[[#This Row],[overhead]]+SUMIFS('labor costs data'!H:H,'labor costs data'!D:D,data_tracking[[#This Row],[year]],'labor costs data'!A:A,data_tracking[[#This Row],[week]]))/data_tracking[[#This Row],[SAH Completed (Total)]],\"\")","v":""},{"$f":"IFERROR(SUMIFS('labor costs data'!E:E,'labor costs data'!D:D,data_tracking[[#This Row],[year]],'labor costs data'!A:A,data_tracking[[#This Row],[week]])/data_tracking[[#This Row],[SAH Completed (Total)]],\"\")","v":""},{"$f":"IFERROR((data_tracking[[#This Row],[overhead]]+SUMIFS(labor_costs[total labor cost],labor_costs[year],data_tracking[[#This Row],[year]],labor_costs[week],data_tracking[[#This Row],[week]]))/data_tracking[[#This Row],[Units Completed (Total)]],\"\")","v":""},{"$f":"IF(SUM(data_tracking[[#This Row],[111-FILSN1 SAH]],data_tracking[[#This Row],[112-FILSN2 SAH]],data_tracking[[#This Row],[113-FILSN3 SAH]])=0,\"\",SUM(data_tracking[[#This Row],[111-FILSN1 SAH]],data_tracking[[#This Row],[112-FILSN2 SAH]],data_tracking[[#This Row],[113-FILSN3 SAH]]))","v":""},{"$f":"IF(SUM(data_tracking[[#This Row],[111-FILSN1 Units]],data_tracking[[#This Row],[112-FILSN2 Units]],data_tracking[[#This Row],[113-FILSN3 Units]])=0,\"\",SUM(data_tracking[[#This Row],[111-FILSN1 Units]],data_tracking[[#This Row],[112-FILSN2 Units]],data_tracking[[#This Row],[113-FILSN3 Units]]))","v":""},{"$f":"IF(SUMIFS('2015 sah unit data'!B:B,'2015 sah unit data'!L:L,data_tracking[[#This Row],[year]],'2015 sah unit data'!K:K,data_tracking[[#This Row],[month]],'2015 sah unit data'!J:J,data_tracking[[#This Row],[week]])=0,\"\",SUMIFS('2015 sah unit data'!B:B,'2015 sah unit data'!L:L,data_tracking[[#This Row],[year]],'2015 sah unit data'!K:K,data_tracking[[#This Row],[month]],'2015 sah unit data'!J:J,data_tracking[[#This Row],[week]]))","v":""},{"$f":"IF(SUMIFS('2015 sah unit data'!C:C,'2015 sah unit data'!L:L,data_tracking[[#This Row],[year]],'2015 sah unit data'!K:K,data_tracking[[#This Row],[month]],'2015 sah unit data'!J:J,data_tracking[[#This Row],[week]])=0,\"\",SUMIFS('2015 sah unit data'!C:C,'2015 sah unit data'!L:L,data_tracking[[#This Row],[year]],'2015 sah unit data'!K:K,data_tracking[[#This Row],[month]],'2015 sah unit data'!J:J,data_tracking[[#This Row],[week]]))","v":""},{"$f":"IF(SUMIFS('2015 sah unit data'!D:D,'2015 sah unit data'!L:L,data_tracking[[#This Row],[year]],'2015 sah unit data'!K:K,data_tracking[[#This Row],[month]],'2015 sah unit data'!J:J,data_tracking[[#This Row],[week]])=0,\"\",SUMIFS('2015 sah unit data'!D:D,'2015 sah unit data'!L:L,data_tracking[[#This Row],[year]],'2015 sah unit data'!K:K,data_tracking[[#This Row],[month]],'2015 sah unit data'!J:J,data_tracking[[#This Row],[week]]))","v":""},{"$f":"IF(SUMIFS('2015 sah unit data'!E:E,'2015 sah unit data'!L:L,data_tracking[[#This Row],[year]],'2015 sah unit data'!K:K,data_tracking[[#This Row],[month]],'2015 sah unit data'!J:J,data_tracking[[#This Row],[week]])=0,\"\",SUMIFS('2015 sah unit data'!E:E,'2015 sah unit data'!L:L,data_tracking[[#This Row],[year]],'2015 sah unit data'!K:K,data_tracking[[#This Row],[month]],'2015 sah unit data'!J:J,data_tracking[[#This Row],[week]]))","v":""},{"$f":"IF(SUMIFS('2015 sah unit data'!F:F,'2015 sah unit data'!L:L,data_tracking[[#This Row],[year]],'2015 sah unit data'!K:K,data_tracking[[#This Row],[month]],'2015 sah unit data'!J:J,data_tracking[[#This Row],[week]])=0,\"\",SUMIFS('2015 sah unit data'!F:F,'2015 sah unit data'!L:L,data_tracking[[#This Row],[year]],'2015 sah unit data'!K:K,data_tracking[[#This Row],[month]],'2015 sah unit data'!J:J,data_tracking[[#This Row],[week]]))","v":""},{"$f":"IF(SUMIFS('2015 sah unit data'!G:G,'2015 sah unit data'!L:L,data_tracking[[#This Row],[year]],'2015 sah unit data'!K:K,data_tracking[[#This Row],[month]],'2015 sah unit data'!J:J,data_tracking[[#This Row],[week]])=0,\"\",SUMIFS('2015 sah unit data'!G:G,'2015 sah unit data'!L:L,data_tracking[[#This Row],[year]],'2015 sah unit data'!K:K,data_tracking[[#This Row],[month]],'2015 sah unit data'!J:J,data_tracking[[#This Row],[week]]))","v":""},null,{"$f":"SUMIFS('overhead costs data'!E:E,'overhead costs data'!C:C,data_tracking[[#This Row],[year]],'overhead costs data'!B:B,data_tracking[[#This Row],[month]])","v":70000}]
[36,8,2016,39.77028,21.823559999999997,{"$f":"IFERROR((data_tracking[[#This Row],[overhead]]+SUMIFS('labor costs data'!H:H,'labor costs data'!D:D,data_tracking[[#This Row],[year]],'labor costs data'!A:A,data_tracking[[#This Row],[week]]))/data_tracking[[#This Row],[SAH Completed (Total)]],\"\")","v":""},{"$f":"IFERROR(SUMIFS('labor costs data'!E:E,'labor costs data'!D:D,data_tracking[[#This Row],[year]],'labor costs data'!A:A,data_tracking[[#This Row],[week]])/data_tracking[[#This Row],[SAH Completed (Total)]],\"\")","v":""},{"$f":"IFERROR((data_tracking[[#This Row],[overhead]]+SUMIFS(labor_costs[total labor cost],labor_costs[year],data_tracking[[#This Row],[year]],labor_costs[week],data_tracking[[#This Row],[week]]))/data_tracking[[#This Row],[Units Completed (Total)]],\"\")","v":""},{"$f":"IF(SUM(data_tracking[[#This Row],[111-FILSN1 SAH]],data_tracking[[#This Row],[112-FILSN2 SAH]],data_tracking[[#This Row],[113-FILSN3 SAH]])=0,\"\",SUM(data_tracking[[#This Row],[111-FILSN1 SAH]],data_tracking[[#This Row],[112-FILSN2 SAH]],data_tracking[[#This Row],[113-FILSN3 SAH]]))","v":""},{"$f":"IF(SUM(data_tracking[[#This Row],[111-FILSN1 Units]],data_tracking[[#This Row],[112-FILSN2 Units]],data_tracking[[#This Row],[113-FILSN3 Units]])=0,\"\",SUM(data_tracking[[#This Row],[111-FILSN1 Units]],data_tracking[[#This Row],[112-FILSN2 Units]],data_tracking[[#This Row],[113-FILSN3 Units]]))","v":""},{"$f":"IF(SUMIFS('2015 sah unit data'!B:B,'2015 sah unit data'!L:L,data_tracking[[#This Row],[year]],'2015 sah unit data'!K:K,data_tracking[[#This Row],[month]],'2015 sah unit data'!J:J,data_tracking[[#This Row],[week]])=0,\"\",SUMIFS('2015 sah unit data'!B:B,'2015 sah unit data'!L:L,data_tracking[[#This Row],[year]],'2015 sah unit data'!K:K,data_tracking[[#This Row],[month]],'2015 sah unit data'!J:J,data_tracking[[#This Row],[week]]))","v":""},{"$f":"IF(SUMIFS('2015 sah unit data'!C:C,'2015 sah unit data'!L:L,data_tracking[[#This Row],[year]],'2015 sah unit data'!K:K,data_tracking[[#This Row],[month]],'2015 sah unit data'!J:J,data_tracking[[#This Row],[week]])=0,\"\",SUMIFS('2015 sah unit data'!C:C,'2015 sah unit data'!L:L,data_tracking[[#This Row],[year]],'2015 sah unit data'!K:K,data_tracking[[#This Row],[month]],'2015 sah unit data'!J:J,data_tracking[[#This Row],[week]]))","v":""},{"$f":"IF(SUMIFS('2015 sah unit data'!D:D,'2015 sah unit data'!L:L,data_tracking[[#This Row],[year]],'2015 sah unit data'!K:K,data_tracking[[#This Row],[month]],'2015 sah unit data'!J:J,data_tracking[[#This Row],[week]])=0,\"\",SUMIFS('2015 sah unit data'!D:D,'2015 sah unit data'!L:L,data_tracking[[#This Row],[year]],'2015 sah unit data'!K:K,data_tracking[[#This Row],[month]],'2015 sah unit data'!J:J,data_tracking[[#This Row],[week]]))","v":""},{"$f":"IF(SUMIFS('2015 sah unit data'!E:E,'2015 sah unit data'!L:L,data_tracking[[#This Row],[year]],'2015 sah unit data'!K:K,data_tracking[[#This Row],[month]],'2015 sah unit data'!J:J,data_tracking[[#This Row],[week]])=0,\"\",SUMIFS('2015 sah unit data'!E:E,'2015 sah unit data'!L:L,data_tracking[[#This Row],[year]],'2015 sah unit data'!K:K,data_tracking[[#This Row],[month]],'2015 sah unit data'!J:J,data_tracking[[#This Row],[week]]))","v":""},{"$f":"IF(SUMIFS('2015 sah unit data'!F:F,'2015 sah unit data'!L:L,data_tracking[[#This Row],[year]],'2015 sah unit data'!K:K,data_tracking[[#This Row],[month]],'2015 sah unit data'!J:J,data_tracking[[#This Row],[week]])=0,\"\",SUMIFS('2015 sah unit data'!F:F,'2015 sah unit data'!L:L,data_tracking[[#This Row],[year]],'2015 sah unit data'!K:K,data_tracking[[#This Row],[month]],'2015 sah unit data'!J:J,data_tracking[[#This Row],[week]]))","v":""},{"$f":"IF(SUMIFS('2015 sah unit data'!G:G,'2015 sah unit data'!L:L,data_tracking[[#This Row],[year]],'2015 sah unit data'!K:K,data_tracking[[#This Row],[month]],'2015 sah unit data'!J:J,data_tracking[[#This Row],[week]])=0,\"\",SUMIFS('2015 sah unit data'!G:G,'2015 sah unit data'!L:L,data_tracking[[#This Row],[year]],'2015 sah unit data'!K:K,data_tracking[[#This Row],[month]],'2015 sah unit data'!J:J,data_tracking[[#This Row],[week]]))","v":""},null,{"$f":"SUMIFS('overhead costs data'!E:E,'overhead costs data'!C:C,data_tracking[[#This Row],[year]],'overhead costs data'!B:B,data_tracking[[#This Row],[month]])","v":70000}]
[37,9,2016,39.77028,21.823559999999997,{"$f":"IFERROR((data_tracking[[#This Row],[overhead]]+SUMIFS('labor costs data'!H:H,'labor costs data'!D:D,data_tracking[[#This Row],[year]],'labor costs data'!A:A,data_tracking[[#This Row],[week]]))/data_tracking[[#This Row],[SAH Completed (Total)]],\"\")","v":""},{"$f":"IFERROR(SUMIFS('labor costs data'!E:E,'labor costs data'!D:D,data_tracking[[#This Row],[year]],'labor costs data'!A:A,data_tracking[[#This Row],[week]])/data_tracking[[#This Row],[SAH Completed (Total)]],\"\")","v":""},{"$f":"IFERROR((data_tracking[[#This Row],[overhead]]+SUMIFS(labor_costs[total labor cost],labor_costs[year],data_tracking[[#This Row],[year]],labor_costs[week],data_tracking[[#This Row],[week]]))/data_tracking[[#This Row],[Units Completed (Total)]],\"\")","v":""},{"$f":"IF(SUM(data_tracking[[#This Row],[111-FILSN1 SAH]],data_tracking[[#This Row],[112-FILSN2 SAH]],data_tracking[[#This Row],[113-FILSN3 SAH]])=0,\"\",SUM(data_tracking[[#This Row],[111-FILSN1 SAH]],data_tracking[[#This Row],[112-FILSN2 SAH]],data_tracking[[#This Row],[113-FILSN3 SAH]]))","v":""},{"$f":"IF(SUM(data_tracking[[#This Row],[111-FILSN1 Units]],data_tracking[[#This Row],[112-FILSN2 Units]],data_tracking[[#This Row],[113-FILSN3 Units]])=0,\"\",SUM(data_tracking[[#This Row],[111-FILSN1 Units]],data_tracking[[#This Row],[112-FILSN2 Units]],data_tracking[[#This Row],[113-FILSN3 Units]]))","v":""},{"$f":"IF(SUMIFS('2015 sah unit data'!B:B,'2015 sah unit data'!L:L,data_tracking[[#This Row],[year]],'2015 sah unit data'!K:K,data_tracking[[#This Row],[month]],'2015 sah unit data'!J:J,data_tracking[[#This Row],[week]])=0,\"\",SUMIFS('2015 sah unit data'!B:B,'2015 sah unit data'!L:L,data_tracking[[#This Row],[year]],'2015 sah unit data'!K:K,data_tracking[[#This Row],[month]],'2015 sah unit data'!J:J,data_tracking[[#This Row],[week]]))","v":""},{"$f":"IF(SUMIFS('2015 sah unit data'!C:C,'2015 sah unit data'!L:L,data_tracking[[#This Row],[year]],'2015 sah unit data'!K:K,data_tracking[[#This Row],[month]],'2015 sah unit data'!J:J,data_tracking[[#This Row],[week]])=0,\"\",SUMIFS('2015 sah unit data'!C:C,'2015 sah unit data'!L:L,data_tracking[[#This Row],[year]],'2015 sah unit data'!K:K,data_tracking[[#This Row],[month]],'2015 sah unit data'!J:J,data_tracking[[#This Row],[week]]))","v":""},{"$f":"IF(SUMIFS('2015 sah unit data'!D:D,'2015 sah unit data'!L:L,data_tracking[[#This Row],[year]],'2015 sah unit data'!K:K,data_tracking[[#This Row],[month]],'2015 sah unit data'!J:J,data_tracking[[#This Row],[week]])=0,\"\",SUMIFS('2015 sah unit data'!D:D,'2015 sah unit data'!L:L,data_tracking[[#This Row],[year]],'2015 sah unit data'!K:K,data_tracking[[#This Row],[month]],'2015 sah unit data'!J:J,data_tracking[[#This Row],[week]]))","v":""},{"$f":"IF(SUMIFS('2015 sah unit data'!E:E,'2015 sah unit data'!L:L,data_tracking[[#This Row],[year]],'2015 sah unit data'!K:K,data_tracking[[#This Row],[month]],'2015 sah unit data'!J:J,data_tracking[[#This Row],[week]])=0,\"\",SUMIFS('2015 sah unit data'!E:E,'2015 sah unit data'!L:L,data_tracking[[#This Row],[year]],'2015 sah unit data'!K:K,data_tracking[[#This Row],[month]],'2015 sah unit data'!J:J,data_tracking[[#This Row],[week]]))","v":""},{"$f":"IF(SUMIFS('2015 sah unit data'!F:F,'2015 sah unit data'!L:L,data_tracking[[#This Row],[year]],'2015 sah unit data'!K:K,data_tracking[[#This Row],[month]],'2015 sah unit data'!J:J,data_tracking[[#This Row],[week]])=0,\"\",SUMIFS('2015 sah unit data'!F:F,'2015 sah unit data'!L:L,data_tracking[[#This Row],[year]],'2015 sah unit data'!K:K,data_tracking[[#This Row],[month]],'2015 sah unit data'!J:J,data_tracking[[#This Row],[week]]))","v":""},{"$f":"IF(SUMIFS('2015 sah unit data'!G:G,'2015 sah unit data'!L:L,data_tracking[[#This Row],[year]],'2015 sah unit data'!K:K,data_tracking[[#This Row],[month]],'2015 sah unit data'!J:J,data_tracking[[#This Row],[week]])=0,\"\",SUMIFS('2015 sah unit data'!G:G,'2015 sah unit data'!L:L,data_tracking[[#This Row],[year]],'2015 sah unit data'!K:K,data_tracking[[#This Row],[month]],'2015 sah unit data'!J:J,data_tracking[[#This Row],[week]]))","v":""},null,{"$f":"SUMIFS('overhead costs data'!E:E,'overhead costs data'!C:C,data_tracking[[#This Row],[year]],'overhead costs data'!B:B,data_tracking[[#This Row],[month]])","v":56000}]
[38,9,2016,39.77028,21.823559999999997,{"$f":"IFERROR((data_tracking[[#This Row],[overhead]]+SUMIFS('labor costs data'!H:H,'labor costs data'!D:D,data_tracking[[#This Row],[year]],'labor costs data'!A:A,data_tracking[[#This Row],[week]]))/data_tracking[[#This Row],[SAH Completed (Total)]],\"\")","v":""},{"$f":"IFERROR(SUMIFS('labor costs data'!E:E,'labor costs data'!D:D,data_tracking[[#This Row],[year]],'labor costs data'!A:A,data_tracking[[#This Row],[week]])/data_tracking[[#This Row],[SAH Completed (Total)]],\"\")","v":""},{"$f":"IFERROR((data_tracking[[#This Row],[overhead]]+SUMIFS(labor_costs[total labor cost],labor_costs[year],data_tracking[[#This Row],[year]],labor_costs[week],data_tracking[[#This Row],[week]]))/data_tracking[[#This Row],[Units Completed (Total)]],\"\")","v":""},{"$f":"IF(SUM(data_tracking[[#This Row],[111-FILSN1 SAH]],data_tracking[[#This Row],[112-FILSN2 SAH]],data_tracking[[#This Row],[113-FILSN3 SAH]])=0,\"\",SUM(data_tracking[[#This Row],[111-FILSN1 SAH]],data_tracking[[#This Row],[112-FILSN2 SAH]],data_tracking[[#This Row],[113-FILSN3 SAH]]))","v":""},{"$f":"IF(SUM(data_tracking[[#This Row],[111-FILSN1 Units]],data_tracking[[#This Row],[112-FILSN2 Units]],data_tracking[[#This Row],[113-FILSN3 Units]])=0,\"\",SUM(data_tracking[[#This Row],[111-FILSN1 Units]],data_tracking[[#This Row],[112-FILSN2 Units]],data_tracking[[#This Row],[113-FILSN3 Units]]))","v":""},{"$f":"IF(SUMIFS('2015 sah unit data'!B:B,'2015 sah unit data'!L:L,data_tracking[[#This Row],[year]],'2015 sah unit data'!K:K,data_tracking[[#This Row],[month]],'2015 sah unit data'!J:J,data_tracking[[#This Row],[week]])=0,\"\",SUMIFS('2015 sah unit data'!B:B,'2015 sah unit data'!L:L,data_tracking[[#This Row],[year]],'2015 sah unit data'!K:K,data_tracking[[#This Row],[month]],'2015 sah unit data'!J:J,data_tracking[[#This Row],[week]]))","v":""},{"$f":"IF(SUMIFS('2015 sah unit data'!C:C,'2015 sah unit data'!L:L,data_tracking[[#This Row],[year]],'2015 sah unit data'!K:K,data_tracking[[#This Row],[month]],'2015 sah unit data'!J:J,data_tracking[[#This Row],[week]])=0,\"\",SUMIFS('2015 sah unit data'!C:C,'2015 sah unit data'!L:L,data_tracking[[#This Row],[year]],'2015 sah unit data'!K:K,data_tracking[[#This Row],[month]],'2015 sah unit data'!J:J,data_tracking[[#This Row],[week]]))","v":""},{"$f":"IF(SUMIFS('2015 sah unit data'!D:D,'2015 sah unit data'!L:L,data_tracking[[#This Row],[year]],'2015 sah unit data'!K:K,data_tracking[[#This Row],[month]],'2015 sah unit data'!J:J,data_tracking[[#This Row],[week]])=0,\"\",SUMIFS('2015 sah unit data'!D:D,'2015 sah unit data'!L:L,data_tracking[[#This Row],[year]],'2015 sah unit data'!K:K,data_tracking[[#This Row],[month]],'2015 sah unit data'!J:J,data_tracking[[#This Row],[week]]))","v":""},{"$f":"IF(SUMIFS('2015 sah unit data'!E:E,'2015 sah unit data'!L:L,data_tracking[[#This Row],[year]],'2015 sah unit data'!K:K,data_tracking[[#This Row],[month]],'2015 sah unit data'!J:J,data_tracking[[#This Row],[week]])=0,\"\",SUMIFS('2015 sah unit data'!E:E,'2015 sah unit data'!L:L,data_tracking[[#This Row],[year]],'2015 sah unit data'!K:K,data_tracking[[#This Row],[month]],'2015 sah unit data'!J:J,data_tracking[[#This Row],[week]]))","v":""},{"$f":"IF(SUMIFS('2015 sah unit data'!F:F,'2015 sah unit data'!L:L,data_tracking[[#This Row],[year]],'2015 sah unit data'!K:K,data_tracking[[#This Row],[month]],'2015 sah unit data'!J:J,data_tracking[[#This Row],[week]])=0,\"\",SUMIFS('2015 sah unit data'!F:F,'2015 sah unit data'!L:L,data_tracking[[#This Row],[year]],'2015 sah unit data'!K:K,data_tracking[[#This Row],[month]],'2015 sah unit data'!J:J,data_tracking[[#This Row],[week]]))","v":""},{"$f":"IF(SUMIFS('2015 sah unit data'!G:G,'2015 sah unit data'!L:L,data_tracking[[#This Row],[year]],'2015 sah unit data'!K:K,data_tracking[[#This Row],[month]],'2015 sah unit data'!J:J,data_tracking[[#This Row],[week]])=0,\"\",SUMIFS('2015 sah unit data'!G:G,'2015 sah unit data'!L:L,data_tracking[[#This Row],[year]],'2015 sah unit data'!K:K,data_tracking[[#This Row],[month]],'2015 sah unit data'!J:J,data_tracking[[#This Row],[week]]))","v":""},null,{"$f":"SUMIFS('overhead costs data'!E:E,'overhead costs data'!C:C,data_tracking[[#This Row],[year]],'overhead costs data'!B:B,data_tracking[[#This Row],[month]])","v":56000}]
[39,9,2016,39.77028,21.823559999999997,{"$f":"IFERROR((data_tracking[[#This Row],[overhead]]+SUMIFS('labor costs data'!H:H,'labor costs data'!D:D,data_tracking[[#This Row],[year]],'labor costs data'!A:A,data_tracking[[#This Row],[week]]))/data_tracking[[#This Row],[SAH Completed (Total)]],\"\")","v":""},{"$f":"IFERROR(SUMIFS('labor costs data'!E:E,'labor costs data'!D:D,data_tracking[[#This Row],[year]],'labor costs data'!A:A,data_tracking[[#This Row],[week]])/data_tracking[[#This Row],[SAH Completed (Total)]],\"\")","v":""},{"$f":"IFERROR((data_tracking[[#This Row],[overhead]]+SUMIFS(labor_costs[total labor cost],labor_costs[year],data_tracking[[#This Row],[year]],labor_costs[week],data_tracking[[#This Row],[week]]))/data_tracking[[#This Row],[Units Completed (Total)]],\"\")","v":""},{"$f":"IF(SUM(data_tracking[[#This Row],[111-FILSN1 SAH]],data_tracking[[#This Row],[112-FILSN2 SAH]],data_tracking[[#This Row],[113-FILSN3 SAH]])=0,\"\",SUM(data_tracking[[#This Row],[111-FILSN1 SAH]],data_tracking[[#This Row],[112-FILSN2 SAH]],data_tracking[[#This Row],[113-FILSN3 SAH]]))","v":""},{"$f":"IF(SUM(data_tracking[[#This Row],[111-FILSN1 Units]],data_tracking[[#This Row],[112-FILSN2 Units]],data_tracking[[#This Row],[113-FILSN3 Units]])=0,\"\",SUM(data_tracking[[#This Row],[111-FILSN1 Units]],data_tracking[[#This Row],[112-FILSN2 Units]],data_tracking[[#This Row],[113-FILSN3 Units]]))","v":""},{"$f":"IF(SUMIFS('2015 sah unit data'!B:B,'2015 sah unit data'!L:L,data_tracking[[#This Row],[year]],'2015 sah unit data'!K:K,data_tracking[[#This Row],[month]],'2015 sah unit data'!J:J,data_tracking[[#This Row],[week]])=0,\"\",SUMIFS('2015 sah unit data'!B:B,'2015 sah unit data'!L:L,data_tracking[[#This Row],[year]],'2015 sah unit data'!K:K,data_tracking[[#This Row],[month]],'2015 sah unit data'!J:J,data_tracking[[#This Row],[week]]))","v":""},{"$f":"IF(SUMIFS('2015 sah unit data'!C:C,'2015 sah unit data'!L:L,data_tracking[[#This Row],[year]],'2015 sah unit data'!K:K,data_tracking[[#This Row],[month]],'2015 sah unit data'!J:J,data_tracking[[#This Row],[week]])=0,\"\",SUMIFS('2015 sah unit data'!C:C,'2015 sah unit data'!L:L,data_tracking[[#This Row],[year]],'2015 sah unit data'!K:K,data_tracking[[#This Row],[month]],'2015 sah unit data'!J:J,data_tracking[[#This Row],[week]]))","v":""},{"$f":"IF(SUMIFS('2015 sah unit data'!D:D,'2015 sah unit data'!L:L,data_tracking[[#This Row],[year]],'2015 sah unit data'!K:K,data_tracking[[#This Row],[month]],'2015 sah unit data'!J:J,data_tracking[[#This Row],[week]])=0,\"\",SUMIFS('2015 sah unit data'!D:D,'2015 sah unit data'!L:L,data_tracking[[#This Row],[year]],'2015 sah unit data'!K:K,data_tracking[[#This Row],[month]],'2015 sah unit data'!J:J,data_tracking[[#This Row],[week]]))","v":""},{"$f":"IF(SUMIFS('2015 sah unit data'!E:E,'2015 sah unit data'!L:L,data_tracking[[#This Row],[year]],'2015 sah unit data'!K:K,data_tracking[[#This Row],[month]],'2015 sah unit data'!J:J,data_tracking[[#This Row],[week]])=0,\"\",SUMIFS('2015 sah unit data'!E:E,'2015 sah unit data'!L:L,data_tracking[[#This Row],[year]],'2015 sah unit data'!K:K,data_tracking[[#This Row],[month]],'2015 sah unit data'!J:J,data_tracking[[#This Row],[week]]))","v":""},{"$f":"IF(SUMIFS('2015 sah unit data'!F:F,'2015 sah unit data'!L:L,data_tracking[[#This Row],[year]],'2015 sah unit data'!K:K,data_tracking[[#This Row],[month]],'2015 sah unit data'!J:J,data_tracking[[#This Row],[week]])=0,\"\",SUMIFS('2015 sah unit data'!F:F,'2015 sah unit data'!L:L,data_tracking[[#This Row],[year]],'2015 sah unit data'!K:K,data_tracking[[#This Row],[month]],'2015 sah unit data'!J:J,data_tracking[[#This Row],[week]]))","v":""},{"$f":"IF(SUMIFS('2015 sah unit data'!G:G,'2015 sah unit data'!L:L,data_tracking[[#This Row],[year]],'2015 sah unit data'!K:K,data_tracking[[#This Row],[month]],'2015 sah unit data'!J:J,data_tracking[[#This Row],[week]])=0,\"\",SUMIFS('2015 sah unit data'!G:G,'2015 sah unit data'!L:L,data_tracking[[#This Row],[year]],'2015 sah unit data'!K:K,data_tracking[[#This Row],[month]],'2015 sah unit data'!J:J,data_tracking[[#This Row],[week]]))","v":""},null,{"$f":"SUMIFS('overhead costs data'!E:E,'overhead costs data'!C:C,data_tracking[[#This Row],[year]],'overhead costs data'!B:B,data_tracking[[#This Row],[month]])","v":56000}]
[40,9,2016,39.77028,21.823559999999997,{"$f":"IFERROR((data_tracking[[#This Row],[overhead]]+SUMIFS('labor costs data'!H:H,'labor costs data'!D:D,data_tracking[[#This Row],[year]],'labor costs data'!A:A,data_tracking[[#This Row],[week]]))/data_tracking[[#This Row],[SAH Completed (Total)]],\"\")","v":""},{"$f":"IFERROR(SUMIFS('labor costs data'!E:E,'labor costs data'!D:D,data_tracking[[#This Row],[year]],'labor costs data'!A:A,data_tracking[[#This Row],[week]])/data_tracking[[#This Row],[SAH Completed (Total)]],\"\")","v":""},{"$f":"IFERROR((data_tracking[[#This Row],[overhead]]+SUMIFS(labor_costs[total labor cost],labor_costs[year],data_tracking[[#This Row],[year]],labor_costs[week],data_tracking[[#This Row],[week]]))/data_tracking[[#This Row],[Units Completed (Total)]],\"\")","v":""},{"$f":"IF(SUM(data_tracking[[#This Row],[111-FILSN1 SAH]],data_tracking[[#This Row],[112-FILSN2 SAH]],data_tracking[[#This Row],[113-FILSN3 SAH]])=0,\"\",SUM(data_tracking[[#This Row],[111-FILSN1 SAH]],data_tracking[[#This Row],[112-FILSN2 SAH]],data_tracking[[#This Row],[113-FILSN3 SAH]]))","v":""},{"$f":"IF(SUM(data_tracking[[#This Row],[111-FILSN1 Units]],data_tracking[[#This Row],[112-FILSN2 Units]],data_tracking[[#This Row],[113-FILSN3 Units]])=0,\"\",SUM(data_tracking[[#This Row],[111-FILSN1 Units]],data_tracking[[#This Row],[112-FILSN2 Units]],data_tracking[[#This Row],[113-FILSN3 Units]]))","v":""},{"$f":"IF(SUMIFS('2015 sah unit data'!B:B,'2015 sah unit data'!L:L,data_tracking[[#This Row],[year]],'2015 sah unit data'!K:K,data_tracking[[#This Row],[month]],'2015 sah unit data'!J:J,data_tracking[[#This Row],[week]])=0,\"\",SUMIFS('2015 sah unit data'!B:B,'2015 sah unit data'!L:L,data_tracking[[#This Row],[year]],'2015 sah unit data'!K:K,data_tracking[[#This Row],[month]],'2015 sah unit data'!J:J,data_tracking[[#This Row],[week]]))","v":""},{"$f":"IF(SUMIFS('2015 sah unit data'!C:C,'2015 sah unit data'!L:L,data_tracking[[#This Row],[year]],'2015 sah unit data'!K:K,data_tracking[[#This Row],[month]],'2015 sah unit data'!J:J,data_tracking[[#This Row],[week]])=0,\"\",SUMIFS('2015 sah unit data'!C:C,'2015 sah unit data'!L:L,data_tracking[[#This Row],[year]],'2015 sah unit data'!K:K,data_tracking[[#This Row],[month]],'2015 sah unit data'!J:J,data_tracking[[#This Row],[week]]))","v":""},{"$f":"IF(SUMIFS('2015 sah unit data'!D:D,'2015 sah unit data'!L:L,data_tracking[[#This Row],[year]],'2015 sah unit data'!K:K,data_tracking[[#This Row],[month]],'2015 sah unit data'!J:J,data_tracking[[#This Row],[week]])=0,\"\",SUMIFS('2015 sah unit data'!D:D,'2015 sah unit data'!L:L,data_tracking[[#This Row],[year]],'2015 sah unit data'!K:K,data_tracking[[#This Row],[month]],'2015 sah unit data'!J:J,data_tracking[[#This Row],[week]]))","v":""},{"$f":"IF(SUMIFS('2015 sah unit data'!E:E,'2015 sah unit data'!L:L,data_tracking[[#This Row],[year]],'2015 sah unit data'!K:K,data_tracking[[#This Row],[month]],'2015 sah unit data'!J:J,data_tracking[[#This Row],[week]])=0,\"\",SUMIFS('2015 sah unit data'!E:E,'2015 sah unit data'!L:L,data_tracking[[#This Row],[year]],'2015 sah unit data'!K:K,data_tracking[[#This Row],[month]],'2015 sah unit data'!J:J,data_tracking[[#This Row],[week]]))","v":""},{"$f":"IF(SUMIFS('2015 sah unit data'!F:F,'2015 sah unit data'!L:L,data_tracking[[#This Row],[year]],'2015 sah unit data'!K:K,data_tracking[[#This Row],[month]],'2015 sah unit data'!J:J,data_tracking[[#This Row],[week]])=0,\"\",SUMIFS('2015 sah unit data'!F:F,'2015 sah unit data'!L:L,data_tracking[[#This Row],[year]],'2015 sah unit data'!K:K,data_tracking[[#This Row],[month]],'2015 sah unit data'!J:J,data_tracking[[#This Row],[week]]))","v":""},{"$f":"IF(SUMIFS('2015 sah unit data'!G:G,'2015 sah unit data'!L:L,data_tracking[[#This Row],[year]],'2015 sah unit data'!K:K,data_tracking[[#This Row],[month]],'2015 sah unit data'!J:J,data_tracking[[#This Row],[week]])=0,\"\",SUMIFS('2015 sah unit data'!G:G,'2015 sah unit data'!L:L,data_tracking[[#This Row],[year]],'2015 sah unit data'!K:K,data_tracking[[#This Row],[month]],'2015 sah unit data'!J:J,data_tracking[[#This Row],[week]]))","v":""},null,{"$f":"SUMIFS('overhead costs data'!E:E,'overhead costs data'!C:C,data_tracking[[#This Row],[year]],'overhead costs data'!B:B,data_tracking[[#This Row],[month]])","v":56000}]
[41,10,2016,39.77028,21.823559999999997,{"$f":"IFERROR((data_tracking[[#This Row],[overhead]]+SUMIFS('labor costs data'!H:H,'labor costs data'!D:D,data_tracking[[#This Row],[year]],'labor costs data'!A:A,data_tracking[[#This Row],[week]]))/data_tracking[[#This Row],[SAH Completed (Total)]],\"\")","v":""},{"$f":"IFERROR(SUMIFS('labor costs data'!E:E,'labor costs data'!D:D,data_tracking[[#This Row],[year]],'labor costs data'!A:A,data_tracking[[#This Row],[week]])/data_tracking[[#This Row],[SAH Completed (Total)]],\"\")","v":""},{"$f":"IFERROR((data_tracking[[#This Row],[overhead]]+SUMIFS(labor_costs[total labor cost],labor_costs[year],data_tracking[[#This Row],[year]],labor_costs[week],data_tracking[[#This Row],[week]]))/data_tracking[[#This Row],[Units Completed (Total)]],\"\")","v":""},{"$f":"IF(SUM(data_tracking[[#This Row],[111-FILSN1 SAH]],data_tracking[[#This Row],[112-FILSN2 SAH]],data_tracking[[#This Row],[113-FILSN3 SAH]])=0,\"\",SUM(data_tracking[[#This Row],[111-FILSN1 SAH]],data_tracking[[#This Row],[112-FILSN2 SAH]],data_tracking[[#This Row],[113-FILSN3 SAH]]))","v":""},{"$f":"IF(SUM(data_tracking[[#This Row],[111-FILSN1 Units]],data_tracking[[#This Row],[112-FILSN2 Units]],data_tracking[[#This Row],[113-FILSN3 Units]])=0,\"\",SUM(data_tracking[[#This Row],[111-FILSN1 Units]],data_tracking[[#This Row],[112-FILSN2 Units]],data_tracking[[#This Row],[113-FILSN3 Units]]))","v":""},{"$f":"IF(SUMIFS('2015 sah unit data'!B:B,'2015 sah unit data'!L:L,data_tracking[[#This Row],[year]],'2015 sah unit data'!K:K,data_tracking[[#This Row],[month]],'2015 sah unit data'!J:J,data_tracking[[#This Row],[week]])=0,\"\",SUMIFS('2015 sah unit data'!B:B,'2015 sah unit data'!L:L,data_tracking[[#This Row],[year]],'2015 sah unit data'!K:K,data_tracking[[#This Row],[month]],'2015 sah unit data'!J:J,data_tracking[[#This Row],[week]]))","v":""},{"$f":"IF(SUMIFS('2015 sah unit data'!C:C,'2015 sah unit data'!L:L,data_tracking[[#This Row],[year]],'2015 sah unit data'!K:K,data_tracking[[#This Row],[month]],'2015 sah unit data'!J:J,data_tracking[[#This Row],[week]])=0,\"\",SUMIFS('2015 sah unit data'!C:C,'2015 sah unit data'!L:L,data_tracking[[#This Row],[year]],'2015 sah unit data'!K:K,data_tracking[[#This Row],[month]],'2015 sah unit data'!J:J,data_tracking[[#This Row],[week]]))","v":""},{"$f":"IF(SUMIFS('2015 sah unit data'!D:D,'2015 sah unit data'!L:L,data_tracking[[#This Row],[year]],'2015 sah unit data'!K:K,data_tracking[[#This Row],[month]],'2015 sah unit data'!J:J,data_tracking[[#This Row],[week]])=0,\"\",SUMIFS('2015 sah unit data'!D:D,'2015 sah unit data'!L:L,data_tracking[[#This Row],[year]],'2015 sah unit data'!K:K,data_tracking[[#This Row],[month]],'2015 sah unit data'!J:J,data_tracking[[#This Row],[week]]))","v":""},{"$f":"IF(SUMIFS('2015 sah unit data'!E:E,'2015 sah unit data'!L:L,data_tracking[[#This Row],[year]],'2015 sah unit data'!K:K,data_tracking[[#This Row],[month]],'2015 sah unit data'!J:J,data_tracking[[#This Row],[week]])=0,\"\",SUMIFS('2015 sah unit data'!E:E,'2015 sah unit data'!L:L,data_tracking[[#This Row],[year]],'2015 sah unit data'!K:K,data_tracking[[#This Row],[month]],'2015 sah unit data'!J:J,data_tracking[[#This Row],[week]]))","v":""},{"$f":"IF(SUMIFS('2015 sah unit data'!F:F,'2015 sah unit data'!L:L,data_tracking[[#This Row],[year]],'2015 sah unit data'!K:K,data_tracking[[#This Row],[month]],'2015 sah unit data'!J:J,data_tracking[[#This Row],[week]])=0,\"\",SUMIFS('2015 sah unit data'!F:F,'2015 sah unit data'!L:L,data_tracking[[#This Row],[year]],'2015 sah unit data'!K:K,data_tracking[[#This Row],[month]],'2015 sah unit data'!J:J,data_tracking[[#This Row],[week]]))","v":""},{"$f":"IF(SUMIFS('2015 sah unit data'!G:G,'2015 sah unit data'!L:L,data_tracking[[#This Row],[year]],'2015 sah unit data'!K:K,data_tracking[[#This Row],[month]],'2015 sah unit data'!J:J,data_tracking[[#This Row],[week]])=0,\"\",SUMIFS('2015 sah unit data'!G:G,'2015 sah unit data'!L:L,data_tracking[[#This Row],[year]],'2015 sah unit data'!K:K,data_tracking[[#This Row],[month]],'2015 sah unit data'!J:J,data_tracking[[#This Row],[week]]))","v":""},null,{"$f":"SUMIFS('overhead costs data'!E:E,'overhead costs data'!C:C,data_tracking[[#This Row],[year]],'overhead costs data'!B:B,data_tracking[[#This Row],[month]])","v":70000}]
[42,10,2016,39.77028,21.823559999999997,{"$f":"IFERROR((data_tracking[[#This Row],[overhead]]+SUMIFS('labor costs data'!H:H,'labor costs data'!D:D,data_tracking[[#This Row],[year]],'labor costs data'!A:A,data_tracking[[#This Row],[week]]))/data_tracking[[#This Row],[SAH Completed (Total)]],\"\")","v":""},{"$f":"IFERROR(SUMIFS('labor costs data'!E:E,'labor costs data'!D:D,data_tracking[[#This Row],[year]],'labor costs data'!A:A,data_tracking[[#This Row],[week]])/data_tracking[[#This Row],[SAH Completed (Total)]],\"\")","v":""},{"$f":"IFERROR((data_tracking[[#This Row],[overhead]]+SUMIFS(labor_costs[total labor cost],labor_costs[year],data_tracking[[#This Row],[year]],labor_costs[week],data_tracking[[#This Row],[week]]))/data_tracking[[#This Row],[Units Completed (Total)]],\"\")","v":""},{"$f":"IF(SUM(data_tracking[[#This Row],[111-FILSN1 SAH]],data_tracking[[#This Row],[112-FILSN2 SAH]],data_tracking[[#This Row],[113-FILSN3 SAH]])=0,\"\",SUM(data_tracking[[#This Row],[111-FILSN1 SAH]],data_tracking[[#This Row],[112-FILSN2 SAH]],data_tracking[[#This Row],[113-FILSN3 SAH]]))","v":""},{"$f":"IF(SUM(data_tracking[[#This Row],[111-FILSN1 Units]],data_tracking[[#This Row],[112-FILSN2 Units]],data_tracking[[#This Row],[113-FILSN3 Units]])=0,\"\",SUM(data_tracking[[#This Row],[111-FILSN1 Units]],data_tracking[[#This Row],[112-FILSN2 Units]],data_tracking[[#This Row],[113-FILSN3 Units]]))","v":""},{"$f":"IF(SUMIFS('2015 sah unit data'!B:B,'2015 sah unit data'!L:L,data_tracking[[#This Row],[year]],'2015 sah unit data'!K:K,data_tracking[[#This Row],[month]],'2015 sah unit data'!J:J,data_tracking[[#This Row],[week]])=0,\"\",SUMIFS('2015 sah unit data'!B:B,'2015 sah unit data'!L:L,data_tracking[[#This Row],[year]],'2015 sah unit data'!K:K,data_tracking[[#This Row],[month]],'2015 sah unit data'!J:J,data_tracking[[#This Row],[week]]))","v":""},{"$f":"IF(SUMIFS('2015 sah unit data'!C:C,'2015 sah unit data'!L:L,data_tracking[[#This Row],[year]],'2015 sah unit data'!K:K,data_tracking[[#This Row],[month]],'2015 sah unit data'!J:J,data_tracking[[#This Row],[week]])=0,\"\",SUMIFS('2015 sah unit data'!C:C,'2015 sah unit data'!L:L,data_tracking[[#This Row],[year]],'2015 sah unit data'!K:K,data_tracking[[#This Row],[month]],'2015 sah unit data'!J:J,data_tracking[[#This Row],[week]]))","v":""},{"$f":"IF(SUMIFS('2015 sah unit data'!D:D,'2015 sah unit data'!L:L,data_tracking[[#This Row],[year]],'2015 sah unit data'!K:K,data_tracking[[#This Row],[month]],'2015 sah unit data'!J:J,data_tracking[[#This Row],[week]])=0,\"\",SUMIFS('2015 sah unit data'!D:D,'2015 sah unit data'!L:L,data_tracking[[#This Row],[year]],'2015 sah unit data'!K:K,data_tracking[[#This Row],[month]],'2015 sah unit data'!J:J,data_tracking[[#This Row],[week]]))","v":""},{"$f":"IF(SUMIFS('2015 sah unit data'!E:E,'2015 sah unit data'!L:L,data_tracking[[#This Row],[year]],'2015 sah unit data'!K:K,data_tracking[[#This Row],[month]],'2015 sah unit data'!J:J,data_tracking[[#This Row],[week]])=0,\"\",SUMIFS('2015 sah unit data'!E:E,'2015 sah unit data'!L:L,data_tracking[[#This Row],[year]],'2015 sah unit data'!K:K,data_tracking[[#This Row],[month]],'2015 sah unit data'!J:J,data_tracking[[#This Row],[week]]))","v":""},{"$f":"IF(SUMIFS('2015 sah unit data'!F:F,'2015 sah unit data'!L:L,data_tracking[[#This Row],[year]],'2015 sah unit data'!K:K,data_tracking[[#This Row],[month]],'2015 sah unit data'!J:J,data_tracking[[#This Row],[week]])=0,\"\",SUMIFS('2015 sah unit data'!F:F,'2015 sah unit data'!L:L,data_tracking[[#This Row],[year]],'2015 sah unit data'!K:K,data_tracking[[#This Row],[month]],'2015 sah unit data'!J:J,data_tracking[[#This Row],[week]]))","v":""},{"$f":"IF(SUMIFS('2015 sah unit data'!G:G,'2015 sah unit data'!L:L,data_tracking[[#This Row],[year]],'2015 sah unit data'!K:K,data_tracking[[#This Row],[month]],'2015 sah unit data'!J:J,data_tracking[[#This Row],[week]])=0,\"\",SUMIFS('2015 sah unit data'!G:G,'2015 sah unit data'!L:L,data_tracking[[#This Row],[year]],'2015 sah unit data'!K:K,data_tracking[[#This Row],[month]],'2015 sah unit data'!J:J,data_tracking[[#This Row],[week]]))","v":""},null,{"$f":"SUMIFS('overhead costs data'!E:E,'overhead costs data'!C:C,data_tracking[[#This Row],[year]],'overhead costs data'!B:B,data_tracking[[#This Row],[month]])","v":70000}]
[43,10,2016,39.77028,21.823559999999997,{"$f":"IFERROR((data_tracking[[#This Row],[overhead]]+SUMIFS('labor costs data'!H:H,'labor costs data'!D:D,data_tracking[[#This Row],[year]],'labor costs data'!A:A,data_tracking[[#This Row],[week]]))/data_tracking[[#This Row],[SAH Completed (Total)]],\"\")","v":""},{"$f":"IFERROR(SUMIFS('labor costs data'!E:E,'labor costs data'!D:D,data_tracking[[#This Row],[year]],'labor costs data'!A:A,data_tracking[[#This Row],[week]])/data_tracking[[#This Row],[SAH Completed (Total)]],\"\")","v":""},{"$f":"IFERROR((data_tracking[[#This Row],[overhead]]+SUMIFS(labor_costs[total labor cost],labor_costs[year],data_tracking[[#This Row],[year]],labor_costs[week],data_tracking[[#This Row],[week]]))/data_tracking[[#This Row],[Units Completed (Total)]],\"\")","v":""},{"$f":"IF(SUM(data_tracking[[#This Row],[111-FILSN1 SAH]],data_tracking[[#This Row],[112-FILSN2 SAH]],data_tracking[[#This Row],[113-FILSN3 SAH]])=0,\"\",SUM(data_tracking[[#This Row],[111-FILSN1 SAH]],data_tracking[[#This Row],[112-FILSN2 SAH]],data_tracking[[#This Row],[113-FILSN3 SAH]]))","v":""},{"$f":"IF(SUM(data_tracking[[#This Row],[111-FILSN1 Units]],data_tracking[[#This Row],[112-FILSN2 Units]],data_tracking[[#This Row],[113-FILSN3 Units]])=0,\"\",SUM(data_tracking[[#This Row],[111-FILSN1 Units]],data_tracking[[#This Row],[112-FILSN2 Units]],data_tracking[[#This Row],[113-FILSN3 Units]]))","v":""},{"$f":"IF(SUMIFS('2015 sah unit data'!B:B,'2015 sah unit data'!L:L,data_tracking[[#This Row],[year]],'2015 sah unit data'!K:K,data_tracking[[#This Row],[month]],'2015 sah unit data'!J:J,data_tracking[[#This Row],[week]])=0,\"\",SUMIFS('2015 sah unit data'!B:B,'2015 sah unit data'!L:L,data_tracking[[#This Row],[year]],'2015 sah unit data'!K:K,data_tracking[[#This Row],[month]],'2015 sah unit data'!J:J,data_tracking[[#This Row],[week]]))","v":""},{"$f":"IF(SUMIFS('2015 sah unit data'!C:C,'2015 sah unit data'!L:L,data_tracking[[#This Row],[year]],'2015 sah unit data'!K:K,data_tracking[[#This Row],[month]],'2015 sah unit data'!J:J,data_tracking[[#This Row],[week]])=0,\"\",SUMIFS('2015 sah unit data'!C:C,'2015 sah unit data'!L:L,data_tracking[[#This Row],[year]],'2015 sah unit data'!K:K,data_tracking[[#This Row],[month]],'2015 sah unit data'!J:J,data_tracking[[#This Row],[week]]))","v":""},{"$f":"IF(SUMIFS('2015 sah unit data'!D:D,'2015 sah unit data'!L:L,data_tracking[[#This Row],[year]],'2015 sah unit data'!K:K,data_tracking[[#This Row],[month]],'2015 sah unit data'!J:J,data_tracking[[#This Row],[week]])=0,\"\",SUMIFS('2015 sah unit data'!D:D,'2015 sah unit data'!L:L,data_tracking[[#This Row],[year]],'2015 sah unit data'!K:K,data_tracking[[#This Row],[month]],'2015 sah unit data'!J:J,data_tracking[[#This Row],[week]]))","v":""},{"$f":"IF(SUMIFS('2015 sah unit data'!E:E,'2015 sah unit data'!L:L,data_tracking[[#This Row],[year]],'2015 sah unit data'!K:K,data_tracking[[#This Row],[month]],'2015 sah unit data'!J:J,data_tracking[[#This Row],[week]])=0,\"\",SUMIFS('2015 sah unit data'!E:E,'2015 sah unit data'!L:L,data_tracking[[#This Row],[year]],'2015 sah unit data'!K:K,data_tracking[[#This Row],[month]],'2015 sah unit data'!J:J,data_tracking[[#This Row],[week]]))","v":""},{"$f":"IF(SUMIFS('2015 sah unit data'!F:F,'2015 sah unit data'!L:L,data_tracking[[#This Row],[year]],'2015 sah unit data'!K:K,data_tracking[[#This Row],[month]],'2015 sah unit data'!J:J,data_tracking[[#This Row],[week]])=0,\"\",SUMIFS('2015 sah unit data'!F:F,'2015 sah unit data'!L:L,data_tracking[[#This Row],[year]],'2015 sah unit data'!K:K,data_tracking[[#This Row],[month]],'2015 sah unit data'!J:J,data_tracking[[#This Row],[week]]))","v":""},{"$f":"IF(SUMIFS('2015 sah unit data'!G:G,'2015 sah unit data'!L:L,data_tracking[[#This Row],[year]],'2015 sah unit data'!K:K,data_tracking[[#This Row],[month]],'2015 sah unit data'!J:J,data_tracking[[#This Row],[week]])=0,\"\",SUMIFS('2015 sah unit data'!G:G,'2015 sah unit data'!L:L,data_tracking[[#This Row],[year]],'2015 sah unit data'!K:K,data_tracking[[#This Row],[month]],'2015 sah unit data'!J:J,data_tracking[[#This Row],[week]]))","v":""},null,{"$f":"SUMIFS('overhead costs data'!E:E,'overhead costs data'!C:C,data_tracking[[#This Row],[year]],'overhead costs data'!B:B,data_tracking[[#This Row],[month]])","v":70000}]
[44,10,2016,39.77028,21.823559999999997,{"$f":"IFERROR((data_tracking[[#This Row],[overhead]]+SUMIFS('labor costs data'!H:H,'labor costs data'!D:D,data_tracking[[#This Row],[year]],'labor costs data'!A:A,data_tracking[[#This Row],[week]]))/data_tracking[[#This Row],[SAH Completed (Total)]],\"\")","v":""},{"$f":"IFERROR(SUMIFS('labor costs data'!E:E,'labor costs data'!D:D,data_tracking[[#This Row],[year]],'labor costs data'!A:A,data_tracking[[#This Row],[week]])/data_tracking[[#This Row],[SAH Completed (Total)]],\"\")","v":""},{"$f":"IFERROR((data_tracking[[#This Row],[overhead]]+SUMIFS(labor_costs[total labor cost],labor_costs[year],data_tracking[[#This Row],[year]],labor_costs[week],data_tracking[[#This Row],[week]]))/data_tracking[[#This Row],[Units Completed (Total)]],\"\")","v":""},{"$f":"IF(SUM(data_tracking[[#This Row],[111-FILSN1 SAH]],data_tracking[[#This Row],[112-FILSN2 SAH]],data_tracking[[#This Row],[113-FILSN3 SAH]])=0,\"\",SUM(data_tracking[[#This Row],[111-FILSN1 SAH]],data_tracking[[#This Row],[112-FILSN2 SAH]],data_tracking[[#This Row],[113-FILSN3 SAH]]))","v":""},{"$f":"IF(SUM(data_tracking[[#This Row],[111-FILSN1 Units]],data_tracking[[#This Row],[112-FILSN2 Units]],data_tracking[[#This Row],[113-FILSN3 Units]])=0,\"\",SUM(data_tracking[[#This Row],[111-FILSN1 Units]],data_tracking[[#This Row],[112-FILSN2 Units]],data_tracking[[#This Row],[113-FILSN3 Units]]))","v":""},{"$f":"IF(SUMIFS('2015 sah unit data'!B:B,'2015 sah unit data'!L:L,data_tracking[[#This Row],[year]],'2015 sah unit data'!K:K,data_tracking[[#This Row],[month]],'2015 sah unit data'!J:J,data_tracking[[#This Row],[week]])=0,\"\",SUMIFS('2015 sah unit data'!B:B,'2015 sah unit data'!L:L,data_tracking[[#This Row],[year]],'2015 sah unit data'!K:K,data_tracking[[#This Row],[month]],'2015 sah unit data'!J:J,data_tracking[[#This Row],[week]]))","v":""},{"$f":"IF(SUMIFS('2015 sah unit data'!C:C,'2015 sah unit data'!L:L,data_tracking[[#This Row],[year]],'2015 sah unit data'!K:K,data_tracking[[#This Row],[month]],'2015 sah unit data'!J:J,data_tracking[[#This Row],[week]])=0,\"\",SUMIFS('2015 sah unit data'!C:C,'2015 sah unit data'!L:L,data_tracking[[#This Row],[year]],'2015 sah unit data'!K:K,data_tracking[[#This Row],[month]],'2015 sah unit data'!J:J,data_tracking[[#This Row],[week]]))","v":""},{"$f":"IF(SUMIFS('2015 sah unit data'!D:D,'2015 sah unit data'!L:L,data_tracking[[#This Row],[year]],'2015 sah unit data'!K:K,data_tracking[[#This Row],[month]],'2015 sah unit data'!J:J,data_tracking[[#This Row],[week]])=0,\"\",SUMIFS('2015 sah unit data'!D:D,'2015 sah unit data'!L:L,data_tracking[[#This Row],[year]],'2015 sah unit data'!K:K,data_tracking[[#This Row],[month]],'2015 sah unit data'!J:J,data_tracking[[#This Row],[week]]))","v":""},{"$f":"IF(SUMIFS('2015 sah unit data'!E:E,'2015 sah unit data'!L:L,data_tracking[[#This Row],[year]],'2015 sah unit data'!K:K,data_tracking[[#This Row],[month]],'2015 sah unit data'!J:J,data_tracking[[#This Row],[week]])=0,\"\",SUMIFS('2015 sah unit data'!E:E,'2015 sah unit data'!L:L,data_tracking[[#This Row],[year]],'2015 sah unit data'!K:K,data_tracking[[#This Row],[month]],'2015 sah unit data'!J:J,data_tracking[[#This Row],[week]]))","v":""},{"$f":"IF(SUMIFS('2015 sah unit data'!F:F,'2015 sah unit data'!L:L,data_tracking[[#This Row],[year]],'2015 sah unit data'!K:K,data_tracking[[#This Row],[month]],'2015 sah unit data'!J:J,data_tracking[[#This Row],[week]])=0,\"\",SUMIFS('2015 sah unit data'!F:F,'2015 sah unit data'!L:L,data_tracking[[#This Row],[year]],'2015 sah unit data'!K:K,data_tracking[[#This Row],[month]],'2015 sah unit data'!J:J,data_tracking[[#This Row],[week]]))","v":""},{"$f":"IF(SUMIFS('2015 sah unit data'!G:G,'2015 sah unit data'!L:L,data_tracking[[#This Row],[year]],'2015 sah unit data'!K:K,data_tracking[[#This Row],[month]],'2015 sah unit data'!J:J,data_tracking[[#This Row],[week]])=0,\"\",SUMIFS('2015 sah unit data'!G:G,'2015 sah unit data'!L:L,data_tracking[[#This Row],[year]],'2015 sah unit data'!K:K,data_tracking[[#This Row],[month]],'2015 sah unit data'!J:J,data_tracking[[#This Row],[week]]))","v":""},null,{"$f":"SUMIFS('overhead costs data'!E:E,'overhead costs data'!C:C,data_tracking[[#This Row],[year]],'overhead costs data'!B:B,data_tracking[[#This Row],[month]])","v":70000}]
[45,10,2016,39.77028,21.823559999999997,{"$f":"IFERROR((data_tracking[[#This Row],[overhead]]+SUMIFS('labor costs data'!H:H,'labor costs data'!D:D,data_tracking[[#This Row],[year]],'labor costs data'!A:A,data_tracking[[#This Row],[week]]))/data_tracking[[#This Row],[SAH Completed (Total)]],\"\")","v":""},{"$f":"IFERROR(SUMIFS('labor costs data'!E:E,'labor costs data'!D:D,data_tracking[[#This Row],[year]],'labor costs data'!A:A,data_tracking[[#This Row],[week]])/data_tracking[[#This Row],[SAH Completed (Total)]],\"\")","v":""},{"$f":"IFERROR((data_tracking[[#This Row],[overhead]]+SUMIFS(labor_costs[total labor cost],labor_costs[year],data_tracking[[#This Row],[year]],labor_costs[week],data_tracking[[#This Row],[week]]))/data_tracking[[#This Row],[Units Completed (Total)]],\"\")","v":""},{"$f":"IF(SUM(data_tracking[[#This Row],[111-FILSN1 SAH]],data_tracking[[#This Row],[112-FILSN2 SAH]],data_tracking[[#This Row],[113-FILSN3 SAH]])=0,\"\",SUM(data_tracking[[#This Row],[111-FILSN1 SAH]],data_tracking[[#This Row],[112-FILSN2 SAH]],data_tracking[[#This Row],[113-FILSN3 SAH]]))","v":""},{"$f":"IF(SUM(data_tracking[[#This Row],[111-FILSN1 Units]],data_tracking[[#This Row],[112-FILSN2 Units]],data_tracking[[#This Row],[113-FILSN3 Units]])=0,\"\",SUM(data_tracking[[#This Row],[111-FILSN1 Units]],data_tracking[[#This Row],[112-FILSN2 Units]],data_tracking[[#This Row],[113-FILSN3 Units]]))","v":""},{"$f":"IF(SUMIFS('2015 sah unit data'!B:B,'2015 sah unit data'!L:L,data_tracking[[#This Row],[year]],'2015 sah unit data'!K:K,data_tracking[[#This Row],[month]],'2015 sah unit data'!J:J,data_tracking[[#This Row],[week]])=0,\"\",SUMIFS('2015 sah unit data'!B:B,'2015 sah unit data'!L:L,data_tracking[[#This Row],[year]],'2015 sah unit data'!K:K,data_tracking[[#This Row],[month]],'2015 sah unit data'!J:J,data_tracking[[#This Row],[week]]))","v":""},{"$f":"IF(SUMIFS('2015 sah unit data'!C:C,'2015 sah unit data'!L:L,data_tracking[[#This Row],[year]],'2015 sah unit data'!K:K,data_tracking[[#This Row],[month]],'2015 sah unit data'!J:J,data_tracking[[#This Row],[week]])=0,\"\",SUMIFS('2015 sah unit data'!C:C,'2015 sah unit data'!L:L,data_tracking[[#This Row],[year]],'2015 sah unit data'!K:K,data_tracking[[#This Row],[month]],'2015 sah unit data'!J:J,data_tracking[[#This Row],[week]]))","v":""},{"$f":"IF(SUMIFS('2015 sah unit data'!D:D,'2015 sah unit data'!L:L,data_tracking[[#This Row],[year]],'2015 sah unit data'!K:K,data_tracking[[#This Row],[month]],'2015 sah unit data'!J:J,data_tracking[[#This Row],[week]])=0,\"\",SUMIFS('2015 sah unit data'!D:D,'2015 sah unit data'!L:L,data_tracking[[#This Row],[year]],'2015 sah unit data'!K:K,data_tracking[[#This Row],[month]],'2015 sah unit data'!J:J,data_tracking[[#This Row],[week]]))","v":""},{"$f":"IF(SUMIFS('2015 sah unit data'!E:E,'2015 sah unit data'!L:L,data_tracking[[#This Row],[year]],'2015 sah unit data'!K:K,data_tracking[[#This Row],[month]],'2015 sah unit data'!J:J,data_tracking[[#This Row],[week]])=0,\"\",SUMIFS('2015 sah unit data'!E:E,'2015 sah unit data'!L:L,data_tracking[[#This Row],[year]],'2015 sah unit data'!K:K,data_tracking[[#This Row],[month]],'2015 sah unit data'!J:J,data_tracking[[#This Row],[week]]))","v":""},{"$f":"IF(SUMIFS('2015 sah unit data'!F:F,'2015 sah unit data'!L:L,data_tracking[[#This Row],[year]],'2015 sah unit data'!K:K,data_tracking[[#This Row],[month]],'2015 sah unit data'!J:J,data_tracking[[#This Row],[week]])=0,\"\",SUMIFS('2015 sah unit data'!F:F,'2015 sah unit data'!L:L,data_tracking[[#This Row],[year]],'2015 sah unit data'!K:K,data_tracking[[#This Row],[month]],'2015 sah unit data'!J:J,data_tracking[[#This Row],[week]]))","v":""},{"$f":"IF(SUMIFS('2015 sah unit data'!G:G,'2015 sah unit data'!L:L,data_tracking[[#This Row],[year]],'2015 sah unit data'!K:K,data_tracking[[#This Row],[month]],'2015 sah unit data'!J:J,data_tracking[[#This Row],[week]])=0,\"\",SUMIFS('2015 sah unit data'!G:G,'2015 sah unit data'!L:L,data_tracking[[#This Row],[year]],'2015 sah unit data'!K:K,data_tracking[[#This Row],[month]],'2015 sah unit data'!J:J,data_tracking[[#This Row],[week]]))","v":""},null,{"$f":"SUMIFS('overhead costs data'!E:E,'overhead costs data'!C:C,data_tracking[[#This Row],[year]],'overhead costs data'!B:B,data_tracking[[#This Row],[month]])","v":70000}]
[46,11,2016,39.77028,21.823559999999997,{"$f":"IFERROR((data_tracking[[#This Row],[overhead]]+SUMIFS('labor costs data'!H:H,'labor costs data'!D:D,data_tracking[[#This Row],[year]],'labor costs data'!A:A,data_tracking[[#This Row],[week]]))/data_tracking[[#This Row],[SAH Completed (Total)]],\"\")","v":""},{"$f":"IFERROR(SUMIFS('labor costs data'!E:E,'labor costs data'!D:D,data_tracking[[#This Row],[year]],'labor costs data'!A:A,data_tracking[[#This Row],[week]])/data_tracking[[#This Row],[SAH Completed (Total)]],\"\")","v":""},{"$f":"IFERROR((data_tracking[[#This Row],[overhead]]+SUMIFS(labor_costs[total labor cost],labor_costs[year],data_tracking[[#This Row],[year]],labor_costs[week],data_tracking[[#This Row],[week]]))/data_tracking[[#This Row],[Units Completed (Total)]],\"\")","v":""},{"$f":"IF(SUM(data_tracking[[#This Row],[111-FILSN1 SAH]],data_tracking[[#This Row],[112-FILSN2 SAH]],data_tracking[[#This Row],[113-FILSN3 SAH]])=0,\"\",SUM(data_tracking[[#This Row],[111-FILSN1 SAH]],data_tracking[[#This Row],[112-FILSN2 SAH]],data_tracking[[#This Row],[113-FILSN3 SAH]]))","v":""},{"$f":"IF(SUM(data_tracking[[#This Row],[111-FILSN1 Units]],data_tracking[[#This Row],[112-FILSN2 Units]],data_tracking[[#This Row],[113-FILSN3 Units]])=0,\"\",SUM(data_tracking[[#This Row],[111-FILSN1 Units]],data_tracking[[#This Row],[112-FILSN2 Units]],data_tracking[[#This Row],[113-FILSN3 Units]]))","v":""},{"$f":"IF(SUMIFS('2015 sah unit data'!B:B,'2015 sah unit data'!L:L,data_tracking[[#This Row],[year]],'2015 sah unit data'!K:K,data_tracking[[#This Row],[month]],'2015 sah unit data'!J:J,data_tracking[[#This Row],[week]])=0,\"\",SUMIFS('2015 sah unit data'!B:B,'2015 sah unit data'!L:L,data_tracking[[#This Row],[year]],'2015 sah unit data'!K:K,data_tracking[[#This Row],[month]],'2015 sah unit data'!J:J,data_tracking[[#This Row],[week]]))","v":""},{"$f":"IF(SUMIFS('2015 sah unit data'!C:C,'2015 sah unit data'!L:L,data_tracking[[#This Row],[year]],'2015 sah unit data'!K:K,data_tracking[[#This Row],[month]],'2015 sah unit data'!J:J,data_tracking[[#This Row],[week]])=0,\"\",SUMIFS('2015 sah unit data'!C:C,'2015 sah unit data'!L:L,data_tracking[[#This Row],[year]],'2015 sah unit data'!K:K,data_tracking[[#This Row],[month]],'2015 sah unit data'!J:J,data_tracking[[#This Row],[week]]))","v":""},{"$f":"IF(SUMIFS('2015 sah unit data'!D:D,'2015 sah unit data'!L:L,data_tracking[[#This Row],[year]],'2015 sah unit data'!K:K,data_tracking[[#This Row],[month]],'2015 sah unit data'!J:J,data_tracking[[#This Row],[week]])=0,\"\",SUMIFS('2015 sah unit data'!D:D,'2015 sah unit data'!L:L,data_tracking[[#This Row],[year]],'2015 sah unit data'!K:K,data_tracking[[#This Row],[month]],'2015 sah unit data'!J:J,data_tracking[[#This Row],[week]]))","v":""},{"$f":"IF(SUMIFS('2015 sah unit data'!E:E,'2015 sah unit data'!L:L,data_tracking[[#This Row],[year]],'2015 sah unit data'!K:K,data_tracking[[#This Row],[month]],'2015 sah unit data'!J:J,data_tracking[[#This Row],[week]])=0,\"\",SUMIFS('2015 sah unit data'!E:E,'2015 sah unit data'!L:L,data_tracking[[#This Row],[year]],'2015 sah unit data'!K:K,data_tracking[[#This Row],[month]],'2015 sah unit data'!J:J,data_tracking[[#This Row],[week]]))","v":""},{"$f":"IF(SUMIFS('2015 sah unit data'!F:F,'2015 sah unit data'!L:L,data_tracking[[#This Row],[year]],'2015 sah unit data'!K:K,data_tracking[[#This Row],[month]],'2015 sah unit data'!J:J,data_tracking[[#This Row],[week]])=0,\"\",SUMIFS('2015 sah unit data'!F:F,'2015 sah unit data'!L:L,data_tracking[[#This Row],[year]],'2015 sah unit data'!K:K,data_tracking[[#This Row],[month]],'2015 sah unit data'!J:J,data_tracking[[#This Row],[week]]))","v":""},{"$f":"IF(SUMIFS('2015 sah unit data'!G:G,'2015 sah unit data'!L:L,data_tracking[[#This Row],[year]],'2015 sah unit data'!K:K,data_tracking[[#This Row],[month]],'2015 sah unit data'!J:J,data_tracking[[#This Row],[week]])=0,\"\",SUMIFS('2015 sah unit data'!G:G,'2015 sah unit data'!L:L,data_tracking[[#This Row],[year]],'2015 sah unit data'!K:K,data_tracking[[#This Row],[month]],'2015 sah unit data'!J:J,data_tracking[[#This Row],[week]]))","v":""},null,{"$f":"SUMIFS('overhead costs data'!E:E,'overhead costs data'!C:C,data_tracking[[#This Row],[year]],'overhead costs data'!B:B,data_tracking[[#This Row],[month]])","v":70000}]
[47,11,2016,39.77028,21.823559999999997,{"$f":"IFERROR((data_tracking[[#This Row],[overhead]]+SUMIFS('labor costs data'!H:H,'labor costs data'!D:D,data_tracking[[#This Row],[year]],'labor costs data'!A:A,data_tracking[[#This Row],[week]]))/data_tracking[[#This Row],[SAH Completed (Total)]],\"\")","v":""},{"$f":"IFERROR(SUMIFS('labor costs data'!E:E,'labor costs data'!D:D,data_tracking[[#This Row],[year]],'labor costs data'!A:A,data_tracking[[#This Row],[week]])/data_tracking[[#This Row],[SAH Completed (Total)]],\"\")","v":""},{"$f":"IFERROR((data_tracking[[#This Row],[overhead]]+SUMIFS(labor_costs[total labor cost],labor_costs[year],data_tracking[[#This Row],[year]],labor_costs[week],data_tracking[[#This Row],[week]]))/data_tracking[[#This Row],[Units Completed (Total)]],\"\")","v":""},{"$f":"IF(SUM(data_tracking[[#This Row],[111-FILSN1 SAH]],data_tracking[[#This Row],[112-FILSN2 SAH]],data_tracking[[#This Row],[113-FILSN3 SAH]])=0,\"\",SUM(data_tracking[[#This Row],[111-FILSN1 SAH]],data_tracking[[#This Row],[112-FILSN2 SAH]],data_tracking[[#This Row],[113-FILSN3 SAH]]))","v":""},{"$f":"IF(SUM(data_tracking[[#This Row],[111-FILSN1 Units]],data_tracking[[#This Row],[112-FILSN2 Units]],data_tracking[[#This Row],[113-FILSN3 Units]])=0,\"\",SUM(data_tracking[[#This Row],[111-FILSN1 Units]],data_tracking[[#This Row],[112-FILSN2 Units]],data_tracking[[#This Row],[113-FILSN3 Units]]))","v":""},{"$f":"IF(SUMIFS('2015 sah unit data'!B:B,'2015 sah unit data'!L:L,data_tracking[[#This Row],[year]],'2015 sah unit data'!K:K,data_tracking[[#This Row],[month]],'2015 sah unit data'!J:J,data_tracking[[#This Row],[week]])=0,\"\",SUMIFS('2015 sah unit data'!B:B,'2015 sah unit data'!L:L,data_tracking[[#This Row],[year]],'2015 sah unit data'!K:K,data_tracking[[#This Row],[month]],'2015 sah unit data'!J:J,data_tracking[[#This Row],[week]]))","v":""},{"$f":"IF(SUMIFS('2015 sah unit data'!C:C,'2015 sah unit data'!L:L,data_tracking[[#This Row],[year]],'2015 sah unit data'!K:K,data_tracking[[#This Row],[month]],'2015 sah unit data'!J:J,data_tracking[[#This Row],[week]])=0,\"\",SUMIFS('2015 sah unit data'!C:C,'2015 sah unit data'!L:L,data_tracking[[#This Row],[year]],'2015 sah unit data'!K:K,data_tracking[[#This Row],[month]],'2015 sah unit data'!J:J,data_tracking[[#This Row],[week]]))","v":""},{"$f":"IF(SUMIFS('2015 sah unit data'!D:D,'2015 sah unit data'!L:L,data_tracking[[#This Row],[year]],'2015 sah unit data'!K:K,data_tracking[[#This Row],[month]],'2015 sah unit data'!J:J,data_tracking[[#This Row],[week]])=0,\"\",SUMIFS('2015 sah unit data'!D:D,'2015 sah unit data'!L:L,data_tracking[[#This Row],[year]],'2015 sah unit data'!K:K,data_tracking[[#This Row],[month]],'2015 sah unit data'!J:J,data_tracking[[#This Row],[week]]))","v":""},{"$f":"IF(SUMIFS('2015 sah unit data'!E:E,'2015 sah unit data'!L:L,data_tracking[[#This Row],[year]],'2015 sah unit data'!K:K,data_tracking[[#This Row],[month]],'2015 sah unit data'!J:J,data_tracking[[#This Row],[week]])=0,\"\",SUMIFS('2015 sah unit data'!E:E,'2015 sah unit data'!L:L,data_tracking[[#This Row],[year]],'2015 sah unit data'!K:K,data_tracking[[#This Row],[month]],'2015 sah unit data'!J:J,data_tracking[[#This Row],[week]]))","v":""},{"$f":"IF(SUMIFS('2015 sah unit data'!F:F,'2015 sah unit data'!L:L,data_tracking[[#This Row],[year]],'2015 sah unit data'!K:K,data_tracking[[#This Row],[month]],'2015 sah unit data'!J:J,data_tracking[[#This Row],[week]])=0,\"\",SUMIFS('2015 sah unit data'!F:F,'2015 sah unit data'!L:L,data_tracking[[#This Row],[year]],'2015 sah unit data'!K:K,data_tracking[[#This Row],[month]],'2015 sah unit data'!J:J,data_tracking[[#This Row],[week]]))","v":""},{"$f":"IF(SUMIFS('2015 sah unit data'!G:G,'2015 sah unit data'!L:L,data_tracking[[#This Row],[year]],'2015 sah unit data'!K:K,data_tracking[[#This Row],[month]],'2015 sah unit data'!J:J,data_tracking[[#This Row],[week]])=0,\"\",SUMIFS('2015 sah unit data'!G:G,'2015 sah unit data'!L:L,data_tracking[[#This Row],[year]],'2015 sah unit data'!K:K,data_tracking[[#This Row],[month]],'2015 sah unit data'!J:J,data_tracking[[#This Row],[week]]))","v":""},null,{"$f":"SUMIFS('overhead costs data'!E:E,'overhead costs data'!C:C,data_tracking[[#This Row],[year]],'overhead costs data'!B:B,data_tracking[[#This Row],[month]])","v":70000}]
[48,11,2016,39.77028,21.823559999999997,{"$f":"IFERROR((data_tracking[[#This Row],[overhead]]+SUMIFS('labor costs data'!H:H,'labor costs data'!D:D,data_tracking[[#This Row],[year]],'labor costs data'!A:A,data_tracking[[#This Row],[week]]))/data_tracking[[#This Row],[SAH Completed (Total)]],\"\")","v":""},{"$f":"IFERROR(SUMIFS('labor costs data'!E:E,'labor costs data'!D:D,data_tracking[[#This Row],[year]],'labor costs data'!A:A,data_tracking[[#This Row],[week]])/data_tracking[[#This Row],[SAH Completed (Total)]],\"\")","v":""},{"$f":"IFERROR((data_tracking[[#This Row],[overhead]]+SUMIFS(labor_costs[total labor cost],labor_costs[year],data_tracking[[#This Row],[year]],labor_costs[week],data_tracking[[#This Row],[week]]))/data_tracking[[#This Row],[Units Completed (Total)]],\"\")","v":""},{"$f":"IF(SUM(data_tracking[[#This Row],[111-FILSN1 SAH]],data_tracking[[#This Row],[112-FILSN2 SAH]],data_tracking[[#This Row],[113-FILSN3 SAH]])=0,\"\",SUM(data_tracking[[#This Row],[111-FILSN1 SAH]],data_tracking[[#This Row],[112-FILSN2 SAH]],data_tracking[[#This Row],[113-FILSN3 SAH]]))","v":""},{"$f":"IF(SUM(data_tracking[[#This Row],[111-FILSN1 Units]],data_tracking[[#This Row],[112-FILSN2 Units]],data_tracking[[#This Row],[113-FILSN3 Units]])=0,\"\",SUM(data_tracking[[#This Row],[111-FILSN1 Units]],data_tracking[[#This Row],[112-FILSN2 Units]],data_tracking[[#This Row],[113-FILSN3 Units]]))","v":""},{"$f":"IF(SUMIFS('2015 sah unit data'!B:B,'2015 sah unit data'!L:L,data_tracking[[#This Row],[year]],'2015 sah unit data'!K:K,data_tracking[[#This Row],[month]],'2015 sah unit data'!J:J,data_tracking[[#This Row],[week]])=0,\"\",SUMIFS('2015 sah unit data'!B:B,'2015 sah unit data'!L:L,data_tracking[[#This Row],[year]],'2015 sah unit data'!K:K,data_tracking[[#This Row],[month]],'2015 sah unit data'!J:J,data_tracking[[#This Row],[week]]))","v":""},{"$f":"IF(SUMIFS('2015 sah unit data'!C:C,'2015 sah unit data'!L:L,data_tracking[[#This Row],[year]],'2015 sah unit data'!K:K,data_tracking[[#This Row],[month]],'2015 sah unit data'!J:J,data_tracking[[#This Row],[week]])=0,\"\",SUMIFS('2015 sah unit data'!C:C,'2015 sah unit data'!L:L,data_tracking[[#This Row],[year]],'2015 sah unit data'!K:K,data_tracking[[#This Row],[month]],'2015 sah unit data'!J:J,data_tracking[[#This Row],[week]]))","v":""},{"$f":"IF(SUMIFS('2015 sah unit data'!D:D,'2015 sah unit data'!L:L,data_tracking[[#This Row],[year]],'2015 sah unit data'!K:K,data_tracking[[#This Row],[month]],'2015 sah unit data'!J:J,data_tracking[[#This Row],[week]])=0,\"\",SUMIFS('2015 sah unit data'!D:D,'2015 sah unit data'!L:L,data_tracking[[#This Row],[year]],'2015 sah unit data'!K:K,data_tracking[[#This Row],[month]],'2015 sah unit data'!J:J,data_tracking[[#This Row],[week]]))","v":""},{"$f":"IF(SUMIFS('2015 sah unit data'!E:E,'2015 sah unit data'!L:L,data_tracking[[#This Row],[year]],'2015 sah unit data'!K:K,data_tracking[[#This Row],[month]],'2015 sah unit data'!J:J,data_tracking[[#This Row],[week]])=0,\"\",SUMIFS('2015 sah unit data'!E:E,'2015 sah unit data'!L:L,data_tracking[[#This Row],[year]],'2015 sah unit data'!K:K,data_tracking[[#This Row],[month]],'2015 sah unit data'!J:J,data_tracking[[#This Row],[week]]))","v":""},{"$f":"IF(SUMIFS('2015 sah unit data'!F:F,'2015 sah unit data'!L:L,data_tracking[[#This Row],[year]],'2015 sah unit data'!K:K,data_tracking[[#This Row],[month]],'2015 sah unit data'!J:J,data_tracking[[#This Row],[week]])=0,\"\",SUMIFS('2015 sah unit data'!F:F,'2015 sah unit data'!L:L,data_tracking[[#This Row],[year]],'2015 sah unit data'!K:K,data_tracking[[#This Row],[month]],'2015 sah unit data'!J:J,data_tracking[[#This Row],[week]]))","v":""},{"$f":"IF(SUMIFS('2015 sah unit data'!G:G,'2015 sah unit data'!L:L,data_tracking[[#This Row],[year]],'2015 sah unit data'!K:K,data_tracking[[#This Row],[month]],'2015 sah unit data'!J:J,data_tracking[[#This Row],[week]])=0,\"\",SUMIFS('2015 sah unit data'!G:G,'2015 sah unit data'!L:L,data_tracking[[#This Row],[year]],'2015 sah unit data'!K:K,data_tracking[[#This Row],[month]],'2015 sah unit data'!J:J,data_tracking[[#This Row],[week]]))","v":""},null,{"$f":"SUMIFS('overhead costs data'!E:E,'overhead costs data'!C:C,data_tracking[[#This Row],[year]],'overhead costs data'!B:B,data_tracking[[#This Row],[month]])","v":70000}]
[49,11,2016,39.77028,21.823559999999997,{"$f":"IFERROR((data_tracking[[#This Row],[overhead]]+SUMIFS('labor costs data'!H:H,'labor costs data'!D:D,data_tracking[[#This Row],[year]],'labor costs data'!A:A,data_tracking[[#This Row],[week]]))/data_tracking[[#This Row],[SAH Completed (Total)]],\"\")","v":""},{"$f":"IFERROR(SUMIFS('labor costs data'!E:E,'labor costs data'!D:D,data_tracking[[#This Row],[year]],'labor costs data'!A:A,data_tracking[[#This Row],[week]])/data_tracking[[#This Row],[SAH Completed (Total)]],\"\")","v":""},{"$f":"IFERROR((data_tracking[[#This Row],[overhead]]+SUMIFS(labor_costs[total labor cost],labor_costs[year],data_tracking[[#This Row],[year]],labor_costs[week],data_tracking[[#This Row],[week]]))/data_tracking[[#This Row],[Units Completed (Total)]],\"\")","v":""},{"$f":"IF(SUM(data_tracking[[#This Row],[111-FILSN1 SAH]],data_tracking[[#This Row],[112-FILSN2 SAH]],data_tracking[[#This Row],[113-FILSN3 SAH]])=0,\"\",SUM(data_tracking[[#This Row],[111-FILSN1 SAH]],data_tracking[[#This Row],[112-FILSN2 SAH]],data_tracking[[#This Row],[113-FILSN3 SAH]]))","v":""},{"$f":"IF(SUM(data_tracking[[#This Row],[111-FILSN1 Units]],data_tracking[[#This Row],[112-FILSN2 Units]],data_tracking[[#This Row],[113-FILSN3 Units]])=0,\"\",SUM(data_tracking[[#This Row],[111-FILSN1 Units]],data_tracking[[#This Row],[112-FILSN2 Units]],data_tracking[[#This Row],[113-FILSN3 Units]]))","v":""},{"$f":"IF(SUMIFS('2015 sah unit data'!B:B,'2015 sah unit data'!L:L,data_tracking[[#This Row],[year]],'2015 sah unit data'!K:K,data_tracking[[#This Row],[month]],'2015 sah unit data'!J:J,data_tracking[[#This Row],[week]])=0,\"\",SUMIFS('2015 sah unit data'!B:B,'2015 sah unit data'!L:L,data_tracking[[#This Row],[year]],'2015 sah unit data'!K:K,data_tracking[[#This Row],[month]],'2015 sah unit data'!J:J,data_tracking[[#This Row],[week]]))","v":""},{"$f":"IF(SUMIFS('2015 sah unit data'!C:C,'2015 sah unit data'!L:L,data_tracking[[#This Row],[year]],'2015 sah unit data'!K:K,data_tracking[[#This Row],[month]],'2015 sah unit data'!J:J,data_tracking[[#This Row],[week]])=0,\"\",SUMIFS('2015 sah unit data'!C:C,'2015 sah unit data'!L:L,data_tracking[[#This Row],[year]],'2015 sah unit data'!K:K,data_tracking[[#This Row],[month]],'2015 sah unit data'!J:J,data_tracking[[#This Row],[week]]))","v":""},{"$f":"IF(SUMIFS('2015 sah unit data'!D:D,'2015 sah unit data'!L:L,data_tracking[[#This Row],[year]],'2015 sah unit data'!K:K,data_tracking[[#This Row],[month]],'2015 sah unit data'!J:J,data_tracking[[#This Row],[week]])=0,\"\",SUMIFS('2015 sah unit data'!D:D,'2015 sah unit data'!L:L,data_tracking[[#This Row],[year]],'2015 sah unit data'!K:K,data_tracking[[#This Row],[month]],'2015 sah unit data'!J:J,data_tracking[[#This Row],[week]]))","v":""},{"$f":"IF(SUMIFS('2015 sah unit data'!E:E,'2015 sah unit data'!L:L,data_tracking[[#This Row],[year]],'2015 sah unit data'!K:K,data_tracking[[#This Row],[month]],'2015 sah unit data'!J:J,data_tracking[[#This Row],[week]])=0,\"\",SUMIFS('2015 sah unit data'!E:E,'2015 sah unit data'!L:L,data_tracking[[#This Row],[year]],'2015 sah unit data'!K:K,data_tracking[[#This Row],[month]],'2015 sah unit data'!J:J,data_tracking[[#This Row],[week]]))","v":""},{"$f":"IF(SUMIFS('2015 sah unit data'!F:F,'2015 sah unit data'!L:L,data_tracking[[#This Row],[year]],'2015 sah unit data'!K:K,data_tracking[[#This Row],[month]],'2015 sah unit data'!J:J,data_tracking[[#This Row],[week]])=0,\"\",SUMIFS('2015 sah unit data'!F:F,'2015 sah unit data'!L:L,data_tracking[[#This Row],[year]],'2015 sah unit data'!K:K,data_tracking[[#This Row],[month]],'2015 sah unit data'!J:J,data_tracking[[#This Row],[week]]))","v":""},{"$f":"IF(SUMIFS('2015 sah unit data'!G:G,'2015 sah unit data'!L:L,data_tracking[[#This Row],[year]],'2015 sah unit data'!K:K,data_tracking[[#This Row],[month]],'2015 sah unit data'!J:J,data_tracking[[#This Row],[week]])=0,\"\",SUMIFS('2015 sah unit data'!G:G,'2015 sah unit data'!L:L,data_tracking[[#This Row],[year]],'2015 sah unit data'!K:K,data_tracking[[#This Row],[month]],'2015 sah unit data'!J:J,data_tracking[[#This Row],[week]]))","v":""},null,{"$f":"SUMIFS('overhead costs data'!E:E,'overhead costs data'!C:C,data_tracking[[#This Row],[year]],'overhead costs data'!B:B,data_tracking[[#This Row],[month]])","v":70000}]
[50,12,2016,39.77028,21.823559999999997,{"$f":"IFERROR((data_tracking[[#This Row],[overhead]]+SUMIFS('labor costs data'!H:H,'labor costs data'!D:D,data_tracking[[#This Row],[year]],'labor costs data'!A:A,data_tracking[[#This Row],[week]]))/data_tracking[[#This Row],[SAH Completed (Total)]],\"\")","v":""},{"$f":"IFERROR(SUMIFS('labor costs data'!E:E,'labor costs data'!D:D,data_tracking[[#This Row],[year]],'labor costs data'!A:A,data_tracking[[#This Row],[week]])/data_tracking[[#This Row],[SAH Completed (Total)]],\"\")","v":""},{"$f":"IFERROR((data_tracking[[#This Row],[overhead]]+SUMIFS(labor_costs[total labor cost],labor_costs[year],data_tracking[[#This Row],[year]],labor_costs[week],data_tracking[[#This Row],[week]]))/data_tracking[[#This Row],[Units Completed (Total)]],\"\")","v":""},{"$f":"IF(SUM(data_tracking[[#This Row],[111-FILSN1 SAH]],data_tracking[[#This Row],[112-FILSN2 SAH]],data_tracking[[#This Row],[113-FILSN3 SAH]])=0,\"\",SUM(data_tracking[[#This Row],[111-FILSN1 SAH]],data_tracking[[#This Row],[112-FILSN2 SAH]],data_tracking[[#This Row],[113-FILSN3 SAH]]))","v":""},{"$f":"IF(SUM(data_tracking[[#This Row],[111-FILSN1 Units]],data_tracking[[#This Row],[112-FILSN2 Units]],data_tracking[[#This Row],[113-FILSN3 Units]])=0,\"\",SUM(data_tracking[[#This Row],[111-FILSN1 Units]],data_tracking[[#This Row],[112-FILSN2 Units]],data_tracking[[#This Row],[113-FILSN3 Units]]))","v":""},{"$f":"IF(SUMIFS('2015 sah unit data'!B:B,'2015 sah unit data'!L:L,data_tracking[[#This Row],[year]],'2015 sah unit data'!K:K,data_tracking[[#This Row],[month]],'2015 sah unit data'!J:J,data_tracking[[#This Row],[week]])=0,\"\",SUMIFS('2015 sah unit data'!B:B,'2015 sah unit data'!L:L,data_tracking[[#This Row],[year]],'2015 sah unit data'!K:K,data_tracking[[#This Row],[month]],'2015 sah unit data'!J:J,data_tracking[[#This Row],[week]]))","v":""},{"$f":"IF(SUMIFS('2015 sah unit data'!C:C,'2015 sah unit data'!L:L,data_tracking[[#This Row],[year]],'2015 sah unit data'!K:K,data_tracking[[#This Row],[month]],'2015 sah unit data'!J:J,data_tracking[[#This Row],[week]])=0,\"\",SUMIFS('2015 sah unit data'!C:C,'2015 sah unit data'!L:L,data_tracking[[#This Row],[year]],'2015 sah unit data'!K:K,data_tracking[[#This Row],[month]],'2015 sah unit data'!J:J,data_tracking[[#This Row],[week]]))","v":""},{"$f":"IF(SUMIFS('2015 sah unit data'!D:D,'2015 sah unit data'!L:L,data_tracking[[#This Row],[year]],'2015 sah unit data'!K:K,data_tracking[[#This Row],[month]],'2015 sah unit data'!J:J,data_tracking[[#This Row],[week]])=0,\"\",SUMIFS('2015 sah unit data'!D:D,'2015 sah unit data'!L:L,data_tracking[[#This Row],[year]],'2015 sah unit data'!K:K,data_tracking[[#This Row],[month]],'2015 sah unit data'!J:J,data_tracking[[#This Row],[week]]))","v":""},{"$f":"IF(SUMIFS('2015 sah unit data'!E:E,'2015 sah unit data'!L:L,data_tracking[[#This Row],[year]],'2015 sah unit data'!K:K,data_tracking[[#This Row],[month]],'2015 sah unit data'!J:J,data_tracking[[#This Row],[week]])=0,\"\",SUMIFS('2015 sah unit data'!E:E,'2015 sah unit data'!L:L,data_tracking[[#This Row],[year]],'2015 sah unit data'!K:K,data_tracking[[#This Row],[month]],'2015 sah unit data'!J:J,data_tracking[[#This Row],[week]]))","v":""},{"$f":"IF(SUMIFS('2015 sah unit data'!F:F,'2015 sah unit data'!L:L,data_tracking[[#This Row],[year]],'2015 sah unit data'!K:K,data_tracking[[#This Row],[month]],'2015 sah unit data'!J:J,data_tracking[[#This Row],[week]])=0,\"\",SUMIFS('2015 sah unit data'!F:F,'2015 sah unit data'!L:L,data_tracking[[#This Row],[year]],'2015 sah unit data'!K:K,data_tracking[[#This Row],[month]],'2015 sah unit data'!J:J,data_tracking[[#This Row],[week]]))","v":""},{"$f":"IF(SUMIFS('2015 sah unit data'!G:G,'2015 sah unit data'!L:L,data_tracking[[#This Row],[year]],'2015 sah unit data'!K:K,data_tracking[[#This Row],[month]],'2015 sah unit data'!J:J,data_tracking[[#This Row],[week]])=0,\"\",SUMIFS('2015 sah unit data'!G:G,'2015 sah unit data'!L:L,data_tracking[[#This Row],[year]],'2015 sah unit data'!K:K,data_tracking[[#This Row],[month]],'2015 sah unit data'!J:J,data_tracking[[#This Row],[week]]))","v":""},null,{"$f":"SUMIFS('overhead costs data'!E:E,'overhead costs data'!C:C,data_tracking[[#This Row],[year]],'overhead costs data'!B:B,data_tracking[[#This Row],[month]])","v":56000}]
[51,12,2016,39.77028,21.823559999999997,{"$f":"IFERROR((data_tracking[[#This Row],[overhead]]+SUMIFS('labor costs data'!H:H,'labor costs data'!D:D,data_tracking[[#This Row],[year]],'labor costs data'!A:A,data_tracking[[#This Row],[week]]))/data_tracking[[#This Row],[SAH Completed (Total)]],\"\")","v":""},{"$f":"IFERROR(SUMIFS('labor costs data'!E:E,'labor costs data'!D:D,data_tracking[[#This Row],[year]],'labor costs data'!A:A,data_tracking[[#This Row],[week]])/data_tracking[[#This Row],[SAH Completed (Total)]],\"\")","v":""},{"$f":"IFERROR((data_tracking[[#This Row],[overhead]]+SUMIFS(labor_costs[total labor cost],labor_costs[year],data_tracking[[#This Row],[year]],labor_costs[week],data_tracking[[#This Row],[week]]))/data_tracking[[#This Row],[Units Completed (Total)]],\"\")","v":""},{"$f":"IF(SUM(data_tracking[[#This Row],[111-FILSN1 SAH]],data_tracking[[#This Row],[112-FILSN2 SAH]],data_tracking[[#This Row],[113-FILSN3 SAH]])=0,\"\",SUM(data_tracking[[#This Row],[111-FILSN1 SAH]],data_tracking[[#This Row],[112-FILSN2 SAH]],data_tracking[[#This Row],[113-FILSN3 SAH]]))","v":""},{"$f":"IF(SUM(data_tracking[[#This Row],[111-FILSN1 Units]],data_tracking[[#This Row],[112-FILSN2 Units]],data_tracking[[#This Row],[113-FILSN3 Units]])=0,\"\",SUM(data_tracking[[#This Row],[111-FILSN1 Units]],data_tracking[[#This Row],[112-FILSN2 Units]],data_tracking[[#This Row],[113-FILSN3 Units]]))","v":""},{"$f":"IF(SUMIFS('2015 sah unit data'!B:B,'2015 sah unit data'!L:L,data_tracking[[#This Row],[year]],'2015 sah unit data'!K:K,data_tracking[[#This Row],[month]],'2015 sah unit data'!J:J,data_tracking[[#This Row],[week]])=0,\"\",SUMIFS('2015 sah unit data'!B:B,'2015 sah unit data'!L:L,data_tracking[[#This Row],[year]],'2015 sah unit data'!K:K,data_tracking[[#This Row],[month]],'2015 sah unit data'!J:J,data_tracking[[#This Row],[week]]))","v":""},{"$f":"IF(SUMIFS('2015 sah unit data'!C:C,'2015 sah unit data'!L:L,data_tracking[[#This Row],[year]],'2015 sah unit data'!K:K,data_tracking[[#This Row],[month]],'2015 sah unit data'!J:J,data_tracking[[#This Row],[week]])=0,\"\",SUMIFS('2015 sah unit data'!C:C,'2015 sah unit data'!L:L,data_tracking[[#This Row],[year]],'2015 sah unit data'!K:K,data_tracking[[#This Row],[month]],'2015 sah unit data'!J:J,data_tracking[[#This Row],[week]]))","v":""},{"$f":"IF(SUMIFS('2015 sah unit data'!D:D,'2015 sah unit data'!L:L,data_tracking[[#This Row],[year]],'2015 sah unit data'!K:K,data_tracking[[#This Row],[month]],'2015 sah unit data'!J:J,data_tracking[[#This Row],[week]])=0,\"\",SUMIFS('2015 sah unit data'!D:D,'2015 sah unit data'!L:L,data_tracking[[#This Row],[year]],'2015 sah unit data'!K:K,data_tracking[[#This Row],[month]],'2015 sah unit data'!J:J,data_tracking[[#This Row],[week]]))","v":""},{"$f":"IF(SUMIFS('2015 sah unit data'!E:E,'2015 sah unit data'!L:L,data_tracking[[#This Row],[year]],'2015 sah unit data'!K:K,data_tracking[[#This Row],[month]],'2015 sah unit data'!J:J,data_tracking[[#This Row],[week]])=0,\"\",SUMIFS('2015 sah unit data'!E:E,'2015 sah unit data'!L:L,data_tracking[[#This Row],[year]],'2015 sah unit data'!K:K,data_tracking[[#This Row],[month]],'2015 sah unit data'!J:J,data_tracking[[#This Row],[week]]))","v":""},{"$f":"IF(SUMIFS('2015 sah unit data'!F:F,'2015 sah unit data'!L:L,data_tracking[[#This Row],[year]],'2015 sah unit data'!K:K,data_tracking[[#This Row],[month]],'2015 sah unit data'!J:J,data_tracking[[#This Row],[week]])=0,\"\",SUMIFS('2015 sah unit data'!F:F,'2015 sah unit data'!L:L,data_tracking[[#This Row],[year]],'2015 sah unit data'!K:K,data_tracking[[#This Row],[month]],'2015 sah unit data'!J:J,data_tracking[[#This Row],[week]]))","v":""},{"$f":"IF(SUMIFS('2015 sah unit data'!G:G,'2015 sah unit data'!L:L,data_tracking[[#This Row],[year]],'2015 sah unit data'!K:K,data_tracking[[#This Row],[month]],'2015 sah unit data'!J:J,data_tracking[[#This Row],[week]])=0,\"\",SUMIFS('2015 sah unit data'!G:G,'2015 sah unit data'!L:L,data_tracking[[#This Row],[year]],'2015 sah unit data'!K:K,data_tracking[[#This Row],[month]],'2015 sah unit data'!J:J,data_tracking[[#This Row],[week]]))","v":""},null,{"$f":"SUMIFS('overhead costs data'!E:E,'overhead costs data'!C:C,data_tracking[[#This Row],[year]],'overhead costs data'!B:B,data_tracking[[#This Row],[month]])","v":56000}]
[52,12,2016,39.77028,21.823559999999997,{"$f":"IFERROR((data_tracking[[#This Row],[overhead]]+SUMIFS('labor costs data'!H:H,'labor costs data'!D:D,data_tracking[[#This Row],[year]],'labor costs data'!A:A,data_tracking[[#This Row],[week]]))/data_tracking[[#This Row],[SAH Completed (Total)]],\"\")","v":""},{"$f":"IFERROR(SUMIFS('labor costs data'!E:E,'labor costs data'!D:D,data_tracking[[#This Row],[year]],'labor costs data'!A:A,data_tracking[[#This Row],[week]])/data_tracking[[#This Row],[SAH Completed (Total)]],\"\")","v":""},{"$f":"IFERROR((data_tracking[[#This Row],[overhead]]+SUMIFS(labor_costs[total labor cost],labor_costs[year],data_tracking[[#This Row],[year]],labor_costs[week],data_tracking[[#This Row],[week]]))/data_tracking[[#This Row],[Units Completed (Total)]],\"\")","v":""},{"$f":"IF(SUM(data_tracking[[#This Row],[111-FILSN1 SAH]],data_tracking[[#This Row],[112-FILSN2 SAH]],data_tracking[[#This Row],[113-FILSN3 SAH]])=0,\"\",SUM(data_tracking[[#This Row],[111-FILSN1 SAH]],data_tracking[[#This Row],[112-FILSN2 SAH]],data_tracking[[#This Row],[113-FILSN3 SAH]]))","v":""},{"$f":"IF(SUM(data_tracking[[#This Row],[111-FILSN1 Units]],data_tracking[[#This Row],[112-FILSN2 Units]],data_tracking[[#This Row],[113-FILSN3 Units]])=0,\"\",SUM(data_tracking[[#This Row],[111-FILSN1 Units]],data_tracking[[#This Row],[112-FILSN2 Units]],data_tracking[[#This Row],[113-FILSN3 Units]]))","v":""},{"$f":"IF(SUMIFS('2015 sah unit data'!B:B,'2015 sah unit data'!L:L,data_tracking[[#This Row],[year]],'2015 sah unit data'!K:K,data_tracking[[#This Row],[month]],'2015 sah unit data'!J:J,data_tracking[[#This Row],[week]])=0,\"\",SUMIFS('2015 sah unit data'!B:B,'2015 sah unit data'!L:L,data_tracking[[#This Row],[year]],'2015 sah unit data'!K:K,data_tracking[[#This Row],[month]],'2015 sah unit data'!J:J,data_tracking[[#This Row],[week]]))","v":""},{"$f":"IF(SUMIFS('2015 sah unit data'!C:C,'2015 sah unit data'!L:L,data_tracking[[#This Row],[year]],'2015 sah unit data'!K:K,data_tracking[[#This Row],[month]],'2015 sah unit data'!J:J,data_tracking[[#This Row],[week]])=0,\"\",SUMIFS('2015 sah unit data'!C:C,'2015 sah unit data'!L:L,data_tracking[[#This Row],[year]],'2015 sah unit data'!K:K,data_tracking[[#This Row],[month]],'2015 sah unit data'!J:J,data_tracking[[#This Row],[week]]))","v":""},{"$f":"IF(SUMIFS('2015 sah unit data'!D:D,'2015 sah unit data'!L:L,data_tracking[[#This Row],[year]],'2015 sah unit data'!K:K,data_tracking[[#This Row],[month]],'2015 sah unit data'!J:J,data_tracking[[#This Row],[week]])=0,\"\",SUMIFS('2015 sah unit data'!D:D,'2015 sah unit data'!L:L,data_tracking[[#This Row],[year]],'2015 sah unit data'!K:K,data_tracking[[#This Row],[month]],'2015 sah unit data'!J:J,data_tracking[[#This Row],[week]]))","v":""},{"$f":"IF(SUMIFS('2015 sah unit data'!E:E,'2015 sah unit data'!L:L,data_tracking[[#This Row],[year]],'2015 sah unit data'!K:K,data_tracking[[#This Row],[month]],'2015 sah unit data'!J:J,data_tracking[[#This Row],[week]])=0,\"\",SUMIFS('2015 sah unit data'!E:E,'2015 sah unit data'!L:L,data_tracking[[#This Row],[year]],'2015 sah unit data'!K:K,data_tracking[[#This Row],[month]],'2015 sah unit data'!J:J,data_tracking[[#This Row],[week]]))","v":""},{"$f":"IF(SUMIFS('2015 sah unit data'!F:F,'2015 sah unit data'!L:L,data_tracking[[#This Row],[year]],'2015 sah unit data'!K:K,data_tracking[[#This Row],[month]],'2015 sah unit data'!J:J,data_tracking[[#This Row],[week]])=0,\"\",SUMIFS('2015 sah unit data'!F:F,'2015 sah unit data'!L:L,data_tracking[[#This Row],[year]],'2015 sah unit data'!K:K,data_tracking[[#This Row],[month]],'2015 sah unit data'!J:J,data_tracking[[#This Row],[week]]))","v":""},{"$f":"IF(SUMIFS('2015 sah unit data'!G:G,'2015 sah unit data'!L:L,data_tracking[[#This Row],[year]],'2015 sah unit data'!K:K,data_tracking[[#This Row],[month]],'2015 sah unit data'!J:J,data_tracking[[#This Row],[week]])=0,\"\",SUMIFS('2015 sah unit data'!G:G,'2015 sah unit data'!L:L,data_tracking[[#This Row],[year]],'2015 sah unit data'!K:K,data_tracking[[#This Row],[month]],'2015 sah unit data'!J:J,data_tracking[[#This Row],[week]]))","v":""},null,{"$f":"SUMIFS('overhead costs data'!E:E,'overhead costs data'!C:C,data_tracking[[#This Row],[year]],'overhead costs data'!B:B,data_tracking[[#This Row],[month]])","v":56000}]
[1,1,2017,{"$f":"D106*1.089","v":43.30983492},{"$f":"E106*1.089","v":23.765856839999994},{"$f":"IFERROR((data_tracking[[#This Row],[overhead]]+SUMIFS('labor costs data'!H:H,'labor costs data'!D:D,data_tracking[[#This Row],[year]],'labor costs data'!A:A,data_tracking[[#This Row],[week]]))/data_tracking[[#This Row],[SAH Completed (Total)]],\"\")","v":""},{"$f":"IFERROR(SUMIFS('labor costs data'!E:E,'labor costs data'!D:D,data_tracking[[#This Row],[year]],'labor costs data'!A:A,data_tracking[[#This Row],[week]])/data_tracking[[#This Row],[SAH Completed (Total)]],\"\")","v":""},{"$f":"IFERROR((data_tracking[[#This Row],[overhead]]+SUMIFS(labor_costs[total labor cost],labor_costs[year],data_tracking[[#This Row],[year]],labor_costs[week],data_tracking[[#This Row],[week]]))/data_tracking[[#This Row],[Units Completed (Total)]],\"\")","v":""},{"$f":"IF(SUM(data_tracking[[#This Row],[111-FILSN1 SAH]],data_tracking[[#This Row],[112-FILSN2 SAH]],data_tracking[[#This Row],[113-FILSN3 SAH]])=0,\"\",SUM(data_tracking[[#This Row],[111-FILSN1 SAH]],data_tracking[[#This Row],[112-FILSN2 SAH]],data_tracking[[#This Row],[113-FILSN3 SAH]]))","v":""},{"$f":"IF(SUM(data_tracking[[#This Row],[111-FILSN1 Units]],data_tracking[[#This Row],[112-FILSN2 Units]],data_tracking[[#This Row],[113-FILSN3 Units]])=0,\"\",SUM(data_tracking[[#This Row],[111-FILSN1 Units]],data_tracking[[#This Row],[112-FILSN2 Units]],data_tracking[[#This Row],[113-FILSN3 Units]]))","v":""},{"$f":"IF(SUMIFS('2015 sah unit data'!B:B,'2015 sah unit data'!L:L,data_tracking[[#This Row],[year]],'2015 sah unit data'!K:K,data_tracking[[#This Row],[month]],'2015 sah unit data'!J:J,data_tracking[[#This Row],[week]])=0,\"\",SUMIFS('2015 sah unit data'!B:B,'2015 sah unit data'!L:L,data_tracking[[#This Row],[year]],'2015 sah unit data'!K:K,data_tracking[[#This Row],[month]],'2015 sah unit data'!J:J,data_tracking[[#This Row],[week]]))","v":""},{"$f":"IF(SUMIFS('2015 sah unit data'!C:C,'2015 sah unit data'!L:L,data_tracking[[#This Row],[year]],'2015 sah unit data'!K:K,data_tracking[[#This Row],[month]],'2015 sah unit data'!J:J,data_tracking[[#This Row],[week]])=0,\"\",SUMIFS('2015 sah unit data'!C:C,'2015 sah unit data'!L:L,data_tracking[[#This Row],[year]],'2015 sah unit data'!K:K,data_tracking[[#This Row],[month]],'2015 sah unit data'!J:J,data_tracking[[#This Row],[week]]))","v":""},{"$f":"IF(SUMIFS('2015 sah unit data'!D:D,'2015 sah unit data'!L:L,data_tracking[[#This Row],[year]],'2015 sah unit data'!K:K,data_tracking[[#This Row],[month]],'2015 sah unit data'!J:J,data_tracking[[#This Row],[week]])=0,\"\",SUMIFS('2015 sah unit data'!D:D,'2015 sah unit data'!L:L,data_tracking[[#This Row],[year]],'2015 sah unit data'!K:K,data_tracking[[#This Row],[month]],'2015 sah unit data'!J:J,data_tracking[[#This Row],[week]]))","v":""},{"$f":"IF(SUMIFS('2015 sah unit data'!E:E,'2015 sah unit data'!L:L,data_tracking[[#This Row],[year]],'2015 sah unit data'!K:K,data_tracking[[#This Row],[month]],'2015 sah unit data'!J:J,data_tracking[[#This Row],[week]])=0,\"\",SUMIFS('2015 sah unit data'!E:E,'2015 sah unit data'!L:L,data_tracking[[#This Row],[year]],'2015 sah unit data'!K:K,data_tracking[[#This Row],[month]],'2015 sah unit data'!J:J,data_tracking[[#This Row],[week]]))","v":""},{"$f":"IF(SUMIFS('2015 sah unit data'!F:F,'2015 sah unit data'!L:L,data_tracking[[#This Row],[year]],'2015 sah unit data'!K:K,data_tracking[[#This Row],[month]],'2015 sah unit data'!J:J,data_tracking[[#This Row],[week]])=0,\"\",SUMIFS('2015 sah unit data'!F:F,'2015 sah unit data'!L:L,data_tracking[[#This Row],[year]],'2015 sah unit data'!K:K,data_tracking[[#This Row],[month]],'2015 sah unit data'!J:J,data_tracking[[#This Row],[week]]))","v":""},{"$f":"IF(SUMIFS('2015 sah unit data'!G:G,'2015 sah unit data'!L:L,data_tracking[[#This Row],[year]],'2015 sah unit data'!K:K,data_tracking[[#This Row],[month]],'2015 sah unit data'!J:J,data_tracking[[#This Row],[week]])=0,\"\",SUMIFS('2015 sah unit data'!G:G,'2015 sah unit data'!L:L,data_tracking[[#This Row],[year]],'2015 sah unit data'!K:K,data_tracking[[#This Row],[month]],'2015 sah unit data'!J:J,data_tracking[[#This Row],[week]]))","v":""},null,{"$f":"SUMIFS('overhead costs data'!E:E,'overhead costs data'!C:C,data_tracking[[#This Row],[year]],'overhead costs data'!B:B,data_tracking[[#This Row],[month]])","v":0}]
[2,1,2017,43.30983492,23.765856839999994,{"$f":"IFERROR((data_tracking[[#This Row],[overhead]]+SUMIFS('labor costs data'!H:H,'labor costs data'!D:D,data_tracking[[#This Row],[year]],'labor costs data'!A:A,data_tracking[[#This Row],[week]]))/data_tracking[[#This Row],[SAH Completed (Total)]],\"\")","v":""},{"$f":"IFERROR(SUMIFS('labor costs data'!E:E,'labor costs data'!D:D,data_tracking[[#This Row],[year]],'labor costs data'!A:A,data_tracking[[#This Row],[week]])/data_tracking[[#This Row],[SAH Completed (Total)]],\"\")","v":""},{"$f":"IFERROR((data_tracking[[#This Row],[overhead]]+SUMIFS(labor_costs[total labor cost],labor_costs[year],data_tracking[[#This Row],[year]],labor_costs[week],data_tracking[[#This Row],[week]]))/data_tracking[[#This Row],[Units Completed (Total)]],\"\")","v":""},{"$f":"IF(SUM(data_tracking[[#This Row],[111-FILSN1 SAH]],data_tracking[[#This Row],[112-FILSN2 SAH]],data_tracking[[#This Row],[113-FILSN3 SAH]])=0,\"\",SUM(data_tracking[[#This Row],[111-FILSN1 SAH]],data_tracking[[#This Row],[112-FILSN2 SAH]],data_tracking[[#This Row],[113-FILSN3 SAH]]))","v":""},{"$f":"IF(SUM(data_tracking[[#This Row],[111-FILSN1 Units]],data_tracking[[#This Row],[112-FILSN2 Units]],data_tracking[[#This Row],[113-FILSN3 Units]])=0,\"\",SUM(data_tracking[[#This Row],[111-FILSN1 Units]],data_tracking[[#This Row],[112-FILSN2 Units]],data_tracking[[#This Row],[113-FILSN3 Units]]))","v":""},{"$f":"IF(SUMIFS('2015 sah unit data'!B:B,'2015 sah unit data'!L:L,data_tracking[[#This Row],[year]],'2015 sah unit data'!K:K,data_tracking[[#This Row],[month]],'2015 sah unit data'!J:J,data_tracking[[#This Row],[week]])=0,\"\",SUMIFS('2015 sah unit data'!B:B,'2015 sah unit data'!L:L,data_tracking[[#This Row],[year]],'2015 sah unit data'!K:K,data_tracking[[#This Row],[month]],'2015 sah unit data'!J:J,data_tracking[[#This Row],[week]]))","v":""},{"$f":"IF(SUMIFS('2015 sah unit data'!C:C,'2015 sah unit data'!L:L,data_tracking[[#This Row],[year]],'2015 sah unit data'!K:K,data_tracking[[#This Row],[month]],'2015 sah unit data'!J:J,data_tracking[[#This Row],[week]])=0,\"\",SUMIFS('2015 sah unit data'!C:C,'2015 sah unit data'!L:L,data_tracking[[#This Row],[year]],'2015 sah unit data'!K:K,data_tracking[[#This Row],[month]],'2015 sah unit data'!J:J,data_tracking[[#This Row],[week]]))","v":""},{"$f":"IF(SUMIFS('2015 sah unit data'!D:D,'2015 sah unit data'!L:L,data_tracking[[#This Row],[year]],'2015 sah unit data'!K:K,data_tracking[[#This Row],[month]],'2015 sah unit data'!J:J,data_tracking[[#This Row],[week]])=0,\"\",SUMIFS('2015 sah unit data'!D:D,'2015 sah unit data'!L:L,data_tracking[[#This Row],[year]],'2015 sah unit data'!K:K,data_tracking[[#This Row],[month]],'2015 sah unit data'!J:J,data_tracking[[#This Row],[week]]))","v":""},{"$f":"IF(SUMIFS('2015 sah unit data'!E:E,'2015 sah unit data'!L:L,data_tracking[[#This Row],[year]],'2015 sah unit data'!K:K,data_tracking[[#This Row],[month]],'2015 sah unit data'!J:J,data_tracking[[#This Row],[week]])=0,\"\",SUMIFS('2015 sah unit data'!E:E,'2015 sah unit data'!L:L,data_tracking[[#This Row],[year]],'2015 sah unit data'!K:K,data_tracking[[#This Row],[month]],'2015 sah unit data'!J:J,data_tracking[[#This Row],[week]]))","v":""},{"$f":"IF(SUMIFS('2015 sah unit data'!F:F,'2015 sah unit data'!L:L,data_tracking[[#This Row],[year]],'2015 sah unit data'!K:K,data_tracking[[#This Row],[month]],'2015 sah unit data'!J:J,data_tracking[[#This Row],[week]])=0,\"\",SUMIFS('2015 sah unit data'!F:F,'2015 sah unit data'!L:L,data_tracking[[#This Row],[year]],'2015 sah unit data'!K:K,data_tracking[[#This Row],[month]],'2015 sah unit data'!J:J,data_tracking[[#This Row],[week]]))","v":""},{"$f":"IF(SUMIFS('2015 sah unit data'!G:G,'2015 sah unit data'!L:L,data_tracking[[#This Row],[year]],'2015 sah unit data'!K:K,data_tracking[[#This Row],[month]],'2015 sah unit data'!J:J,data_tracking[[#This Row],[week]])=0,\"\",SUMIFS('2015 sah unit data'!G:G,'2015 sah unit data'!L:L,data_tracking[[#This Row],[year]],'2015 sah unit data'!K:K,data_tracking[[#This Row],[month]],'2015 sah unit data'!J:J,data_tracking[[#This Row],[week]]))","v":""},null,{"$f":"SUMIFS('overhead costs data'!E:E,'overhead costs data'!C:C,data_tracking[[#This Row],[year]],'overhead costs data'!B:B,data_tracking[[#This Row],[month]])","v":0}]
[3,1,2017,43.30983492,23.765856839999994,{"$f":"IFERROR((data_tracking[[#This Row],[overhead]]+SUMIFS('labor costs data'!H:H,'labor costs data'!D:D,data_tracking[[#This Row],[year]],'labor costs data'!A:A,data_tracking[[#This Row],[week]]))/data_tracking[[#This Row],[SAH Completed (Total)]],\"\")","v":""},{"$f":"IFERROR(SUMIFS('labor costs data'!E:E,'labor costs data'!D:D,data_tracking[[#This Row],[year]],'labor costs data'!A:A,data_tracking[[#This Row],[week]])/data_tracking[[#This Row],[SAH Completed (Total)]],\"\")","v":""},{"$f":"IFERROR((data_tracking[[#This Row],[overhead]]+SUMIFS(labor_costs[total labor cost],labor_costs[year],data_tracking[[#This Row],[year]],labor_costs[week],data_tracking[[#This Row],[week]]))/data_tracking[[#This Row],[Units Completed (Total)]],\"\")","v":""},{"$f":"IF(SUM(data_tracking[[#This Row],[111-FILSN1 SAH]],data_tracking[[#This Row],[112-FILSN2 SAH]],data_tracking[[#This Row],[113-FILSN3 SAH]])=0,\"\",SUM(data_tracking[[#This Row],[111-FILSN1 SAH]],data_tracking[[#This Row],[112-FILSN2 SAH]],data_tracking[[#This Row],[113-FILSN3 SAH]]))","v":""},{"$f":"IF(SUM(data_tracking[[#This Row],[111-FILSN1 Units]],data_tracking[[#This Row],[112-FILSN2 Units]],data_tracking[[#This Row],[113-FILSN3 Units]])=0,\"\",SUM(data_tracking[[#This Row],[111-FILSN1 Units]],data_tracking[[#This Row],[112-FILSN2 Units]],data_tracking[[#This Row],[113-FILSN3 Units]]))","v":""},{"$f":"IF(SUMIFS('2015 sah unit data'!B:B,'2015 sah unit data'!L:L,data_tracking[[#This Row],[year]],'2015 sah unit data'!K:K,data_tracking[[#This Row],[month]],'2015 sah unit data'!J:J,data_tracking[[#This Row],[week]])=0,\"\",SUMIFS('2015 sah unit data'!B:B,'2015 sah unit data'!L:L,data_tracking[[#This Row],[year]],'2015 sah unit data'!K:K,data_tracking[[#This Row],[month]],'2015 sah unit data'!J:J,data_tracking[[#This Row],[week]]))","v":""},{"$f":"IF(SUMIFS('2015 sah unit data'!C:C,'2015 sah unit data'!L:L,data_tracking[[#This Row],[year]],'2015 sah unit data'!K:K,data_tracking[[#This Row],[month]],'2015 sah unit data'!J:J,data_tracking[[#This Row],[week]])=0,\"\",SUMIFS('2015 sah unit data'!C:C,'2015 sah unit data'!L:L,data_tracking[[#This Row],[year]],'2015 sah unit data'!K:K,data_tracking[[#This Row],[month]],'2015 sah unit data'!J:J,data_tracking[[#This Row],[week]]))","v":""},{"$f":"IF(SUMIFS('2015 sah unit data'!D:D,'2015 sah unit data'!L:L,data_tracking[[#This Row],[year]],'2015 sah unit data'!K:K,data_tracking[[#This Row],[month]],'2015 sah unit data'!J:J,data_tracking[[#This Row],[week]])=0,\"\",SUMIFS('2015 sah unit data'!D:D,'2015 sah unit data'!L:L,data_tracking[[#This Row],[year]],'2015 sah unit data'!K:K,data_tracking[[#This Row],[month]],'2015 sah unit data'!J:J,data_tracking[[#This Row],[week]]))","v":""},{"$f":"IF(SUMIFS('2015 sah unit data'!E:E,'2015 sah unit data'!L:L,data_tracking[[#This Row],[year]],'2015 sah unit data'!K:K,data_tracking[[#This Row],[month]],'2015 sah unit data'!J:J,data_tracking[[#This Row],[week]])=0,\"\",SUMIFS('2015 sah unit data'!E:E,'2015 sah unit data'!L:L,data_tracking[[#This Row],[year]],'2015 sah unit data'!K:K,data_tracking[[#This Row],[month]],'2015 sah unit data'!J:J,data_tracking[[#This Row],[week]]))","v":""},{"$f":"IF(SUMIFS('2015 sah unit data'!F:F,'2015 sah unit data'!L:L,data_tracking[[#This Row],[year]],'2015 sah unit data'!K:K,data_tracking[[#This Row],[month]],'2015 sah unit data'!J:J,data_tracking[[#This Row],[week]])=0,\"\",SUMIFS('2015 sah unit data'!F:F,'2015 sah unit data'!L:L,data_tracking[[#This Row],[year]],'2015 sah unit data'!K:K,data_tracking[[#This Row],[month]],'2015 sah unit data'!J:J,data_tracking[[#This Row],[week]]))","v":""},{"$f":"IF(SUMIFS('2015 sah unit data'!G:G,'2015 sah unit data'!L:L,data_tracking[[#This Row],[year]],'2015 sah unit data'!K:K,data_tracking[[#This Row],[month]],'2015 sah unit data'!J:J,data_tracking[[#This Row],[week]])=0,\"\",SUMIFS('2015 sah unit data'!G:G,'2015 sah unit data'!L:L,data_tracking[[#This Row],[year]],'2015 sah unit data'!K:K,data_tracking[[#This Row],[month]],'2015 sah unit data'!J:J,data_tracking[[#This Row],[week]]))","v":""},null,{"$f":"SUMIFS('overhead costs data'!E:E,'overhead costs data'!C:C,data_tracking[[#This Row],[year]],'overhead costs data'!B:B,data_tracking[[#This Row],[month]])","v":0}]
[4,1,2017,43.30983492,23.765856839999994,{"$f":"IFERROR((data_tracking[[#This Row],[overhead]]+SUMIFS('labor costs data'!H:H,'labor costs data'!D:D,data_tracking[[#This Row],[year]],'labor costs data'!A:A,data_tracking[[#This Row],[week]]))/data_tracking[[#This Row],[SAH Completed (Total)]],\"\")","v":""},{"$f":"IFERROR(SUMIFS('labor costs data'!E:E,'labor costs data'!D:D,data_tracking[[#This Row],[year]],'labor costs data'!A:A,data_tracking[[#This Row],[week]])/data_tracking[[#This Row],[SAH Completed (Total)]],\"\")","v":""},{"$f":"IFERROR((data_tracking[[#This Row],[overhead]]+SUMIFS(labor_costs[total labor cost],labor_costs[year],data_tracking[[#This Row],[year]],labor_costs[week],data_tracking[[#This Row],[week]]))/data_tracking[[#This Row],[Units Completed (Total)]],\"\")","v":""},{"$f":"IF(SUM(data_tracking[[#This Row],[111-FILSN1 SAH]],data_tracking[[#This Row],[112-FILSN2 SAH]],data_tracking[[#This Row],[113-FILSN3 SAH]])=0,\"\",SUM(data_tracking[[#This Row],[111-FILSN1 SAH]],data_tracking[[#This Row],[112-FILSN2 SAH]],data_tracking[[#This Row],[113-FILSN3 SAH]]))","v":""},{"$f":"IF(SUM(data_tracking[[#This Row],[111-FILSN1 Units]],data_tracking[[#This Row],[112-FILSN2 Units]],data_tracking[[#This Row],[113-FILSN3 Units]])=0,\"\",SUM(data_tracking[[#This Row],[111-FILSN1 Units]],data_tracking[[#This Row],[112-FILSN2 Units]],data_tracking[[#This Row],[113-FILSN3 Units]]))","v":""},{"$f":"IF(SUMIFS('2015 sah unit data'!B:B,'2015 sah unit data'!L:L,data_tracking[[#This Row],[year]],'2015 sah unit data'!K:K,data_tracking[[#This Row],[month]],'2015 sah unit data'!J:J,data_tracking[[#This Row],[week]])=0,\"\",SUMIFS('2015 sah unit data'!B:B,'2015 sah unit data'!L:L,data_tracking[[#This Row],[year]],'2015 sah unit data'!K:K,data_tracking[[#This Row],[month]],'2015 sah unit data'!J:J,data_tracking[[#This Row],[week]]))","v":""},{"$f":"IF(SUMIFS('2015 sah unit data'!C:C,'2015 sah unit data'!L:L,data_tracking[[#This Row],[year]],'2015 sah unit data'!K:K,data_tracking[[#This Row],[month]],'2015 sah unit data'!J:J,data_tracking[[#This Row],[week]])=0,\"\",SUMIFS('2015 sah unit data'!C:C,'2015 sah unit data'!L:L,data_tracking[[#This Row],[year]],'2015 sah unit data'!K:K,data_tracking[[#This Row],[month]],'2015 sah unit data'!J:J,data_tracking[[#This Row],[week]]))","v":""},{"$f":"IF(SUMIFS('2015 sah unit data'!D:D,'2015 sah unit data'!L:L,data_tracking[[#This Row],[year]],'2015 sah unit data'!K:K,data_tracking[[#This Row],[month]],'2015 sah unit data'!J:J,data_tracking[[#This Row],[week]])=0,\"\",SUMIFS('2015 sah unit data'!D:D,'2015 sah unit data'!L:L,data_tracking[[#This Row],[year]],'2015 sah unit data'!K:K,data_tracking[[#This Row],[month]],'2015 sah unit data'!J:J,data_tracking[[#This Row],[week]]))","v":""},{"$f":"IF(SUMIFS('2015 sah unit data'!E:E,'2015 sah unit data'!L:L,data_tracking[[#This Row],[year]],'2015 sah unit data'!K:K,data_tracking[[#This Row],[month]],'2015 sah unit data'!J:J,data_tracking[[#This Row],[week]])=0,\"\",SUMIFS('2015 sah unit data'!E:E,'2015 sah unit data'!L:L,data_tracking[[#This Row],[year]],'2015 sah unit data'!K:K,data_tracking[[#This Row],[month]],'2015 sah unit data'!J:J,data_tracking[[#This Row],[week]]))","v":""},{"$f":"IF(SUMIFS('2015 sah unit data'!F:F,'2015 sah unit data'!L:L,data_tracking[[#This Row],[year]],'2015 sah unit data'!K:K,data_tracking[[#This Row],[month]],'2015 sah unit data'!J:J,data_tracking[[#This Row],[week]])=0,\"\",SUMIFS('2015 sah unit data'!F:F,'2015 sah unit data'!L:L,data_tracking[[#This Row],[year]],'2015 sah unit data'!K:K,data_tracking[[#This Row],[month]],'2015 sah unit data'!J:J,data_tracking[[#This Row],[week]]))","v":""},{"$f":"IF(SUMIFS('2015 sah unit data'!G:G,'2015 sah unit data'!L:L,data_tracking[[#This Row],[year]],'2015 sah unit data'!K:K,data_tracking[[#This Row],[month]],'2015 sah unit data'!J:J,data_tracking[[#This Row],[week]])=0,\"\",SUMIFS('2015 sah unit data'!G:G,'2015 sah unit data'!L:L,data_tracking[[#This Row],[year]],'2015 sah unit data'!K:K,data_tracking[[#This Row],[month]],'2015 sah unit data'!J:J,data_tracking[[#This Row],[week]]))","v":""},null,{"$f":"SUMIFS('overhead costs data'!E:E,'overhead costs data'!C:C,data_tracking[[#This Row],[year]],'overhead costs data'!B:B,data_tracking[[#This Row],[month]])","v":0}]
[5,1,2017,43.30983492,23.765856839999994,{"$f":"IFERROR((data_tracking[[#This Row],[overhead]]+SUMIFS('labor costs data'!H:H,'labor costs data'!D:D,data_tracking[[#This Row],[year]],'labor costs data'!A:A,data_tracking[[#This Row],[week]]))/data_tracking[[#This Row],[SAH Completed (Total)]],\"\")","v":""},{"$f":"IFERROR(SUMIFS('labor costs data'!E:E,'labor costs data'!D:D,data_tracking[[#This Row],[year]],'labor costs data'!A:A,data_tracking[[#This Row],[week]])/data_tracking[[#This Row],[SAH Completed (Total)]],\"\")","v":""},{"$f":"IFERROR((data_tracking[[#This Row],[overhead]]+SUMIFS(labor_costs[total labor cost],labor_costs[year],data_tracking[[#This Row],[year]],labor_costs[week],data_tracking[[#This Row],[week]]))/data_tracking[[#This Row],[Units Completed (Total)]],\"\")","v":""},{"$f":"IF(SUM(data_tracking[[#This Row],[111-FILSN1 SAH]],data_tracking[[#This Row],[112-FILSN2 SAH]],data_tracking[[#This Row],[113-FILSN3 SAH]])=0,\"\",SUM(data_tracking[[#This Row],[111-FILSN1 SAH]],data_tracking[[#This Row],[112-FILSN2 SAH]],data_tracking[[#This Row],[113-FILSN3 SAH]]))","v":""},{"$f":"IF(SUM(data_tracking[[#This Row],[111-FILSN1 Units]],data_tracking[[#This Row],[112-FILSN2 Units]],data_tracking[[#This Row],[113-FILSN3 Units]])=0,\"\",SUM(data_tracking[[#This Row],[111-FILSN1 Units]],data_tracking[[#This Row],[112-FILSN2 Units]],data_tracking[[#This Row],[113-FILSN3 Units]]))","v":""},{"$f":"IF(SUMIFS('2015 sah unit data'!B:B,'2015 sah unit data'!L:L,data_tracking[[#This Row],[year]],'2015 sah unit data'!K:K,data_tracking[[#This Row],[month]],'2015 sah unit data'!J:J,data_tracking[[#This Row],[week]])=0,\"\",SUMIFS('2015 sah unit data'!B:B,'2015 sah unit data'!L:L,data_tracking[[#This Row],[year]],'2015 sah unit data'!K:K,data_tracking[[#This Row],[month]],'2015 sah unit data'!J:J,data_tracking[[#This Row],[week]]))","v":""},{"$f":"IF(SUMIFS('2015 sah unit data'!C:C,'2015 sah unit data'!L:L,data_tracking[[#This Row],[year]],'2015 sah unit data'!K:K,data_tracking[[#This Row],[month]],'2015 sah unit data'!J:J,data_tracking[[#This Row],[week]])=0,\"\",SUMIFS('2015 sah unit data'!C:C,'2015 sah unit data'!L:L,data_tracking[[#This Row],[year]],'2015 sah unit data'!K:K,data_tracking[[#This Row],[month]],'2015 sah unit data'!J:J,data_tracking[[#This Row],[week]]))","v":""},{"$f":"IF(SUMIFS('2015 sah unit data'!D:D,'2015 sah unit data'!L:L,data_tracking[[#This Row],[year]],'2015 sah unit data'!K:K,data_tracking[[#This Row],[month]],'2015 sah unit data'!J:J,data_tracking[[#This Row],[week]])=0,\"\",SUMIFS('2015 sah unit data'!D:D,'2015 sah unit data'!L:L,data_tracking[[#This Row],[year]],'2015 sah unit data'!K:K,data_tracking[[#This Row],[month]],'2015 sah unit data'!J:J,data_tracking[[#This Row],[week]]))","v":""},{"$f":"IF(SUMIFS('2015 sah unit data'!E:E,'2015 sah unit data'!L:L,data_tracking[[#This Row],[year]],'2015 sah unit data'!K:K,data_tracking[[#This Row],[month]],'2015 sah unit data'!J:J,data_tracking[[#This Row],[week]])=0,\"\",SUMIFS('2015 sah unit data'!E:E,'2015 sah unit data'!L:L,data_tracking[[#This Row],[year]],'2015 sah unit data'!K:K,data_tracking[[#This Row],[month]],'2015 sah unit data'!J:J,data_tracking[[#This Row],[week]]))","v":""},{"$f":"IF(SUMIFS('2015 sah unit data'!F:F,'2015 sah unit data'!L:L,data_tracking[[#This Row],[year]],'2015 sah unit data'!K:K,data_tracking[[#This Row],[month]],'2015 sah unit data'!J:J,data_tracking[[#This Row],[week]])=0,\"\",SUMIFS('2015 sah unit data'!F:F,'2015 sah unit data'!L:L,data_tracking[[#This Row],[year]],'2015 sah unit data'!K:K,data_tracking[[#This Row],[month]],'2015 sah unit data'!J:J,data_tracking[[#This Row],[week]]))","v":""},{"$f":"IF(SUMIFS('2015 sah unit data'!G:G,'2015 sah unit data'!L:L,data_tracking[[#This Row],[year]],'2015 sah unit data'!K:K,data_tracking[[#This Row],[month]],'2015 sah unit data'!J:J,data_tracking[[#This Row],[week]])=0,\"\",SUMIFS('2015 sah unit data'!G:G,'2015 sah unit data'!L:L,data_tracking[[#This Row],[year]],'2015 sah unit data'!K:K,data_tracking[[#This Row],[month]],'2015 sah unit data'!J:J,data_tracking[[#This Row],[week]]))","v":""},null,{"$f":"SUMIFS('overhead costs data'!E:E,'overhead costs data'!C:C,data_tracking[[#This Row],[year]],'overhead costs data'!B:B,data_tracking[[#This Row],[month]])","v":0}]
[6,1,2017,43.30983492,23.765856839999994,{"$f":"IFERROR((data_tracking[[#This Row],[overhead]]+SUMIFS('labor costs data'!H:H,'labor costs data'!D:D,data_tracking[[#This Row],[year]],'labor costs data'!A:A,data_tracking[[#This Row],[week]]))/data_tracking[[#This Row],[SAH Completed (Total)]],\"\")","v":""},{"$f":"IFERROR(SUMIFS('labor costs data'!E:E,'labor costs data'!D:D,data_tracking[[#This Row],[year]],'labor costs data'!A:A,data_tracking[[#This Row],[week]])/data_tracking[[#This Row],[SAH Completed (Total)]],\"\")","v":""},{"$f":"IFERROR((data_tracking[[#This Row],[overhead]]+SUMIFS(labor_costs[total labor cost],labor_costs[year],data_tracking[[#This Row],[year]],labor_costs[week],data_tracking[[#This Row],[week]]))/data_tracking[[#This Row],[Units Completed (Total)]],\"\")","v":""},{"$f":"IF(SUM(data_tracking[[#This Row],[111-FILSN1 SAH]],data_tracking[[#This Row],[112-FILSN2 SAH]],data_tracking[[#This Row],[113-FILSN3 SAH]])=0,\"\",SUM(data_tracking[[#This Row],[111-FILSN1 SAH]],data_tracking[[#This Row],[112-FILSN2 SAH]],data_tracking[[#This Row],[113-FILSN3 SAH]]))","v":""},{"$f":"IF(SUM(data_tracking[[#This Row],[111-FILSN1 Units]],data_tracking[[#This Row],[112-FILSN2 Units]],data_tracking[[#This Row],[113-FILSN3 Units]])=0,\"\",SUM(data_tracking[[#This Row],[111-FILSN1 Units]],data_tracking[[#This Row],[112-FILSN2 Units]],data_tracking[[#This Row],[113-FILSN3 Units]]))","v":""},{"$f":"IF(SUMIFS('2015 sah unit data'!B:B,'2015 sah unit data'!L:L,data_tracking[[#This Row],[year]],'2015 sah unit data'!K:K,data_tracking[[#This Row],[month]],'2015 sah unit data'!J:J,data_tracking[[#This Row],[week]])=0,\"\",SUMIFS('2015 sah unit data'!B:B,'2015 sah unit data'!L:L,data_tracking[[#This Row],[year]],'2015 sah unit data'!K:K,data_tracking[[#This Row],[month]],'2015 sah unit data'!J:J,data_tracking[[#This Row],[week]]))","v":""},{"$f":"IF(SUMIFS('2015 sah unit data'!C:C,'2015 sah unit data'!L:L,data_tracking[[#This Row],[year]],'2015 sah unit data'!K:K,data_tracking[[#This Row],[month]],'2015 sah unit data'!J:J,data_tracking[[#This Row],[week]])=0,\"\",SUMIFS('2015 sah unit data'!C:C,'2015 sah unit data'!L:L,data_tracking[[#This Row],[year]],'2015 sah unit data'!K:K,data_tracking[[#This Row],[month]],'2015 sah unit data'!J:J,data_tracking[[#This Row],[week]]))","v":""},{"$f":"IF(SUMIFS('2015 sah unit data'!D:D,'2015 sah unit data'!L:L,data_tracking[[#This Row],[year]],'2015 sah unit data'!K:K,data_tracking[[#This Row],[month]],'2015 sah unit data'!J:J,data_tracking[[#This Row],[week]])=0,\"\",SUMIFS('2015 sah unit data'!D:D,'2015 sah unit data'!L:L,data_tracking[[#This Row],[year]],'2015 sah unit data'!K:K,data_tracking[[#This Row],[month]],'2015 sah unit data'!J:J,data_tracking[[#This Row],[week]]))","v":""},{"$f":"IF(SUMIFS('2015 sah unit data'!E:E,'2015 sah unit data'!L:L,data_tracking[[#This Row],[year]],'2015 sah unit data'!K:K,data_tracking[[#This Row],[month]],'2015 sah unit data'!J:J,data_tracking[[#This Row],[week]])=0,\"\",SUMIFS('2015 sah unit data'!E:E,'2015 sah unit data'!L:L,data_tracking[[#This Row],[year]],'2015 sah unit data'!K:K,data_tracking[[#This Row],[month]],'2015 sah unit data'!J:J,data_tracking[[#This Row],[week]]))","v":""},{"$f":"IF(SUMIFS('2015 sah unit data'!F:F,'2015 sah unit data'!L:L,data_tracking[[#This Row],[year]],'2015 sah unit data'!K:K,data_tracking[[#This Row],[month]],'2015 sah unit data'!J:J,data_tracking[[#This Row],[week]])=0,\"\",SUMIFS('2015 sah unit data'!F:F,'2015 sah unit data'!L:L,data_tracking[[#This Row],[year]],'2015 sah unit data'!K:K,data_tracking[[#This Row],[month]],'2015 sah unit data'!J:J,data_tracking[[#This Row],[week]]))","v":""},{"$f":"IF(SUMIFS('2015 sah unit data'!G:G,'2015 sah unit data'!L:L,data_tracking[[#This Row],[year]],'2015 sah unit data'!K:K,data_tracking[[#This Row],[month]],'2015 sah unit data'!J:J,data_tracking[[#This Row],[week]])=0,\"\",SUMIFS('2015 sah unit data'!G:G,'2015 sah unit data'!L:L,data_tracking[[#This Row],[year]],'2015 sah unit data'!K:K,data_tracking[[#This Row],[month]],'2015 sah unit data'!J:J,data_tracking[[#This Row],[week]]))","v":""},null,{"$f":"SUMIFS('overhead costs data'!E:E,'overhead costs data'!C:C,data_tracking[[#This Row],[year]],'overhead costs data'!B:B,data_tracking[[#This Row],[month]])","v":0}]
[7,2,2017,43.30983492,23.765856839999994,{"$f":"IFERROR((data_tracking[[#This Row],[overhead]]+SUMIFS('labor costs data'!H:H,'labor costs data'!D:D,data_tracking[[#This Row],[year]],'labor costs data'!A:A,data_tracking[[#This Row],[week]]))/data_tracking[[#This Row],[SAH Completed (Total)]],\"\")","v":""},{"$f":"IFERROR(SUMIFS('labor costs data'!E:E,'labor costs data'!D:D,data_tracking[[#This Row],[year]],'labor costs data'!A:A,data_tracking[[#This Row],[week]])/data_tracking[[#This Row],[SAH Completed (Total)]],\"\")","v":""},{"$f":"IFERROR((data_tracking[[#This Row],[overhead]]+SUMIFS(labor_costs[total labor cost],labor_costs[year],data_tracking[[#This Row],[year]],labor_costs[week],data_tracking[[#This Row],[week]]))/data_tracking[[#This Row],[Units Completed (Total)]],\"\")","v":""},{"$f":"IF(SUM(data_tracking[[#This Row],[111-FILSN1 SAH]],data_tracking[[#This Row],[112-FILSN2 SAH]],data_tracking[[#This Row],[113-FILSN3 SAH]])=0,\"\",SUM(data_tracking[[#This Row],[111-FILSN1 SAH]],data_tracking[[#This Row],[112-FILSN2 SAH]],data_tracking[[#This Row],[113-FILSN3 SAH]]))","v":""},{"$f":"IF(SUM(data_tracking[[#This Row],[111-FILSN1 Units]],data_tracking[[#This Row],[112-FILSN2 Units]],data_tracking[[#This Row],[113-FILSN3 Units]])=0,\"\",SUM(data_tracking[[#This Row],[111-FILSN1 Units]],data_tracking[[#This Row],[112-FILSN2 Units]],data_tracking[[#This Row],[113-FILSN3 Units]]))","v":""},{"$f":"IF(SUMIFS('2015 sah unit data'!B:B,'2015 sah unit data'!L:L,data_tracking[[#This Row],[year]],'2015 sah unit data'!K:K,data_tracking[[#This Row],[month]],'2015 sah unit data'!J:J,data_tracking[[#This Row],[week]])=0,\"\",SUMIFS('2015 sah unit data'!B:B,'2015 sah unit data'!L:L,data_tracking[[#This Row],[year]],'2015 sah unit data'!K:K,data_tracking[[#This Row],[month]],'2015 sah unit data'!J:J,data_tracking[[#This Row],[week]]))","v":""},{"$f":"IF(SUMIFS('2015 sah unit data'!C:C,'2015 sah unit data'!L:L,data_tracking[[#This Row],[year]],'2015 sah unit data'!K:K,data_tracking[[#This Row],[month]],'2015 sah unit data'!J:J,data_tracking[[#This Row],[week]])=0,\"\",SUMIFS('2015 sah unit data'!C:C,'2015 sah unit data'!L:L,data_tracking[[#This Row],[year]],'2015 sah unit data'!K:K,data_tracking[[#This Row],[month]],'2015 sah unit data'!J:J,data_tracking[[#This Row],[week]]))","v":""},{"$f":"IF(SUMIFS('2015 sah unit data'!D:D,'2015 sah unit data'!L:L,data_tracking[[#This Row],[year]],'2015 sah unit data'!K:K,data_tracking[[#This Row],[month]],'2015 sah unit data'!J:J,data_tracking[[#This Row],[week]])=0,\"\",SUMIFS('2015 sah unit data'!D:D,'2015 sah unit data'!L:L,data_tracking[[#This Row],[year]],'2015 sah unit data'!K:K,data_tracking[[#This Row],[month]],'2015 sah unit data'!J:J,data_tracking[[#This Row],[week]]))","v":""},{"$f":"IF(SUMIFS('2015 sah unit data'!E:E,'2015 sah unit data'!L:L,data_tracking[[#This Row],[year]],'2015 sah unit data'!K:K,data_tracking[[#This Row],[month]],'2015 sah unit data'!J:J,data_tracking[[#This Row],[week]])=0,\"\",SUMIFS('2015 sah unit data'!E:E,'2015 sah unit data'!L:L,data_tracking[[#This Row],[year]],'2015 sah unit data'!K:K,data_tracking[[#This Row],[month]],'2015 sah unit data'!J:J,data_tracking[[#This Row],[week]]))","v":""},{"$f":"IF(SUMIFS('2015 sah unit data'!F:F,'2015 sah unit data'!L:L,data_tracking[[#This Row],[year]],'2015 sah unit data'!K:K,data_tracking[[#This Row],[month]],'2015 sah unit data'!J:J,data_tracking[[#This Row],[week]])=0,\"\",SUMIFS('2015 sah unit data'!F:F,'2015 sah unit data'!L:L,data_tracking[[#This Row],[year]],'2015 sah unit data'!K:K,data_tracking[[#This Row],[month]],'2015 sah unit data'!J:J,data_tracking[[#This Row],[week]]))","v":""},{"$f":"IF(SUMIFS('2015 sah unit data'!G:G,'2015 sah unit data'!L:L,data_tracking[[#This Row],[year]],'2015 sah unit data'!K:K,data_tracking[[#This Row],[month]],'2015 sah unit data'!J:J,data_tracking[[#This Row],[week]])=0,\"\",SUMIFS('2015 sah unit data'!G:G,'2015 sah unit data'!L:L,data_tracking[[#This Row],[year]],'2015 sah unit data'!K:K,data_tracking[[#This Row],[month]],'2015 sah unit data'!J:J,data_tracking[[#This Row],[week]]))","v":""},null,{"$f":"SUMIFS('overhead costs data'!E:E,'overhead costs data'!C:C,data_tracking[[#This Row],[year]],'overhead costs data'!B:B,data_tracking[[#This Row],[month]])","v":0}]
[8,2,2017,43.30983492,23.765856839999994,{"$f":"IFERROR((data_tracking[[#This Row],[overhead]]+SUMIFS('labor costs data'!H:H,'labor costs data'!D:D,data_tracking[[#This Row],[year]],'labor costs data'!A:A,data_tracking[[#This Row],[week]]))/data_tracking[[#This Row],[SAH Completed (Total)]],\"\")","v":""},{"$f":"IFERROR(SUMIFS('labor costs data'!E:E,'labor costs data'!D:D,data_tracking[[#This Row],[year]],'labor costs data'!A:A,data_tracking[[#This Row],[week]])/data_tracking[[#This Row],[SAH Completed (Total)]],\"\")","v":""},{"$f":"IFERROR((data_tracking[[#This Row],[overhead]]+SUMIFS(labor_costs[total labor cost],labor_costs[year],data_tracking[[#This Row],[year]],labor_costs[week],data_tracking[[#This Row],[week]]))/data_tracking[[#This Row],[Units Completed (Total)]],\"\")","v":""},{"$f":"IF(SUM(data_tracking[[#This Row],[111-FILSN1 SAH]],data_tracking[[#This Row],[112-FILSN2 SAH]],data_tracking[[#This Row],[113-FILSN3 SAH]])=0,\"\",SUM(data_tracking[[#This Row],[111-FILSN1 SAH]],data_tracking[[#This Row],[112-FILSN2 SAH]],data_tracking[[#This Row],[113-FILSN3 SAH]]))","v":""},{"$f":"IF(SUM(data_tracking[[#This Row],[111-FILSN1 Units]],data_tracking[[#This Row],[112-FILSN2 Units]],data_tracking[[#This Row],[113-FILSN3 Units]])=0,\"\",SUM(data_tracking[[#This Row],[111-FILSN1 Units]],data_tracking[[#This Row],[112-FILSN2 Units]],data_tracking[[#This Row],[113-FILSN3 Units]]))","v":""},{"$f":"IF(SUMIFS('2015 sah unit data'!B:B,'2015 sah unit data'!L:L,data_tracking[[#This Row],[year]],'2015 sah unit data'!K:K,data_tracking[[#This Row],[month]],'2015 sah unit data'!J:J,data_tracking[[#This Row],[week]])=0,\"\",SUMIFS('2015 sah unit data'!B:B,'2015 sah unit data'!L:L,data_tracking[[#This Row],[year]],'2015 sah unit data'!K:K,data_tracking[[#This Row],[month]],'2015 sah unit data'!J:J,data_tracking[[#This Row],[week]]))","v":""},{"$f":"IF(SUMIFS('2015 sah unit data'!C:C,'2015 sah unit data'!L:L,data_tracking[[#This Row],[year]],'2015 sah unit data'!K:K,data_tracking[[#This Row],[month]],'2015 sah unit data'!J:J,data_tracking[[#This Row],[week]])=0,\"\",SUMIFS('2015 sah unit data'!C:C,'2015 sah unit data'!L:L,data_tracking[[#This Row],[year]],'2015 sah unit data'!K:K,data_tracking[[#This Row],[month]],'2015 sah unit data'!J:J,data_tracking[[#This Row],[week]]))","v":""},{"$f":"IF(SUMIFS('2015 sah unit data'!D:D,'2015 sah unit data'!L:L,data_tracking[[#This Row],[year]],'2015 sah unit data'!K:K,data_tracking[[#This Row],[month]],'2015 sah unit data'!J:J,data_tracking[[#This Row],[week]])=0,\"\",SUMIFS('2015 sah unit data'!D:D,'2015 sah unit data'!L:L,data_tracking[[#This Row],[year]],'2015 sah unit data'!K:K,data_tracking[[#This Row],[month]],'2015 sah unit data'!J:J,data_tracking[[#This Row],[week]]))","v":""},{"$f":"IF(SUMIFS('2015 sah unit data'!E:E,'2015 sah unit data'!L:L,data_tracking[[#This Row],[year]],'2015 sah unit data'!K:K,data_tracking[[#This Row],[month]],'2015 sah unit data'!J:J,data_tracking[[#This Row],[week]])=0,\"\",SUMIFS('2015 sah unit data'!E:E,'2015 sah unit data'!L:L,data_tracking[[#This Row],[year]],'2015 sah unit data'!K:K,data_tracking[[#This Row],[month]],'2015 sah unit data'!J:J,data_tracking[[#This Row],[week]]))","v":""},{"$f":"IF(SUMIFS('2015 sah unit data'!F:F,'2015 sah unit data'!L:L,data_tracking[[#This Row],[year]],'2015 sah unit data'!K:K,data_tracking[[#This Row],[month]],'2015 sah unit data'!J:J,data_tracking[[#This Row],[week]])=0,\"\",SUMIFS('2015 sah unit data'!F:F,'2015 sah unit data'!L:L,data_tracking[[#This Row],[year]],'2015 sah unit data'!K:K,data_tracking[[#This Row],[month]],'2015 sah unit data'!J:J,data_tracking[[#This Row],[week]]))","v":""},{"$f":"IF(SUMIFS('2015 sah unit data'!G:G,'2015 sah unit data'!L:L,data_tracking[[#This Row],[year]],'2015 sah unit data'!K:K,data_tracking[[#This Row],[month]],'2015 sah unit data'!J:J,data_tracking[[#This Row],[week]])=0,\"\",SUMIFS('2015 sah unit data'!G:G,'2015 sah unit data'!L:L,data_tracking[[#This Row],[year]],'2015 sah unit data'!K:K,data_tracking[[#This Row],[month]],'2015 sah unit data'!J:J,data_tracking[[#This Row],[week]]))","v":""},null,{"$f":"SUMIFS('overhead costs data'!E:E,'overhead costs data'!C:C,data_tracking[[#This Row],[year]],'overhead costs data'!B:B,data_tracking[[#This Row],[month]])","v":0}]
[9,2,2017,43.30983492,23.765856839999994,{"$f":"IFERROR((data_tracking[[#This Row],[overhead]]+SUMIFS('labor costs data'!H:H,'labor costs data'!D:D,data_tracking[[#This Row],[year]],'labor costs data'!A:A,data_tracking[[#This Row],[week]]))/data_tracking[[#This Row],[SAH Completed (Total)]],\"\")","v":""},{"$f":"IFERROR(SUMIFS('labor costs data'!E:E,'labor costs data'!D:D,data_tracking[[#This Row],[year]],'labor costs data'!A:A,data_tracking[[#This Row],[week]])/data_tracking[[#This Row],[SAH Completed (Total)]],\"\")","v":""},{"$f":"IFERROR((data_tracking[[#This Row],[overhead]]+SUMIFS(labor_costs[total labor cost],labor_costs[year],data_tracking[[#This Row],[year]],labor_costs[week],data_tracking[[#This Row],[week]]))/data_tracking[[#This Row],[Units Completed (Total)]],\"\")","v":""},{"$f":"IF(SUM(data_tracking[[#This Row],[111-FILSN1 SAH]],data_tracking[[#This Row],[112-FILSN2 SAH]],data_tracking[[#This Row],[113-FILSN3 SAH]])=0,\"\",SUM(data_tracking[[#This Row],[111-FILSN1 SAH]],data_tracking[[#This Row],[112-FILSN2 SAH]],data_tracking[[#This Row],[113-FILSN3 SAH]]))","v":""},{"$f":"IF(SUM(data_tracking[[#This Row],[111-FILSN1 Units]],data_tracking[[#This Row],[112-FILSN2 Units]],data_tracking[[#This Row],[113-FILSN3 Units]])=0,\"\",SUM(data_tracking[[#This Row],[111-FILSN1 Units]],data_tracking[[#This Row],[112-FILSN2 Units]],data_tracking[[#This Row],[113-FILSN3 Units]]))","v":""},{"$f":"IF(SUMIFS('2015 sah unit data'!B:B,'2015 sah unit data'!L:L,data_tracking[[#This Row],[year]],'2015 sah unit data'!K:K,data_tracking[[#This Row],[month]],'2015 sah unit data'!J:J,data_tracking[[#This Row],[week]])=0,\"\",SUMIFS('2015 sah unit data'!B:B,'2015 sah unit data'!L:L,data_tracking[[#This Row],[year]],'2015 sah unit data'!K:K,data_tracking[[#This Row],[month]],'2015 sah unit data'!J:J,data_tracking[[#This Row],[week]]))","v":""},{"$f":"IF(SUMIFS('2015 sah unit data'!C:C,'2015 sah unit data'!L:L,data_tracking[[#This Row],[year]],'2015 sah unit data'!K:K,data_tracking[[#This Row],[month]],'2015 sah unit data'!J:J,data_tracking[[#This Row],[week]])=0,\"\",SUMIFS('2015 sah unit data'!C:C,'2015 sah unit data'!L:L,data_tracking[[#This Row],[year]],'2015 sah unit data'!K:K,data_tracking[[#This Row],[month]],'2015 sah unit data'!J:J,data_tracking[[#This Row],[week]]))","v":""},{"$f":"IF(SUMIFS('2015 sah unit data'!D:D,'2015 sah unit data'!L:L,data_tracking[[#This Row],[year]],'2015 sah unit data'!K:K,data_tracking[[#This Row],[month]],'2015 sah unit data'!J:J,data_tracking[[#This Row],[week]])=0,\"\",SUMIFS('2015 sah unit data'!D:D,'2015 sah unit data'!L:L,data_tracking[[#This Row],[year]],'2015 sah unit data'!K:K,data_tracking[[#This Row],[month]],'2015 sah unit data'!J:J,data_tracking[[#This Row],[week]]))","v":""},{"$f":"IF(SUMIFS('2015 sah unit data'!E:E,'2015 sah unit data'!L:L,data_tracking[[#This Row],[year]],'2015 sah unit data'!K:K,data_tracking[[#This Row],[month]],'2015 sah unit data'!J:J,data_tracking[[#This Row],[week]])=0,\"\",SUMIFS('2015 sah unit data'!E:E,'2015 sah unit data'!L:L,data_tracking[[#This Row],[year]],'2015 sah unit data'!K:K,data_tracking[[#This Row],[month]],'2015 sah unit data'!J:J,data_tracking[[#This Row],[week]]))","v":""},{"$f":"IF(SUMIFS('2015 sah unit data'!F:F,'2015 sah unit data'!L:L,data_tracking[[#This Row],[year]],'2015 sah unit data'!K:K,data_tracking[[#This Row],[month]],'2015 sah unit data'!J:J,data_tracking[[#This Row],[week]])=0,\"\",SUMIFS('2015 sah unit data'!F:F,'2015 sah unit data'!L:L,data_tracking[[#This Row],[year]],'2015 sah unit data'!K:K,data_tracking[[#This Row],[month]],'2015 sah unit data'!J:J,data_tracking[[#This Row],[week]]))","v":""},{"$f":"IF(SUMIFS('2015 sah unit data'!G:G,'2015 sah unit data'!L:L,data_tracking[[#This Row],[year]],'2015 sah unit data'!K:K,data_tracking[[#This Row],[month]],'2015 sah unit data'!J:J,data_tracking[[#This Row],[week]])=0,\"\",SUMIFS('2015 sah unit data'!G:G,'2015 sah unit data'!L:L,data_tracking[[#This Row],[year]],'2015 sah unit data'!K:K,data_tracking[[#This Row],[month]],'2015 sah unit data'!J:J,data_tracking[[#This Row],[week]]))","v":""},null,{"$f":"SUMIFS('overhead costs data'!E:E,'overhead costs data'!C:C,data_tracking[[#This Row],[year]],'overhead costs data'!B:B,data_tracking[[#This Row],[month]])","v":0}]
[10,2,2017,43.30983492,23.765856839999994,{"$f":"IFERROR((data_tracking[[#This Row],[overhead]]+SUMIFS('labor costs data'!H:H,'labor costs data'!D:D,data_tracking[[#This Row],[year]],'labor costs data'!A:A,data_tracking[[#This Row],[week]]))/data_tracking[[#This Row],[SAH Completed (Total)]],\"\")","v":""},{"$f":"IFERROR(SUMIFS('labor costs data'!E:E,'labor costs data'!D:D,data_tracking[[#This Row],[year]],'labor costs data'!A:A,data_tracking[[#This Row],[week]])/data_tracking[[#This Row],[SAH Completed (Total)]],\"\")","v":""},{"$f":"IFERROR((data_tracking[[#This Row],[overhead]]+SUMIFS(labor_costs[total labor cost],labor_costs[year],data_tracking[[#This Row],[year]],labor_costs[week],data_tracking[[#This Row],[week]]))/data_tracking[[#This Row],[Units Completed (Total)]],\"\")","v":""},{"$f":"IF(SUM(data_tracking[[#This Row],[111-FILSN1 SAH]],data_tracking[[#This Row],[112-FILSN2 SAH]],data_tracking[[#This Row],[113-FILSN3 SAH]])=0,\"\",SUM(data_tracking[[#This Row],[111-FILSN1 SAH]],data_tracking[[#This Row],[112-FILSN2 SAH]],data_tracking[[#This Row],[113-FILSN3 SAH]]))","v":""},{"$f":"IF(SUM(data_tracking[[#This Row],[111-FILSN1 Units]],data_tracking[[#This Row],[112-FILSN2 Units]],data_tracking[[#This Row],[113-FILSN3 Units]])=0,\"\",SUM(data_tracking[[#This Row],[111-FILSN1 Units]],data_tracking[[#This Row],[112-FILSN2 Units]],data_tracking[[#This Row],[113-FILSN3 Units]]))","v":""},{"$f":"IF(SUMIFS('2015 sah unit data'!B:B,'2015 sah unit data'!L:L,data_tracking[[#This Row],[year]],'2015 sah unit data'!K:K,data_tracking[[#This Row],[month]],'2015 sah unit data'!J:J,data_tracking[[#This Row],[week]])=0,\"\",SUMIFS('2015 sah unit data'!B:B,'2015 sah unit data'!L:L,data_tracking[[#This Row],[year]],'2015 sah unit data'!K:K,data_tracking[[#This Row],[month]],'2015 sah unit data'!J:J,data_tracking[[#This Row],[week]]))","v":""},{"$f":"IF(SUMIFS('2015 sah unit data'!C:C,'2015 sah unit data'!L:L,data_tracking[[#This Row],[year]],'2015 sah unit data'!K:K,data_tracking[[#This Row],[month]],'2015 sah unit data'!J:J,data_tracking[[#This Row],[week]])=0,\"\",SUMIFS('2015 sah unit data'!C:C,'2015 sah unit data'!L:L,data_tracking[[#This Row],[year]],'2015 sah unit data'!K:K,data_tracking[[#This Row],[month]],'2015 sah unit data'!J:J,data_tracking[[#This Row],[week]]))","v":""},{"$f":"IF(SUMIFS('2015 sah unit data'!D:D,'2015 sah unit data'!L:L,data_tracking[[#This Row],[year]],'2015 sah unit data'!K:K,data_tracking[[#This Row],[month]],'2015 sah unit data'!J:J,data_tracking[[#This Row],[week]])=0,\"\",SUMIFS('2015 sah unit data'!D:D,'2015 sah unit data'!L:L,data_tracking[[#This Row],[year]],'2015 sah unit data'!K:K,data_tracking[[#This Row],[month]],'2015 sah unit data'!J:J,data_tracking[[#This Row],[week]]))","v":""},{"$f":"IF(SUMIFS('2015 sah unit data'!E:E,'2015 sah unit data'!L:L,data_tracking[[#This Row],[year]],'2015 sah unit data'!K:K,data_tracking[[#This Row],[month]],'2015 sah unit data'!J:J,data_tracking[[#This Row],[week]])=0,\"\",SUMIFS('2015 sah unit data'!E:E,'2015 sah unit data'!L:L,data_tracking[[#This Row],[year]],'2015 sah unit data'!K:K,data_tracking[[#This Row],[month]],'2015 sah unit data'!J:J,data_tracking[[#This Row],[week]]))","v":""},{"$f":"IF(SUMIFS('2015 sah unit data'!F:F,'2015 sah unit data'!L:L,data_tracking[[#This Row],[year]],'2015 sah unit data'!K:K,data_tracking[[#This Row],[month]],'2015 sah unit data'!J:J,data_tracking[[#This Row],[week]])=0,\"\",SUMIFS('2015 sah unit data'!F:F,'2015 sah unit data'!L:L,data_tracking[[#This Row],[year]],'2015 sah unit data'!K:K,data_tracking[[#This Row],[month]],'2015 sah unit data'!J:J,data_tracking[[#This Row],[week]]))","v":""},{"$f":"IF(SUMIFS('2015 sah unit data'!G:G,'2015 sah unit data'!L:L,data_tracking[[#This Row],[year]],'2015 sah unit data'!K:K,data_tracking[[#This Row],[month]],'2015 sah unit data'!J:J,data_tracking[[#This Row],[week]])=0,\"\",SUMIFS('2015 sah unit data'!G:G,'2015 sah unit data'!L:L,data_tracking[[#This Row],[year]],'2015 sah unit data'!K:K,data_tracking[[#This Row],[month]],'2015 sah unit data'!J:J,data_tracking[[#This Row],[week]]))","v":""},null,{"$f":"SUMIFS('overhead costs data'!E:E,'overhead costs data'!C:C,data_tracking[[#This Row],[year]],'overhead costs data'!B:B,data_tracking[[#This Row],[month]])","v":0}]
[11,3,2017,43.30983492,23.765856839999994,{"$f":"IFERROR((data_tracking[[#This Row],[overhead]]+SUMIFS('labor costs data'!H:H,'labor costs data'!D:D,data_tracking[[#This Row],[year]],'labor costs data'!A:A,data_tracking[[#This Row],[week]]))/data_tracking[[#This Row],[SAH Completed (Total)]],\"\")","v":""},{"$f":"IFERROR(SUMIFS('labor costs data'!E:E,'labor costs data'!D:D,data_tracking[[#This Row],[year]],'labor costs data'!A:A,data_tracking[[#This Row],[week]])/data_tracking[[#This Row],[SAH Completed (Total)]],\"\")","v":""},{"$f":"IFERROR((data_tracking[[#This Row],[overhead]]+SUMIFS(labor_costs[total labor cost],labor_costs[year],data_tracking[[#This Row],[year]],labor_costs[week],data_tracking[[#This Row],[week]]))/data_tracking[[#This Row],[Units Completed (Total)]],\"\")","v":""},{"$f":"IF(SUM(data_tracking[[#This Row],[111-FILSN1 SAH]],data_tracking[[#This Row],[112-FILSN2 SAH]],data_tracking[[#This Row],[113-FILSN3 SAH]])=0,\"\",SUM(data_tracking[[#This Row],[111-FILSN1 SAH]],data_tracking[[#This Row],[112-FILSN2 SAH]],data_tracking[[#This Row],[113-FILSN3 SAH]]))","v":""},{"$f":"IF(SUM(data_tracking[[#This Row],[111-FILSN1 Units]],data_tracking[[#This Row],[112-FILSN2 Units]],data_tracking[[#This Row],[113-FILSN3 Units]])=0,\"\",SUM(data_tracking[[#This Row],[111-FILSN1 Units]],data_tracking[[#This Row],[112-FILSN2 Units]],data_tracking[[#This Row],[113-FILSN3 Units]]))","v":""},{"$f":"IF(SUMIFS('2015 sah unit data'!B:B,'2015 sah unit data'!L:L,data_tracking[[#This Row],[year]],'2015 sah unit data'!K:K,data_tracking[[#This Row],[month]],'2015 sah unit data'!J:J,data_tracking[[#This Row],[week]])=0,\"\",SUMIFS('2015 sah unit data'!B:B,'2015 sah unit data'!L:L,data_tracking[[#This Row],[year]],'2015 sah unit data'!K:K,data_tracking[[#This Row],[month]],'2015 sah unit data'!J:J,data_tracking[[#This Row],[week]]))","v":""},{"$f":"IF(SUMIFS('2015 sah unit data'!C:C,'2015 sah unit data'!L:L,data_tracking[[#This Row],[year]],'2015 sah unit data'!K:K,data_tracking[[#This Row],[month]],'2015 sah unit data'!J:J,data_tracking[[#This Row],[week]])=0,\"\",SUMIFS('2015 sah unit data'!C:C,'2015 sah unit data'!L:L,data_tracking[[#This Row],[year]],'2015 sah unit data'!K:K,data_tracking[[#This Row],[month]],'2015 sah unit data'!J:J,data_tracking[[#This Row],[week]]))","v":""},{"$f":"IF(SUMIFS('2015 sah unit data'!D:D,'2015 sah unit data'!L:L,data_tracking[[#This Row],[year]],'2015 sah unit data'!K:K,data_tracking[[#This Row],[month]],'2015 sah unit data'!J:J,data_tracking[[#This Row],[week]])=0,\"\",SUMIFS('2015 sah unit data'!D:D,'2015 sah unit data'!L:L,data_tracking[[#This Row],[year]],'2015 sah unit data'!K:K,data_tracking[[#This Row],[month]],'2015 sah unit data'!J:J,data_tracking[[#This Row],[week]]))","v":""},{"$f":"IF(SUMIFS('2015 sah unit data'!E:E,'2015 sah unit data'!L:L,data_tracking[[#This Row],[year]],'2015 sah unit data'!K:K,data_tracking[[#This Row],[month]],'2015 sah unit data'!J:J,data_tracking[[#This Row],[week]])=0,\"\",SUMIFS('2015 sah unit data'!E:E,'2015 sah unit data'!L:L,data_tracking[[#This Row],[year]],'2015 sah unit data'!K:K,data_tracking[[#This Row],[month]],'2015 sah unit data'!J:J,data_tracking[[#This Row],[week]]))","v":""},{"$f":"IF(SUMIFS('2015 sah unit data'!F:F,'2015 sah unit data'!L:L,data_tracking[[#This Row],[year]],'2015 sah unit data'!K:K,data_tracking[[#This Row],[month]],'2015 sah unit data'!J:J,data_tracking[[#This Row],[week]])=0,\"\",SUMIFS('2015 sah unit data'!F:F,'2015 sah unit data'!L:L,data_tracking[[#This Row],[year]],'2015 sah unit data'!K:K,data_tracking[[#This Row],[month]],'2015 sah unit data'!J:J,data_tracking[[#This Row],[week]]))","v":""},{"$f":"IF(SUMIFS('2015 sah unit data'!G:G,'2015 sah unit data'!L:L,data_tracking[[#This Row],[year]],'2015 sah unit data'!K:K,data_tracking[[#This Row],[month]],'2015 sah unit data'!J:J,data_tracking[[#This Row],[week]])=0,\"\",SUMIFS('2015 sah unit data'!G:G,'2015 sah unit data'!L:L,data_tracking[[#This Row],[year]],'2015 sah unit data'!K:K,data_tracking[[#This Row],[month]],'2015 sah unit data'!J:J,data_tracking[[#This Row],[week]]))","v":""},null,{"$f":"SUMIFS('overhead costs data'!E:E,'overhead costs data'!C:C,data_tracking[[#This Row],[year]],'overhead costs data'!B:B,data_tracking[[#This Row],[month]])","v":0}]
[12,3,2017,43.30983492,23.765856839999994,{"$f":"IFERROR((data_tracking[[#This Row],[overhead]]+SUMIFS('labor costs data'!H:H,'labor costs data'!D:D,data_tracking[[#This Row],[year]],'labor costs data'!A:A,data_tracking[[#This Row],[week]]))/data_tracking[[#This Row],[SAH Completed (Total)]],\"\")","v":""},{"$f":"IFERROR(SUMIFS('labor costs data'!E:E,'labor costs data'!D:D,data_tracking[[#This Row],[year]],'labor costs data'!A:A,data_tracking[[#This Row],[week]])/data_tracking[[#This Row],[SAH Completed (Total)]],\"\")","v":""},{"$f":"IFERROR((data_tracking[[#This Row],[overhead]]+SUMIFS(labor_costs[total labor cost],labor_costs[year],data_tracking[[#This Row],[year]],labor_costs[week],data_tracking[[#This Row],[week]]))/data_tracking[[#This Row],[Units Completed (Total)]],\"\")","v":""},{"$f":"IF(SUM(data_tracking[[#This Row],[111-FILSN1 SAH]],data_tracking[[#This Row],[112-FILSN2 SAH]],data_tracking[[#This Row],[113-FILSN3 SAH]])=0,\"\",SUM(data_tracking[[#This Row],[111-FILSN1 SAH]],data_tracking[[#This Row],[112-FILSN2 SAH]],data_tracking[[#This Row],[113-FILSN3 SAH]]))","v":""},{"$f":"IF(SUM(data_tracking[[#This Row],[111-FILSN1 Units]],data_tracking[[#This Row],[112-FILSN2 Units]],data_tracking[[#This Row],[113-FILSN3 Units]])=0,\"\",SUM(data_tracking[[#This Row],[111-FILSN1 Units]],data_tracking[[#This Row],[112-FILSN2 Units]],data_tracking[[#This Row],[113-FILSN3 Units]]))","v":""},{"$f":"IF(SUMIFS('2015 sah unit data'!B:B,'2015 sah unit data'!L:L,data_tracking[[#This Row],[year]],'2015 sah unit data'!K:K,data_tracking[[#This Row],[month]],'2015 sah unit data'!J:J,data_tracking[[#This Row],[week]])=0,\"\",SUMIFS('2015 sah unit data'!B:B,'2015 sah unit data'!L:L,data_tracking[[#This Row],[year]],'2015 sah unit data'!K:K,data_tracking[[#This Row],[month]],'2015 sah unit data'!J:J,data_tracking[[#This Row],[week]]))","v":""},{"$f":"IF(SUMIFS('2015 sah unit data'!C:C,'2015 sah unit data'!L:L,data_tracking[[#This Row],[year]],'2015 sah unit data'!K:K,data_tracking[[#This Row],[month]],'2015 sah unit data'!J:J,data_tracking[[#This Row],[week]])=0,\"\",SUMIFS('2015 sah unit data'!C:C,'2015 sah unit data'!L:L,data_tracking[[#This Row],[year]],'2015 sah unit data'!K:K,data_tracking[[#This Row],[month]],'2015 sah unit data'!J:J,data_tracking[[#This Row],[week]]))","v":""},{"$f":"IF(SUMIFS('2015 sah unit data'!D:D,'2015 sah unit data'!L:L,data_tracking[[#This Row],[year]],'2015 sah unit data'!K:K,data_tracking[[#This Row],[month]],'2015 sah unit data'!J:J,data_tracking[[#This Row],[week]])=0,\"\",SUMIFS('2015 sah unit data'!D:D,'2015 sah unit data'!L:L,data_tracking[[#This Row],[year]],'2015 sah unit data'!K:K,data_tracking[[#This Row],[month]],'2015 sah unit data'!J:J,data_tracking[[#This Row],[week]]))","v":""},{"$f":"IF(SUMIFS('2015 sah unit data'!E:E,'2015 sah unit data'!L:L,data_tracking[[#This Row],[year]],'2015 sah unit data'!K:K,data_tracking[[#This Row],[month]],'2015 sah unit data'!J:J,data_tracking[[#This Row],[week]])=0,\"\",SUMIFS('2015 sah unit data'!E:E,'2015 sah unit data'!L:L,data_tracking[[#This Row],[year]],'2015 sah unit data'!K:K,data_tracking[[#This Row],[month]],'2015 sah unit data'!J:J,data_tracking[[#This Row],[week]]))","v":""},{"$f":"IF(SUMIFS('2015 sah unit data'!F:F,'2015 sah unit data'!L:L,data_tracking[[#This Row],[year]],'2015 sah unit data'!K:K,data_tracking[[#This Row],[month]],'2015 sah unit data'!J:J,data_tracking[[#This Row],[week]])=0,\"\",SUMIFS('2015 sah unit data'!F:F,'2015 sah unit data'!L:L,data_tracking[[#This Row],[year]],'2015 sah unit data'!K:K,data_tracking[[#This Row],[month]],'2015 sah unit data'!J:J,data_tracking[[#This Row],[week]]))","v":""},{"$f":"IF(SUMIFS('2015 sah unit data'!G:G,'2015 sah unit data'!L:L,data_tracking[[#This Row],[year]],'2015 sah unit data'!K:K,data_tracking[[#This Row],[month]],'2015 sah unit data'!J:J,data_tracking[[#This Row],[week]])=0,\"\",SUMIFS('2015 sah unit data'!G:G,'2015 sah unit data'!L:L,data_tracking[[#This Row],[year]],'2015 sah unit data'!K:K,data_tracking[[#This Row],[month]],'2015 sah unit data'!J:J,data_tracking[[#This Row],[week]]))","v":""},null,{"$f":"SUMIFS('overhead costs data'!E:E,'overhead costs data'!C:C,data_tracking[[#This Row],[year]],'overhead costs data'!B:B,data_tracking[[#This Row],[month]])","v":0}]
[13,3,2017,43.30983492,23.765856839999994,{"$f":"IFERROR((data_tracking[[#This Row],[overhead]]+SUMIFS('labor costs data'!H:H,'labor costs data'!D:D,data_tracking[[#This Row],[year]],'labor costs data'!A:A,data_tracking[[#This Row],[week]]))/data_tracking[[#This Row],[SAH Completed (Total)]],\"\")","v":""},{"$f":"IFERROR(SUMIFS('labor costs data'!E:E,'labor costs data'!D:D,data_tracking[[#This Row],[year]],'labor costs data'!A:A,data_tracking[[#This Row],[week]])/data_tracking[[#This Row],[SAH Completed (Total)]],\"\")","v":""},{"$f":"IFERROR((data_tracking[[#This Row],[overhead]]+SUMIFS(labor_costs[total labor cost],labor_costs[year],data_tracking[[#This Row],[year]],labor_costs[week],data_tracking[[#This Row],[week]]))/data_tracking[[#This Row],[Units Completed (Total)]],\"\")","v":""},{"$f":"IF(SUM(data_tracking[[#This Row],[111-FILSN1 SAH]],data_tracking[[#This Row],[112-FILSN2 SAH]],data_tracking[[#This Row],[113-FILSN3 SAH]])=0,\"\",SUM(data_tracking[[#This Row],[111-FILSN1 SAH]],data_tracking[[#This Row],[112-FILSN2 SAH]],data_tracking[[#This Row],[113-FILSN3 SAH]]))","v":""},{"$f":"IF(SUM(data_tracking[[#This Row],[111-FILSN1 Units]],data_tracking[[#This Row],[112-FILSN2 Units]],data_tracking[[#This Row],[113-FILSN3 Units]])=0,\"\",SUM(data_tracking[[#This Row],[111-FILSN1 Units]],data_tracking[[#This Row],[112-FILSN2 Units]],data_tracking[[#This Row],[113-FILSN3 Units]]))","v":""},{"$f":"IF(SUMIFS('2015 sah unit data'!B:B,'2015 sah unit data'!L:L,data_tracking[[#This Row],[year]],'2015 sah unit data'!K:K,data_tracking[[#This Row],[month]],'2015 sah unit data'!J:J,data_tracking[[#This Row],[week]])=0,\"\",SUMIFS('2015 sah unit data'!B:B,'2015 sah unit data'!L:L,data_tracking[[#This Row],[year]],'2015 sah unit data'!K:K,data_tracking[[#This Row],[month]],'2015 sah unit data'!J:J,data_tracking[[#This Row],[week]]))","v":""},{"$f":"IF(SUMIFS('2015 sah unit data'!C:C,'2015 sah unit data'!L:L,data_tracking[[#This Row],[year]],'2015 sah unit data'!K:K,data_tracking[[#This Row],[month]],'2015 sah unit data'!J:J,data_tracking[[#This Row],[week]])=0,\"\",SUMIFS('2015 sah unit data'!C:C,'2015 sah unit data'!L:L,data_tracking[[#This Row],[year]],'2015 sah unit data'!K:K,data_tracking[[#This Row],[month]],'2015 sah unit data'!J:J,data_tracking[[#This Row],[week]]))","v":""},{"$f":"IF(SUMIFS('2015 sah unit data'!D:D,'2015 sah unit data'!L:L,data_tracking[[#This Row],[year]],'2015 sah unit data'!K:K,data_tracking[[#This Row],[month]],'2015 sah unit data'!J:J,data_tracking[[#This Row],[week]])=0,\"\",SUMIFS('2015 sah unit data'!D:D,'2015 sah unit data'!L:L,data_tracking[[#This Row],[year]],'2015 sah unit data'!K:K,data_tracking[[#This Row],[month]],'2015 sah unit data'!J:J,data_tracking[[#This Row],[week]]))","v":""},{"$f":"IF(SUMIFS('2015 sah unit data'!E:E,'2015 sah unit data'!L:L,data_tracking[[#This Row],[year]],'2015 sah unit data'!K:K,data_tracking[[#This Row],[month]],'2015 sah unit data'!J:J,data_tracking[[#This Row],[week]])=0,\"\",SUMIFS('2015 sah unit data'!E:E,'2015 sah unit data'!L:L,data_tracking[[#This Row],[year]],'2015 sah unit data'!K:K,data_tracking[[#This Row],[month]],'2015 sah unit data'!J:J,data_tracking[[#This Row],[week]]))","v":""},{"$f":"IF(SUMIFS('2015 sah unit data'!F:F,'2015 sah unit data'!L:L,data_tracking[[#This Row],[year]],'2015 sah unit data'!K:K,data_tracking[[#This Row],[month]],'2015 sah unit data'!J:J,data_tracking[[#This Row],[week]])=0,\"\",SUMIFS('2015 sah unit data'!F:F,'2015 sah unit data'!L:L,data_tracking[[#This Row],[year]],'2015 sah unit data'!K:K,data_tracking[[#This Row],[month]],'2015 sah unit data'!J:J,data_tracking[[#This Row],[week]]))","v":""},{"$f":"IF(SUMIFS('2015 sah unit data'!G:G,'2015 sah unit data'!L:L,data_tracking[[#This Row],[year]],'2015 sah unit data'!K:K,data_tracking[[#This Row],[month]],'2015 sah unit data'!J:J,data_tracking[[#This Row],[week]])=0,\"\",SUMIFS('2015 sah unit data'!G:G,'2015 sah unit data'!L:L,data_tracking[[#This Row],[year]],'2015 sah unit data'!K:K,data_tracking[[#This Row],[month]],'2015 sah unit data'!J:J,data_tracking[[#This Row],[week]]))","v":""},null,{"$f":"SUMIFS('overhead costs data'!E:E,'overhead costs data'!C:C,data_tracking[[#This Row],[year]],'overhead costs data'!B:B,data_tracking[[#This Row],[month]])","v":0}]
[14,3,2017,43.30983492,23.765856839999994,{"$f":"IFERROR((data_tracking[[#This Row],[overhead]]+SUMIFS('labor costs data'!H:H,'labor costs data'!D:D,data_tracking[[#This Row],[year]],'labor costs data'!A:A,data_tracking[[#This Row],[week]]))/data_tracking[[#This Row],[SAH Completed (Total)]],\"\")","v":""},{"$f":"IFERROR(SUMIFS('labor costs data'!E:E,'labor costs data'!D:D,data_tracking[[#This Row],[year]],'labor costs data'!A:A,data_tracking[[#This Row],[week]])/data_tracking[[#This Row],[SAH Completed (Total)]],\"\")","v":""},{"$f":"IFERROR((data_tracking[[#This Row],[overhead]]+SUMIFS(labor_costs[total labor cost],labor_costs[year],data_tracking[[#This Row],[year]],labor_costs[week],data_tracking[[#This Row],[week]]))/data_tracking[[#This Row],[Units Completed (Total)]],\"\")","v":""},{"$f":"IF(SUM(data_tracking[[#This Row],[111-FILSN1 SAH]],data_tracking[[#This Row],[112-FILSN2 SAH]],data_tracking[[#This Row],[113-FILSN3 SAH]])=0,\"\",SUM(data_tracking[[#This Row],[111-FILSN1 SAH]],data_tracking[[#This Row],[112-FILSN2 SAH]],data_tracking[[#This Row],[113-FILSN3 SAH]]))","v":""},{"$f":"IF(SUM(data_tracking[[#This Row],[111-FILSN1 Units]],data_tracking[[#This Row],[112-FILSN2 Units]],data_tracking[[#This Row],[113-FILSN3 Units]])=0,\"\",SUM(data_tracking[[#This Row],[111-FILSN1 Units]],data_tracking[[#This Row],[112-FILSN2 Units]],data_tracking[[#This Row],[113-FILSN3 Units]]))","v":""},{"$f":"IF(SUMIFS('2015 sah unit data'!B:B,'2015 sah unit data'!L:L,data_tracking[[#This Row],[year]],'2015 sah unit data'!K:K,data_tracking[[#This Row],[month]],'2015 sah unit data'!J:J,data_tracking[[#This Row],[week]])=0,\"\",SUMIFS('2015 sah unit data'!B:B,'2015 sah unit data'!L:L,data_tracking[[#This Row],[year]],'2015 sah unit data'!K:K,data_tracking[[#This Row],[month]],'2015 sah unit data'!J:J,data_tracking[[#This Row],[week]]))","v":""},{"$f":"IF(SUMIFS('2015 sah unit data'!C:C,'2015 sah unit data'!L:L,data_tracking[[#This Row],[year]],'2015 sah unit data'!K:K,data_tracking[[#This Row],[month]],'2015 sah unit data'!J:J,data_tracking[[#This Row],[week]])=0,\"\",SUMIFS('2015 sah unit data'!C:C,'2015 sah unit data'!L:L,data_tracking[[#This Row],[year]],'2015 sah unit data'!K:K,data_tracking[[#This Row],[month]],'2015 sah unit data'!J:J,data_tracking[[#This Row],[week]]))","v":""},{"$f":"IF(SUMIFS('2015 sah unit data'!D:D,'2015 sah unit data'!L:L,data_tracking[[#This Row],[year]],'2015 sah unit data'!K:K,data_tracking[[#This Row],[month]],'2015 sah unit data'!J:J,data_tracking[[#This Row],[week]])=0,\"\",SUMIFS('2015 sah unit data'!D:D,'2015 sah unit data'!L:L,data_tracking[[#This Row],[year]],'2015 sah unit data'!K:K,data_tracking[[#This Row],[month]],'2015 sah unit data'!J:J,data_tracking[[#This Row],[week]]))","v":""},{"$f":"IF(SUMIFS('2015 sah unit data'!E:E,'2015 sah unit data'!L:L,data_tracking[[#This Row],[year]],'2015 sah unit data'!K:K,data_tracking[[#This Row],[month]],'2015 sah unit data'!J:J,data_tracking[[#This Row],[week]])=0,\"\",SUMIFS('2015 sah unit data'!E:E,'2015 sah unit data'!L:L,data_tracking[[#This Row],[year]],'2015 sah unit data'!K:K,data_tracking[[#This Row],[month]],'2015 sah unit data'!J:J,data_tracking[[#This Row],[week]]))","v":""},{"$f":"IF(SUMIFS('2015 sah unit data'!F:F,'2015 sah unit data'!L:L,data_tracking[[#This Row],[year]],'2015 sah unit data'!K:K,data_tracking[[#This Row],[month]],'2015 sah unit data'!J:J,data_tracking[[#This Row],[week]])=0,\"\",SUMIFS('2015 sah unit data'!F:F,'2015 sah unit data'!L:L,data_tracking[[#This Row],[year]],'2015 sah unit data'!K:K,data_tracking[[#This Row],[month]],'2015 sah unit data'!J:J,data_tracking[[#This Row],[week]]))","v":""},{"$f":"IF(SUMIFS('2015 sah unit data'!G:G,'2015 sah unit data'!L:L,data_tracking[[#This Row],[year]],'2015 sah unit data'!K:K,data_tracking[[#This Row],[month]],'2015 sah unit data'!J:J,data_tracking[[#This Row],[week]])=0,\"\",SUMIFS('2015 sah unit data'!G:G,'2015 sah unit data'!L:L,data_tracking[[#This Row],[year]],'2015 sah unit data'!K:K,data_tracking[[#This Row],[month]],'2015 sah unit data'!J:J,data_tracking[[#This Row],[week]]))","v":""},null,{"$f":"SUMIFS('overhead costs data'!E:E,'overhead costs data'!C:C,data_tracking[[#This Row],[year]],'overhead costs data'!B:B,data_tracking[[#This Row],[month]])","v":0}]
[15,4,2017,43.30983492,23.765856839999994,{"$f":"IFERROR((data_tracking[[#This Row],[overhead]]+SUMIFS('labor costs data'!H:H,'labor costs data'!D:D,data_tracking[[#This Row],[year]],'labor costs data'!A:A,data_tracking[[#This Row],[week]]))/data_tracking[[#This Row],[SAH Completed (Total)]],\"\")","v":""},{"$f":"IFERROR(SUMIFS('labor costs data'!E:E,'labor costs data'!D:D,data_tracking[[#This Row],[year]],'labor costs data'!A:A,data_tracking[[#This Row],[week]])/data_tracking[[#This Row],[SAH Completed (Total)]],\"\")","v":""},{"$f":"IFERROR((data_tracking[[#This Row],[overhead]]+SUMIFS(labor_costs[total labor cost],labor_costs[year],data_tracking[[#This Row],[year]],labor_costs[week],data_tracking[[#This Row],[week]]))/data_tracking[[#This Row],[Units Completed (Total)]],\"\")","v":""},{"$f":"IF(SUM(data_tracking[[#This Row],[111-FILSN1 SAH]],data_tracking[[#This Row],[112-FILSN2 SAH]],data_tracking[[#This Row],[113-FILSN3 SAH]])=0,\"\",SUM(data_tracking[[#This Row],[111-FILSN1 SAH]],data_tracking[[#This Row],[112-FILSN2 SAH]],data_tracking[[#This Row],[113-FILSN3 SAH]]))","v":""},{"$f":"IF(SUM(data_tracking[[#This Row],[111-FILSN1 Units]],data_tracking[[#This Row],[112-FILSN2 Units]],data_tracking[[#This Row],[113-FILSN3 Units]])=0,\"\",SUM(data_tracking[[#This Row],[111-FILSN1 Units]],data_tracking[[#This Row],[112-FILSN2 Units]],data_tracking[[#This Row],[113-FILSN3 Units]]))","v":""},{"$f":"IF(SUMIFS('2015 sah unit data'!B:B,'2015 sah unit data'!L:L,data_tracking[[#This Row],[year]],'2015 sah unit data'!K:K,data_tracking[[#This Row],[month]],'2015 sah unit data'!J:J,data_tracking[[#This Row],[week]])=0,\"\",SUMIFS('2015 sah unit data'!B:B,'2015 sah unit data'!L:L,data_tracking[[#This Row],[year]],'2015 sah unit data'!K:K,data_tracking[[#This Row],[month]],'2015 sah unit data'!J:J,data_tracking[[#This Row],[week]]))","v":""},{"$f":"IF(SUMIFS('2015 sah unit data'!C:C,'2015 sah unit data'!L:L,data_tracking[[#This Row],[year]],'2015 sah unit data'!K:K,data_tracking[[#This Row],[month]],'2015 sah unit data'!J:J,data_tracking[[#This Row],[week]])=0,\"\",SUMIFS('2015 sah unit data'!C:C,'2015 sah unit data'!L:L,data_tracking[[#This Row],[year]],'2015 sah unit data'!K:K,data_tracking[[#This Row],[month]],'2015 sah unit data'!J:J,data_tracking[[#This Row],[week]]))","v":""},{"$f":"IF(SUMIFS('2015 sah unit data'!D:D,'2015 sah unit data'!L:L,data_tracking[[#This Row],[year]],'2015 sah unit data'!K:K,data_tracking[[#This Row],[month]],'2015 sah unit data'!J:J,data_tracking[[#This Row],[week]])=0,\"\",SUMIFS('2015 sah unit data'!D:D,'2015 sah unit data'!L:L,data_tracking[[#This Row],[year]],'2015 sah unit data'!K:K,data_tracking[[#This Row],[month]],'2015 sah unit data'!J:J,data_tracking[[#This Row],[week]]))","v":""},{"$f":"IF(SUMIFS('2015 sah unit data'!E:E,'2015 sah unit data'!L:L,data_tracking[[#This Row],[year]],'2015 sah unit data'!K:K,data_tracking[[#This Row],[month]],'2015 sah unit data'!J:J,data_tracking[[#This Row],[week]])=0,\"\",SUMIFS('2015 sah unit data'!E:E,'2015 sah unit data'!L:L,data_tracking[[#This Row],[year]],'2015 sah unit data'!K:K,data_tracking[[#This Row],[month]],'2015 sah unit data'!J:J,data_tracking[[#This Row],[week]]))","v":""},{"$f":"IF(SUMIFS('2015 sah unit data'!F:F,'2015 sah unit data'!L:L,data_tracking[[#This Row],[year]],'2015 sah unit data'!K:K,data_tracking[[#This Row],[month]],'2015 sah unit data'!J:J,data_tracking[[#This Row],[week]])=0,\"\",SUMIFS('2015 sah unit data'!F:F,'2015 sah unit data'!L:L,data_tracking[[#This Row],[year]],'2015 sah unit data'!K:K,data_tracking[[#This Row],[month]],'2015 sah unit data'!J:J,data_tracking[[#This Row],[week]]))","v":""},{"$f":"IF(SUMIFS('2015 sah unit data'!G:G,'2015 sah unit data'!L:L,data_tracking[[#This Row],[year]],'2015 sah unit data'!K:K,data_tracking[[#This Row],[month]],'2015 sah unit data'!J:J,data_tracking[[#This Row],[week]])=0,\"\",SUMIFS('2015 sah unit data'!G:G,'2015 sah unit data'!L:L,data_tracking[[#This Row],[year]],'2015 sah unit data'!K:K,data_tracking[[#This Row],[month]],'2015 sah unit data'!J:J,data_tracking[[#This Row],[week]]))","v":""},null,{"$f":"SUMIFS('overhead costs data'!E:E,'overhead costs data'!C:C,data_tracking[[#This Row],[year]],'overhead costs data'!B:B,data_tracking[[#This Row],[month]])","v":0}]
[16,4,2017,43.30983492,23.765856839999994,{"$f":"IFERROR((data_tracking[[#This Row],[overhead]]+SUMIFS('labor costs data'!H:H,'labor costs data'!D:D,data_tracking[[#This Row],[year]],'labor costs data'!A:A,data_tracking[[#This Row],[week]]))/data_tracking[[#This Row],[SAH Completed (Total)]],\"\")","v":""},{"$f":"IFERROR(SUMIFS('labor costs data'!E:E,'labor costs data'!D:D,data_tracking[[#This Row],[year]],'labor costs data'!A:A,data_tracking[[#This Row],[week]])/data_tracking[[#This Row],[SAH Completed (Total)]],\"\")","v":""},{"$f":"IFERROR((data_tracking[[#This Row],[overhead]]+SUMIFS(labor_costs[total labor cost],labor_costs[year],data_tracking[[#This Row],[year]],labor_costs[week],data_tracking[[#This Row],[week]]))/data_tracking[[#This Row],[Units Completed (Total)]],\"\")","v":""},{"$f":"IF(SUM(data_tracking[[#This Row],[111-FILSN1 SAH]],data_tracking[[#This Row],[112-FILSN2 SAH]],data_tracking[[#This Row],[113-FILSN3 SAH]])=0,\"\",SUM(data_tracking[[#This Row],[111-FILSN1 SAH]],data_tracking[[#This Row],[112-FILSN2 SAH]],data_tracking[[#This Row],[113-FILSN3 SAH]]))","v":""},{"$f":"IF(SUM(data_tracking[[#This Row],[111-FILSN1 Units]],data_tracking[[#This Row],[112-FILSN2 Units]],data_tracking[[#This Row],[113-FILSN3 Units]])=0,\"\",SUM(data_tracking[[#This Row],[111-FILSN1 Units]],data_tracking[[#This Row],[112-FILSN2 Units]],data_tracking[[#This Row],[113-FILSN3 Units]]))","v":""},{"$f":"IF(SUMIFS('2015 sah unit data'!B:B,'2015 sah unit data'!L:L,data_tracking[[#This Row],[year]],'2015 sah unit data'!K:K,data_tracking[[#This Row],[month]],'2015 sah unit data'!J:J,data_tracking[[#This Row],[week]])=0,\"\",SUMIFS('2015 sah unit data'!B:B,'2015 sah unit data'!L:L,data_tracking[[#This Row],[year]],'2015 sah unit data'!K:K,data_tracking[[#This Row],[month]],'2015 sah unit data'!J:J,data_tracking[[#This Row],[week]]))","v":""},{"$f":"IF(SUMIFS('2015 sah unit data'!C:C,'2015 sah unit data'!L:L,data_tracking[[#This Row],[year]],'2015 sah unit data'!K:K,data_tracking[[#This Row],[month]],'2015 sah unit data'!J:J,data_tracking[[#This Row],[week]])=0,\"\",SUMIFS('2015 sah unit data'!C:C,'2015 sah unit data'!L:L,data_tracking[[#This Row],[year]],'2015 sah unit data'!K:K,data_tracking[[#This Row],[month]],'2015 sah unit data'!J:J,data_tracking[[#This Row],[week]]))","v":""},{"$f":"IF(SUMIFS('2015 sah unit data'!D:D,'2015 sah unit data'!L:L,data_tracking[[#This Row],[year]],'2015 sah unit data'!K:K,data_tracking[[#This Row],[month]],'2015 sah unit data'!J:J,data_tracking[[#This Row],[week]])=0,\"\",SUMIFS('2015 sah unit data'!D:D,'2015 sah unit data'!L:L,data_tracking[[#This Row],[year]],'2015 sah unit data'!K:K,data_tracking[[#This Row],[month]],'2015 sah unit data'!J:J,data_tracking[[#This Row],[week]]))","v":""},{"$f":"IF(SUMIFS('2015 sah unit data'!E:E,'2015 sah unit data'!L:L,data_tracking[[#This Row],[year]],'2015 sah unit data'!K:K,data_tracking[[#This Row],[month]],'2015 sah unit data'!J:J,data_tracking[[#This Row],[week]])=0,\"\",SUMIFS('2015 sah unit data'!E:E,'2015 sah unit data'!L:L,data_tracking[[#This Row],[year]],'2015 sah unit data'!K:K,data_tracking[[#This Row],[month]],'2015 sah unit data'!J:J,data_tracking[[#This Row],[week]]))","v":""},{"$f":"IF(SUMIFS('2015 sah unit data'!F:F,'2015 sah unit data'!L:L,data_tracking[[#This Row],[year]],'2015 sah unit data'!K:K,data_tracking[[#This Row],[month]],'2015 sah unit data'!J:J,data_tracking[[#This Row],[week]])=0,\"\",SUMIFS('2015 sah unit data'!F:F,'2015 sah unit data'!L:L,data_tracking[[#This Row],[year]],'2015 sah unit data'!K:K,data_tracking[[#This Row],[month]],'2015 sah unit data'!J:J,data_tracking[[#This Row],[week]]))","v":""},{"$f":"IF(SUMIFS('2015 sah unit data'!G:G,'2015 sah unit data'!L:L,data_tracking[[#This Row],[year]],'2015 sah unit data'!K:K,data_tracking[[#This Row],[month]],'2015 sah unit data'!J:J,data_tracking[[#This Row],[week]])=0,\"\",SUMIFS('2015 sah unit data'!G:G,'2015 sah unit data'!L:L,data_tracking[[#This Row],[year]],'2015 sah unit data'!K:K,data_tracking[[#This Row],[month]],'2015 sah unit data'!J:J,data_tracking[[#This Row],[week]]))","v":""},null,{"$f":"SUMIFS('overhead costs data'!E:E,'overhead costs data'!C:C,data_tracking[[#This Row],[year]],'overhead costs data'!B:B,data_tracking[[#This Row],[month]])","v":0}]
[17,4,2017,43.30983492,23.765856839999994,{"$f":"IFERROR((data_tracking[[#This Row],[overhead]]+SUMIFS('labor costs data'!H:H,'labor costs data'!D:D,data_tracking[[#This Row],[year]],'labor costs data'!A:A,data_tracking[[#This Row],[week]]))/data_tracking[[#This Row],[SAH Completed (Total)]],\"\")","v":""},{"$f":"IFERROR(SUMIFS('labor costs data'!E:E,'labor costs data'!D:D,data_tracking[[#This Row],[year]],'labor costs data'!A:A,data_tracking[[#This Row],[week]])/data_tracking[[#This Row],[SAH Completed (Total)]],\"\")","v":""},{"$f":"IFERROR((data_tracking[[#This Row],[overhead]]+SUMIFS(labor_costs[total labor cost],labor_costs[year],data_tracking[[#This Row],[year]],labor_costs[week],data_tracking[[#This Row],[week]]))/data_tracking[[#This Row],[Units Completed (Total)]],\"\")","v":""},{"$f":"IF(SUM(data_tracking[[#This Row],[111-FILSN1 SAH]],data_tracking[[#This Row],[112-FILSN2 SAH]],data_tracking[[#This Row],[113-FILSN3 SAH]])=0,\"\",SUM(data_tracking[[#This Row],[111-FILSN1 SAH]],data_tracking[[#This Row],[112-FILSN2 SAH]],data_tracking[[#This Row],[113-FILSN3 SAH]]))","v":""},{"$f":"IF(SUM(data_tracking[[#This Row],[111-FILSN1 Units]],data_tracking[[#This Row],[112-FILSN2 Units]],data_tracking[[#This Row],[113-FILSN3 Units]])=0,\"\",SUM(data_tracking[[#This Row],[111-FILSN1 Units]],data_tracking[[#This Row],[112-FILSN2 Units]],data_tracking[[#This Row],[113-FILSN3 Units]]))","v":""},{"$f":"IF(SUMIFS('2015 sah unit data'!B:B,'2015 sah unit data'!L:L,data_tracking[[#This Row],[year]],'2015 sah unit data'!K:K,data_tracking[[#This Row],[month]],'2015 sah unit data'!J:J,data_tracking[[#This Row],[week]])=0,\"\",SUMIFS('2015 sah unit data'!B:B,'2015 sah unit data'!L:L,data_tracking[[#This Row],[year]],'2015 sah unit data'!K:K,data_tracking[[#This Row],[month]],'2015 sah unit data'!J:J,data_tracking[[#This Row],[week]]))","v":""},{"$f":"IF(SUMIFS('2015 sah unit data'!C:C,'2015 sah unit data'!L:L,data_tracking[[#This Row],[year]],'2015 sah unit data'!K:K,data_tracking[[#This Row],[month]],'2015 sah unit data'!J:J,data_tracking[[#This Row],[week]])=0,\"\",SUMIFS('2015 sah unit data'!C:C,'2015 sah unit data'!L:L,data_tracking[[#This Row],[year]],'2015 sah unit data'!K:K,data_tracking[[#This Row],[month]],'2015 sah unit data'!J:J,data_tracking[[#This Row],[week]]))","v":""},{"$f":"IF(SUMIFS('2015 sah unit data'!D:D,'2015 sah unit data'!L:L,data_tracking[[#This Row],[year]],'2015 sah unit data'!K:K,data_tracking[[#This Row],[month]],'2015 sah unit data'!J:J,data_tracking[[#This Row],[week]])=0,\"\",SUMIFS('2015 sah unit data'!D:D,'2015 sah unit data'!L:L,data_tracking[[#This Row],[year]],'2015 sah unit data'!K:K,data_tracking[[#This Row],[month]],'2015 sah unit data'!J:J,data_tracking[[#This Row],[week]]))","v":""},{"$f":"IF(SUMIFS('2015 sah unit data'!E:E,'2015 sah unit data'!L:L,data_tracking[[#This Row],[year]],'2015 sah unit data'!K:K,data_tracking[[#This Row],[month]],'2015 sah unit data'!J:J,data_tracking[[#This Row],[week]])=0,\"\",SUMIFS('2015 sah unit data'!E:E,'2015 sah unit data'!L:L,data_tracking[[#This Row],[year]],'2015 sah unit data'!K:K,data_tracking[[#This Row],[month]],'2015 sah unit data'!J:J,data_tracking[[#This Row],[week]]))","v":""},{"$f":"IF(SUMIFS('2015 sah unit data'!F:F,'2015 sah unit data'!L:L,data_tracking[[#This Row],[year]],'2015 sah unit data'!K:K,data_tracking[[#This Row],[month]],'2015 sah unit data'!J:J,data_tracking[[#This Row],[week]])=0,\"\",SUMIFS('2015 sah unit data'!F:F,'2015 sah unit data'!L:L,data_tracking[[#This Row],[year]],'2015 sah unit data'!K:K,data_tracking[[#This Row],[month]],'2015 sah unit data'!J:J,data_tracking[[#This Row],[week]]))","v":""},{"$f":"IF(SUMIFS('2015 sah unit data'!G:G,'2015 sah unit data'!L:L,data_tracking[[#This Row],[year]],'2015 sah unit data'!K:K,data_tracking[[#This Row],[month]],'2015 sah unit data'!J:J,data_tracking[[#This Row],[week]])=0,\"\",SUMIFS('2015 sah unit data'!G:G,'2015 sah unit data'!L:L,data_tracking[[#This Row],[year]],'2015 sah unit data'!K:K,data_tracking[[#This Row],[month]],'2015 sah unit data'!J:J,data_tracking[[#This Row],[week]]))","v":""},null,{"$f":"SUMIFS('overhead costs data'!E:E,'overhead costs data'!C:C,data_tracking[[#This Row],[year]],'overhead costs data'!B:B,data_tracking[[#This Row],[month]])","v":0}]
[18,4,2017,43.30983492,23.765856839999994,{"$f":"IFERROR((data_tracking[[#This Row],[overhead]]+SUMIFS('labor costs data'!H:H,'labor costs data'!D:D,data_tracking[[#This Row],[year]],'labor costs data'!A:A,data_tracking[[#This Row],[week]]))/data_tracking[[#This Row],[SAH Completed (Total)]],\"\")","v":""},{"$f":"IFERROR(SUMIFS('labor costs data'!E:E,'labor costs data'!D:D,data_tracking[[#This Row],[year]],'labor costs data'!A:A,data_tracking[[#This Row],[week]])/data_tracking[[#This Row],[SAH Completed (Total)]],\"\")","v":""},{"$f":"IFERROR((data_tracking[[#This Row],[overhead]]+SUMIFS(labor_costs[total labor cost],labor_costs[year],data_tracking[[#This Row],[year]],labor_costs[week],data_tracking[[#This Row],[week]]))/data_tracking[[#This Row],[Units Completed (Total)]],\"\")","v":""},{"$f":"IF(SUM(data_tracking[[#This Row],[111-FILSN1 SAH]],data_tracking[[#This Row],[112-FILSN2 SAH]],data_tracking[[#This Row],[113-FILSN3 SAH]])=0,\"\",SUM(data_tracking[[#This Row],[111-FILSN1 SAH]],data_tracking[[#This Row],[112-FILSN2 SAH]],data_tracking[[#This Row],[113-FILSN3 SAH]]))","v":""},{"$f":"IF(SUM(data_tracking[[#This Row],[111-FILSN1 Units]],data_tracking[[#This Row],[112-FILSN2 Units]],data_tracking[[#This Row],[113-FILSN3 Units]])=0,\"\",SUM(data_tracking[[#This Row],[111-FILSN1 Units]],data_tracking[[#This Row],[112-FILSN2 Units]],data_tracking[[#This Row],[113-FILSN3 Units]]))","v":""},{"$f":"IF(SUMIFS('2015 sah unit data'!B:B,'2015 sah unit data'!L:L,data_tracking[[#This Row],[year]],'2015 sah unit data'!K:K,data_tracking[[#This Row],[month]],'2015 sah unit data'!J:J,data_tracking[[#This Row],[week]])=0,\"\",SUMIFS('2015 sah unit data'!B:B,'2015 sah unit data'!L:L,data_tracking[[#This Row],[year]],'2015 sah unit data'!K:K,data_tracking[[#This Row],[month]],'2015 sah unit data'!J:J,data_tracking[[#This Row],[week]]))","v":""},{"$f":"IF(SUMIFS('2015 sah unit data'!C:C,'2015 sah unit data'!L:L,data_tracking[[#This Row],[year]],'2015 sah unit data'!K:K,data_tracking[[#This Row],[month]],'2015 sah unit data'!J:J,data_tracking[[#This Row],[week]])=0,\"\",SUMIFS('2015 sah unit data'!C:C,'2015 sah unit data'!L:L,data_tracking[[#This Row],[year]],'2015 sah unit data'!K:K,data_tracking[[#This Row],[month]],'2015 sah unit data'!J:J,data_tracking[[#This Row],[week]]))","v":""},{"$f":"IF(SUMIFS('2015 sah unit data'!D:D,'2015 sah unit data'!L:L,data_tracking[[#This Row],[year]],'2015 sah unit data'!K:K,data_tracking[[#This Row],[month]],'2015 sah unit data'!J:J,data_tracking[[#This Row],[week]])=0,\"\",SUMIFS('2015 sah unit data'!D:D,'2015 sah unit data'!L:L,data_tracking[[#This Row],[year]],'2015 sah unit data'!K:K,data_tracking[[#This Row],[month]],'2015 sah unit data'!J:J,data_tracking[[#This Row],[week]]))","v":""},{"$f":"IF(SUMIFS('2015 sah unit data'!E:E,'2015 sah unit data'!L:L,data_tracking[[#This Row],[year]],'2015 sah unit data'!K:K,data_tracking[[#This Row],[month]],'2015 sah unit data'!J:J,data_tracking[[#This Row],[week]])=0,\"\",SUMIFS('2015 sah unit data'!E:E,'2015 sah unit data'!L:L,data_tracking[[#This Row],[year]],'2015 sah unit data'!K:K,data_tracking[[#This Row],[month]],'2015 sah unit data'!J:J,data_tracking[[#This Row],[week]]))","v":""},{"$f":"IF(SUMIFS('2015 sah unit data'!F:F,'2015 sah unit data'!L:L,data_tracking[[#This Row],[year]],'2015 sah unit data'!K:K,data_tracking[[#This Row],[month]],'2015 sah unit data'!J:J,data_tracking[[#This Row],[week]])=0,\"\",SUMIFS('2015 sah unit data'!F:F,'2015 sah unit data'!L:L,data_tracking[[#This Row],[year]],'2015 sah unit data'!K:K,data_tracking[[#This Row],[month]],'2015 sah unit data'!J:J,data_tracking[[#This Row],[week]]))","v":""},{"$f":"IF(SUMIFS('2015 sah unit data'!G:G,'2015 sah unit data'!L:L,data_tracking[[#This Row],[year]],'2015 sah unit data'!K:K,data_tracking[[#This Row],[month]],'2015 sah unit data'!J:J,data_tracking[[#This Row],[week]])=0,\"\",SUMIFS('2015 sah unit data'!G:G,'2015 sah unit data'!L:L,data_tracking[[#This Row],[year]],'2015 sah unit data'!K:K,data_tracking[[#This Row],[month]],'2015 sah unit data'!J:J,data_tracking[[#This Row],[week]]))","v":""},null,{"$f":"SUMIFS('overhead costs data'!E:E,'overhead costs data'!C:C,data_tracking[[#This Row],[year]],'overhead costs data'!B:B,data_tracking[[#This Row],[month]])","v":0}]
[19,5,2017,43.30983492,23.765856839999994,{"$f":"IFERROR((data_tracking[[#This Row],[overhead]]+SUMIFS('labor costs data'!H:H,'labor costs data'!D:D,data_tracking[[#This Row],[year]],'labor costs data'!A:A,data_tracking[[#This Row],[week]]))/data_tracking[[#This Row],[SAH Completed (Total)]],\"\")","v":""},{"$f":"IFERROR(SUMIFS('labor costs data'!E:E,'labor costs data'!D:D,data_tracking[[#This Row],[year]],'labor costs data'!A:A,data_tracking[[#This Row],[week]])/data_tracking[[#This Row],[SAH Completed (Total)]],\"\")","v":""},{"$f":"IFERROR((data_tracking[[#This Row],[overhead]]+SUMIFS(labor_costs[total labor cost],labor_costs[year],data_tracking[[#This Row],[year]],labor_costs[week],data_tracking[[#This Row],[week]]))/data_tracking[[#This Row],[Units Completed (Total)]],\"\")","v":""},{"$f":"IF(SUM(data_tracking[[#This Row],[111-FILSN1 SAH]],data_tracking[[#This Row],[112-FILSN2 SAH]],data_tracking[[#This Row],[113-FILSN3 SAH]])=0,\"\",SUM(data_tracking[[#This Row],[111-FILSN1 SAH]],data_tracking[[#This Row],[112-FILSN2 SAH]],data_tracking[[#This Row],[113-FILSN3 SAH]]))","v":""},{"$f":"IF(SUM(data_tracking[[#This Row],[111-FILSN1 Units]],data_tracking[[#This Row],[112-FILSN2 Units]],data_tracking[[#This Row],[113-FILSN3 Units]])=0,\"\",SUM(data_tracking[[#This Row],[111-FILSN1 Units]],data_tracking[[#This Row],[112-FILSN2 Units]],data_tracking[[#This Row],[113-FILSN3 Units]]))","v":""},{"$f":"IF(SUMIFS('2015 sah unit data'!B:B,'2015 sah unit data'!L:L,data_tracking[[#This Row],[year]],'2015 sah unit data'!K:K,data_tracking[[#This Row],[month]],'2015 sah unit data'!J:J,data_tracking[[#This Row],[week]])=0,\"\",SUMIFS('2015 sah unit data'!B:B,'2015 sah unit data'!L:L,data_tracking[[#This Row],[year]],'2015 sah unit data'!K:K,data_tracking[[#This Row],[month]],'2015 sah unit data'!J:J,data_tracking[[#This Row],[week]]))","v":""},{"$f":"IF(SUMIFS('2015 sah unit data'!C:C,'2015 sah unit data'!L:L,data_tracking[[#This Row],[year]],'2015 sah unit data'!K:K,data_tracking[[#This Row],[month]],'2015 sah unit data'!J:J,data_tracking[[#This Row],[week]])=0,\"\",SUMIFS('2015 sah unit data'!C:C,'2015 sah unit data'!L:L,data_tracking[[#This Row],[year]],'2015 sah unit data'!K:K,data_tracking[[#This Row],[month]],'2015 sah unit data'!J:J,data_tracking[[#This Row],[week]]))","v":""},{"$f":"IF(SUMIFS('2015 sah unit data'!D:D,'2015 sah unit data'!L:L,data_tracking[[#This Row],[year]],'2015 sah unit data'!K:K,data_tracking[[#This Row],[month]],'2015 sah unit data'!J:J,data_tracking[[#This Row],[week]])=0,\"\",SUMIFS('2015 sah unit data'!D:D,'2015 sah unit data'!L:L,data_tracking[[#This Row],[year]],'2015 sah unit data'!K:K,data_tracking[[#This Row],[month]],'2015 sah unit data'!J:J,data_tracking[[#This Row],[week]]))","v":""},{"$f":"IF(SUMIFS('2015 sah unit data'!E:E,'2015 sah unit data'!L:L,data_tracking[[#This Row],[year]],'2015 sah unit data'!K:K,data_tracking[[#This Row],[month]],'2015 sah unit data'!J:J,data_tracking[[#This Row],[week]])=0,\"\",SUMIFS('2015 sah unit data'!E:E,'2015 sah unit data'!L:L,data_tracking[[#This Row],[year]],'2015 sah unit data'!K:K,data_tracking[[#This Row],[month]],'2015 sah unit data'!J:J,data_tracking[[#This Row],[week]]))","v":""},{"$f":"IF(SUMIFS('2015 sah unit data'!F:F,'2015 sah unit data'!L:L,data_tracking[[#This Row],[year]],'2015 sah unit data'!K:K,data_tracking[[#This Row],[month]],'2015 sah unit data'!J:J,data_tracking[[#This Row],[week]])=0,\"\",SUMIFS('2015 sah unit data'!F:F,'2015 sah unit data'!L:L,data_tracking[[#This Row],[year]],'2015 sah unit data'!K:K,data_tracking[[#This Row],[month]],'2015 sah unit data'!J:J,data_tracking[[#This Row],[week]]))","v":""},{"$f":"IF(SUMIFS('2015 sah unit data'!G:G,'2015 sah unit data'!L:L,data_tracking[[#This Row],[year]],'2015 sah unit data'!K:K,data_tracking[[#This Row],[month]],'2015 sah unit data'!J:J,data_tracking[[#This Row],[week]])=0,\"\",SUMIFS('2015 sah unit data'!G:G,'2015 sah unit data'!L:L,data_tracking[[#This Row],[year]],'2015 sah unit data'!K:K,data_tracking[[#This Row],[month]],'2015 sah unit data'!J:J,data_tracking[[#This Row],[week]]))","v":""},null,{"$f":"SUMIFS('overhead costs data'!E:E,'overhead costs data'!C:C,data_tracking[[#This Row],[year]],'overhead costs data'!B:B,data_tracking[[#This Row],[month]])","v":0}]
[20,5,2017,43.30983492,23.765856839999994,{"$f":"IFERROR((data_tracking[[#This Row],[overhead]]+SUMIFS('labor costs data'!H:H,'labor costs data'!D:D,data_tracking[[#This Row],[year]],'labor costs data'!A:A,data_tracking[[#This Row],[week]]))/data_tracking[[#This Row],[SAH Completed (Total)]],\"\")","v":""},{"$f":"IFERROR(SUMIFS('labor costs data'!E:E,'labor costs data'!D:D,data_tracking[[#This Row],[year]],'labor costs data'!A:A,data_tracking[[#This Row],[week]])/data_tracking[[#This Row],[SAH Completed (Total)]],\"\")","v":""},{"$f":"IFERROR((data_tracking[[#This Row],[overhead]]+SUMIFS(labor_costs[total labor cost],labor_costs[year],data_tracking[[#This Row],[year]],labor_costs[week],data_tracking[[#This Row],[week]]))/data_tracking[[#This Row],[Units Completed (Total)]],\"\")","v":""},{"$f":"IF(SUM(data_tracking[[#This Row],[111-FILSN1 SAH]],data_tracking[[#This Row],[112-FILSN2 SAH]],data_tracking[[#This Row],[113-FILSN3 SAH]])=0,\"\",SUM(data_tracking[[#This Row],[111-FILSN1 SAH]],data_tracking[[#This Row],[112-FILSN2 SAH]],data_tracking[[#This Row],[113-FILSN3 SAH]]))","v":""},{"$f":"IF(SUM(data_tracking[[#This Row],[111-FILSN1 Units]],data_tracking[[#This Row],[112-FILSN2 Units]],data_tracking[[#This Row],[113-FILSN3 Units]])=0,\"\",SUM(data_tracking[[#This Row],[111-FILSN1 Units]],data_tracking[[#This Row],[112-FILSN2 Units]],data_tracking[[#This Row],[113-FILSN3 Units]]))","v":""},{"$f":"IF(SUMIFS('2015 sah unit data'!B:B,'2015 sah unit data'!L:L,data_tracking[[#This Row],[year]],'2015 sah unit data'!K:K,data_tracking[[#This Row],[month]],'2015 sah unit data'!J:J,data_tracking[[#This Row],[week]])=0,\"\",SUMIFS('2015 sah unit data'!B:B,'2015 sah unit data'!L:L,data_tracking[[#This Row],[year]],'2015 sah unit data'!K:K,data_tracking[[#This Row],[month]],'2015 sah unit data'!J:J,data_tracking[[#This Row],[week]]))","v":""},{"$f":"IF(SUMIFS('2015 sah unit data'!C:C,'2015 sah unit data'!L:L,data_tracking[[#This Row],[year]],'2015 sah unit data'!K:K,data_tracking[[#This Row],[month]],'2015 sah unit data'!J:J,data_tracking[[#This Row],[week]])=0,\"\",SUMIFS('2015 sah unit data'!C:C,'2015 sah unit data'!L:L,data_tracking[[#This Row],[year]],'2015 sah unit data'!K:K,data_tracking[[#This Row],[month]],'2015 sah unit data'!J:J,data_tracking[[#This Row],[week]]))","v":""},{"$f":"IF(SUMIFS('2015 sah unit data'!D:D,'2015 sah unit data'!L:L,data_tracking[[#This Row],[year]],'2015 sah unit data'!K:K,data_tracking[[#This Row],[month]],'2015 sah unit data'!J:J,data_tracking[[#This Row],[week]])=0,\"\",SUMIFS('2015 sah unit data'!D:D,'2015 sah unit data'!L:L,data_tracking[[#This Row],[year]],'2015 sah unit data'!K:K,data_tracking[[#This Row],[month]],'2015 sah unit data'!J:J,data_tracking[[#This Row],[week]]))","v":""},{"$f":"IF(SUMIFS('2015 sah unit data'!E:E,'2015 sah unit data'!L:L,data_tracking[[#This Row],[year]],'2015 sah unit data'!K:K,data_tracking[[#This Row],[month]],'2015 sah unit data'!J:J,data_tracking[[#This Row],[week]])=0,\"\",SUMIFS('2015 sah unit data'!E:E,'2015 sah unit data'!L:L,data_tracking[[#This Row],[year]],'2015 sah unit data'!K:K,data_tracking[[#This Row],[month]],'2015 sah unit data'!J:J,data_tracking[[#This Row],[week]]))","v":""},{"$f":"IF(SUMIFS('2015 sah unit data'!F:F,'2015 sah unit data'!L:L,data_tracking[[#This Row],[year]],'2015 sah unit data'!K:K,data_tracking[[#This Row],[month]],'2015 sah unit data'!J:J,data_tracking[[#This Row],[week]])=0,\"\",SUMIFS('2015 sah unit data'!F:F,'2015 sah unit data'!L:L,data_tracking[[#This Row],[year]],'2015 sah unit data'!K:K,data_tracking[[#This Row],[month]],'2015 sah unit data'!J:J,data_tracking[[#This Row],[week]]))","v":""},{"$f":"IF(SUMIFS('2015 sah unit data'!G:G,'2015 sah unit data'!L:L,data_tracking[[#This Row],[year]],'2015 sah unit data'!K:K,data_tracking[[#This Row],[month]],'2015 sah unit data'!J:J,data_tracking[[#This Row],[week]])=0,\"\",SUMIFS('2015 sah unit data'!G:G,'2015 sah unit data'!L:L,data_tracking[[#This Row],[year]],'2015 sah unit data'!K:K,data_tracking[[#This Row],[month]],'2015 sah unit data'!J:J,data_tracking[[#This Row],[week]]))","v":""},null,{"$f":"SUMIFS('overhead costs data'!E:E,'overhead costs data'!C:C,data_tracking[[#This Row],[year]],'overhead costs data'!B:B,data_tracking[[#This Row],[month]])","v":0}]
[21,5,2017,43.30983492,23.765856839999994,{"$f":"IFERROR((data_tracking[[#This Row],[overhead]]+SUMIFS('labor costs data'!H:H,'labor costs data'!D:D,data_tracking[[#This Row],[year]],'labor costs data'!A:A,data_tracking[[#This Row],[week]]))/data_tracking[[#This Row],[SAH Completed (Total)]],\"\")","v":""},{"$f":"IFERROR(SUMIFS('labor costs data'!E:E,'labor costs data'!D:D,data_tracking[[#This Row],[year]],'labor costs data'!A:A,data_tracking[[#This Row],[week]])/data_tracking[[#This Row],[SAH Completed (Total)]],\"\")","v":""},{"$f":"IFERROR((data_tracking[[#This Row],[overhead]]+SUMIFS(labor_costs[total labor cost],labor_costs[year],data_tracking[[#This Row],[year]],labor_costs[week],data_tracking[[#This Row],[week]]))/data_tracking[[#This Row],[Units Completed (Total)]],\"\")","v":""},{"$f":"IF(SUM(data_tracking[[#This Row],[111-FILSN1 SAH]],data_tracking[[#This Row],[112-FILSN2 SAH]],data_tracking[[#This Row],[113-FILSN3 SAH]])=0,\"\",SUM(data_tracking[[#This Row],[111-FILSN1 SAH]],data_tracking[[#This Row],[112-FILSN2 SAH]],data_tracking[[#This Row],[113-FILSN3 SAH]]))","v":""},{"$f":"IF(SUM(data_tracking[[#This Row],[111-FILSN1 Units]],data_tracking[[#This Row],[112-FILSN2 Units]],data_tracking[[#This Row],[113-FILSN3 Units]])=0,\"\",SUM(data_tracking[[#This Row],[111-FILSN1 Units]],data_tracking[[#This Row],[112-FILSN2 Units]],data_tracking[[#This Row],[113-FILSN3 Units]]))","v":""},{"$f":"IF(SUMIFS('2015 sah unit data'!B:B,'2015 sah unit data'!L:L,data_tracking[[#This Row],[year]],'2015 sah unit data'!K:K,data_tracking[[#This Row],[month]],'2015 sah unit data'!J:J,data_tracking[[#This Row],[week]])=0,\"\",SUMIFS('2015 sah unit data'!B:B,'2015 sah unit data'!L:L,data_tracking[[#This Row],[year]],'2015 sah unit data'!K:K,data_tracking[[#This Row],[month]],'2015 sah unit data'!J:J,data_tracking[[#This Row],[week]]))","v":""},{"$f":"IF(SUMIFS('2015 sah unit data'!C:C,'2015 sah unit data'!L:L,data_tracking[[#This Row],[year]],'2015 sah unit data'!K:K,data_tracking[[#This Row],[month]],'2015 sah unit data'!J:J,data_tracking[[#This Row],[week]])=0,\"\",SUMIFS('2015 sah unit data'!C:C,'2015 sah unit data'!L:L,data_tracking[[#This Row],[year]],'2015 sah unit data'!K:K,data_tracking[[#This Row],[month]],'2015 sah unit data'!J:J,data_tracking[[#This Row],[week]]))","v":""},{"$f":"IF(SUMIFS('2015 sah unit data'!D:D,'2015 sah unit data'!L:L,data_tracking[[#This Row],[year]],'2015 sah unit data'!K:K,data_tracking[[#This Row],[month]],'2015 sah unit data'!J:J,data_tracking[[#This Row],[week]])=0,\"\",SUMIFS('2015 sah unit data'!D:D,'2015 sah unit data'!L:L,data_tracking[[#This Row],[year]],'2015 sah unit data'!K:K,data_tracking[[#This Row],[month]],'2015 sah unit data'!J:J,data_tracking[[#This Row],[week]]))","v":""},{"$f":"IF(SUMIFS('2015 sah unit data'!E:E,'2015 sah unit data'!L:L,data_tracking[[#This Row],[year]],'2015 sah unit data'!K:K,data_tracking[[#This Row],[month]],'2015 sah unit data'!J:J,data_tracking[[#This Row],[week]])=0,\"\",SUMIFS('2015 sah unit data'!E:E,'2015 sah unit data'!L:L,data_tracking[[#This Row],[year]],'2015 sah unit data'!K:K,data_tracking[[#This Row],[month]],'2015 sah unit data'!J:J,data_tracking[[#This Row],[week]]))","v":""},{"$f":"IF(SUMIFS('2015 sah unit data'!F:F,'2015 sah unit data'!L:L,data_tracking[[#This Row],[year]],'2015 sah unit data'!K:K,data_tracking[[#This Row],[month]],'2015 sah unit data'!J:J,data_tracking[[#This Row],[week]])=0,\"\",SUMIFS('2015 sah unit data'!F:F,'2015 sah unit data'!L:L,data_tracking[[#This Row],[year]],'2015 sah unit data'!K:K,data_tracking[[#This Row],[month]],'2015 sah unit data'!J:J,data_tracking[[#This Row],[week]]))","v":""},{"$f":"IF(SUMIFS('2015 sah unit data'!G:G,'2015 sah unit data'!L:L,data_tracking[[#This Row],[year]],'2015 sah unit data'!K:K,data_tracking[[#This Row],[month]],'2015 sah unit data'!J:J,data_tracking[[#This Row],[week]])=0,\"\",SUMIFS('2015 sah unit data'!G:G,'2015 sah unit data'!L:L,data_tracking[[#This Row],[year]],'2015 sah unit data'!K:K,data_tracking[[#This Row],[month]],'2015 sah unit data'!J:J,data_tracking[[#This Row],[week]]))","v":""},null,{"$f":"SUMIFS('overhead costs data'!E:E,'overhead costs data'!C:C,data_tracking[[#This Row],[year]],'overhead costs data'!B:B,data_tracking[[#This Row],[month]])","v":0}]
[22,5,2017,43.30983492,23.765856839999994,{"$f":"IFERROR((data_tracking[[#This Row],[overhead]]+SUMIFS('labor costs data'!H:H,'labor costs data'!D:D,data_tracking[[#This Row],[year]],'labor costs data'!A:A,data_tracking[[#This Row],[week]]))/data_tracking[[#This Row],[SAH Completed (Total)]],\"\")","v":""},{"$f":"IFERROR(SUMIFS('labor costs data'!E:E,'labor costs data'!D:D,data_tracking[[#This Row],[year]],'labor costs data'!A:A,data_tracking[[#This Row],[week]])/data_tracking[[#This Row],[SAH Completed (Total)]],\"\")","v":""},{"$f":"IFERROR((data_tracking[[#This Row],[overhead]]+SUMIFS(labor_costs[total labor cost],labor_costs[year],data_tracking[[#This Row],[year]],labor_costs[week],data_tracking[[#This Row],[week]]))/data_tracking[[#This Row],[Units Completed (Total)]],\"\")","v":""},{"$f":"IF(SUM(data_tracking[[#This Row],[111-FILSN1 SAH]],data_tracking[[#This Row],[112-FILSN2 SAH]],data_tracking[[#This Row],[113-FILSN3 SAH]])=0,\"\",SUM(data_tracking[[#This Row],[111-FILSN1 SAH]],data_tracking[[#This Row],[112-FILSN2 SAH]],data_tracking[[#This Row],[113-FILSN3 SAH]]))","v":""},{"$f":"IF(SUM(data_tracking[[#This Row],[111-FILSN1 Units]],data_tracking[[#This Row],[112-FILSN2 Units]],data_tracking[[#This Row],[113-FILSN3 Units]])=0,\"\",SUM(data_tracking[[#This Row],[111-FILSN1 Units]],data_tracking[[#This Row],[112-FILSN2 Units]],data_tracking[[#This Row],[113-FILSN3 Units]]))","v":""},{"$f":"IF(SUMIFS('2015 sah unit data'!B:B,'2015 sah unit data'!L:L,data_tracking[[#This Row],[year]],'2015 sah unit data'!K:K,data_tracking[[#This Row],[month]],'2015 sah unit data'!J:J,data_tracking[[#This Row],[week]])=0,\"\",SUMIFS('2015 sah unit data'!B:B,'2015 sah unit data'!L:L,data_tracking[[#This Row],[year]],'2015 sah unit data'!K:K,data_tracking[[#This Row],[month]],'2015 sah unit data'!J:J,data_tracking[[#This Row],[week]]))","v":""},{"$f":"IF(SUMIFS('2015 sah unit data'!C:C,'2015 sah unit data'!L:L,data_tracking[[#This Row],[year]],'2015 sah unit data'!K:K,data_tracking[[#This Row],[month]],'2015 sah unit data'!J:J,data_tracking[[#This Row],[week]])=0,\"\",SUMIFS('2015 sah unit data'!C:C,'2015 sah unit data'!L:L,data_tracking[[#This Row],[year]],'2015 sah unit data'!K:K,data_tracking[[#This Row],[month]],'2015 sah unit data'!J:J,data_tracking[[#This Row],[week]]))","v":""},{"$f":"IF(SUMIFS('2015 sah unit data'!D:D,'2015 sah unit data'!L:L,data_tracking[[#This Row],[year]],'2015 sah unit data'!K:K,data_tracking[[#This Row],[month]],'2015 sah unit data'!J:J,data_tracking[[#This Row],[week]])=0,\"\",SUMIFS('2015 sah unit data'!D:D,'2015 sah unit data'!L:L,data_tracking[[#This Row],[year]],'2015 sah unit data'!K:K,data_tracking[[#This Row],[month]],'2015 sah unit data'!J:J,data_tracking[[#This Row],[week]]))","v":""},{"$f":"IF(SUMIFS('2015 sah unit data'!E:E,'2015 sah unit data'!L:L,data_tracking[[#This Row],[year]],'2015 sah unit data'!K:K,data_tracking[[#This Row],[month]],'2015 sah unit data'!J:J,data_tracking[[#This Row],[week]])=0,\"\",SUMIFS('2015 sah unit data'!E:E,'2015 sah unit data'!L:L,data_tracking[[#This Row],[year]],'2015 sah unit data'!K:K,data_tracking[[#This Row],[month]],'2015 sah unit data'!J:J,data_tracking[[#This Row],[week]]))","v":""},{"$f":"IF(SUMIFS('2015 sah unit data'!F:F,'2015 sah unit data'!L:L,data_tracking[[#This Row],[year]],'2015 sah unit data'!K:K,data_tracking[[#This Row],[month]],'2015 sah unit data'!J:J,data_tracking[[#This Row],[week]])=0,\"\",SUMIFS('2015 sah unit data'!F:F,'2015 sah unit data'!L:L,data_tracking[[#This Row],[year]],'2015 sah unit data'!K:K,data_tracking[[#This Row],[month]],'2015 sah unit data'!J:J,data_tracking[[#This Row],[week]]))","v":""},{"$f":"IF(SUMIFS('2015 sah unit data'!G:G,'2015 sah unit data'!L:L,data_tracking[[#This Row],[year]],'2015 sah unit data'!K:K,data_tracking[[#This Row],[month]],'2015 sah unit data'!J:J,data_tracking[[#This Row],[week]])=0,\"\",SUMIFS('2015 sah unit data'!G:G,'2015 sah unit data'!L:L,data_tracking[[#This Row],[year]],'2015 sah unit data'!K:K,data_tracking[[#This Row],[month]],'2015 sah unit data'!J:J,data_tracking[[#This Row],[week]]))","v":""},null,{"$f":"SUMIFS('overhead costs data'!E:E,'overhead costs data'!C:C,data_tracking[[#This Row],[year]],'overhead costs data'!B:B,data_tracking[[#This Row],[month]])","v":0}]
[23,5,2017,43.30983492,23.765856839999994,{"$f":"IFERROR((data_tracking[[#This Row],[overhead]]+SUMIFS('labor costs data'!H:H,'labor costs data'!D:D,data_tracking[[#This Row],[year]],'labor costs data'!A:A,data_tracking[[#This Row],[week]]))/data_tracking[[#This Row],[SAH Completed (Total)]],\"\")","v":""},{"$f":"IFERROR(SUMIFS('labor costs data'!E:E,'labor costs data'!D:D,data_tracking[[#This Row],[year]],'labor costs data'!A:A,data_tracking[[#This Row],[week]])/data_tracking[[#This Row],[SAH Completed (Total)]],\"\")","v":""},{"$f":"IFERROR((data_tracking[[#This Row],[overhead]]+SUMIFS(labor_costs[total labor cost],labor_costs[year],data_tracking[[#This Row],[year]],labor_costs[week],data_tracking[[#This Row],[week]]))/data_tracking[[#This Row],[Units Completed (Total)]],\"\")","v":""},{"$f":"IF(SUM(data_tracking[[#This Row],[111-FILSN1 SAH]],data_tracking[[#This Row],[112-FILSN2 SAH]],data_tracking[[#This Row],[113-FILSN3 SAH]])=0,\"\",SUM(data_tracking[[#This Row],[111-FILSN1 SAH]],data_tracking[[#This Row],[112-FILSN2 SAH]],data_tracking[[#This Row],[113-FILSN3 SAH]]))","v":""},{"$f":"IF(SUM(data_tracking[[#This Row],[111-FILSN1 Units]],data_tracking[[#This Row],[112-FILSN2 Units]],data_tracking[[#This Row],[113-FILSN3 Units]])=0,\"\",SUM(data_tracking[[#This Row],[111-FILSN1 Units]],data_tracking[[#This Row],[112-FILSN2 Units]],data_tracking[[#This Row],[113-FILSN3 Units]]))","v":""},{"$f":"IF(SUMIFS('2015 sah unit data'!B:B,'2015 sah unit data'!L:L,data_tracking[[#This Row],[year]],'2015 sah unit data'!K:K,data_tracking[[#This Row],[month]],'2015 sah unit data'!J:J,data_tracking[[#This Row],[week]])=0,\"\",SUMIFS('2015 sah unit data'!B:B,'2015 sah unit data'!L:L,data_tracking[[#This Row],[year]],'2015 sah unit data'!K:K,data_tracking[[#This Row],[month]],'2015 sah unit data'!J:J,data_tracking[[#This Row],[week]]))","v":""},{"$f":"IF(SUMIFS('2015 sah unit data'!C:C,'2015 sah unit data'!L:L,data_tracking[[#This Row],[year]],'2015 sah unit data'!K:K,data_tracking[[#This Row],[month]],'2015 sah unit data'!J:J,data_tracking[[#This Row],[week]])=0,\"\",SUMIFS('2015 sah unit data'!C:C,'2015 sah unit data'!L:L,data_tracking[[#This Row],[year]],'2015 sah unit data'!K:K,data_tracking[[#This Row],[month]],'2015 sah unit data'!J:J,data_tracking[[#This Row],[week]]))","v":""},{"$f":"IF(SUMIFS('2015 sah unit data'!D:D,'2015 sah unit data'!L:L,data_tracking[[#This Row],[year]],'2015 sah unit data'!K:K,data_tracking[[#This Row],[month]],'2015 sah unit data'!J:J,data_tracking[[#This Row],[week]])=0,\"\",SUMIFS('2015 sah unit data'!D:D,'2015 sah unit data'!L:L,data_tracking[[#This Row],[year]],'2015 sah unit data'!K:K,data_tracking[[#This Row],[month]],'2015 sah unit data'!J:J,data_tracking[[#This Row],[week]]))","v":""},{"$f":"IF(SUMIFS('2015 sah unit data'!E:E,'2015 sah unit data'!L:L,data_tracking[[#This Row],[year]],'2015 sah unit data'!K:K,data_tracking[[#This Row],[month]],'2015 sah unit data'!J:J,data_tracking[[#This Row],[week]])=0,\"\",SUMIFS('2015 sah unit data'!E:E,'2015 sah unit data'!L:L,data_tracking[[#This Row],[year]],'2015 sah unit data'!K:K,data_tracking[[#This Row],[month]],'2015 sah unit data'!J:J,data_tracking[[#This Row],[week]]))","v":""},{"$f":"IF(SUMIFS('2015 sah unit data'!F:F,'2015 sah unit data'!L:L,data_tracking[[#This Row],[year]],'2015 sah unit data'!K:K,data_tracking[[#This Row],[month]],'2015 sah unit data'!J:J,data_tracking[[#This Row],[week]])=0,\"\",SUMIFS('2015 sah unit data'!F:F,'2015 sah unit data'!L:L,data_tracking[[#This Row],[year]],'2015 sah unit data'!K:K,data_tracking[[#This Row],[month]],'2015 sah unit data'!J:J,data_tracking[[#This Row],[week]]))","v":""},{"$f":"IF(SUMIFS('2015 sah unit data'!G:G,'2015 sah unit data'!L:L,data_tracking[[#This Row],[year]],'2015 sah unit data'!K:K,data_tracking[[#This Row],[month]],'2015 sah unit data'!J:J,data_tracking[[#This Row],[week]])=0,\"\",SUMIFS('2015 sah unit data'!G:G,'2015 sah unit data'!L:L,data_tracking[[#This Row],[year]],'2015 sah unit data'!K:K,data_tracking[[#This Row],[month]],'2015 sah unit data'!J:J,data_tracking[[#This Row],[week]]))","v":""},null,{"$f":"SUMIFS('overhead costs data'!E:E,'overhead costs data'!C:C,data_tracking[[#This Row],[year]],'overhead costs data'!B:B,data_tracking[[#This Row],[month]])","v":0}]
[24,6,2017,43.30983492,23.765856839999994,{"$f":"IFERROR((data_tracking[[#This Row],[overhead]]+SUMIFS('labor costs data'!H:H,'labor costs data'!D:D,data_tracking[[#This Row],[year]],'labor costs data'!A:A,data_tracking[[#This Row],[week]]))/data_tracking[[#This Row],[SAH Completed (Total)]],\"\")","v":""},{"$f":"IFERROR(SUMIFS('labor costs data'!E:E,'labor costs data'!D:D,data_tracking[[#This Row],[year]],'labor costs data'!A:A,data_tracking[[#This Row],[week]])/data_tracking[[#This Row],[SAH Completed (Total)]],\"\")","v":""},{"$f":"IFERROR((data_tracking[[#This Row],[overhead]]+SUMIFS(labor_costs[total labor cost],labor_costs[year],data_tracking[[#This Row],[year]],labor_costs[week],data_tracking[[#This Row],[week]]))/data_tracking[[#This Row],[Units Completed (Total)]],\"\")","v":""},{"$f":"IF(SUM(data_tracking[[#This Row],[111-FILSN1 SAH]],data_tracking[[#This Row],[112-FILSN2 SAH]],data_tracking[[#This Row],[113-FILSN3 SAH]])=0,\"\",SUM(data_tracking[[#This Row],[111-FILSN1 SAH]],data_tracking[[#This Row],[112-FILSN2 SAH]],data_tracking[[#This Row],[113-FILSN3 SAH]]))","v":""},{"$f":"IF(SUM(data_tracking[[#This Row],[111-FILSN1 Units]],data_tracking[[#This Row],[112-FILSN2 Units]],data_tracking[[#This Row],[113-FILSN3 Units]])=0,\"\",SUM(data_tracking[[#This Row],[111-FILSN1 Units]],data_tracking[[#This Row],[112-FILSN2 Units]],data_tracking[[#This Row],[113-FILSN3 Units]]))","v":""},{"$f":"IF(SUMIFS('2015 sah unit data'!B:B,'2015 sah unit data'!L:L,data_tracking[[#This Row],[year]],'2015 sah unit data'!K:K,data_tracking[[#This Row],[month]],'2015 sah unit data'!J:J,data_tracking[[#This Row],[week]])=0,\"\",SUMIFS('2015 sah unit data'!B:B,'2015 sah unit data'!L:L,data_tracking[[#This Row],[year]],'2015 sah unit data'!K:K,data_tracking[[#This Row],[month]],'2015 sah unit data'!J:J,data_tracking[[#This Row],[week]]))","v":""},{"$f":"IF(SUMIFS('2015 sah unit data'!C:C,'2015 sah unit data'!L:L,data_tracking[[#This Row],[year]],'2015 sah unit data'!K:K,data_tracking[[#This Row],[month]],'2015 sah unit data'!J:J,data_tracking[[#This Row],[week]])=0,\"\",SUMIFS('2015 sah unit data'!C:C,'2015 sah unit data'!L:L,data_tracking[[#This Row],[year]],'2015 sah unit data'!K:K,data_tracking[[#This Row],[month]],'2015 sah unit data'!J:J,data_tracking[[#This Row],[week]]))","v":""},{"$f":"IF(SUMIFS('2015 sah unit data'!D:D,'2015 sah unit data'!L:L,data_tracking[[#This Row],[year]],'2015 sah unit data'!K:K,data_tracking[[#This Row],[month]],'2015 sah unit data'!J:J,data_tracking[[#This Row],[week]])=0,\"\",SUMIFS('2015 sah unit data'!D:D,'2015 sah unit data'!L:L,data_tracking[[#This Row],[year]],'2015 sah unit data'!K:K,data_tracking[[#This Row],[month]],'2015 sah unit data'!J:J,data_tracking[[#This Row],[week]]))","v":""},{"$f":"IF(SUMIFS('2015 sah unit data'!E:E,'2015 sah unit data'!L:L,data_tracking[[#This Row],[year]],'2015 sah unit data'!K:K,data_tracking[[#This Row],[month]],'2015 sah unit data'!J:J,data_tracking[[#This Row],[week]])=0,\"\",SUMIFS('2015 sah unit data'!E:E,'2015 sah unit data'!L:L,data_tracking[[#This Row],[year]],'2015 sah unit data'!K:K,data_tracking[[#This Row],[month]],'2015 sah unit data'!J:J,data_tracking[[#This Row],[week]]))","v":""},{"$f":"IF(SUMIFS('2015 sah unit data'!F:F,'2015 sah unit data'!L:L,data_tracking[[#This Row],[year]],'2015 sah unit data'!K:K,data_tracking[[#This Row],[month]],'2015 sah unit data'!J:J,data_tracking[[#This Row],[week]])=0,\"\",SUMIFS('2015 sah unit data'!F:F,'2015 sah unit data'!L:L,data_tracking[[#This Row],[year]],'2015 sah unit data'!K:K,data_tracking[[#This Row],[month]],'2015 sah unit data'!J:J,data_tracking[[#This Row],[week]]))","v":""},{"$f":"IF(SUMIFS('2015 sah unit data'!G:G,'2015 sah unit data'!L:L,data_tracking[[#This Row],[year]],'2015 sah unit data'!K:K,data_tracking[[#This Row],[month]],'2015 sah unit data'!J:J,data_tracking[[#This Row],[week]])=0,\"\",SUMIFS('2015 sah unit data'!G:G,'2015 sah unit data'!L:L,data_tracking[[#This Row],[year]],'2015 sah unit data'!K:K,data_tracking[[#This Row],[month]],'2015 sah unit data'!J:J,data_tracking[[#This Row],[week]]))","v":""},null,{"$f":"SUMIFS('overhead costs data'!E:E,'overhead costs data'!C:C,data_tracking[[#This Row],[year]],'overhead costs data'!B:B,data_tracking[[#This Row],[month]])","v":0}]
[25,6,2017,43.30983492,23.765856839999994,{"$f":"IFERROR((data_tracking[[#This Row],[overhead]]+SUMIFS('labor costs data'!H:H,'labor costs data'!D:D,data_tracking[[#This Row],[year]],'labor costs data'!A:A,data_tracking[[#This Row],[week]]))/data_tracking[[#This Row],[SAH Completed (Total)]],\"\")","v":""},{"$f":"IFERROR(SUMIFS('labor costs data'!E:E,'labor costs data'!D:D,data_tracking[[#This Row],[year]],'labor costs data'!A:A,data_tracking[[#This Row],[week]])/data_tracking[[#This Row],[SAH Completed (Total)]],\"\")","v":""},{"$f":"IFERROR((data_tracking[[#This Row],[overhead]]+SUMIFS(labor_costs[total labor cost],labor_costs[year],data_tracking[[#This Row],[year]],labor_costs[week],data_tracking[[#This Row],[week]]))/data_tracking[[#This Row],[Units Completed (Total)]],\"\")","v":""},{"$f":"IF(SUM(data_tracking[[#This Row],[111-FILSN1 SAH]],data_tracking[[#This Row],[112-FILSN2 SAH]],data_tracking[[#This Row],[113-FILSN3 SAH]])=0,\"\",SUM(data_tracking[[#This Row],[111-FILSN1 SAH]],data_tracking[[#This Row],[112-FILSN2 SAH]],data_tracking[[#This Row],[113-FILSN3 SAH]]))","v":""},{"$f":"IF(SUM(data_tracking[[#This Row],[111-FILSN1 Units]],data_tracking[[#This Row],[112-FILSN2 Units]],data_tracking[[#This Row],[113-FILSN3 Units]])=0,\"\",SUM(data_tracking[[#This Row],[111-FILSN1 Units]],data_tracking[[#This Row],[112-FILSN2 Units]],data_tracking[[#This Row],[113-FILSN3 Units]]))","v":""},{"$f":"IF(SUMIFS('2015 sah unit data'!B:B,'2015 sah unit data'!L:L,data_tracking[[#This Row],[year]],'2015 sah unit data'!K:K,data_tracking[[#This Row],[month]],'2015 sah unit data'!J:J,data_tracking[[#This Row],[week]])=0,\"\",SUMIFS('2015 sah unit data'!B:B,'2015 sah unit data'!L:L,data_tracking[[#This Row],[year]],'2015 sah unit data'!K:K,data_tracking[[#This Row],[month]],'2015 sah unit data'!J:J,data_tracking[[#This Row],[week]]))","v":""},{"$f":"IF(SUMIFS('2015 sah unit data'!C:C,'2015 sah unit data'!L:L,data_tracking[[#This Row],[year]],'2015 sah unit data'!K:K,data_tracking[[#This Row],[month]],'2015 sah unit data'!J:J,data_tracking[[#This Row],[week]])=0,\"\",SUMIFS('2015 sah unit data'!C:C,'2015 sah unit data'!L:L,data_tracking[[#This Row],[year]],'2015 sah unit data'!K:K,data_tracking[[#This Row],[month]],'2015 sah unit data'!J:J,data_tracking[[#This Row],[week]]))","v":""},{"$f":"IF(SUMIFS('2015 sah unit data'!D:D,'2015 sah unit data'!L:L,data_tracking[[#This Row],[year]],'2015 sah unit data'!K:K,data_tracking[[#This Row],[month]],'2015 sah unit data'!J:J,data_tracking[[#This Row],[week]])=0,\"\",SUMIFS('2015 sah unit data'!D:D,'2015 sah unit data'!L:L,data_tracking[[#This Row],[year]],'2015 sah unit data'!K:K,data_tracking[[#This Row],[month]],'2015 sah unit data'!J:J,data_tracking[[#This Row],[week]]))","v":""},{"$f":"IF(SUMIFS('2015 sah unit data'!E:E,'2015 sah unit data'!L:L,data_tracking[[#This Row],[year]],'2015 sah unit data'!K:K,data_tracking[[#This Row],[month]],'2015 sah unit data'!J:J,data_tracking[[#This Row],[week]])=0,\"\",SUMIFS('2015 sah unit data'!E:E,'2015 sah unit data'!L:L,data_tracking[[#This Row],[year]],'2015 sah unit data'!K:K,data_tracking[[#This Row],[month]],'2015 sah unit data'!J:J,data_tracking[[#This Row],[week]]))","v":""},{"$f":"IF(SUMIFS('2015 sah unit data'!F:F,'2015 sah unit data'!L:L,data_tracking[[#This Row],[year]],'2015 sah unit data'!K:K,data_tracking[[#This Row],[month]],'2015 sah unit data'!J:J,data_tracking[[#This Row],[week]])=0,\"\",SUMIFS('2015 sah unit data'!F:F,'2015 sah unit data'!L:L,data_tracking[[#This Row],[year]],'2015 sah unit data'!K:K,data_tracking[[#This Row],[month]],'2015 sah unit data'!J:J,data_tracking[[#This Row],[week]]))","v":""},{"$f":"IF(SUMIFS('2015 sah unit data'!G:G,'2015 sah unit data'!L:L,data_tracking[[#This Row],[year]],'2015 sah unit data'!K:K,data_tracking[[#This Row],[month]],'2015 sah unit data'!J:J,data_tracking[[#This Row],[week]])=0,\"\",SUMIFS('2015 sah unit data'!G:G,'2015 sah unit data'!L:L,data_tracking[[#This Row],[year]],'2015 sah unit data'!K:K,data_tracking[[#This Row],[month]],'2015 sah unit data'!J:J,data_tracking[[#This Row],[week]]))","v":""},null,{"$f":"SUMIFS('overhead costs data'!E:E,'overhead costs data'!C:C,data_tracking[[#This Row],[year]],'overhead costs data'!B:B,data_tracking[[#This Row],[month]])","v":0}]
[26,6,2017,43.30983492,23.765856839999994,{"$f":"IFERROR((data_tracking[[#This Row],[overhead]]+SUMIFS('labor costs data'!H:H,'labor costs data'!D:D,data_tracking[[#This Row],[year]],'labor costs data'!A:A,data_tracking[[#This Row],[week]]))/data_tracking[[#This Row],[SAH Completed (Total)]],\"\")","v":""},{"$f":"IFERROR(SUMIFS('labor costs data'!E:E,'labor costs data'!D:D,data_tracking[[#This Row],[year]],'labor costs data'!A:A,data_tracking[[#This Row],[week]])/data_tracking[[#This Row],[SAH Completed (Total)]],\"\")","v":""},{"$f":"IFERROR((data_tracking[[#This Row],[overhead]]+SUMIFS(labor_costs[total labor cost],labor_costs[year],data_tracking[[#This Row],[year]],labor_costs[week],data_tracking[[#This Row],[week]]))/data_tracking[[#This Row],[Units Completed (Total)]],\"\")","v":""},{"$f":"IF(SUM(data_tracking[[#This Row],[111-FILSN1 SAH]],data_tracking[[#This Row],[112-FILSN2 SAH]],data_tracking[[#This Row],[113-FILSN3 SAH]])=0,\"\",SUM(data_tracking[[#This Row],[111-FILSN1 SAH]],data_tracking[[#This Row],[112-FILSN2 SAH]],data_tracking[[#This Row],[113-FILSN3 SAH]]))","v":""},{"$f":"IF(SUM(data_tracking[[#This Row],[111-FILSN1 Units]],data_tracking[[#This Row],[112-FILSN2 Units]],data_tracking[[#This Row],[113-FILSN3 Units]])=0,\"\",SUM(data_tracking[[#This Row],[111-FILSN1 Units]],data_tracking[[#This Row],[112-FILSN2 Units]],data_tracking[[#This Row],[113-FILSN3 Units]]))","v":""},{"$f":"IF(SUMIFS('2015 sah unit data'!B:B,'2015 sah unit data'!L:L,data_tracking[[#This Row],[year]],'2015 sah unit data'!K:K,data_tracking[[#This Row],[month]],'2015 sah unit data'!J:J,data_tracking[[#This Row],[week]])=0,\"\",SUMIFS('2015 sah unit data'!B:B,'2015 sah unit data'!L:L,data_tracking[[#This Row],[year]],'2015 sah unit data'!K:K,data_tracking[[#This Row],[month]],'2015 sah unit data'!J:J,data_tracking[[#This Row],[week]]))","v":""},{"$f":"IF(SUMIFS('2015 sah unit data'!C:C,'2015 sah unit data'!L:L,data_tracking[[#This Row],[year]],'2015 sah unit data'!K:K,data_tracking[[#This Row],[month]],'2015 sah unit data'!J:J,data_tracking[[#This Row],[week]])=0,\"\",SUMIFS('2015 sah unit data'!C:C,'2015 sah unit data'!L:L,data_tracking[[#This Row],[year]],'2015 sah unit data'!K:K,data_tracking[[#This Row],[month]],'2015 sah unit data'!J:J,data_tracking[[#This Row],[week]]))","v":""},{"$f":"IF(SUMIFS('2015 sah unit data'!D:D,'2015 sah unit data'!L:L,data_tracking[[#This Row],[year]],'2015 sah unit data'!K:K,data_tracking[[#This Row],[month]],'2015 sah unit data'!J:J,data_tracking[[#This Row],[week]])=0,\"\",SUMIFS('2015 sah unit data'!D:D,'2015 sah unit data'!L:L,data_tracking[[#This Row],[year]],'2015 sah unit data'!K:K,data_tracking[[#This Row],[month]],'2015 sah unit data'!J:J,data_tracking[[#This Row],[week]]))","v":""},{"$f":"IF(SUMIFS('2015 sah unit data'!E:E,'2015 sah unit data'!L:L,data_tracking[[#This Row],[year]],'2015 sah unit data'!K:K,data_tracking[[#This Row],[month]],'2015 sah unit data'!J:J,data_tracking[[#This Row],[week]])=0,\"\",SUMIFS('2015 sah unit data'!E:E,'2015 sah unit data'!L:L,data_tracking[[#This Row],[year]],'2015 sah unit data'!K:K,data_tracking[[#This Row],[month]],'2015 sah unit data'!J:J,data_tracking[[#This Row],[week]]))","v":""},{"$f":"IF(SUMIFS('2015 sah unit data'!F:F,'2015 sah unit data'!L:L,data_tracking[[#This Row],[year]],'2015 sah unit data'!K:K,data_tracking[[#This Row],[month]],'2015 sah unit data'!J:J,data_tracking[[#This Row],[week]])=0,\"\",SUMIFS('2015 sah unit data'!F:F,'2015 sah unit data'!L:L,data_tracking[[#This Row],[year]],'2015 sah unit data'!K:K,data_tracking[[#This Row],[month]],'2015 sah unit data'!J:J,data_tracking[[#This Row],[week]]))","v":""},{"$f":"IF(SUMIFS('2015 sah unit data'!G:G,'2015 sah unit data'!L:L,data_tracking[[#This Row],[year]],'2015 sah unit data'!K:K,data_tracking[[#This Row],[month]],'2015 sah unit data'!J:J,data_tracking[[#This Row],[week]])=0,\"\",SUMIFS('2015 sah unit data'!G:G,'2015 sah unit data'!L:L,data_tracking[[#This Row],[year]],'2015 sah unit data'!K:K,data_tracking[[#This Row],[month]],'2015 sah unit data'!J:J,data_tracking[[#This Row],[week]]))","v":""},null,{"$f":"SUMIFS('overhead costs data'!E:E,'overhead costs data'!C:C,data_tracking[[#This Row],[year]],'overhead costs data'!B:B,data_tracking[[#This Row],[month]])","v":0}]
[27,6,2017,43.30983492,23.765856839999994,{"$f":"IFERROR((data_tracking[[#This Row],[overhead]]+SUMIFS('labor costs data'!H:H,'labor costs data'!D:D,data_tracking[[#This Row],[year]],'labor costs data'!A:A,data_tracking[[#This Row],[week]]))/data_tracking[[#This Row],[SAH Completed (Total)]],\"\")","v":""},{"$f":"IFERROR(SUMIFS('labor costs data'!E:E,'labor costs data'!D:D,data_tracking[[#This Row],[year]],'labor costs data'!A:A,data_tracking[[#This Row],[week]])/data_tracking[[#This Row],[SAH Completed (Total)]],\"\")","v":""},{"$f":"IFERROR((data_tracking[[#This Row],[overhead]]+SUMIFS(labor_costs[total labor cost],labor_costs[year],data_tracking[[#This Row],[year]],labor_costs[week],data_tracking[[#This Row],[week]]))/data_tracking[[#This Row],[Units Completed (Total)]],\"\")","v":""},{"$f":"IF(SUM(data_tracking[[#This Row],[111-FILSN1 SAH]],data_tracking[[#This Row],[112-FILSN2 SAH]],data_tracking[[#This Row],[113-FILSN3 SAH]])=0,\"\",SUM(data_tracking[[#This Row],[111-FILSN1 SAH]],data_tracking[[#This Row],[112-FILSN2 SAH]],data_tracking[[#This Row],[113-FILSN3 SAH]]))","v":""},{"$f":"IF(SUM(data_tracking[[#This Row],[111-FILSN1 Units]],data_tracking[[#This Row],[112-FILSN2 Units]],data_tracking[[#This Row],[113-FILSN3 Units]])=0,\"\",SUM(data_tracking[[#This Row],[111-FILSN1 Units]],data_tracking[[#This Row],[112-FILSN2 Units]],data_tracking[[#This Row],[113-FILSN3 Units]]))","v":""},{"$f":"IF(SUMIFS('2015 sah unit data'!B:B,'2015 sah unit data'!L:L,data_tracking[[#This Row],[year]],'2015 sah unit data'!K:K,data_tracking[[#This Row],[month]],'2015 sah unit data'!J:J,data_tracking[[#This Row],[week]])=0,\"\",SUMIFS('2015 sah unit data'!B:B,'2015 sah unit data'!L:L,data_tracking[[#This Row],[year]],'2015 sah unit data'!K:K,data_tracking[[#This Row],[month]],'2015 sah unit data'!J:J,data_tracking[[#This Row],[week]]))","v":""},{"$f":"IF(SUMIFS('2015 sah unit data'!C:C,'2015 sah unit data'!L:L,data_tracking[[#This Row],[year]],'2015 sah unit data'!K:K,data_tracking[[#This Row],[month]],'2015 sah unit data'!J:J,data_tracking[[#This Row],[week]])=0,\"\",SUMIFS('2015 sah unit data'!C:C,'2015 sah unit data'!L:L,data_tracking[[#This Row],[year]],'2015 sah unit data'!K:K,data_tracking[[#This Row],[month]],'2015 sah unit data'!J:J,data_tracking[[#This Row],[week]]))","v":""},{"$f":"IF(SUMIFS('2015 sah unit data'!D:D,'2015 sah unit data'!L:L,data_tracking[[#This Row],[year]],'2015 sah unit data'!K:K,data_tracking[[#This Row],[month]],'2015 sah unit data'!J:J,data_tracking[[#This Row],[week]])=0,\"\",SUMIFS('2015 sah unit data'!D:D,'2015 sah unit data'!L:L,data_tracking[[#This Row],[year]],'2015 sah unit data'!K:K,data_tracking[[#This Row],[month]],'2015 sah unit data'!J:J,data_tracking[[#This Row],[week]]))","v":""},{"$f":"IF(SUMIFS('2015 sah unit data'!E:E,'2015 sah unit data'!L:L,data_tracking[[#This Row],[year]],'2015 sah unit data'!K:K,data_tracking[[#This Row],[month]],'2015 sah unit data'!J:J,data_tracking[[#This Row],[week]])=0,\"\",SUMIFS('2015 sah unit data'!E:E,'2015 sah unit data'!L:L,data_tracking[[#This Row],[year]],'2015 sah unit data'!K:K,data_tracking[[#This Row],[month]],'2015 sah unit data'!J:J,data_tracking[[#This Row],[week]]))","v":""},{"$f":"IF(SUMIFS('2015 sah unit data'!F:F,'2015 sah unit data'!L:L,data_tracking[[#This Row],[year]],'2015 sah unit data'!K:K,data_tracking[[#This Row],[month]],'2015 sah unit data'!J:J,data_tracking[[#This Row],[week]])=0,\"\",SUMIFS('2015 sah unit data'!F:F,'2015 sah unit data'!L:L,data_tracking[[#This Row],[year]],'2015 sah unit data'!K:K,data_tracking[[#This Row],[month]],'2015 sah unit data'!J:J,data_tracking[[#This Row],[week]]))","v":""},{"$f":"IF(SUMIFS('2015 sah unit data'!G:G,'2015 sah unit data'!L:L,data_tracking[[#This Row],[year]],'2015 sah unit data'!K:K,data_tracking[[#This Row],[month]],'2015 sah unit data'!J:J,data_tracking[[#This Row],[week]])=0,\"\",SUMIFS('2015 sah unit data'!G:G,'2015 sah unit data'!L:L,data_tracking[[#This Row],[year]],'2015 sah unit data'!K:K,data_tracking[[#This Row],[month]],'2015 sah unit data'!J:J,data_tracking[[#This Row],[week]]))","v":""},null,{"$f":"SUMIFS('overhead costs data'!E:E,'overhead costs data'!C:C,data_tracking[[#This Row],[year]],'overhead costs data'!B:B,data_tracking[[#This Row],[month]])","v":0}]
[28,7,2017,43.30983492,23.765856839999994,{"$f":"IFERROR((data_tracking[[#This Row],[overhead]]+SUMIFS('labor costs data'!H:H,'labor costs data'!D:D,data_tracking[[#This Row],[year]],'labor costs data'!A:A,data_tracking[[#This Row],[week]]))/data_tracking[[#This Row],[SAH Completed (Total)]],\"\")","v":""},{"$f":"IFERROR(SUMIFS('labor costs data'!E:E,'labor costs data'!D:D,data_tracking[[#This Row],[year]],'labor costs data'!A:A,data_tracking[[#This Row],[week]])/data_tracking[[#This Row],[SAH Completed (Total)]],\"\")","v":""},{"$f":"IFERROR((data_tracking[[#This Row],[overhead]]+SUMIFS(labor_costs[total labor cost],labor_costs[year],data_tracking[[#This Row],[year]],labor_costs[week],data_tracking[[#This Row],[week]]))/data_tracking[[#This Row],[Units Completed (Total)]],\"\")","v":""},{"$f":"IF(SUM(data_tracking[[#This Row],[111-FILSN1 SAH]],data_tracking[[#This Row],[112-FILSN2 SAH]],data_tracking[[#This Row],[113-FILSN3 SAH]])=0,\"\",SUM(data_tracking[[#This Row],[111-FILSN1 SAH]],data_tracking[[#This Row],[112-FILSN2 SAH]],data_tracking[[#This Row],[113-FILSN3 SAH]]))","v":""},{"$f":"IF(SUM(data_tracking[[#This Row],[111-FILSN1 Units]],data_tracking[[#This Row],[112-FILSN2 Units]],data_tracking[[#This Row],[113-FILSN3 Units]])=0,\"\",SUM(data_tracking[[#This Row],[111-FILSN1 Units]],data_tracking[[#This Row],[112-FILSN2 Units]],data_tracking[[#This Row],[113-FILSN3 Units]]))","v":""},{"$f":"IF(SUMIFS('2015 sah unit data'!B:B,'2015 sah unit data'!L:L,data_tracking[[#This Row],[year]],'2015 sah unit data'!K:K,data_tracking[[#This Row],[month]],'2015 sah unit data'!J:J,data_tracking[[#This Row],[week]])=0,\"\",SUMIFS('2015 sah unit data'!B:B,'2015 sah unit data'!L:L,data_tracking[[#This Row],[year]],'2015 sah unit data'!K:K,data_tracking[[#This Row],[month]],'2015 sah unit data'!J:J,data_tracking[[#This Row],[week]]))","v":""},{"$f":"IF(SUMIFS('2015 sah unit data'!C:C,'2015 sah unit data'!L:L,data_tracking[[#This Row],[year]],'2015 sah unit data'!K:K,data_tracking[[#This Row],[month]],'2015 sah unit data'!J:J,data_tracking[[#This Row],[week]])=0,\"\",SUMIFS('2015 sah unit data'!C:C,'2015 sah unit data'!L:L,data_tracking[[#This Row],[year]],'2015 sah unit data'!K:K,data_tracking[[#This Row],[month]],'2015 sah unit data'!J:J,data_tracking[[#This Row],[week]]))","v":""},{"$f":"IF(SUMIFS('2015 sah unit data'!D:D,'2015 sah unit data'!L:L,data_tracking[[#This Row],[year]],'2015 sah unit data'!K:K,data_tracking[[#This Row],[month]],'2015 sah unit data'!J:J,data_tracking[[#This Row],[week]])=0,\"\",SUMIFS('2015 sah unit data'!D:D,'2015 sah unit data'!L:L,data_tracking[[#This Row],[year]],'2015 sah unit data'!K:K,data_tracking[[#This Row],[month]],'2015 sah unit data'!J:J,data_tracking[[#This Row],[week]]))","v":""},{"$f":"IF(SUMIFS('2015 sah unit data'!E:E,'2015 sah unit data'!L:L,data_tracking[[#This Row],[year]],'2015 sah unit data'!K:K,data_tracking[[#This Row],[month]],'2015 sah unit data'!J:J,data_tracking[[#This Row],[week]])=0,\"\",SUMIFS('2015 sah unit data'!E:E,'2015 sah unit data'!L:L,data_tracking[[#This Row],[year]],'2015 sah unit data'!K:K,data_tracking[[#This Row],[month]],'2015 sah unit data'!J:J,data_tracking[[#This Row],[week]]))","v":""},{"$f":"IF(SUMIFS('2015 sah unit data'!F:F,'2015 sah unit data'!L:L,data_tracking[[#This Row],[year]],'2015 sah unit data'!K:K,data_tracking[[#This Row],[month]],'2015 sah unit data'!J:J,data_tracking[[#This Row],[week]])=0,\"\",SUMIFS('2015 sah unit data'!F:F,'2015 sah unit data'!L:L,data_tracking[[#This Row],[year]],'2015 sah unit data'!K:K,data_tracking[[#This Row],[month]],'2015 sah unit data'!J:J,data_tracking[[#This Row],[week]]))","v":""},{"$f":"IF(SUMIFS('2015 sah unit data'!G:G,'2015 sah unit data'!L:L,data_tracking[[#This Row],[year]],'2015 sah unit data'!K:K,data_tracking[[#This Row],[month]],'2015 sah unit data'!J:J,data_tracking[[#This Row],[week]])=0,\"\",SUMIFS('2015 sah unit data'!G:G,'2015 sah unit data'!L:L,data_tracking[[#This Row],[year]],'2015 sah unit data'!K:K,data_tracking[[#This Row],[month]],'2015 sah unit data'!J:J,data_tracking[[#This Row],[week]]))","v":""},null,{"$f":"SUMIFS('overhead costs data'!E:E,'overhead costs data'!C:C,data_tracking[[#This Row],[year]],'overhead costs data'!B:B,data_tracking[[#This Row],[month]])","v":0}]
[29,7,2017,43.30983492,23.765856839999994,{"$f":"IFERROR((data_tracking[[#This Row],[overhead]]+SUMIFS('labor costs data'!H:H,'labor costs data'!D:D,data_tracking[[#This Row],[year]],'labor costs data'!A:A,data_tracking[[#This Row],[week]]))/data_tracking[[#This Row],[SAH Completed (Total)]],\"\")","v":""},{"$f":"IFERROR(SUMIFS('labor costs data'!E:E,'labor costs data'!D:D,data_tracking[[#This Row],[year]],'labor costs data'!A:A,data_tracking[[#This Row],[week]])/data_tracking[[#This Row],[SAH Completed (Total)]],\"\")","v":""},{"$f":"IFERROR((data_tracking[[#This Row],[overhead]]+SUMIFS(labor_costs[total labor cost],labor_costs[year],data_tracking[[#This Row],[year]],labor_costs[week],data_tracking[[#This Row],[week]]))/data_tracking[[#This Row],[Units Completed (Total)]],\"\")","v":""},{"$f":"IF(SUM(data_tracking[[#This Row],[111-FILSN1 SAH]],data_tracking[[#This Row],[112-FILSN2 SAH]],data_tracking[[#This Row],[113-FILSN3 SAH]])=0,\"\",SUM(data_tracking[[#This Row],[111-FILSN1 SAH]],data_tracking[[#This Row],[112-FILSN2 SAH]],data_tracking[[#This Row],[113-FILSN3 SAH]]))","v":""},{"$f":"IF(SUM(data_tracking[[#This Row],[111-FILSN1 Units]],data_tracking[[#This Row],[112-FILSN2 Units]],data_tracking[[#This Row],[113-FILSN3 Units]])=0,\"\",SUM(data_tracking[[#This Row],[111-FILSN1 Units]],data_tracking[[#This Row],[112-FILSN2 Units]],data_tracking[[#This Row],[113-FILSN3 Units]]))","v":""},{"$f":"IF(SUMIFS('2015 sah unit data'!B:B,'2015 sah unit data'!L:L,data_tracking[[#This Row],[year]],'2015 sah unit data'!K:K,data_tracking[[#This Row],[month]],'2015 sah unit data'!J:J,data_tracking[[#This Row],[week]])=0,\"\",SUMIFS('2015 sah unit data'!B:B,'2015 sah unit data'!L:L,data_tracking[[#This Row],[year]],'2015 sah unit data'!K:K,data_tracking[[#This Row],[month]],'2015 sah unit data'!J:J,data_tracking[[#This Row],[week]]))","v":""},{"$f":"IF(SUMIFS('2015 sah unit data'!C:C,'2015 sah unit data'!L:L,data_tracking[[#This Row],[year]],'2015 sah unit data'!K:K,data_tracking[[#This Row],[month]],'2015 sah unit data'!J:J,data_tracking[[#This Row],[week]])=0,\"\",SUMIFS('2015 sah unit data'!C:C,'2015 sah unit data'!L:L,data_tracking[[#This Row],[year]],'2015 sah unit data'!K:K,data_tracking[[#This Row],[month]],'2015 sah unit data'!J:J,data_tracking[[#This Row],[week]]))","v":""},{"$f":"IF(SUMIFS('2015 sah unit data'!D:D,'2015 sah unit data'!L:L,data_tracking[[#This Row],[year]],'2015 sah unit data'!K:K,data_tracking[[#This Row],[month]],'2015 sah unit data'!J:J,data_tracking[[#This Row],[week]])=0,\"\",SUMIFS('2015 sah unit data'!D:D,'2015 sah unit data'!L:L,data_tracking[[#This Row],[year]],'2015 sah unit data'!K:K,data_tracking[[#This Row],[month]],'2015 sah unit data'!J:J,data_tracking[[#This Row],[week]]))","v":""},{"$f":"IF(SUMIFS('2015 sah unit data'!E:E,'2015 sah unit data'!L:L,data_tracking[[#This Row],[year]],'2015 sah unit data'!K:K,data_tracking[[#This Row],[month]],'2015 sah unit data'!J:J,data_tracking[[#This Row],[week]])=0,\"\",SUMIFS('2015 sah unit data'!E:E,'2015 sah unit data'!L:L,data_tracking[[#This Row],[year]],'2015 sah unit data'!K:K,data_tracking[[#This Row],[month]],'2015 sah unit data'!J:J,data_tracking[[#This Row],[week]]))","v":""},{"$f":"IF(SUMIFS('2015 sah unit data'!F:F,'2015 sah unit data'!L:L,data_tracking[[#This Row],[year]],'2015 sah unit data'!K:K,data_tracking[[#This Row],[month]],'2015 sah unit data'!J:J,data_tracking[[#This Row],[week]])=0,\"\",SUMIFS('2015 sah unit data'!F:F,'2015 sah unit data'!L:L,data_tracking[[#This Row],[year]],'2015 sah unit data'!K:K,data_tracking[[#This Row],[month]],'2015 sah unit data'!J:J,data_tracking[[#This Row],[week]]))","v":""},{"$f":"IF(SUMIFS('2015 sah unit data'!G:G,'2015 sah unit data'!L:L,data_tracking[[#This Row],[year]],'2015 sah unit data'!K:K,data_tracking[[#This Row],[month]],'2015 sah unit data'!J:J,data_tracking[[#This Row],[week]])=0,\"\",SUMIFS('2015 sah unit data'!G:G,'2015 sah unit data'!L:L,data_tracking[[#This Row],[year]],'2015 sah unit data'!K:K,data_tracking[[#This Row],[month]],'2015 sah unit data'!J:J,data_tracking[[#This Row],[week]]))","v":""},null,{"$f":"SUMIFS('overhead costs data'!E:E,'overhead costs data'!C:C,data_tracking[[#This Row],[year]],'overhead costs data'!B:B,data_tracking[[#This Row],[month]])","v":0}]
[30,7,2017,43.30983492,23.765856839999994,{"$f":"IFERROR((data_tracking[[#This Row],[overhead]]+SUMIFS('labor costs data'!H:H,'labor costs data'!D:D,data_tracking[[#This Row],[year]],'labor costs data'!A:A,data_tracking[[#This Row],[week]]))/data_tracking[[#This Row],[SAH Completed (Total)]],\"\")","v":""},{"$f":"IFERROR(SUMIFS('labor costs data'!E:E,'labor costs data'!D:D,data_tracking[[#This Row],[year]],'labor costs data'!A:A,data_tracking[[#This Row],[week]])/data_tracking[[#This Row],[SAH Completed (Total)]],\"\")","v":""},{"$f":"IFERROR((data_tracking[[#This Row],[overhead]]+SUMIFS(labor_costs[total labor cost],labor_costs[year],data_tracking[[#This Row],[year]],labor_costs[week],data_tracking[[#This Row],[week]]))/data_tracking[[#This Row],[Units Completed (Total)]],\"\")","v":""},{"$f":"IF(SUM(data_tracking[[#This Row],[111-FILSN1 SAH]],data_tracking[[#This Row],[112-FILSN2 SAH]],data_tracking[[#This Row],[113-FILSN3 SAH]])=0,\"\",SUM(data_tracking[[#This Row],[111-FILSN1 SAH]],data_tracking[[#This Row],[112-FILSN2 SAH]],data_tracking[[#This Row],[113-FILSN3 SAH]]))","v":""},{"$f":"IF(SUM(data_tracking[[#This Row],[111-FILSN1 Units]],data_tracking[[#This Row],[112-FILSN2 Units]],data_tracking[[#This Row],[113-FILSN3 Units]])=0,\"\",SUM(data_tracking[[#This Row],[111-FILSN1 Units]],data_tracking[[#This Row],[112-FILSN2 Units]],data_tracking[[#This Row],[113-FILSN3 Units]]))","v":""},{"$f":"IF(SUMIFS('2015 sah unit data'!B:B,'2015 sah unit data'!L:L,data_tracking[[#This Row],[year]],'2015 sah unit data'!K:K,data_tracking[[#This Row],[month]],'2015 sah unit data'!J:J,data_tracking[[#This Row],[week]])=0,\"\",SUMIFS('2015 sah unit data'!B:B,'2015 sah unit data'!L:L,data_tracking[[#This Row],[year]],'2015 sah unit data'!K:K,data_tracking[[#This Row],[month]],'2015 sah unit data'!J:J,data_tracking[[#This Row],[week]]))","v":""},{"$f":"IF(SUMIFS('2015 sah unit data'!C:C,'2015 sah unit data'!L:L,data_tracking[[#This Row],[year]],'2015 sah unit data'!K:K,data_tracking[[#This Row],[month]],'2015 sah unit data'!J:J,data_tracking[[#This Row],[week]])=0,\"\",SUMIFS('2015 sah unit data'!C:C,'2015 sah unit data'!L:L,data_tracking[[#This Row],[year]],'2015 sah unit data'!K:K,data_tracking[[#This Row],[month]],'2015 sah unit data'!J:J,data_tracking[[#This Row],[week]]))","v":""},{"$f":"IF(SUMIFS('2015 sah unit data'!D:D,'2015 sah unit data'!L:L,data_tracking[[#This Row],[year]],'2015 sah unit data'!K:K,data_tracking[[#This Row],[month]],'2015 sah unit data'!J:J,data_tracking[[#This Row],[week]])=0,\"\",SUMIFS('2015 sah unit data'!D:D,'2015 sah unit data'!L:L,data_tracking[[#This Row],[year]],'2015 sah unit data'!K:K,data_tracking[[#This Row],[month]],'2015 sah unit data'!J:J,data_tracking[[#This Row],[week]]))","v":""},{"$f":"IF(SUMIFS('2015 sah unit data'!E:E,'2015 sah unit data'!L:L,data_tracking[[#This Row],[year]],'2015 sah unit data'!K:K,data_tracking[[#This Row],[month]],'2015 sah unit data'!J:J,data_tracking[[#This Row],[week]])=0,\"\",SUMIFS('2015 sah unit data'!E:E,'2015 sah unit data'!L:L,data_tracking[[#This Row],[year]],'2015 sah unit data'!K:K,data_tracking[[#This Row],[month]],'2015 sah unit data'!J:J,data_tracking[[#This Row],[week]]))","v":""},{"$f":"IF(SUMIFS('2015 sah unit data'!F:F,'2015 sah unit data'!L:L,data_tracking[[#This Row],[year]],'2015 sah unit data'!K:K,data_tracking[[#This Row],[month]],'2015 sah unit data'!J:J,data_tracking[[#This Row],[week]])=0,\"\",SUMIFS('2015 sah unit data'!F:F,'2015 sah unit data'!L:L,data_tracking[[#This Row],[year]],'2015 sah unit data'!K:K,data_tracking[[#This Row],[month]],'2015 sah unit data'!J:J,data_tracking[[#This Row],[week]]))","v":""},{"$f":"IF(SUMIFS('2015 sah unit data'!G:G,'2015 sah unit data'!L:L,data_tracking[[#This Row],[year]],'2015 sah unit data'!K:K,data_tracking[[#This Row],[month]],'2015 sah unit data'!J:J,data_tracking[[#This Row],[week]])=0,\"\",SUMIFS('2015 sah unit data'!G:G,'2015 sah unit data'!L:L,data_tracking[[#This Row],[year]],'2015 sah unit data'!K:K,data_tracking[[#This Row],[month]],'2015 sah unit data'!J:J,data_tracking[[#This Row],[week]]))","v":""},null,{"$f":"SUMIFS('overhead costs data'!E:E,'overhead costs data'!C:C,data_tracking[[#This Row],[year]],'overhead costs data'!B:B,data_tracking[[#This Row],[month]])","v":0}]
[31,7,2017,43.30983492,23.765856839999994,{"$f":"IFERROR((data_tracking[[#This Row],[overhead]]+SUMIFS('labor costs data'!H:H,'labor costs data'!D:D,data_tracking[[#This Row],[year]],'labor costs data'!A:A,data_tracking[[#This Row],[week]]))/data_tracking[[#This Row],[SAH Completed (Total)]],\"\")","v":""},{"$f":"IFERROR(SUMIFS('labor costs data'!E:E,'labor costs data'!D:D,data_tracking[[#This Row],[year]],'labor costs data'!A:A,data_tracking[[#This Row],[week]])/data_tracking[[#This Row],[SAH Completed (Total)]],\"\")","v":""},{"$f":"IFERROR((data_tracking[[#This Row],[overhead]]+SUMIFS(labor_costs[total labor cost],labor_costs[year],data_tracking[[#This Row],[year]],labor_costs[week],data_tracking[[#This Row],[week]]))/data_tracking[[#This Row],[Units Completed (Total)]],\"\")","v":""},{"$f":"IF(SUM(data_tracking[[#This Row],[111-FILSN1 SAH]],data_tracking[[#This Row],[112-FILSN2 SAH]],data_tracking[[#This Row],[113-FILSN3 SAH]])=0,\"\",SUM(data_tracking[[#This Row],[111-FILSN1 SAH]],data_tracking[[#This Row],[112-FILSN2 SAH]],data_tracking[[#This Row],[113-FILSN3 SAH]]))","v":""},{"$f":"IF(SUM(data_tracking[[#This Row],[111-FILSN1 Units]],data_tracking[[#This Row],[112-FILSN2 Units]],data_tracking[[#This Row],[113-FILSN3 Units]])=0,\"\",SUM(data_tracking[[#This Row],[111-FILSN1 Units]],data_tracking[[#This Row],[112-FILSN2 Units]],data_tracking[[#This Row],[113-FILSN3 Units]]))","v":""},{"$f":"IF(SUMIFS('2015 sah unit data'!B:B,'2015 sah unit data'!L:L,data_tracking[[#This Row],[year]],'2015 sah unit data'!K:K,data_tracking[[#This Row],[month]],'2015 sah unit data'!J:J,data_tracking[[#This Row],[week]])=0,\"\",SUMIFS('2015 sah unit data'!B:B,'2015 sah unit data'!L:L,data_tracking[[#This Row],[year]],'2015 sah unit data'!K:K,data_tracking[[#This Row],[month]],'2015 sah unit data'!J:J,data_tracking[[#This Row],[week]]))","v":""},{"$f":"IF(SUMIFS('2015 sah unit data'!C:C,'2015 sah unit data'!L:L,data_tracking[[#This Row],[year]],'2015 sah unit data'!K:K,data_tracking[[#This Row],[month]],'2015 sah unit data'!J:J,data_tracking[[#This Row],[week]])=0,\"\",SUMIFS('2015 sah unit data'!C:C,'2015 sah unit data'!L:L,data_tracking[[#This Row],[year]],'2015 sah unit data'!K:K,data_tracking[[#This Row],[month]],'2015 sah unit data'!J:J,data_tracking[[#This Row],[week]]))","v":""},{"$f":"IF(SUMIFS('2015 sah unit data'!D:D,'2015 sah unit data'!L:L,data_tracking[[#This Row],[year]],'2015 sah unit data'!K:K,data_tracking[[#This Row],[month]],'2015 sah unit data'!J:J,data_tracking[[#This Row],[week]])=0,\"\",SUMIFS('2015 sah unit data'!D:D,'2015 sah unit data'!L:L,data_tracking[[#This Row],[year]],'2015 sah unit data'!K:K,data_tracking[[#This Row],[month]],'2015 sah unit data'!J:J,data_tracking[[#This Row],[week]]))","v":""},{"$f":"IF(SUMIFS('2015 sah unit data'!E:E,'2015 sah unit data'!L:L,data_tracking[[#This Row],[year]],'2015 sah unit data'!K:K,data_tracking[[#This Row],[month]],'2015 sah unit data'!J:J,data_tracking[[#This Row],[week]])=0,\"\",SUMIFS('2015 sah unit data'!E:E,'2015 sah unit data'!L:L,data_tracking[[#This Row],[year]],'2015 sah unit data'!K:K,data_tracking[[#This Row],[month]],'2015 sah unit data'!J:J,data_tracking[[#This Row],[week]]))","v":""},{"$f":"IF(SUMIFS('2015 sah unit data'!F:F,'2015 sah unit data'!L:L,data_tracking[[#This Row],[year]],'2015 sah unit data'!K:K,data_tracking[[#This Row],[month]],'2015 sah unit data'!J:J,data_tracking[[#This Row],[week]])=0,\"\",SUMIFS('2015 sah unit data'!F:F,'2015 sah unit data'!L:L,data_tracking[[#This Row],[year]],'2015 sah unit data'!K:K,data_tracking[[#This Row],[month]],'2015 sah unit data'!J:J,data_tracking[[#This Row],[week]]))","v":""},{"$f":"IF(SUMIFS('2015 sah unit data'!G:G,'2015 sah unit data'!L:L,data_tracking[[#This Row],[year]],'2015 sah unit data'!K:K,data_tracking[[#This Row],[month]],'2015 sah unit data'!J:J,data_tracking[[#This Row],[week]])=0,\"\",SUMIFS('2015 sah unit data'!G:G,'2015 sah unit data'!L:L,data_tracking[[#This Row],[year]],'2015 sah unit data'!K:K,data_tracking[[#This Row],[month]],'2015 sah unit data'!J:J,data_tracking[[#This Row],[week]]))","v":""},null,{"$f":"SUMIFS('overhead costs data'!E:E,'overhead costs data'!C:C,data_tracking[[#This Row],[year]],'overhead costs data'!B:B,data_tracking[[#This Row],[month]])","v":0}]
[32,7,2017,43.30983492,23.765856839999994,{"$f":"IFERROR((data_tracking[[#This Row],[overhead]]+SUMIFS('labor costs data'!H:H,'labor costs data'!D:D,data_tracking[[#This Row],[year]],'labor costs data'!A:A,data_tracking[[#This Row],[week]]))/data_tracking[[#This Row],[SAH Completed (Total)]],\"\")","v":""},{"$f":"IFERROR(SUMIFS('labor costs data'!E:E,'labor costs data'!D:D,data_tracking[[#This Row],[year]],'labor costs data'!A:A,data_tracking[[#This Row],[week]])/data_tracking[[#This Row],[SAH Completed (Total)]],\"\")","v":""},{"$f":"IFERROR((data_tracking[[#This Row],[overhead]]+SUMIFS(labor_costs[total labor cost],labor_costs[year],data_tracking[[#This Row],[year]],labor_costs[week],data_tracking[[#This Row],[week]]))/data_tracking[[#This Row],[Units Completed (Total)]],\"\")","v":""},{"$f":"IF(SUM(data_tracking[[#This Row],[111-FILSN1 SAH]],data_tracking[[#This Row],[112-FILSN2 SAH]],data_tracking[[#This Row],[113-FILSN3 SAH]])=0,\"\",SUM(data_tracking[[#This Row],[111-FILSN1 SAH]],data_tracking[[#This Row],[112-FILSN2 SAH]],data_tracking[[#This Row],[113-FILSN3 SAH]]))","v":""},{"$f":"IF(SUM(data_tracking[[#This Row],[111-FILSN1 Units]],data_tracking[[#This Row],[112-FILSN2 Units]],data_tracking[[#This Row],[113-FILSN3 Units]])=0,\"\",SUM(data_tracking[[#This Row],[111-FILSN1 Units]],data_tracking[[#This Row],[112-FILSN2 Units]],data_tracking[[#This Row],[113-FILSN3 Units]]))","v":""},{"$f":"IF(SUMIFS('2015 sah unit data'!B:B,'2015 sah unit data'!L:L,data_tracking[[#This Row],[year]],'2015 sah unit data'!K:K,data_tracking[[#This Row],[month]],'2015 sah unit data'!J:J,data_tracking[[#This Row],[week]])=0,\"\",SUMIFS('2015 sah unit data'!B:B,'2015 sah unit data'!L:L,data_tracking[[#This Row],[year]],'2015 sah unit data'!K:K,data_tracking[[#This Row],[month]],'2015 sah unit data'!J:J,data_tracking[[#This Row],[week]]))","v":""},{"$f":"IF(SUMIFS('2015 sah unit data'!C:C,'2015 sah unit data'!L:L,data_tracking[[#This Row],[year]],'2015 sah unit data'!K:K,data_tracking[[#This Row],[month]],'2015 sah unit data'!J:J,data_tracking[[#This Row],[week]])=0,\"\",SUMIFS('2015 sah unit data'!C:C,'2015 sah unit data'!L:L,data_tracking[[#This Row],[year]],'2015 sah unit data'!K:K,data_tracking[[#This Row],[month]],'2015 sah unit data'!J:J,data_tracking[[#This Row],[week]]))","v":""},{"$f":"IF(SUMIFS('2015 sah unit data'!D:D,'2015 sah unit data'!L:L,data_tracking[[#This Row],[year]],'2015 sah unit data'!K:K,data_tracking[[#This Row],[month]],'2015 sah unit data'!J:J,data_tracking[[#This Row],[week]])=0,\"\",SUMIFS('2015 sah unit data'!D:D,'2015 sah unit data'!L:L,data_tracking[[#This Row],[year]],'2015 sah unit data'!K:K,data_tracking[[#This Row],[month]],'2015 sah unit data'!J:J,data_tracking[[#This Row],[week]]))","v":""},{"$f":"IF(SUMIFS('2015 sah unit data'!E:E,'2015 sah unit data'!L:L,data_tracking[[#This Row],[year]],'2015 sah unit data'!K:K,data_tracking[[#This Row],[month]],'2015 sah unit data'!J:J,data_tracking[[#This Row],[week]])=0,\"\",SUMIFS('2015 sah unit data'!E:E,'2015 sah unit data'!L:L,data_tracking[[#This Row],[year]],'2015 sah unit data'!K:K,data_tracking[[#This Row],[month]],'2015 sah unit data'!J:J,data_tracking[[#This Row],[week]]))","v":""},{"$f":"IF(SUMIFS('2015 sah unit data'!F:F,'2015 sah unit data'!L:L,data_tracking[[#This Row],[year]],'2015 sah unit data'!K:K,data_tracking[[#This Row],[month]],'2015 sah unit data'!J:J,data_tracking[[#This Row],[week]])=0,\"\",SUMIFS('2015 sah unit data'!F:F,'2015 sah unit data'!L:L,data_tracking[[#This Row],[year]],'2015 sah unit data'!K:K,data_tracking[[#This Row],[month]],'2015 sah unit data'!J:J,data_tracking[[#This Row],[week]]))","v":""},{"$f":"IF(SUMIFS('2015 sah unit data'!G:G,'2015 sah unit data'!L:L,data_tracking[[#This Row],[year]],'2015 sah unit data'!K:K,data_tracking[[#This Row],[month]],'2015 sah unit data'!J:J,data_tracking[[#This Row],[week]])=0,\"\",SUMIFS('2015 sah unit data'!G:G,'2015 sah unit data'!L:L,data_tracking[[#This Row],[year]],'2015 sah unit data'!K:K,data_tracking[[#This Row],[month]],'2015 sah unit data'!J:J,data_tracking[[#This Row],[week]]))","v":""},null,{"$f":"SUMIFS('overhead costs data'!E:E,'overhead costs data'!C:C,data_tracking[[#This Row],[year]],'overhead costs data'!B:B,data_tracking[[#This Row],[month]])","v":0}]
[33,8,2017,43.30983492,23.765856839999994,{"$f":"IFERROR((data_tracking[[#This Row],[overhead]]+SUMIFS('labor costs data'!H:H,'labor costs data'!D:D,data_tracking[[#This Row],[year]],'labor costs data'!A:A,data_tracking[[#This Row],[week]]))/data_tracking[[#This Row],[SAH Completed (Total)]],\"\")","v":""},{"$f":"IFERROR(SUMIFS('labor costs data'!E:E,'labor costs data'!D:D,data_tracking[[#This Row],[year]],'labor costs data'!A:A,data_tracking[[#This Row],[week]])/data_tracking[[#This Row],[SAH Completed (Total)]],\"\")","v":""},{"$f":"IFERROR((data_tracking[[#This Row],[overhead]]+SUMIFS(labor_costs[total labor cost],labor_costs[year],data_tracking[[#This Row],[year]],labor_costs[week],data_tracking[[#This Row],[week]]))/data_tracking[[#This Row],[Units Completed (Total)]],\"\")","v":""},{"$f":"IF(SUM(data_tracking[[#This Row],[111-FILSN1 SAH]],data_tracking[[#This Row],[112-FILSN2 SAH]],data_tracking[[#This Row],[113-FILSN3 SAH]])=0,\"\",SUM(data_tracking[[#This Row],[111-FILSN1 SAH]],data_tracking[[#This Row],[112-FILSN2 SAH]],data_tracking[[#This Row],[113-FILSN3 SAH]]))","v":""},{"$f":"IF(SUM(data_tracking[[#This Row],[111-FILSN1 Units]],data_tracking[[#This Row],[112-FILSN2 Units]],data_tracking[[#This Row],[113-FILSN3 Units]])=0,\"\",SUM(data_tracking[[#This Row],[111-FILSN1 Units]],data_tracking[[#This Row],[112-FILSN2 Units]],data_tracking[[#This Row],[113-FILSN3 Units]]))","v":""},{"$f":"IF(SUMIFS('2015 sah unit data'!B:B,'2015 sah unit data'!L:L,data_tracking[[#This Row],[year]],'2015 sah unit data'!K:K,data_tracking[[#This Row],[month]],'2015 sah unit data'!J:J,data_tracking[[#This Row],[week]])=0,\"\",SUMIFS('2015 sah unit data'!B:B,'2015 sah unit data'!L:L,data_tracking[[#This Row],[year]],'2015 sah unit data'!K:K,data_tracking[[#This Row],[month]],'2015 sah unit data'!J:J,data_tracking[[#This Row],[week]]))","v":""},{"$f":"IF(SUMIFS('2015 sah unit data'!C:C,'2015 sah unit data'!L:L,data_tracking[[#This Row],[year]],'2015 sah unit data'!K:K,data_tracking[[#This Row],[month]],'2015 sah unit data'!J:J,data_tracking[[#This Row],[week]])=0,\"\",SUMIFS('2015 sah unit data'!C:C,'2015 sah unit data'!L:L,data_tracking[[#This Row],[year]],'2015 sah unit data'!K:K,data_tracking[[#This Row],[month]],'2015 sah unit data'!J:J,data_tracking[[#This Row],[week]]))","v":""},{"$f":"IF(SUMIFS('2015 sah unit data'!D:D,'2015 sah unit data'!L:L,data_tracking[[#This Row],[year]],'2015 sah unit data'!K:K,data_tracking[[#This Row],[month]],'2015 sah unit data'!J:J,data_tracking[[#This Row],[week]])=0,\"\",SUMIFS('2015 sah unit data'!D:D,'2015 sah unit data'!L:L,data_tracking[[#This Row],[year]],'2015 sah unit data'!K:K,data_tracking[[#This Row],[month]],'2015 sah unit data'!J:J,data_tracking[[#This Row],[week]]))","v":""},{"$f":"IF(SUMIFS('2015 sah unit data'!E:E,'2015 sah unit data'!L:L,data_tracking[[#This Row],[year]],'2015 sah unit data'!K:K,data_tracking[[#This Row],[month]],'2015 sah unit data'!J:J,data_tracking[[#This Row],[week]])=0,\"\",SUMIFS('2015 sah unit data'!E:E,'2015 sah unit data'!L:L,data_tracking[[#This Row],[year]],'2015 sah unit data'!K:K,data_tracking[[#This Row],[month]],'2015 sah unit data'!J:J,data_tracking[[#This Row],[week]]))","v":""},{"$f":"IF(SUMIFS('2015 sah unit data'!F:F,'2015 sah unit data'!L:L,data_tracking[[#This Row],[year]],'2015 sah unit data'!K:K,data_tracking[[#This Row],[month]],'2015 sah unit data'!J:J,data_tracking[[#This Row],[week]])=0,\"\",SUMIFS('2015 sah unit data'!F:F,'2015 sah unit data'!L:L,data_tracking[[#This Row],[year]],'2015 sah unit data'!K:K,data_tracking[[#This Row],[month]],'2015 sah unit data'!J:J,data_tracking[[#This Row],[week]]))","v":""},{"$f":"IF(SUMIFS('2015 sah unit data'!G:G,'2015 sah unit data'!L:L,data_tracking[[#This Row],[year]],'2015 sah unit data'!K:K,data_tracking[[#This Row],[month]],'2015 sah unit data'!J:J,data_tracking[[#This Row],[week]])=0,\"\",SUMIFS('2015 sah unit data'!G:G,'2015 sah unit data'!L:L,data_tracking[[#This Row],[year]],'2015 sah unit data'!K:K,data_tracking[[#This Row],[month]],'2015 sah unit data'!J:J,data_tracking[[#This Row],[week]]))","v":""},null,{"$f":"SUMIFS('overhead costs data'!E:E,'overhead costs data'!C:C,data_tracking[[#This Row],[year]],'overhead costs data'!B:B,data_tracking[[#This Row],[month]])","v":0}]
[34,8,2017,43.30983492,23.765856839999994,{"$f":"IFERROR((data_tracking[[#This Row],[overhead]]+SUMIFS('labor costs data'!H:H,'labor costs data'!D:D,data_tracking[[#This Row],[year]],'labor costs data'!A:A,data_tracking[[#This Row],[week]]))/data_tracking[[#This Row],[SAH Completed (Total)]],\"\")","v":""},{"$f":"IFERROR(SUMIFS('labor costs data'!E:E,'labor costs data'!D:D,data_tracking[[#This Row],[year]],'labor costs data'!A:A,data_tracking[[#This Row],[week]])/data_tracking[[#This Row],[SAH Completed (Total)]],\"\")","v":""},{"$f":"IFERROR((data_tracking[[#This Row],[overhead]]+SUMIFS(labor_costs[total labor cost],labor_costs[year],data_tracking[[#This Row],[year]],labor_costs[week],data_tracking[[#This Row],[week]]))/data_tracking[[#This Row],[Units Completed (Total)]],\"\")","v":""},{"$f":"IF(SUM(data_tracking[[#This Row],[111-FILSN1 SAH]],data_tracking[[#This Row],[112-FILSN2 SAH]],data_tracking[[#This Row],[113-FILSN3 SAH]])=0,\"\",SUM(data_tracking[[#This Row],[111-FILSN1 SAH]],data_tracking[[#This Row],[112-FILSN2 SAH]],data_tracking[[#This Row],[113-FILSN3 SAH]]))","v":""},{"$f":"IF(SUM(data_tracking[[#This Row],[111-FILSN1 Units]],data_tracking[[#This Row],[112-FILSN2 Units]],data_tracking[[#This Row],[113-FILSN3 Units]])=0,\"\",SUM(data_tracking[[#This Row],[111-FILSN1 Units]],data_tracking[[#This Row],[112-FILSN2 Units]],data_tracking[[#This Row],[113-FILSN3 Units]]))","v":""},{"$f":"IF(SUMIFS('2015 sah unit data'!B:B,'2015 sah unit data'!L:L,data_tracking[[#This Row],[year]],'2015 sah unit data'!K:K,data_tracking[[#This Row],[month]],'2015 sah unit data'!J:J,data_tracking[[#This Row],[week]])=0,\"\",SUMIFS('2015 sah unit data'!B:B,'2015 sah unit data'!L:L,data_tracking[[#This Row],[year]],'2015 sah unit data'!K:K,data_tracking[[#This Row],[month]],'2015 sah unit data'!J:J,data_tracking[[#This Row],[week]]))","v":""},{"$f":"IF(SUMIFS('2015 sah unit data'!C:C,'2015 sah unit data'!L:L,data_tracking[[#This Row],[year]],'2015 sah unit data'!K:K,data_tracking[[#This Row],[month]],'2015 sah unit data'!J:J,data_tracking[[#This Row],[week]])=0,\"\",SUMIFS('2015 sah unit data'!C:C,'2015 sah unit data'!L:L,data_tracking[[#This Row],[year]],'2015 sah unit data'!K:K,data_tracking[[#This Row],[month]],'2015 sah unit data'!J:J,data_tracking[[#This Row],[week]]))","v":""},{"$f":"IF(SUMIFS('2015 sah unit data'!D:D,'2015 sah unit data'!L:L,data_tracking[[#This Row],[year]],'2015 sah unit data'!K:K,data_tracking[[#This Row],[month]],'2015 sah unit data'!J:J,data_tracking[[#This Row],[week]])=0,\"\",SUMIFS('2015 sah unit data'!D:D,'2015 sah unit data'!L:L,data_tracking[[#This Row],[year]],'2015 sah unit data'!K:K,data_tracking[[#This Row],[month]],'2015 sah unit data'!J:J,data_tracking[[#This Row],[week]]))","v":""},{"$f":"IF(SUMIFS('2015 sah unit data'!E:E,'2015 sah unit data'!L:L,data_tracking[[#This Row],[year]],'2015 sah unit data'!K:K,data_tracking[[#This Row],[month]],'2015 sah unit data'!J:J,data_tracking[[#This Row],[week]])=0,\"\",SUMIFS('2015 sah unit data'!E:E,'2015 sah unit data'!L:L,data_tracking[[#This Row],[year]],'2015 sah unit data'!K:K,data_tracking[[#This Row],[month]],'2015 sah unit data'!J:J,data_tracking[[#This Row],[week]]))","v":""},{"$f":"IF(SUMIFS('2015 sah unit data'!F:F,'2015 sah unit data'!L:L,data_tracking[[#This Row],[year]],'2015 sah unit data'!K:K,data_tracking[[#This Row],[month]],'2015 sah unit data'!J:J,data_tracking[[#This Row],[week]])=0,\"\",SUMIFS('2015 sah unit data'!F:F,'2015 sah unit data'!L:L,data_tracking[[#This Row],[year]],'2015 sah unit data'!K:K,data_tracking[[#This Row],[month]],'2015 sah unit data'!J:J,data_tracking[[#This Row],[week]]))","v":""},{"$f":"IF(SUMIFS('2015 sah unit data'!G:G,'2015 sah unit data'!L:L,data_tracking[[#This Row],[year]],'2015 sah unit data'!K:K,data_tracking[[#This Row],[month]],'2015 sah unit data'!J:J,data_tracking[[#This Row],[week]])=0,\"\",SUMIFS('2015 sah unit data'!G:G,'2015 sah unit data'!L:L,data_tracking[[#This Row],[year]],'2015 sah unit data'!K:K,data_tracking[[#This Row],[month]],'2015 sah unit data'!J:J,data_tracking[[#This Row],[week]]))","v":""},null,{"$f":"SUMIFS('overhead costs data'!E:E,'overhead costs data'!C:C,data_tracking[[#This Row],[year]],'overhead costs data'!B:B,data_tracking[[#This Row],[month]])","v":0}]
[35,8,2017,43.30983492,23.765856839999994,{"$f":"IFERROR((data_tracking[[#This Row],[overhead]]+SUMIFS('labor costs data'!H:H,'labor costs data'!D:D,data_tracking[[#This Row],[year]],'labor costs data'!A:A,data_tracking[[#This Row],[week]]))/data_tracking[[#This Row],[SAH Completed (Total)]],\"\")","v":""},{"$f":"IFERROR(SUMIFS('labor costs data'!E:E,'labor costs data'!D:D,data_tracking[[#This Row],[year]],'labor costs data'!A:A,data_tracking[[#This Row],[week]])/data_tracking[[#This Row],[SAH Completed (Total)]],\"\")","v":""},{"$f":"IFERROR((data_tracking[[#This Row],[overhead]]+SUMIFS(labor_costs[total labor cost],labor_costs[year],data_tracking[[#This Row],[year]],labor_costs[week],data_tracking[[#This Row],[week]]))/data_tracking[[#This Row],[Units Completed (Total)]],\"\")","v":""},{"$f":"IF(SUM(data_tracking[[#This Row],[111-FILSN1 SAH]],data_tracking[[#This Row],[112-FILSN2 SAH]],data_tracking[[#This Row],[113-FILSN3 SAH]])=0,\"\",SUM(data_tracking[[#This Row],[111-FILSN1 SAH]],data_tracking[[#This Row],[112-FILSN2 SAH]],data_tracking[[#This Row],[113-FILSN3 SAH]]))","v":""},{"$f":"IF(SUM(data_tracking[[#This Row],[111-FILSN1 Units]],data_tracking[[#This Row],[112-FILSN2 Units]],data_tracking[[#This Row],[113-FILSN3 Units]])=0,\"\",SUM(data_tracking[[#This Row],[111-FILSN1 Units]],data_tracking[[#This Row],[112-FILSN2 Units]],data_tracking[[#This Row],[113-FILSN3 Units]]))","v":""},{"$f":"IF(SUMIFS('2015 sah unit data'!B:B,'2015 sah unit data'!L:L,data_tracking[[#This Row],[year]],'2015 sah unit data'!K:K,data_tracking[[#This Row],[month]],'2015 sah unit data'!J:J,data_tracking[[#This Row],[week]])=0,\"\",SUMIFS('2015 sah unit data'!B:B,'2015 sah unit data'!L:L,data_tracking[[#This Row],[year]],'2015 sah unit data'!K:K,data_tracking[[#This Row],[month]],'2015 sah unit data'!J:J,data_tracking[[#This Row],[week]]))","v":""},{"$f":"IF(SUMIFS('2015 sah unit data'!C:C,'2015 sah unit data'!L:L,data_tracking[[#This Row],[year]],'2015 sah unit data'!K:K,data_tracking[[#This Row],[month]],'2015 sah unit data'!J:J,data_tracking[[#This Row],[week]])=0,\"\",SUMIFS('2015 sah unit data'!C:C,'2015 sah unit data'!L:L,data_tracking[[#This Row],[year]],'2015 sah unit data'!K:K,data_tracking[[#This Row],[month]],'2015 sah unit data'!J:J,data_tracking[[#This Row],[week]]))","v":""},{"$f":"IF(SUMIFS('2015 sah unit data'!D:D,'2015 sah unit data'!L:L,data_tracking[[#This Row],[year]],'2015 sah unit data'!K:K,data_tracking[[#This Row],[month]],'2015 sah unit data'!J:J,data_tracking[[#This Row],[week]])=0,\"\",SUMIFS('2015 sah unit data'!D:D,'2015 sah unit data'!L:L,data_tracking[[#This Row],[year]],'2015 sah unit data'!K:K,data_tracking[[#This Row],[month]],'2015 sah unit data'!J:J,data_tracking[[#This Row],[week]]))","v":""},{"$f":"IF(SUMIFS('2015 sah unit data'!E:E,'2015 sah unit data'!L:L,data_tracking[[#This Row],[year]],'2015 sah unit data'!K:K,data_tracking[[#This Row],[month]],'2015 sah unit data'!J:J,data_tracking[[#This Row],[week]])=0,\"\",SUMIFS('2015 sah unit data'!E:E,'2015 sah unit data'!L:L,data_tracking[[#This Row],[year]],'2015 sah unit data'!K:K,data_tracking[[#This Row],[month]],'2015 sah unit data'!J:J,data_tracking[[#This Row],[week]]))","v":""},{"$f":"IF(SUMIFS('2015 sah unit data'!F:F,'2015 sah unit data'!L:L,data_tracking[[#This Row],[year]],'2015 sah unit data'!K:K,data_tracking[[#This Row],[month]],'2015 sah unit data'!J:J,data_tracking[[#This Row],[week]])=0,\"\",SUMIFS('2015 sah unit data'!F:F,'2015 sah unit data'!L:L,data_tracking[[#This Row],[year]],'2015 sah unit data'!K:K,data_tracking[[#This Row],[month]],'2015 sah unit data'!J:J,data_tracking[[#This Row],[week]]))","v":""},{"$f":"IF(SUMIFS('2015 sah unit data'!G:G,'2015 sah unit data'!L:L,data_tracking[[#This Row],[year]],'2015 sah unit data'!K:K,data_tracking[[#This Row],[month]],'2015 sah unit data'!J:J,data_tracking[[#This Row],[week]])=0,\"\",SUMIFS('2015 sah unit data'!G:G,'2015 sah unit data'!L:L,data_tracking[[#This Row],[year]],'2015 sah unit data'!K:K,data_tracking[[#This Row],[month]],'2015 sah unit data'!J:J,data_tracking[[#This Row],[week]]))","v":""},null,{"$f":"SUMIFS('overhead costs data'!E:E,'overhead costs data'!C:C,data_tracking[[#This Row],[year]],'overhead costs data'!B:B,data_tracking[[#This Row],[month]])","v":0}]
[36,8,2017,43.30983492,23.765856839999994,{"$f":"IFERROR((data_tracking[[#This Row],[overhead]]+SUMIFS('labor costs data'!H:H,'labor costs data'!D:D,data_tracking[[#This Row],[year]],'labor costs data'!A:A,data_tracking[[#This Row],[week]]))/data_tracking[[#This Row],[SAH Completed (Total)]],\"\")","v":""},{"$f":"IFERROR(SUMIFS('labor costs data'!E:E,'labor costs data'!D:D,data_tracking[[#This Row],[year]],'labor costs data'!A:A,data_tracking[[#This Row],[week]])/data_tracking[[#This Row],[SAH Completed (Total)]],\"\")","v":""},{"$f":"IFERROR((data_tracking[[#This Row],[overhead]]+SUMIFS(labor_costs[total labor cost],labor_costs[year],data_tracking[[#This Row],[year]],labor_costs[week],data_tracking[[#This Row],[week]]))/data_tracking[[#This Row],[Units Completed (Total)]],\"\")","v":""},{"$f":"IF(SUM(data_tracking[[#This Row],[111-FILSN1 SAH]],data_tracking[[#This Row],[112-FILSN2 SAH]],data_tracking[[#This Row],[113-FILSN3 SAH]])=0,\"\",SUM(data_tracking[[#This Row],[111-FILSN1 SAH]],data_tracking[[#This Row],[112-FILSN2 SAH]],data_tracking[[#This Row],[113-FILSN3 SAH]]))","v":""},{"$f":"IF(SUM(data_tracking[[#This Row],[111-FILSN1 Units]],data_tracking[[#This Row],[112-FILSN2 Units]],data_tracking[[#This Row],[113-FILSN3 Units]])=0,\"\",SUM(data_tracking[[#This Row],[111-FILSN1 Units]],data_tracking[[#This Row],[112-FILSN2 Units]],data_tracking[[#This Row],[113-FILSN3 Units]]))","v":""},{"$f":"IF(SUMIFS('2015 sah unit data'!B:B,'2015 sah unit data'!L:L,data_tracking[[#This Row],[year]],'2015 sah unit data'!K:K,data_tracking[[#This Row],[month]],'2015 sah unit data'!J:J,data_tracking[[#This Row],[week]])=0,\"\",SUMIFS('2015 sah unit data'!B:B,'2015 sah unit data'!L:L,data_tracking[[#This Row],[year]],'2015 sah unit data'!K:K,data_tracking[[#This Row],[month]],'2015 sah unit data'!J:J,data_tracking[[#This Row],[week]]))","v":""},{"$f":"IF(SUMIFS('2015 sah unit data'!C:C,'2015 sah unit data'!L:L,data_tracking[[#This Row],[year]],'2015 sah unit data'!K:K,data_tracking[[#This Row],[month]],'2015 sah unit data'!J:J,data_tracking[[#This Row],[week]])=0,\"\",SUMIFS('2015 sah unit data'!C:C,'2015 sah unit data'!L:L,data_tracking[[#This Row],[year]],'2015 sah unit data'!K:K,data_tracking[[#This Row],[month]],'2015 sah unit data'!J:J,data_tracking[[#This Row],[week]]))","v":""},{"$f":"IF(SUMIFS('2015 sah unit data'!D:D,'2015 sah unit data'!L:L,data_tracking[[#This Row],[year]],'2015 sah unit data'!K:K,data_tracking[[#This Row],[month]],'2015 sah unit data'!J:J,data_tracking[[#This Row],[week]])=0,\"\",SUMIFS('2015 sah unit data'!D:D,'2015 sah unit data'!L:L,data_tracking[[#This Row],[year]],'2015 sah unit data'!K:K,data_tracking[[#This Row],[month]],'2015 sah unit data'!J:J,data_tracking[[#This Row],[week]]))","v":""},{"$f":"IF(SUMIFS('2015 sah unit data'!E:E,'2015 sah unit data'!L:L,data_tracking[[#This Row],[year]],'2015 sah unit data'!K:K,data_tracking[[#This Row],[month]],'2015 sah unit data'!J:J,data_tracking[[#This Row],[week]])=0,\"\",SUMIFS('2015 sah unit data'!E:E,'2015 sah unit data'!L:L,data_tracking[[#This Row],[year]],'2015 sah unit data'!K:K,data_tracking[[#This Row],[month]],'2015 sah unit data'!J:J,data_tracking[[#This Row],[week]]))","v":""},{"$f":"IF(SUMIFS('2015 sah unit data'!F:F,'2015 sah unit data'!L:L,data_tracking[[#This Row],[year]],'2015 sah unit data'!K:K,data_tracking[[#This Row],[month]],'2015 sah unit data'!J:J,data_tracking[[#This Row],[week]])=0,\"\",SUMIFS('2015 sah unit data'!F:F,'2015 sah unit data'!L:L,data_tracking[[#This Row],[year]],'2015 sah unit data'!K:K,data_tracking[[#This Row],[month]],'2015 sah unit data'!J:J,data_tracking[[#This Row],[week]]))","v":""},{"$f":"IF(SUMIFS('2015 sah unit data'!G:G,'2015 sah unit data'!L:L,data_tracking[[#This Row],[year]],'2015 sah unit data'!K:K,data_tracking[[#This Row],[month]],'2015 sah unit data'!J:J,data_tracking[[#This Row],[week]])=0,\"\",SUMIFS('2015 sah unit data'!G:G,'2015 sah unit data'!L:L,data_tracking[[#This Row],[year]],'2015 sah unit data'!K:K,data_tracking[[#This Row],[month]],'2015 sah unit data'!J:J,data_tracking[[#This Row],[week]]))","v":""},null,{"$f":"SUMIFS('overhead costs data'!E:E,'overhead costs data'!C:C,data_tracking[[#This Row],[year]],'overhead costs data'!B:B,data_tracking[[#This Row],[month]])","v":0}]
[37,9,2017,43.30983492,23.765856839999994,{"$f":"IFERROR((data_tracking[[#This Row],[overhead]]+SUMIFS('labor costs data'!H:H,'labor costs data'!D:D,data_tracking[[#This Row],[year]],'labor costs data'!A:A,data_tracking[[#This Row],[week]]))/data_tracking[[#This Row],[SAH Completed (Total)]],\"\")","v":""},{"$f":"IFERROR(SUMIFS('labor costs data'!E:E,'labor costs data'!D:D,data_tracking[[#This Row],[year]],'labor costs data'!A:A,data_tracking[[#This Row],[week]])/data_tracking[[#This Row],[SAH Completed (Total)]],\"\")","v":""},{"$f":"IFERROR((data_tracking[[#This Row],[overhead]]+SUMIFS(labor_costs[total labor cost],labor_costs[year],data_tracking[[#This Row],[year]],labor_costs[week],data_tracking[[#This Row],[week]]))/data_tracking[[#This Row],[Units Completed (Total)]],\"\")","v":""},{"$f":"IF(SUM(data_tracking[[#This Row],[111-FILSN1 SAH]],data_tracking[[#This Row],[112-FILSN2 SAH]],data_tracking[[#This Row],[113-FILSN3 SAH]])=0,\"\",SUM(data_tracking[[#This Row],[111-FILSN1 SAH]],data_tracking[[#This Row],[112-FILSN2 SAH]],data_tracking[[#This Row],[113-FILSN3 SAH]]))","v":""},{"$f":"IF(SUM(data_tracking[[#This Row],[111-FILSN1 Units]],data_tracking[[#This Row],[112-FILSN2 Units]],data_tracking[[#This Row],[113-FILSN3 Units]])=0,\"\",SUM(data_tracking[[#This Row],[111-FILSN1 Units]],data_tracking[[#This Row],[112-FILSN2 Units]],data_tracking[[#This Row],[113-FILSN3 Units]]))","v":""},{"$f":"IF(SUMIFS('2015 sah unit data'!B:B,'2015 sah unit data'!L:L,data_tracking[[#This Row],[year]],'2015 sah unit data'!K:K,data_tracking[[#This Row],[month]],'2015 sah unit data'!J:J,data_tracking[[#This Row],[week]])=0,\"\",SUMIFS('2015 sah unit data'!B:B,'2015 sah unit data'!L:L,data_tracking[[#This Row],[year]],'2015 sah unit data'!K:K,data_tracking[[#This Row],[month]],'2015 sah unit data'!J:J,data_tracking[[#This Row],[week]]))","v":""},{"$f":"IF(SUMIFS('2015 sah unit data'!C:C,'2015 sah unit data'!L:L,data_tracking[[#This Row],[year]],'2015 sah unit data'!K:K,data_tracking[[#This Row],[month]],'2015 sah unit data'!J:J,data_tracking[[#This Row],[week]])=0,\"\",SUMIFS('2015 sah unit data'!C:C,'2015 sah unit data'!L:L,data_tracking[[#This Row],[year]],'2015 sah unit data'!K:K,data_tracking[[#This Row],[month]],'2015 sah unit data'!J:J,data_tracking[[#This Row],[week]]))","v":""},{"$f":"IF(SUMIFS('2015 sah unit data'!D:D,'2015 sah unit data'!L:L,data_tracking[[#This Row],[year]],'2015 sah unit data'!K:K,data_tracking[[#This Row],[month]],'2015 sah unit data'!J:J,data_tracking[[#This Row],[week]])=0,\"\",SUMIFS('2015 sah unit data'!D:D,'2015 sah unit data'!L:L,data_tracking[[#This Row],[year]],'2015 sah unit data'!K:K,data_tracking[[#This Row],[month]],'2015 sah unit data'!J:J,data_tracking[[#This Row],[week]]))","v":""},{"$f":"IF(SUMIFS('2015 sah unit data'!E:E,'2015 sah unit data'!L:L,data_tracking[[#This Row],[year]],'2015 sah unit data'!K:K,data_tracking[[#This Row],[month]],'2015 sah unit data'!J:J,data_tracking[[#This Row],[week]])=0,\"\",SUMIFS('2015 sah unit data'!E:E,'2015 sah unit data'!L:L,data_tracking[[#This Row],[year]],'2015 sah unit data'!K:K,data_tracking[[#This Row],[month]],'2015 sah unit data'!J:J,data_tracking[[#This Row],[week]]))","v":""},{"$f":"IF(SUMIFS('2015 sah unit data'!F:F,'2015 sah unit data'!L:L,data_tracking[[#This Row],[year]],'2015 sah unit data'!K:K,data_tracking[[#This Row],[month]],'2015 sah unit data'!J:J,data_tracking[[#This Row],[week]])=0,\"\",SUMIFS('2015 sah unit data'!F:F,'2015 sah unit data'!L:L,data_tracking[[#This Row],[year]],'2015 sah unit data'!K:K,data_tracking[[#This Row],[month]],'2015 sah unit data'!J:J,data_tracking[[#This Row],[week]]))","v":""},{"$f":"IF(SUMIFS('2015 sah unit data'!G:G,'2015 sah unit data'!L:L,data_tracking[[#This Row],[year]],'2015 sah unit data'!K:K,data_tracking[[#This Row],[month]],'2015 sah unit data'!J:J,data_tracking[[#This Row],[week]])=0,\"\",SUMIFS('2015 sah unit data'!G:G,'2015 sah unit data'!L:L,data_tracking[[#This Row],[year]],'2015 sah unit data'!K:K,data_tracking[[#This Row],[month]],'2015 sah unit data'!J:J,data_tracking[[#This Row],[week]]))","v":""},null,{"$f":"SUMIFS('overhead costs data'!E:E,'overhead costs data'!C:C,data_tracking[[#This Row],[year]],'overhead costs data'!B:B,data_tracking[[#This Row],[month]])","v":0}]
[38,9,2017,43.30983492,23.765856839999994,{"$f":"IFERROR((data_tracking[[#This Row],[overhead]]+SUMIFS('labor costs data'!H:H,'labor costs data'!D:D,data_tracking[[#This Row],[year]],'labor costs data'!A:A,data_tracking[[#This Row],[week]]))/data_tracking[[#This Row],[SAH Completed (Total)]],\"\")","v":""},{"$f":"IFERROR(SUMIFS('labor costs data'!E:E,'labor costs data'!D:D,data_tracking[[#This Row],[year]],'labor costs data'!A:A,data_tracking[[#This Row],[week]])/data_tracking[[#This Row],[SAH Completed (Total)]],\"\")","v":""},{"$f":"IFERROR((data_tracking[[#This Row],[overhead]]+SUMIFS(labor_costs[total labor cost],labor_costs[year],data_tracking[[#This Row],[year]],labor_costs[week],data_tracking[[#This Row],[week]]))/data_tracking[[#This Row],[Units Completed (Total)]],\"\")","v":""},{"$f":"IF(SUM(data_tracking[[#This Row],[111-FILSN1 SAH]],data_tracking[[#This Row],[112-FILSN2 SAH]],data_tracking[[#This Row],[113-FILSN3 SAH]])=0,\"\",SUM(data_tracking[[#This Row],[111-FILSN1 SAH]],data_tracking[[#This Row],[112-FILSN2 SAH]],data_tracking[[#This Row],[113-FILSN3 SAH]]))","v":""},{"$f":"IF(SUM(data_tracking[[#This Row],[111-FILSN1 Units]],data_tracking[[#This Row],[112-FILSN2 Units]],data_tracking[[#This Row],[113-FILSN3 Units]])=0,\"\",SUM(data_tracking[[#This Row],[111-FILSN1 Units]],data_tracking[[#This Row],[112-FILSN2 Units]],data_tracking[[#This Row],[113-FILSN3 Units]]))","v":""},{"$f":"IF(SUMIFS('2015 sah unit data'!B:B,'2015 sah unit data'!L:L,data_tracking[[#This Row],[year]],'2015 sah unit data'!K:K,data_tracking[[#This Row],[month]],'2015 sah unit data'!J:J,data_tracking[[#This Row],[week]])=0,\"\",SUMIFS('2015 sah unit data'!B:B,'2015 sah unit data'!L:L,data_tracking[[#This Row],[year]],'2015 sah unit data'!K:K,data_tracking[[#This Row],[month]],'2015 sah unit data'!J:J,data_tracking[[#This Row],[week]]))","v":""},{"$f":"IF(SUMIFS('2015 sah unit data'!C:C,'2015 sah unit data'!L:L,data_tracking[[#This Row],[year]],'2015 sah unit data'!K:K,data_tracking[[#This Row],[month]],'2015 sah unit data'!J:J,data_tracking[[#This Row],[week]])=0,\"\",SUMIFS('2015 sah unit data'!C:C,'2015 sah unit data'!L:L,data_tracking[[#This Row],[year]],'2015 sah unit data'!K:K,data_tracking[[#This Row],[month]],'2015 sah unit data'!J:J,data_tracking[[#This Row],[week]]))","v":""},{"$f":"IF(SUMIFS('2015 sah unit data'!D:D,'2015 sah unit data'!L:L,data_tracking[[#This Row],[year]],'2015 sah unit data'!K:K,data_tracking[[#This Row],[month]],'2015 sah unit data'!J:J,data_tracking[[#This Row],[week]])=0,\"\",SUMIFS('2015 sah unit data'!D:D,'2015 sah unit data'!L:L,data_tracking[[#This Row],[year]],'2015 sah unit data'!K:K,data_tracking[[#This Row],[month]],'2015 sah unit data'!J:J,data_tracking[[#This Row],[week]]))","v":""},{"$f":"IF(SUMIFS('2015 sah unit data'!E:E,'2015 sah unit data'!L:L,data_tracking[[#This Row],[year]],'2015 sah unit data'!K:K,data_tracking[[#This Row],[month]],'2015 sah unit data'!J:J,data_tracking[[#This Row],[week]])=0,\"\",SUMIFS('2015 sah unit data'!E:E,'2015 sah unit data'!L:L,data_tracking[[#This Row],[year]],'2015 sah unit data'!K:K,data_tracking[[#This Row],[month]],'2015 sah unit data'!J:J,data_tracking[[#This Row],[week]]))","v":""},{"$f":"IF(SUMIFS('2015 sah unit data'!F:F,'2015 sah unit data'!L:L,data_tracking[[#This Row],[year]],'2015 sah unit data'!K:K,data_tracking[[#This Row],[month]],'2015 sah unit data'!J:J,data_tracking[[#This Row],[week]])=0,\"\",SUMIFS('2015 sah unit data'!F:F,'2015 sah unit data'!L:L,data_tracking[[#This Row],[year]],'2015 sah unit data'!K:K,data_tracking[[#This Row],[month]],'2015 sah unit data'!J:J,data_tracking[[#This Row],[week]]))","v":""},{"$f":"IF(SUMIFS('2015 sah unit data'!G:G,'2015 sah unit data'!L:L,data_tracking[[#This Row],[year]],'2015 sah unit data'!K:K,data_tracking[[#This Row],[month]],'2015 sah unit data'!J:J,data_tracking[[#This Row],[week]])=0,\"\",SUMIFS('2015 sah unit data'!G:G,'2015 sah unit data'!L:L,data_tracking[[#This Row],[year]],'2015 sah unit data'!K:K,data_tracking[[#This Row],[month]],'2015 sah unit data'!J:J,data_tracking[[#This Row],[week]]))","v":""},null,{"$f":"SUMIFS('overhead costs data'!E:E,'overhead costs data'!C:C,data_tracking[[#This Row],[year]],'overhead costs data'!B:B,data_tracking[[#This Row],[month]])","v":0}]
[39,9,2017,43.30983492,23.765856839999994,{"$f":"IFERROR((data_tracking[[#This Row],[overhead]]+SUMIFS('labor costs data'!H:H,'labor costs data'!D:D,data_tracking[[#This Row],[year]],'labor costs data'!A:A,data_tracking[[#This Row],[week]]))/data_tracking[[#This Row],[SAH Completed (Total)]],\"\")","v":""},{"$f":"IFERROR(SUMIFS('labor costs data'!E:E,'labor costs data'!D:D,data_tracking[[#This Row],[year]],'labor costs data'!A:A,data_tracking[[#This Row],[week]])/data_tracking[[#This Row],[SAH Completed (Total)]],\"\")","v":""},{"$f":"IFERROR((data_tracking[[#This Row],[overhead]]+SUMIFS(labor_costs[total labor cost],labor_costs[year],data_tracking[[#This Row],[year]],labor_costs[week],data_tracking[[#This Row],[week]]))/data_tracking[[#This Row],[Units Completed (Total)]],\"\")","v":""},{"$f":"IF(SUM(data_tracking[[#This Row],[111-FILSN1 SAH]],data_tracking[[#This Row],[112-FILSN2 SAH]],data_tracking[[#This Row],[113-FILSN3 SAH]])=0,\"\",SUM(data_tracking[[#This Row],[111-FILSN1 SAH]],data_tracking[[#This Row],[112-FILSN2 SAH]],data_tracking[[#This Row],[113-FILSN3 SAH]]))","v":""},{"$f":"IF(SUM(data_tracking[[#This Row],[111-FILSN1 Units]],data_tracking[[#This Row],[112-FILSN2 Units]],data_tracking[[#This Row],[113-FILSN3 Units]])=0,\"\",SUM(data_tracking[[#This Row],[111-FILSN1 Units]],data_tracking[[#This Row],[112-FILSN2 Units]],data_tracking[[#This Row],[113-FILSN3 Units]]))","v":""},{"$f":"IF(SUMIFS('2015 sah unit data'!B:B,'2015 sah unit data'!L:L,data_tracking[[#This Row],[year]],'2015 sah unit data'!K:K,data_tracking[[#This Row],[month]],'2015 sah unit data'!J:J,data_tracking[[#This Row],[week]])=0,\"\",SUMIFS('2015 sah unit data'!B:B,'2015 sah unit data'!L:L,data_tracking[[#This Row],[year]],'2015 sah unit data'!K:K,data_tracking[[#This Row],[month]],'2015 sah unit data'!J:J,data_tracking[[#This Row],[week]]))","v":""},{"$f":"IF(SUMIFS('2015 sah unit data'!C:C,'2015 sah unit data'!L:L,data_tracking[[#This Row],[year]],'2015 sah unit data'!K:K,data_tracking[[#This Row],[month]],'2015 sah unit data'!J:J,data_tracking[[#This Row],[week]])=0,\"\",SUMIFS('2015 sah unit data'!C:C,'2015 sah unit data'!L:L,data_tracking[[#This Row],[year]],'2015 sah unit data'!K:K,data_tracking[[#This Row],[month]],'2015 sah unit data'!J:J,data_tracking[[#This Row],[week]]))","v":""},{"$f":"IF(SUMIFS('2015 sah unit data'!D:D,'2015 sah unit data'!L:L,data_tracking[[#This Row],[year]],'2015 sah unit data'!K:K,data_tracking[[#This Row],[month]],'2015 sah unit data'!J:J,data_tracking[[#This Row],[week]])=0,\"\",SUMIFS('2015 sah unit data'!D:D,'2015 sah unit data'!L:L,data_tracking[[#This Row],[year]],'2015 sah unit data'!K:K,data_tracking[[#This Row],[month]],'2015 sah unit data'!J:J,data_tracking[[#This Row],[week]]))","v":""},{"$f":"IF(SUMIFS('2015 sah unit data'!E:E,'2015 sah unit data'!L:L,data_tracking[[#This Row],[year]],'2015 sah unit data'!K:K,data_tracking[[#This Row],[month]],'2015 sah unit data'!J:J,data_tracking[[#This Row],[week]])=0,\"\",SUMIFS('2015 sah unit data'!E:E,'2015 sah unit data'!L:L,data_tracking[[#This Row],[year]],'2015 sah unit data'!K:K,data_tracking[[#This Row],[month]],'2015 sah unit data'!J:J,data_tracking[[#This Row],[week]]))","v":""},{"$f":"IF(SUMIFS('2015 sah unit data'!F:F,'2015 sah unit data'!L:L,data_tracking[[#This Row],[year]],'2015 sah unit data'!K:K,data_tracking[[#This Row],[month]],'2015 sah unit data'!J:J,data_tracking[[#This Row],[week]])=0,\"\",SUMIFS('2015 sah unit data'!F:F,'2015 sah unit data'!L:L,data_tracking[[#This Row],[year]],'2015 sah unit data'!K:K,data_tracking[[#This Row],[month]],'2015 sah unit data'!J:J,data_tracking[[#This Row],[week]]))","v":""},{"$f":"IF(SUMIFS('2015 sah unit data'!G:G,'2015 sah unit data'!L:L,data_tracking[[#This Row],[year]],'2015 sah unit data'!K:K,data_tracking[[#This Row],[month]],'2015 sah unit data'!J:J,data_tracking[[#This Row],[week]])=0,\"\",SUMIFS('2015 sah unit data'!G:G,'2015 sah unit data'!L:L,data_tracking[[#This Row],[year]],'2015 sah unit data'!K:K,data_tracking[[#This Row],[month]],'2015 sah unit data'!J:J,data_tracking[[#This Row],[week]]))","v":""},null,{"$f":"SUMIFS('overhead costs data'!E:E,'overhead costs data'!C:C,data_tracking[[#This Row],[year]],'overhead costs data'!B:B,data_tracking[[#This Row],[month]])","v":0}]
[40,9,2017,43.30983492,23.765856839999994,{"$f":"IFERROR((data_tracking[[#This Row],[overhead]]+SUMIFS('labor costs data'!H:H,'labor costs data'!D:D,data_tracking[[#This Row],[year]],'labor costs data'!A:A,data_tracking[[#This Row],[week]]))/data_tracking[[#This Row],[SAH Completed (Total)]],\"\")","v":""},{"$f":"IFERROR(SUMIFS('labor costs data'!E:E,'labor costs data'!D:D,data_tracking[[#This Row],[year]],'labor costs data'!A:A,data_tracking[[#This Row],[week]])/data_tracking[[#This Row],[SAH Completed (Total)]],\"\")","v":""},{"$f":"IFERROR((data_tracking[[#This Row],[overhead]]+SUMIFS(labor_costs[total labor cost],labor_costs[year],data_tracking[[#This Row],[year]],labor_costs[week],data_tracking[[#This Row],[week]]))/data_tracking[[#This Row],[Units Completed (Total)]],\"\")","v":""},{"$f":"IF(SUM(data_tracking[[#This Row],[111-FILSN1 SAH]],data_tracking[[#This Row],[112-FILSN2 SAH]],data_tracking[[#This Row],[113-FILSN3 SAH]])=0,\"\",SUM(data_tracking[[#This Row],[111-FILSN1 SAH]],data_tracking[[#This Row],[112-FILSN2 SAH]],data_tracking[[#This Row],[113-FILSN3 SAH]]))","v":""},{"$f":"IF(SUM(data_tracking[[#This Row],[111-FILSN1 Units]],data_tracking[[#This Row],[112-FILSN2 Units]],data_tracking[[#This Row],[113-FILSN3 Units]])=0,\"\",SUM(data_tracking[[#This Row],[111-FILSN1 Units]],data_tracking[[#This Row],[112-FILSN2 Units]],data_tracking[[#This Row],[113-FILSN3 Units]]))","v":""},{"$f":"IF(SUMIFS('2015 sah unit data'!B:B,'2015 sah unit data'!L:L,data_tracking[[#This Row],[year]],'2015 sah unit data'!K:K,data_tracking[[#This Row],[month]],'2015 sah unit data'!J:J,data_tracking[[#This Row],[week]])=0,\"\",SUMIFS('2015 sah unit data'!B:B,'2015 sah unit data'!L:L,data_tracking[[#This Row],[year]],'2015 sah unit data'!K:K,data_tracking[[#This Row],[month]],'2015 sah unit data'!J:J,data_tracking[[#This Row],[week]]))","v":""},{"$f":"IF(SUMIFS('2015 sah unit data'!C:C,'2015 sah unit data'!L:L,data_tracking[[#This Row],[year]],'2015 sah unit data'!K:K,data_tracking[[#This Row],[month]],'2015 sah unit data'!J:J,data_tracking[[#This Row],[week]])=0,\"\",SUMIFS('2015 sah unit data'!C:C,'2015 sah unit data'!L:L,data_tracking[[#This Row],[year]],'2015 sah unit data'!K:K,data_tracking[[#This Row],[month]],'2015 sah unit data'!J:J,data_tracking[[#This Row],[week]]))","v":""},{"$f":"IF(SUMIFS('2015 sah unit data'!D:D,'2015 sah unit data'!L:L,data_tracking[[#This Row],[year]],'2015 sah unit data'!K:K,data_tracking[[#This Row],[month]],'2015 sah unit data'!J:J,data_tracking[[#This Row],[week]])=0,\"\",SUMIFS('2015 sah unit data'!D:D,'2015 sah unit data'!L:L,data_tracking[[#This Row],[year]],'2015 sah unit data'!K:K,data_tracking[[#This Row],[month]],'2015 sah unit data'!J:J,data_tracking[[#This Row],[week]]))","v":""},{"$f":"IF(SUMIFS('2015 sah unit data'!E:E,'2015 sah unit data'!L:L,data_tracking[[#This Row],[year]],'2015 sah unit data'!K:K,data_tracking[[#This Row],[month]],'2015 sah unit data'!J:J,data_tracking[[#This Row],[week]])=0,\"\",SUMIFS('2015 sah unit data'!E:E,'2015 sah unit data'!L:L,data_tracking[[#This Row],[year]],'2015 sah unit data'!K:K,data_tracking[[#This Row],[month]],'2015 sah unit data'!J:J,data_tracking[[#This Row],[week]]))","v":""},{"$f":"IF(SUMIFS('2015 sah unit data'!F:F,'2015 sah unit data'!L:L,data_tracking[[#This Row],[year]],'2015 sah unit data'!K:K,data_tracking[[#This Row],[month]],'2015 sah unit data'!J:J,data_tracking[[#This Row],[week]])=0,\"\",SUMIFS('2015 sah unit data'!F:F,'2015 sah unit data'!L:L,data_tracking[[#This Row],[year]],'2015 sah unit data'!K:K,data_tracking[[#This Row],[month]],'2015 sah unit data'!J:J,data_tracking[[#This Row],[week]]))","v":""},{"$f":"IF(SUMIFS('2015 sah unit data'!G:G,'2015 sah unit data'!L:L,data_tracking[[#This Row],[year]],'2015 sah unit data'!K:K,data_tracking[[#This Row],[month]],'2015 sah unit data'!J:J,data_tracking[[#This Row],[week]])=0,\"\",SUMIFS('2015 sah unit data'!G:G,'2015 sah unit data'!L:L,data_tracking[[#This Row],[year]],'2015 sah unit data'!K:K,data_tracking[[#This Row],[month]],'2015 sah unit data'!J:J,data_tracking[[#This Row],[week]]))","v":""},null,{"$f":"SUMIFS('overhead costs data'!E:E,'overhead costs data'!C:C,data_tracking[[#This Row],[year]],'overhead costs data'!B:B,data_tracking[[#This Row],[month]])","v":0}]
[41,10,2017,43.30983492,23.765856839999994,{"$f":"IFERROR((data_tracking[[#This Row],[overhead]]+SUMIFS('labor costs data'!H:H,'labor costs data'!D:D,data_tracking[[#This Row],[year]],'labor costs data'!A:A,data_tracking[[#This Row],[week]]))/data_tracking[[#This Row],[SAH Completed (Total)]],\"\")","v":""},{"$f":"IFERROR(SUMIFS('labor costs data'!E:E,'labor costs data'!D:D,data_tracking[[#This Row],[year]],'labor costs data'!A:A,data_tracking[[#This Row],[week]])/data_tracking[[#This Row],[SAH Completed (Total)]],\"\")","v":""},{"$f":"IFERROR((data_tracking[[#This Row],[overhead]]+SUMIFS(labor_costs[total labor cost],labor_costs[year],data_tracking[[#This Row],[year]],labor_costs[week],data_tracking[[#This Row],[week]]))/data_tracking[[#This Row],[Units Completed (Total)]],\"\")","v":""},{"$f":"IF(SUM(data_tracking[[#This Row],[111-FILSN1 SAH]],data_tracking[[#This Row],[112-FILSN2 SAH]],data_tracking[[#This Row],[113-FILSN3 SAH]])=0,\"\",SUM(data_tracking[[#This Row],[111-FILSN1 SAH]],data_tracking[[#This Row],[112-FILSN2 SAH]],data_tracking[[#This Row],[113-FILSN3 SAH]]))","v":""},{"$f":"IF(SUM(data_tracking[[#This Row],[111-FILSN1 Units]],data_tracking[[#This Row],[112-FILSN2 Units]],data_tracking[[#This Row],[113-FILSN3 Units]])=0,\"\",SUM(data_tracking[[#This Row],[111-FILSN1 Units]],data_tracking[[#This Row],[112-FILSN2 Units]],data_tracking[[#This Row],[113-FILSN3 Units]]))","v":""},{"$f":"IF(SUMIFS('2015 sah unit data'!B:B,'2015 sah unit data'!L:L,data_tracking[[#This Row],[year]],'2015 sah unit data'!K:K,data_tracking[[#This Row],[month]],'2015 sah unit data'!J:J,data_tracking[[#This Row],[week]])=0,\"\",SUMIFS('2015 sah unit data'!B:B,'2015 sah unit data'!L:L,data_tracking[[#This Row],[year]],'2015 sah unit data'!K:K,data_tracking[[#This Row],[month]],'2015 sah unit data'!J:J,data_tracking[[#This Row],[week]]))","v":""},{"$f":"IF(SUMIFS('2015 sah unit data'!C:C,'2015 sah unit data'!L:L,data_tracking[[#This Row],[year]],'2015 sah unit data'!K:K,data_tracking[[#This Row],[month]],'2015 sah unit data'!J:J,data_tracking[[#This Row],[week]])=0,\"\",SUMIFS('2015 sah unit data'!C:C,'2015 sah unit data'!L:L,data_tracking[[#This Row],[year]],'2015 sah unit data'!K:K,data_tracking[[#This Row],[month]],'2015 sah unit data'!J:J,data_tracking[[#This Row],[week]]))","v":""},{"$f":"IF(SUMIFS('2015 sah unit data'!D:D,'2015 sah unit data'!L:L,data_tracking[[#This Row],[year]],'2015 sah unit data'!K:K,data_tracking[[#This Row],[month]],'2015 sah unit data'!J:J,data_tracking[[#This Row],[week]])=0,\"\",SUMIFS('2015 sah unit data'!D:D,'2015 sah unit data'!L:L,data_tracking[[#This Row],[year]],'2015 sah unit data'!K:K,data_tracking[[#This Row],[month]],'2015 sah unit data'!J:J,data_tracking[[#This Row],[week]]))","v":""},{"$f":"IF(SUMIFS('2015 sah unit data'!E:E,'2015 sah unit data'!L:L,data_tracking[[#This Row],[year]],'2015 sah unit data'!K:K,data_tracking[[#This Row],[month]],'2015 sah unit data'!J:J,data_tracking[[#This Row],[week]])=0,\"\",SUMIFS('2015 sah unit data'!E:E,'2015 sah unit data'!L:L,data_tracking[[#This Row],[year]],'2015 sah unit data'!K:K,data_tracking[[#This Row],[month]],'2015 sah unit data'!J:J,data_tracking[[#This Row],[week]]))","v":""},{"$f":"IF(SUMIFS('2015 sah unit data'!F:F,'2015 sah unit data'!L:L,data_tracking[[#This Row],[year]],'2015 sah unit data'!K:K,data_tracking[[#This Row],[month]],'2015 sah unit data'!J:J,data_tracking[[#This Row],[week]])=0,\"\",SUMIFS('2015 sah unit data'!F:F,'2015 sah unit data'!L:L,data_tracking[[#This Row],[year]],'2015 sah unit data'!K:K,data_tracking[[#This Row],[month]],'2015 sah unit data'!J:J,data_tracking[[#This Row],[week]]))","v":""},{"$f":"IF(SUMIFS('2015 sah unit data'!G:G,'2015 sah unit data'!L:L,data_tracking[[#This Row],[year]],'2015 sah unit data'!K:K,data_tracking[[#This Row],[month]],'2015 sah unit data'!J:J,data_tracking[[#This Row],[week]])=0,\"\",SUMIFS('2015 sah unit data'!G:G,'2015 sah unit data'!L:L,data_tracking[[#This Row],[year]],'2015 sah unit data'!K:K,data_tracking[[#This Row],[month]],'2015 sah unit data'!J:J,data_tracking[[#This Row],[week]]))","v":""},null,{"$f":"SUMIFS('overhead costs data'!E:E,'overhead costs data'!C:C,data_tracking[[#This Row],[year]],'overhead costs data'!B:B,data_tracking[[#This Row],[month]])","v":0}]
[42,10,2017,43.30983492,23.765856839999994,{"$f":"IFERROR((data_tracking[[#This Row],[overhead]]+SUMIFS('labor costs data'!H:H,'labor costs data'!D:D,data_tracking[[#This Row],[year]],'labor costs data'!A:A,data_tracking[[#This Row],[week]]))/data_tracking[[#This Row],[SAH Completed (Total)]],\"\")","v":""},{"$f":"IFERROR(SUMIFS('labor costs data'!E:E,'labor costs data'!D:D,data_tracking[[#This Row],[year]],'labor costs data'!A:A,data_tracking[[#This Row],[week]])/data_tracking[[#This Row],[SAH Completed (Total)]],\"\")","v":""},{"$f":"IFERROR((data_tracking[[#This Row],[overhead]]+SUMIFS(labor_costs[total labor cost],labor_costs[year],data_tracking[[#This Row],[year]],labor_costs[week],data_tracking[[#This Row],[week]]))/data_tracking[[#This Row],[Units Completed (Total)]],\"\")","v":""},{"$f":"IF(SUM(data_tracking[[#This Row],[111-FILSN1 SAH]],data_tracking[[#This Row],[112-FILSN2 SAH]],data_tracking[[#This Row],[113-FILSN3 SAH]])=0,\"\",SUM(data_tracking[[#This Row],[111-FILSN1 SAH]],data_tracking[[#This Row],[112-FILSN2 SAH]],data_tracking[[#This Row],[113-FILSN3 SAH]]))","v":""},{"$f":"IF(SUM(data_tracking[[#This Row],[111-FILSN1 Units]],data_tracking[[#This Row],[112-FILSN2 Units]],data_tracking[[#This Row],[113-FILSN3 Units]])=0,\"\",SUM(data_tracking[[#This Row],[111-FILSN1 Units]],data_tracking[[#This Row],[112-FILSN2 Units]],data_tracking[[#This Row],[113-FILSN3 Units]]))","v":""},{"$f":"IF(SUMIFS('2015 sah unit data'!B:B,'2015 sah unit data'!L:L,data_tracking[[#This Row],[year]],'2015 sah unit data'!K:K,data_tracking[[#This Row],[month]],'2015 sah unit data'!J:J,data_tracking[[#This Row],[week]])=0,\"\",SUMIFS('2015 sah unit data'!B:B,'2015 sah unit data'!L:L,data_tracking[[#This Row],[year]],'2015 sah unit data'!K:K,data_tracking[[#This Row],[month]],'2015 sah unit data'!J:J,data_tracking[[#This Row],[week]]))","v":""},{"$f":"IF(SUMIFS('2015 sah unit data'!C:C,'2015 sah unit data'!L:L,data_tracking[[#This Row],[year]],'2015 sah unit data'!K:K,data_tracking[[#This Row],[month]],'2015 sah unit data'!J:J,data_tracking[[#This Row],[week]])=0,\"\",SUMIFS('2015 sah unit data'!C:C,'2015 sah unit data'!L:L,data_tracking[[#This Row],[year]],'2015 sah unit data'!K:K,data_tracking[[#This Row],[month]],'2015 sah unit data'!J:J,data_tracking[[#This Row],[week]]))","v":""},{"$f":"IF(SUMIFS('2015 sah unit data'!D:D,'2015 sah unit data'!L:L,data_tracking[[#This Row],[year]],'2015 sah unit data'!K:K,data_tracking[[#This Row],[month]],'2015 sah unit data'!J:J,data_tracking[[#This Row],[week]])=0,\"\",SUMIFS('2015 sah unit data'!D:D,'2015 sah unit data'!L:L,data_tracking[[#This Row],[year]],'2015 sah unit data'!K:K,data_tracking[[#This Row],[month]],'2015 sah unit data'!J:J,data_tracking[[#This Row],[week]]))","v":""},{"$f":"IF(SUMIFS('2015 sah unit data'!E:E,'2015 sah unit data'!L:L,data_tracking[[#This Row],[year]],'2015 sah unit data'!K:K,data_tracking[[#This Row],[month]],'2015 sah unit data'!J:J,data_tracking[[#This Row],[week]])=0,\"\",SUMIFS('2015 sah unit data'!E:E,'2015 sah unit data'!L:L,data_tracking[[#This Row],[year]],'2015 sah unit data'!K:K,data_tracking[[#This Row],[month]],'2015 sah unit data'!J:J,data_tracking[[#This Row],[week]]))","v":""},{"$f":"IF(SUMIFS('2015 sah unit data'!F:F,'2015 sah unit data'!L:L,data_tracking[[#This Row],[year]],'2015 sah unit data'!K:K,data_tracking[[#This Row],[month]],'2015 sah unit data'!J:J,data_tracking[[#This Row],[week]])=0,\"\",SUMIFS('2015 sah unit data'!F:F,'2015 sah unit data'!L:L,data_tracking[[#This Row],[year]],'2015 sah unit data'!K:K,data_tracking[[#This Row],[month]],'2015 sah unit data'!J:J,data_tracking[[#This Row],[week]]))","v":""},{"$f":"IF(SUMIFS('2015 sah unit data'!G:G,'2015 sah unit data'!L:L,data_tracking[[#This Row],[year]],'2015 sah unit data'!K:K,data_tracking[[#This Row],[month]],'2015 sah unit data'!J:J,data_tracking[[#This Row],[week]])=0,\"\",SUMIFS('2015 sah unit data'!G:G,'2015 sah unit data'!L:L,data_tracking[[#This Row],[year]],'2015 sah unit data'!K:K,data_tracking[[#This Row],[month]],'2015 sah unit data'!J:J,data_tracking[[#This Row],[week]]))","v":""},null,{"$f":"SUMIFS('overhead costs data'!E:E,'overhead costs data'!C:C,data_tracking[[#This Row],[year]],'overhead costs data'!B:B,data_tracking[[#This Row],[month]])","v":0}]
[43,10,2017,43.30983492,23.765856839999994,{"$f":"IFERROR((data_tracking[[#This Row],[overhead]]+SUMIFS('labor costs data'!H:H,'labor costs data'!D:D,data_tracking[[#This Row],[year]],'labor costs data'!A:A,data_tracking[[#This Row],[week]]))/data_tracking[[#This Row],[SAH Completed (Total)]],\"\")","v":""},{"$f":"IFERROR(SUMIFS('labor costs data'!E:E,'labor costs data'!D:D,data_tracking[[#This Row],[year]],'labor costs data'!A:A,data_tracking[[#This Row],[week]])/data_tracking[[#This Row],[SAH Completed (Total)]],\"\")","v":""},{"$f":"IFERROR((data_tracking[[#This Row],[overhead]]+SUMIFS(labor_costs[total labor cost],labor_costs[year],data_tracking[[#This Row],[year]],labor_costs[week],data_tracking[[#This Row],[week]]))/data_tracking[[#This Row],[Units Completed (Total)]],\"\")","v":""},{"$f":"IF(SUM(data_tracking[[#This Row],[111-FILSN1 SAH]],data_tracking[[#This Row],[112-FILSN2 SAH]],data_tracking[[#This Row],[113-FILSN3 SAH]])=0,\"\",SUM(data_tracking[[#This Row],[111-FILSN1 SAH]],data_tracking[[#This Row],[112-FILSN2 SAH]],data_tracking[[#This Row],[113-FILSN3 SAH]]))","v":""},{"$f":"IF(SUM(data_tracking[[#This Row],[111-FILSN1 Units]],data_tracking[[#This Row],[112-FILSN2 Units]],data_tracking[[#This Row],[113-FILSN3 Units]])=0,\"\",SUM(data_tracking[[#This Row],[111-FILSN1 Units]],data_tracking[[#This Row],[112-FILSN2 Units]],data_tracking[[#This Row],[113-FILSN3 Units]]))","v":""},{"$f":"IF(SUMIFS('2015 sah unit data'!B:B,'2015 sah unit data'!L:L,data_tracking[[#This Row],[year]],'2015 sah unit data'!K:K,data_tracking[[#This Row],[month]],'2015 sah unit data'!J:J,data_tracking[[#This Row],[week]])=0,\"\",SUMIFS('2015 sah unit data'!B:B,'2015 sah unit data'!L:L,data_tracking[[#This Row],[year]],'2015 sah unit data'!K:K,data_tracking[[#This Row],[month]],'2015 sah unit data'!J:J,data_tracking[[#This Row],[week]]))","v":""},{"$f":"IF(SUMIFS('2015 sah unit data'!C:C,'2015 sah unit data'!L:L,data_tracking[[#This Row],[year]],'2015 sah unit data'!K:K,data_tracking[[#This Row],[month]],'2015 sah unit data'!J:J,data_tracking[[#This Row],[week]])=0,\"\",SUMIFS('2015 sah unit data'!C:C,'2015 sah unit data'!L:L,data_tracking[[#This Row],[year]],'2015 sah unit data'!K:K,data_tracking[[#This Row],[month]],'2015 sah unit data'!J:J,data_tracking[[#This Row],[week]]))","v":""},{"$f":"IF(SUMIFS('2015 sah unit data'!D:D,'2015 sah unit data'!L:L,data_tracking[[#This Row],[year]],'2015 sah unit data'!K:K,data_tracking[[#This Row],[month]],'2015 sah unit data'!J:J,data_tracking[[#This Row],[week]])=0,\"\",SUMIFS('2015 sah unit data'!D:D,'2015 sah unit data'!L:L,data_tracking[[#This Row],[year]],'2015 sah unit data'!K:K,data_tracking[[#This Row],[month]],'2015 sah unit data'!J:J,data_tracking[[#This Row],[week]]))","v":""},{"$f":"IF(SUMIFS('2015 sah unit data'!E:E,'2015 sah unit data'!L:L,data_tracking[[#This Row],[year]],'2015 sah unit data'!K:K,data_tracking[[#This Row],[month]],'2015 sah unit data'!J:J,data_tracking[[#This Row],[week]])=0,\"\",SUMIFS('2015 sah unit data'!E:E,'2015 sah unit data'!L:L,data_tracking[[#This Row],[year]],'2015 sah unit data'!K:K,data_tracking[[#This Row],[month]],'2015 sah unit data'!J:J,data_tracking[[#This Row],[week]]))","v":""},{"$f":"IF(SUMIFS('2015 sah unit data'!F:F,'2015 sah unit data'!L:L,data_tracking[[#This Row],[year]],'2015 sah unit data'!K:K,data_tracking[[#This Row],[month]],'2015 sah unit data'!J:J,data_tracking[[#This Row],[week]])=0,\"\",SUMIFS('2015 sah unit data'!F:F,'2015 sah unit data'!L:L,data_tracking[[#This Row],[year]],'2015 sah unit data'!K:K,data_tracking[[#This Row],[month]],'2015 sah unit data'!J:J,data_tracking[[#This Row],[week]]))","v":""},{"$f":"IF(SUMIFS('2015 sah unit data'!G:G,'2015 sah unit data'!L:L,data_tracking[[#This Row],[year]],'2015 sah unit data'!K:K,data_tracking[[#This Row],[month]],'2015 sah unit data'!J:J,data_tracking[[#This Row],[week]])=0,\"\",SUMIFS('2015 sah unit data'!G:G,'2015 sah unit data'!L:L,data_tracking[[#This Row],[year]],'2015 sah unit data'!K:K,data_tracking[[#This Row],[month]],'2015 sah unit data'!J:J,data_tracking[[#This Row],[week]]))","v":""},null,{"$f":"SUMIFS('overhead costs data'!E:E,'overhead costs data'!C:C,data_tracking[[#This Row],[year]],'overhead costs data'!B:B,data_tracking[[#This Row],[month]])","v":0}]
[44,10,2017,43.30983492,23.765856839999994,{"$f":"IFERROR((data_tracking[[#This Row],[overhead]]+SUMIFS('labor costs data'!H:H,'labor costs data'!D:D,data_tracking[[#This Row],[year]],'labor costs data'!A:A,data_tracking[[#This Row],[week]]))/data_tracking[[#This Row],[SAH Completed (Total)]],\"\")","v":""},{"$f":"IFERROR(SUMIFS('labor costs data'!E:E,'labor costs data'!D:D,data_tracking[[#This Row],[year]],'labor costs data'!A:A,data_tracking[[#This Row],[week]])/data_tracking[[#This Row],[SAH Completed (Total)]],\"\")","v":""},{"$f":"IFERROR((data_tracking[[#This Row],[overhead]]+SUMIFS(labor_costs[total labor cost],labor_costs[year],data_tracking[[#This Row],[year]],labor_costs[week],data_tracking[[#This Row],[week]]))/data_tracking[[#This Row],[Units Completed (Total)]],\"\")","v":""},{"$f":"IF(SUM(data_tracking[[#This Row],[111-FILSN1 SAH]],data_tracking[[#This Row],[112-FILSN2 SAH]],data_tracking[[#This Row],[113-FILSN3 SAH]])=0,\"\",SUM(data_tracking[[#This Row],[111-FILSN1 SAH]],data_tracking[[#This Row],[112-FILSN2 SAH]],data_tracking[[#This Row],[113-FILSN3 SAH]]))","v":""},{"$f":"IF(SUM(data_tracking[[#This Row],[111-FILSN1 Units]],data_tracking[[#This Row],[112-FILSN2 Units]],data_tracking[[#This Row],[113-FILSN3 Units]])=0,\"\",SUM(data_tracking[[#This Row],[111-FILSN1 Units]],data_tracking[[#This Row],[112-FILSN2 Units]],data_tracking[[#This Row],[113-FILSN3 Units]]))","v":""},{"$f":"IF(SUMIFS('2015 sah unit data'!B:B,'2015 sah unit data'!L:L,data_tracking[[#This Row],[year]],'2015 sah unit data'!K:K,data_tracking[[#This Row],[month]],'2015 sah unit data'!J:J,data_tracking[[#This Row],[week]])=0,\"\",SUMIFS('2015 sah unit data'!B:B,'2015 sah unit data'!L:L,data_tracking[[#This Row],[year]],'2015 sah unit data'!K:K,data_tracking[[#This Row],[month]],'2015 sah unit data'!J:J,data_tracking[[#This Row],[week]]))","v":""},{"$f":"IF(SUMIFS('2015 sah unit data'!C:C,'2015 sah unit data'!L:L,data_tracking[[#This Row],[year]],'2015 sah unit data'!K:K,data_tracking[[#This Row],[month]],'2015 sah unit data'!J:J,data_tracking[[#This Row],[week]])=0,\"\",SUMIFS('2015 sah unit data'!C:C,'2015 sah unit data'!L:L,data_tracking[[#This Row],[year]],'2015 sah unit data'!K:K,data_tracking[[#This Row],[month]],'2015 sah unit data'!J:J,data_tracking[[#This Row],[week]]))","v":""},{"$f":"IF(SUMIFS('2015 sah unit data'!D:D,'2015 sah unit data'!L:L,data_tracking[[#This Row],[year]],'2015 sah unit data'!K:K,data_tracking[[#This Row],[month]],'2015 sah unit data'!J:J,data_tracking[[#This Row],[week]])=0,\"\",SUMIFS('2015 sah unit data'!D:D,'2015 sah unit data'!L:L,data_tracking[[#This Row],[year]],'2015 sah unit data'!K:K,data_tracking[[#This Row],[month]],'2015 sah unit data'!J:J,data_tracking[[#This Row],[week]]))","v":""},{"$f":"IF(SUMIFS('2015 sah unit data'!E:E,'2015 sah unit data'!L:L,data_tracking[[#This Row],[year]],'2015 sah unit data'!K:K,data_tracking[[#This Row],[month]],'2015 sah unit data'!J:J,data_tracking[[#This Row],[week]])=0,\"\",SUMIFS('2015 sah unit data'!E:E,'2015 sah unit data'!L:L,data_tracking[[#This Row],[year]],'2015 sah unit data'!K:K,data_tracking[[#This Row],[month]],'2015 sah unit data'!J:J,data_tracking[[#This Row],[week]]))","v":""},{"$f":"IF(SUMIFS('2015 sah unit data'!F:F,'2015 sah unit data'!L:L,data_tracking[[#This Row],[year]],'2015 sah unit data'!K:K,data_tracking[[#This Row],[month]],'2015 sah unit data'!J:J,data_tracking[[#This Row],[week]])=0,\"\",SUMIFS('2015 sah unit data'!F:F,'2015 sah unit data'!L:L,data_tracking[[#This Row],[year]],'2015 sah unit data'!K:K,data_tracking[[#This Row],[month]],'2015 sah unit data'!J:J,data_tracking[[#This Row],[week]]))","v":""},{"$f":"IF(SUMIFS('2015 sah unit data'!G:G,'2015 sah unit data'!L:L,data_tracking[[#This Row],[year]],'2015 sah unit data'!K:K,data_tracking[[#This Row],[month]],'2015 sah unit data'!J:J,data_tracking[[#This Row],[week]])=0,\"\",SUMIFS('2015 sah unit data'!G:G,'2015 sah unit data'!L:L,data_tracking[[#This Row],[year]],'2015 sah unit data'!K:K,data_tracking[[#This Row],[month]],'2015 sah unit data'!J:J,data_tracking[[#This Row],[week]]))","v":""},null,{"$f":"SUMIFS('overhead costs data'!E:E,'overhead costs data'!C:C,data_tracking[[#This Row],[year]],'overhead costs data'!B:B,data_tracking[[#This Row],[month]])","v":0}]
[45,10,2017,43.30983492,23.765856839999994,{"$f":"IFERROR((data_tracking[[#This Row],[overhead]]+SUMIFS('labor costs data'!H:H,'labor costs data'!D:D,data_tracking[[#This Row],[year]],'labor costs data'!A:A,data_tracking[[#This Row],[week]]))/data_tracking[[#This Row],[SAH Completed (Total)]],\"\")","v":""},{"$f":"IFERROR(SUMIFS('labor costs data'!E:E,'labor costs data'!D:D,data_tracking[[#This Row],[year]],'labor costs data'!A:A,data_tracking[[#This Row],[week]])/data_tracking[[#This Row],[SAH Completed (Total)]],\"\")","v":""},{"$f":"IFERROR((data_tracking[[#This Row],[overhead]]+SUMIFS(labor_costs[total labor cost],labor_costs[year],data_tracking[[#This Row],[year]],labor_costs[week],data_tracking[[#This Row],[week]]))/data_tracking[[#This Row],[Units Completed (Total)]],\"\")","v":""},{"$f":"IF(SUM(data_tracking[[#This Row],[111-FILSN1 SAH]],data_tracking[[#This Row],[112-FILSN2 SAH]],data_tracking[[#This Row],[113-FILSN3 SAH]])=0,\"\",SUM(data_tracking[[#This Row],[111-FILSN1 SAH]],data_tracking[[#This Row],[112-FILSN2 SAH]],data_tracking[[#This Row],[113-FILSN3 SAH]]))","v":""},{"$f":"IF(SUM(data_tracking[[#This Row],[111-FILSN1 Units]],data_tracking[[#This Row],[112-FILSN2 Units]],data_tracking[[#This Row],[113-FILSN3 Units]])=0,\"\",SUM(data_tracking[[#This Row],[111-FILSN1 Units]],data_tracking[[#This Row],[112-FILSN2 Units]],data_tracking[[#This Row],[113-FILSN3 Units]]))","v":""},{"$f":"IF(SUMIFS('2015 sah unit data'!B:B,'2015 sah unit data'!L:L,data_tracking[[#This Row],[year]],'2015 sah unit data'!K:K,data_tracking[[#This Row],[month]],'2015 sah unit data'!J:J,data_tracking[[#This Row],[week]])=0,\"\",SUMIFS('2015 sah unit data'!B:B,'2015 sah unit data'!L:L,data_tracking[[#This Row],[year]],'2015 sah unit data'!K:K,data_tracking[[#This Row],[month]],'2015 sah unit data'!J:J,data_tracking[[#This Row],[week]]))","v":""},{"$f":"IF(SUMIFS('2015 sah unit data'!C:C,'2015 sah unit data'!L:L,data_tracking[[#This Row],[year]],'2015 sah unit data'!K:K,data_tracking[[#This Row],[month]],'2015 sah unit data'!J:J,data_tracking[[#This Row],[week]])=0,\"\",SUMIFS('2015 sah unit data'!C:C,'2015 sah unit data'!L:L,data_tracking[[#This Row],[year]],'2015 sah unit data'!K:K,data_tracking[[#This Row],[month]],'2015 sah unit data'!J:J,data_tracking[[#This Row],[week]]))","v":""},{"$f":"IF(SUMIFS('2015 sah unit data'!D:D,'2015 sah unit data'!L:L,data_tracking[[#This Row],[year]],'2015 sah unit data'!K:K,data_tracking[[#This Row],[month]],'2015 sah unit data'!J:J,data_tracking[[#This Row],[week]])=0,\"\",SUMIFS('2015 sah unit data'!D:D,'2015 sah unit data'!L:L,data_tracking[[#This Row],[year]],'2015 sah unit data'!K:K,data_tracking[[#This Row],[month]],'2015 sah unit data'!J:J,data_tracking[[#This Row],[week]]))","v":""},{"$f":"IF(SUMIFS('2015 sah unit data'!E:E,'2015 sah unit data'!L:L,data_tracking[[#This Row],[year]],'2015 sah unit data'!K:K,data_tracking[[#This Row],[month]],'2015 sah unit data'!J:J,data_tracking[[#This Row],[week]])=0,\"\",SUMIFS('2015 sah unit data'!E:E,'2015 sah unit data'!L:L,data_tracking[[#This Row],[year]],'2015 sah unit data'!K:K,data_tracking[[#This Row],[month]],'2015 sah unit data'!J:J,data_tracking[[#This Row],[week]]))","v":""},{"$f":"IF(SUMIFS('2015 sah unit data'!F:F,'2015 sah unit data'!L:L,data_tracking[[#This Row],[year]],'2015 sah unit data'!K:K,data_tracking[[#This Row],[month]],'2015 sah unit data'!J:J,data_tracking[[#This Row],[week]])=0,\"\",SUMIFS('2015 sah unit data'!F:F,'2015 sah unit data'!L:L,data_tracking[[#This Row],[year]],'2015 sah unit data'!K:K,data_tracking[[#This Row],[month]],'2015 sah unit data'!J:J,data_tracking[[#This Row],[week]]))","v":""},{"$f":"IF(SUMIFS('2015 sah unit data'!G:G,'2015 sah unit data'!L:L,data_tracking[[#This Row],[year]],'2015 sah unit data'!K:K,data_tracking[[#This Row],[month]],'2015 sah unit data'!J:J,data_tracking[[#This Row],[week]])=0,\"\",SUMIFS('2015 sah unit data'!G:G,'2015 sah unit data'!L:L,data_tracking[[#This Row],[year]],'2015 sah unit data'!K:K,data_tracking[[#This Row],[month]],'2015 sah unit data'!J:J,data_tracking[[#This Row],[week]]))","v":""},null,{"$f":"SUMIFS('overhead costs data'!E:E,'overhead costs data'!C:C,data_tracking[[#This Row],[year]],'overhead costs data'!B:B,data_tracking[[#This Row],[month]])","v":0}]
[46,11,2017,43.30983492,23.765856839999994,{"$f":"IFERROR((data_tracking[[#This Row],[overhead]]+SUMIFS('labor costs data'!H:H,'labor costs data'!D:D,data_tracking[[#This Row],[year]],'labor costs data'!A:A,data_tracking[[#This Row],[week]]))/data_tracking[[#This Row],[SAH Completed (Total)]],\"\")","v":""},{"$f":"IFERROR(SUMIFS('labor costs data'!E:E,'labor costs data'!D:D,data_tracking[[#This Row],[year]],'labor costs data'!A:A,data_tracking[[#This Row],[week]])/data_tracking[[#This Row],[SAH Completed (Total)]],\"\")","v":""},{"$f":"IFERROR((data_tracking[[#This Row],[overhead]]+SUMIFS(labor_costs[total labor cost],labor_costs[year],data_tracking[[#This Row],[year]],labor_costs[week],data_tracking[[#This Row],[week]]))/data_tracking[[#This Row],[Units Completed (Total)]],\"\")","v":""},{"$f":"IF(SUM(data_tracking[[#This Row],[111-FILSN1 SAH]],data_tracking[[#This Row],[112-FILSN2 SAH]],data_tracking[[#This Row],[113-FILSN3 SAH]])=0,\"\",SUM(data_tracking[[#This Row],[111-FILSN1 SAH]],data_tracking[[#This Row],[112-FILSN2 SAH]],data_tracking[[#This Row],[113-FILSN3 SAH]]))","v":""},{"$f":"IF(SUM(data_tracking[[#This Row],[111-FILSN1 Units]],data_tracking[[#This Row],[112-FILSN2 Units]],data_tracking[[#This Row],[113-FILSN3 Units]])=0,\"\",SUM(data_tracking[[#This Row],[111-FILSN1 Units]],data_tracking[[#This Row],[112-FILSN2 Units]],data_tracking[[#This Row],[113-FILSN3 Units]]))","v":""},{"$f":"IF(SUMIFS('2015 sah unit data'!B:B,'2015 sah unit data'!L:L,data_tracking[[#This Row],[year]],'2015 sah unit data'!K:K,data_tracking[[#This Row],[month]],'2015 sah unit data'!J:J,data_tracking[[#This Row],[week]])=0,\"\",SUMIFS('2015 sah unit data'!B:B,'2015 sah unit data'!L:L,data_tracking[[#This Row],[year]],'2015 sah unit data'!K:K,data_tracking[[#This Row],[month]],'2015 sah unit data'!J:J,data_tracking[[#This Row],[week]]))","v":""},{"$f":"IF(SUMIFS('2015 sah unit data'!C:C,'2015 sah unit data'!L:L,data_tracking[[#This Row],[year]],'2015 sah unit data'!K:K,data_tracking[[#This Row],[month]],'2015 sah unit data'!J:J,data_tracking[[#This Row],[week]])=0,\"\",SUMIFS('2015 sah unit data'!C:C,'2015 sah unit data'!L:L,data_tracking[[#This Row],[year]],'2015 sah unit data'!K:K,data_tracking[[#This Row],[month]],'2015 sah unit data'!J:J,data_tracking[[#This Row],[week]]))","v":""},{"$f":"IF(SUMIFS('2015 sah unit data'!D:D,'2015 sah unit data'!L:L,data_tracking[[#This Row],[year]],'2015 sah unit data'!K:K,data_tracking[[#This Row],[month]],'2015 sah unit data'!J:J,data_tracking[[#This Row],[week]])=0,\"\",SUMIFS('2015 sah unit data'!D:D,'2015 sah unit data'!L:L,data_tracking[[#This Row],[year]],'2015 sah unit data'!K:K,data_tracking[[#This Row],[month]],'2015 sah unit data'!J:J,data_tracking[[#This Row],[week]]))","v":""},{"$f":"IF(SUMIFS('2015 sah unit data'!E:E,'2015 sah unit data'!L:L,data_tracking[[#This Row],[year]],'2015 sah unit data'!K:K,data_tracking[[#This Row],[month]],'2015 sah unit data'!J:J,data_tracking[[#This Row],[week]])=0,\"\",SUMIFS('2015 sah unit data'!E:E,'2015 sah unit data'!L:L,data_tracking[[#This Row],[year]],'2015 sah unit data'!K:K,data_tracking[[#This Row],[month]],'2015 sah unit data'!J:J,data_tracking[[#This Row],[week]]))","v":""},{"$f":"IF(SUMIFS('2015 sah unit data'!F:F,'2015 sah unit data'!L:L,data_tracking[[#This Row],[year]],'2015 sah unit data'!K:K,data_tracking[[#This Row],[month]],'2015 sah unit data'!J:J,data_tracking[[#This Row],[week]])=0,\"\",SUMIFS('2015 sah unit data'!F:F,'2015 sah unit data'!L:L,data_tracking[[#This Row],[year]],'2015 sah unit data'!K:K,data_tracking[[#This Row],[month]],'2015 sah unit data'!J:J,data_tracking[[#This Row],[week]]))","v":""},{"$f":"IF(SUMIFS('2015 sah unit data'!G:G,'2015 sah unit data'!L:L,data_tracking[[#This Row],[year]],'2015 sah unit data'!K:K,data_tracking[[#This Row],[month]],'2015 sah unit data'!J:J,data_tracking[[#This Row],[week]])=0,\"\",SUMIFS('2015 sah unit data'!G:G,'2015 sah unit data'!L:L,data_tracking[[#This Row],[year]],'2015 sah unit data'!K:K,data_tracking[[#This Row],[month]],'2015 sah unit data'!J:J,data_tracking[[#This Row],[week]]))","v":""},null,{"$f":"SUMIFS('overhead costs data'!E:E,'overhead costs data'!C:C,data_tracking[[#This Row],[year]],'overhead costs data'!B:B,data_tracking[[#This Row],[month]])","v":0}]
[47,11,2017,43.30983492,23.765856839999994,{"$f":"IFERROR((data_tracking[[#This Row],[overhead]]+SUMIFS('labor costs data'!H:H,'labor costs data'!D:D,data_tracking[[#This Row],[year]],'labor costs data'!A:A,data_tracking[[#This Row],[week]]))/data_tracking[[#This Row],[SAH Completed (Total)]],\"\")","v":""},{"$f":"IFERROR(SUMIFS('labor costs data'!E:E,'labor costs data'!D:D,data_tracking[[#This Row],[year]],'labor costs data'!A:A,data_tracking[[#This Row],[week]])/data_tracking[[#This Row],[SAH Completed (Total)]],\"\")","v":""},{"$f":"IFERROR((data_tracking[[#This Row],[overhead]]+SUMIFS(labor_costs[total labor cost],labor_costs[year],data_tracking[[#This Row],[year]],labor_costs[week],data_tracking[[#This Row],[week]]))/data_tracking[[#This Row],[Units Completed (Total)]],\"\")","v":""},{"$f":"IF(SUM(data_tracking[[#This Row],[111-FILSN1 SAH]],data_tracking[[#This Row],[112-FILSN2 SAH]],data_tracking[[#This Row],[113-FILSN3 SAH]])=0,\"\",SUM(data_tracking[[#This Row],[111-FILSN1 SAH]],data_tracking[[#This Row],[112-FILSN2 SAH]],data_tracking[[#This Row],[113-FILSN3 SAH]]))","v":""},{"$f":"IF(SUM(data_tracking[[#This Row],[111-FILSN1 Units]],data_tracking[[#This Row],[112-FILSN2 Units]],data_tracking[[#This Row],[113-FILSN3 Units]])=0,\"\",SUM(data_tracking[[#This Row],[111-FILSN1 Units]],data_tracking[[#This Row],[112-FILSN2 Units]],data_tracking[[#This Row],[113-FILSN3 Units]]))","v":""},{"$f":"IF(SUMIFS('2015 sah unit data'!B:B,'2015 sah unit data'!L:L,data_tracking[[#This Row],[year]],'2015 sah unit data'!K:K,data_tracking[[#This Row],[month]],'2015 sah unit data'!J:J,data_tracking[[#This Row],[week]])=0,\"\",SUMIFS('2015 sah unit data'!B:B,'2015 sah unit data'!L:L,data_tracking[[#This Row],[year]],'2015 sah unit data'!K:K,data_tracking[[#This Row],[month]],'2015 sah unit data'!J:J,data_tracking[[#This Row],[week]]))","v":""},{"$f":"IF(SUMIFS('2015 sah unit data'!C:C,'2015 sah unit data'!L:L,data_tracking[[#This Row],[year]],'2015 sah unit data'!K:K,data_tracking[[#This Row],[month]],'2015 sah unit data'!J:J,data_tracking[[#This Row],[week]])=0,\"\",SUMIFS('2015 sah unit data'!C:C,'2015 sah unit data'!L:L,data_tracking[[#This Row],[year]],'2015 sah unit data'!K:K,data_tracking[[#This Row],[month]],'2015 sah unit data'!J:J,data_tracking[[#This Row],[week]]))","v":""},{"$f":"IF(SUMIFS('2015 sah unit data'!D:D,'2015 sah unit data'!L:L,data_tracking[[#This Row],[year]],'2015 sah unit data'!K:K,data_tracking[[#This Row],[month]],'2015 sah unit data'!J:J,data_tracking[[#This Row],[week]])=0,\"\",SUMIFS('2015 sah unit data'!D:D,'2015 sah unit data'!L:L,data_tracking[[#This Row],[year]],'2015 sah unit data'!K:K,data_tracking[[#This Row],[month]],'2015 sah unit data'!J:J,data_tracking[[#This Row],[week]]))","v":""},{"$f":"IF(SUMIFS('2015 sah unit data'!E:E,'2015 sah unit data'!L:L,data_tracking[[#This Row],[year]],'2015 sah unit data'!K:K,data_tracking[[#This Row],[month]],'2015 sah unit data'!J:J,data_tracking[[#This Row],[week]])=0,\"\",SUMIFS('2015 sah unit data'!E:E,'2015 sah unit data'!L:L,data_tracking[[#This Row],[year]],'2015 sah unit data'!K:K,data_tracking[[#This Row],[month]],'2015 sah unit data'!J:J,data_tracking[[#This Row],[week]]))","v":""},{"$f":"IF(SUMIFS('2015 sah unit data'!F:F,'2015 sah unit data'!L:L,data_tracking[[#This Row],[year]],'2015 sah unit data'!K:K,data_tracking[[#This Row],[month]],'2015 sah unit data'!J:J,data_tracking[[#This Row],[week]])=0,\"\",SUMIFS('2015 sah unit data'!F:F,'2015 sah unit data'!L:L,data_tracking[[#This Row],[year]],'2015 sah unit data'!K:K,data_tracking[[#This Row],[month]],'2015 sah unit data'!J:J,data_tracking[[#This Row],[week]]))","v":""},{"$f":"IF(SUMIFS('2015 sah unit data'!G:G,'2015 sah unit data'!L:L,data_tracking[[#This Row],[year]],'2015 sah unit data'!K:K,data_tracking[[#This Row],[month]],'2015 sah unit data'!J:J,data_tracking[[#This Row],[week]])=0,\"\",SUMIFS('2015 sah unit data'!G:G,'2015 sah unit data'!L:L,data_tracking[[#This Row],[year]],'2015 sah unit data'!K:K,data_tracking[[#This Row],[month]],'2015 sah unit data'!J:J,data_tracking[[#This Row],[week]]))","v":""},null,{"$f":"SUMIFS('overhead costs data'!E:E,'overhead costs data'!C:C,data_tracking[[#This Row],[year]],'overhead costs data'!B:B,data_tracking[[#This Row],[month]])","v":0}]
[48,11,2017,43.30983492,23.765856839999994,{"$f":"IFERROR((data_tracking[[#This Row],[overhead]]+SUMIFS('labor costs data'!H:H,'labor costs data'!D:D,data_tracking[[#This Row],[year]],'labor costs data'!A:A,data_tracking[[#This Row],[week]]))/data_tracking[[#This Row],[SAH Completed (Total)]],\"\")","v":""},{"$f":"IFERROR(SUMIFS('labor costs data'!E:E,'labor costs data'!D:D,data_tracking[[#This Row],[year]],'labor costs data'!A:A,data_tracking[[#This Row],[week]])/data_tracking[[#This Row],[SAH Completed (Total)]],\"\")","v":""},{"$f":"IFERROR((data_tracking[[#This Row],[overhead]]+SUMIFS(labor_costs[total labor cost],labor_costs[year],data_tracking[[#This Row],[year]],labor_costs[week],data_tracking[[#This Row],[week]]))/data_tracking[[#This Row],[Units Completed (Total)]],\"\")","v":""},{"$f":"IF(SUM(data_tracking[[#This Row],[111-FILSN1 SAH]],data_tracking[[#This Row],[112-FILSN2 SAH]],data_tracking[[#This Row],[113-FILSN3 SAH]])=0,\"\",SUM(data_tracking[[#This Row],[111-FILSN1 SAH]],data_tracking[[#This Row],[112-FILSN2 SAH]],data_tracking[[#This Row],[113-FILSN3 SAH]]))","v":""},{"$f":"IF(SUM(data_tracking[[#This Row],[111-FILSN1 Units]],data_tracking[[#This Row],[112-FILSN2 Units]],data_tracking[[#This Row],[113-FILSN3 Units]])=0,\"\",SUM(data_tracking[[#This Row],[111-FILSN1 Units]],data_tracking[[#This Row],[112-FILSN2 Units]],data_tracking[[#This Row],[113-FILSN3 Units]]))","v":""},{"$f":"IF(SUMIFS('2015 sah unit data'!B:B,'2015 sah unit data'!L:L,data_tracking[[#This Row],[year]],'2015 sah unit data'!K:K,data_tracking[[#This Row],[month]],'2015 sah unit data'!J:J,data_tracking[[#This Row],[week]])=0,\"\",SUMIFS('2015 sah unit data'!B:B,'2015 sah unit data'!L:L,data_tracking[[#This Row],[year]],'2015 sah unit data'!K:K,data_tracking[[#This Row],[month]],'2015 sah unit data'!J:J,data_tracking[[#This Row],[week]]))","v":""},{"$f":"IF(SUMIFS('2015 sah unit data'!C:C,'2015 sah unit data'!L:L,data_tracking[[#This Row],[year]],'2015 sah unit data'!K:K,data_tracking[[#This Row],[month]],'2015 sah unit data'!J:J,data_tracking[[#This Row],[week]])=0,\"\",SUMIFS('2015 sah unit data'!C:C,'2015 sah unit data'!L:L,data_tracking[[#This Row],[year]],'2015 sah unit data'!K:K,data_tracking[[#This Row],[month]],'2015 sah unit data'!J:J,data_tracking[[#This Row],[week]]))","v":""},{"$f":"IF(SUMIFS('2015 sah unit data'!D:D,'2015 sah unit data'!L:L,data_tracking[[#This Row],[year]],'2015 sah unit data'!K:K,data_tracking[[#This Row],[month]],'2015 sah unit data'!J:J,data_tracking[[#This Row],[week]])=0,\"\",SUMIFS('2015 sah unit data'!D:D,'2015 sah unit data'!L:L,data_tracking[[#This Row],[year]],'2015 sah unit data'!K:K,data_tracking[[#This Row],[month]],'2015 sah unit data'!J:J,data_tracking[[#This Row],[week]]))","v":""},{"$f":"IF(SUMIFS('2015 sah unit data'!E:E,'2015 sah unit data'!L:L,data_tracking[[#This Row],[year]],'2015 sah unit data'!K:K,data_tracking[[#This Row],[month]],'2015 sah unit data'!J:J,data_tracking[[#This Row],[week]])=0,\"\",SUMIFS('2015 sah unit data'!E:E,'2015 sah unit data'!L:L,data_tracking[[#This Row],[year]],'2015 sah unit data'!K:K,data_tracking[[#This Row],[month]],'2015 sah unit data'!J:J,data_tracking[[#This Row],[week]]))","v":""},{"$f":"IF(SUMIFS('2015 sah unit data'!F:F,'2015 sah unit data'!L:L,data_tracking[[#This Row],[year]],'2015 sah unit data'!K:K,data_tracking[[#This Row],[month]],'2015 sah unit data'!J:J,data_tracking[[#This Row],[week]])=0,\"\",SUMIFS('2015 sah unit data'!F:F,'2015 sah unit data'!L:L,data_tracking[[#This Row],[year]],'2015 sah unit data'!K:K,data_tracking[[#This Row],[month]],'2015 sah unit data'!J:J,data_tracking[[#This Row],[week]]))","v":""},{"$f":"IF(SUMIFS('2015 sah unit data'!G:G,'2015 sah unit data'!L:L,data_tracking[[#This Row],[year]],'2015 sah unit data'!K:K,data_tracking[[#This Row],[month]],'2015 sah unit data'!J:J,data_tracking[[#This Row],[week]])=0,\"\",SUMIFS('2015 sah unit data'!G:G,'2015 sah unit data'!L:L,data_tracking[[#This Row],[year]],'2015 sah unit data'!K:K,data_tracking[[#This Row],[month]],'2015 sah unit data'!J:J,data_tracking[[#This Row],[week]]))","v":""},null,{"$f":"SUMIFS('overhead costs data'!E:E,'overhead costs data'!C:C,data_tracking[[#This Row],[year]],'overhead costs data'!B:B,data_tracking[[#This Row],[month]])","v":0}]
[49,11,2017,43.30983492,23.765856839999994,{"$f":"IFERROR((data_tracking[[#This Row],[overhead]]+SUMIFS('labor costs data'!H:H,'labor costs data'!D:D,data_tracking[[#This Row],[year]],'labor costs data'!A:A,data_tracking[[#This Row],[week]]))/data_tracking[[#This Row],[SAH Completed (Total)]],\"\")","v":""},{"$f":"IFERROR(SUMIFS('labor costs data'!E:E,'labor costs data'!D:D,data_tracking[[#This Row],[year]],'labor costs data'!A:A,data_tracking[[#This Row],[week]])/data_tracking[[#This Row],[SAH Completed (Total)]],\"\")","v":""},{"$f":"IFERROR((data_tracking[[#This Row],[overhead]]+SUMIFS(labor_costs[total labor cost],labor_costs[year],data_tracking[[#This Row],[year]],labor_costs[week],data_tracking[[#This Row],[week]]))/data_tracking[[#This Row],[Units Completed (Total)]],\"\")","v":""},{"$f":"IF(SUM(data_tracking[[#This Row],[111-FILSN1 SAH]],data_tracking[[#This Row],[112-FILSN2 SAH]],data_tracking[[#This Row],[113-FILSN3 SAH]])=0,\"\",SUM(data_tracking[[#This Row],[111-FILSN1 SAH]],data_tracking[[#This Row],[112-FILSN2 SAH]],data_tracking[[#This Row],[113-FILSN3 SAH]]))","v":""},{"$f":"IF(SUM(data_tracking[[#This Row],[111-FILSN1 Units]],data_tracking[[#This Row],[112-FILSN2 Units]],data_tracking[[#This Row],[113-FILSN3 Units]])=0,\"\",SUM(data_tracking[[#This Row],[111-FILSN1 Units]],data_tracking[[#This Row],[112-FILSN2 Units]],data_tracking[[#This Row],[113-FILSN3 Units]]))","v":""},{"$f":"IF(SUMIFS('2015 sah unit data'!B:B,'2015 sah unit data'!L:L,data_tracking[[#This Row],[year]],'2015 sah unit data'!K:K,data_tracking[[#This Row],[month]],'2015 sah unit data'!J:J,data_tracking[[#This Row],[week]])=0,\"\",SUMIFS('2015 sah unit data'!B:B,'2015 sah unit data'!L:L,data_tracking[[#This Row],[year]],'2015 sah unit data'!K:K,data_tracking[[#This Row],[month]],'2015 sah unit data'!J:J,data_tracking[[#This Row],[week]]))","v":""},{"$f":"IF(SUMIFS('2015 sah unit data'!C:C,'2015 sah unit data'!L:L,data_tracking[[#This Row],[year]],'2015 sah unit data'!K:K,data_tracking[[#This Row],[month]],'2015 sah unit data'!J:J,data_tracking[[#This Row],[week]])=0,\"\",SUMIFS('2015 sah unit data'!C:C,'2015 sah unit data'!L:L,data_tracking[[#This Row],[year]],'2015 sah unit data'!K:K,data_tracking[[#This Row],[month]],'2015 sah unit data'!J:J,data_tracking[[#This Row],[week]]))","v":""},{"$f":"IF(SUMIFS('2015 sah unit data'!D:D,'2015 sah unit data'!L:L,data_tracking[[#This Row],[year]],'2015 sah unit data'!K:K,data_tracking[[#This Row],[month]],'2015 sah unit data'!J:J,data_tracking[[#This Row],[week]])=0,\"\",SUMIFS('2015 sah unit data'!D:D,'2015 sah unit data'!L:L,data_tracking[[#This Row],[year]],'2015 sah unit data'!K:K,data_tracking[[#This Row],[month]],'2015 sah unit data'!J:J,data_tracking[[#This Row],[week]]))","v":""},{"$f":"IF(SUMIFS('2015 sah unit data'!E:E,'2015 sah unit data'!L:L,data_tracking[[#This Row],[year]],'2015 sah unit data'!K:K,data_tracking[[#This Row],[month]],'2015 sah unit data'!J:J,data_tracking[[#This Row],[week]])=0,\"\",SUMIFS('2015 sah unit data'!E:E,'2015 sah unit data'!L:L,data_tracking[[#This Row],[year]],'2015 sah unit data'!K:K,data_tracking[[#This Row],[month]],'2015 sah unit data'!J:J,data_tracking[[#This Row],[week]]))","v":""},{"$f":"IF(SUMIFS('2015 sah unit data'!F:F,'2015 sah unit data'!L:L,data_tracking[[#This Row],[year]],'2015 sah unit data'!K:K,data_tracking[[#This Row],[month]],'2015 sah unit data'!J:J,data_tracking[[#This Row],[week]])=0,\"\",SUMIFS('2015 sah unit data'!F:F,'2015 sah unit data'!L:L,data_tracking[[#This Row],[year]],'2015 sah unit data'!K:K,data_tracking[[#This Row],[month]],'2015 sah unit data'!J:J,data_tracking[[#This Row],[week]]))","v":""},{"$f":"IF(SUMIFS('2015 sah unit data'!G:G,'2015 sah unit data'!L:L,data_tracking[[#This Row],[year]],'2015 sah unit data'!K:K,data_tracking[[#This Row],[month]],'2015 sah unit data'!J:J,data_tracking[[#This Row],[week]])=0,\"\",SUMIFS('2015 sah unit data'!G:G,'2015 sah unit data'!L:L,data_tracking[[#This Row],[year]],'2015 sah unit data'!K:K,data_tracking[[#This Row],[month]],'2015 sah unit data'!J:J,data_tracking[[#This Row],[week]]))","v":""},null,{"$f":"SUMIFS('overhead costs data'!E:E,'overhead costs data'!C:C,data_tracking[[#This Row],[year]],'overhead costs data'!B:B,data_tracking[[#This Row],[month]])","v":0}]
[50,12,2017,43.30983492,23.765856839999994,{"$f":"IFERROR((data_tracking[[#This Row],[overhead]]+SUMIFS('labor costs data'!H:H,'labor costs data'!D:D,data_tracking[[#This Row],[year]],'labor costs data'!A:A,data_tracking[[#This Row],[week]]))/data_tracking[[#This Row],[SAH Completed (Total)]],\"\")","v":""},{"$f":"IFERROR(SUMIFS('labor costs data'!E:E,'labor costs data'!D:D,data_tracking[[#This Row],[year]],'labor costs data'!A:A,data_tracking[[#This Row],[week]])/data_tracking[[#This Row],[SAH Completed (Total)]],\"\")","v":""},{"$f":"IFERROR((data_tracking[[#This Row],[overhead]]+SUMIFS(labor_costs[total labor cost],labor_costs[year],data_tracking[[#This Row],[year]],labor_costs[week],data_tracking[[#This Row],[week]]))/data_tracking[[#This Row],[Units Completed (Total)]],\"\")","v":""},{"$f":"IF(SUM(data_tracking[[#This Row],[111-FILSN1 SAH]],data_tracking[[#This Row],[112-FILSN2 SAH]],data_tracking[[#This Row],[113-FILSN3 SAH]])=0,\"\",SUM(data_tracking[[#This Row],[111-FILSN1 SAH]],data_tracking[[#This Row],[112-FILSN2 SAH]],data_tracking[[#This Row],[113-FILSN3 SAH]]))","v":""},{"$f":"IF(SUM(data_tracking[[#This Row],[111-FILSN1 Units]],data_tracking[[#This Row],[112-FILSN2 Units]],data_tracking[[#This Row],[113-FILSN3 Units]])=0,\"\",SUM(data_tracking[[#This Row],[111-FILSN1 Units]],data_tracking[[#This Row],[112-FILSN2 Units]],data_tracking[[#This Row],[113-FILSN3 Units]]))","v":""},{"$f":"IF(SUMIFS('2015 sah unit data'!B:B,'2015 sah unit data'!L:L,data_tracking[[#This Row],[year]],'2015 sah unit data'!K:K,data_tracking[[#This Row],[month]],'2015 sah unit data'!J:J,data_tracking[[#This Row],[week]])=0,\"\",SUMIFS('2015 sah unit data'!B:B,'2015 sah unit data'!L:L,data_tracking[[#This Row],[year]],'2015 sah unit data'!K:K,data_tracking[[#This Row],[month]],'2015 sah unit data'!J:J,data_tracking[[#This Row],[week]]))","v":""},{"$f":"IF(SUMIFS('2015 sah unit data'!C:C,'2015 sah unit data'!L:L,data_tracking[[#This Row],[year]],'2015 sah unit data'!K:K,data_tracking[[#This Row],[month]],'2015 sah unit data'!J:J,data_tracking[[#This Row],[week]])=0,\"\",SUMIFS('2015 sah unit data'!C:C,'2015 sah unit data'!L:L,data_tracking[[#This Row],[year]],'2015 sah unit data'!K:K,data_tracking[[#This Row],[month]],'2015 sah unit data'!J:J,data_tracking[[#This Row],[week]]))","v":""},{"$f":"IF(SUMIFS('2015 sah unit data'!D:D,'2015 sah unit data'!L:L,data_tracking[[#This Row],[year]],'2015 sah unit data'!K:K,data_tracking[[#This Row],[month]],'2015 sah unit data'!J:J,data_tracking[[#This Row],[week]])=0,\"\",SUMIFS('2015 sah unit data'!D:D,'2015 sah unit data'!L:L,data_tracking[[#This Row],[year]],'2015 sah unit data'!K:K,data_tracking[[#This Row],[month]],'2015 sah unit data'!J:J,data_tracking[[#This Row],[week]]))","v":""},{"$f":"IF(SUMIFS('2015 sah unit data'!E:E,'2015 sah unit data'!L:L,data_tracking[[#This Row],[year]],'2015 sah unit data'!K:K,data_tracking[[#This Row],[month]],'2015 sah unit data'!J:J,data_tracking[[#This Row],[week]])=0,\"\",SUMIFS('2015 sah unit data'!E:E,'2015 sah unit data'!L:L,data_tracking[[#This Row],[year]],'2015 sah unit data'!K:K,data_tracking[[#This Row],[month]],'2015 sah unit data'!J:J,data_tracking[[#This Row],[week]]))","v":""},{"$f":"IF(SUMIFS('2015 sah unit data'!F:F,'2015 sah unit data'!L:L,data_tracking[[#This Row],[year]],'2015 sah unit data'!K:K,data_tracking[[#This Row],[month]],'2015 sah unit data'!J:J,data_tracking[[#This Row],[week]])=0,\"\",SUMIFS('2015 sah unit data'!F:F,'2015 sah unit data'!L:L,data_tracking[[#This Row],[year]],'2015 sah unit data'!K:K,data_tracking[[#This Row],[month]],'2015 sah unit data'!J:J,data_tracking[[#This Row],[week]]))","v":""},{"$f":"IF(SUMIFS('2015 sah unit data'!G:G,'2015 sah unit data'!L:L,data_tracking[[#This Row],[year]],'2015 sah unit data'!K:K,data_tracking[[#This Row],[month]],'2015 sah unit data'!J:J,data_tracking[[#This Row],[week]])=0,\"\",SUMIFS('2015 sah unit data'!G:G,'2015 sah unit data'!L:L,data_tracking[[#This Row],[year]],'2015 sah unit data'!K:K,data_tracking[[#This Row],[month]],'2015 sah unit data'!J:J,data_tracking[[#This Row],[week]]))","v":""},null,{"$f":"SUMIFS('overhead costs data'!E:E,'overhead costs data'!C:C,data_tracking[[#This Row],[year]],'overhead costs data'!B:B,data_tracking[[#This Row],[month]])","v":0}]
[51,12,2017,43.30983492,23.765856839999994,{"$f":"IFERROR((data_tracking[[#This Row],[overhead]]+SUMIFS('labor costs data'!H:H,'labor costs data'!D:D,data_tracking[[#This Row],[year]],'labor costs data'!A:A,data_tracking[[#This Row],[week]]))/data_tracking[[#This Row],[SAH Completed (Total)]],\"\")","v":""},{"$f":"IFERROR(SUMIFS('labor costs data'!E:E,'labor costs data'!D:D,data_tracking[[#This Row],[year]],'labor costs data'!A:A,data_tracking[[#This Row],[week]])/data_tracking[[#This Row],[SAH Completed (Total)]],\"\")","v":""},{"$f":"IFERROR((data_tracking[[#This Row],[overhead]]+SUMIFS(labor_costs[total labor cost],labor_costs[year],data_tracking[[#This Row],[year]],labor_costs[week],data_tracking[[#This Row],[week]]))/data_tracking[[#This Row],[Units Completed (Total)]],\"\")","v":""},{"$f":"IF(SUM(data_tracking[[#This Row],[111-FILSN1 SAH]],data_tracking[[#This Row],[112-FILSN2 SAH]],data_tracking[[#This Row],[113-FILSN3 SAH]])=0,\"\",SUM(data_tracking[[#This Row],[111-FILSN1 SAH]],data_tracking[[#This Row],[112-FILSN2 SAH]],data_tracking[[#This Row],[113-FILSN3 SAH]]))","v":""},{"$f":"IF(SUM(data_tracking[[#This Row],[111-FILSN1 Units]],data_tracking[[#This Row],[112-FILSN2 Units]],data_tracking[[#This Row],[113-FILSN3 Units]])=0,\"\",SUM(data_tracking[[#This Row],[111-FILSN1 Units]],data_tracking[[#This Row],[112-FILSN2 Units]],data_tracking[[#This Row],[113-FILSN3 Units]]))","v":""},{"$f":"IF(SUMIFS('2015 sah unit data'!B:B,'2015 sah unit data'!L:L,data_tracking[[#This Row],[year]],'2015 sah unit data'!K:K,data_tracking[[#This Row],[month]],'2015 sah unit data'!J:J,data_tracking[[#This Row],[week]])=0,\"\",SUMIFS('2015 sah unit data'!B:B,'2015 sah unit data'!L:L,data_tracking[[#This Row],[year]],'2015 sah unit data'!K:K,data_tracking[[#This Row],[month]],'2015 sah unit data'!J:J,data_tracking[[#This Row],[week]]))","v":""},{"$f":"IF(SUMIFS('2015 sah unit data'!C:C,'2015 sah unit data'!L:L,data_tracking[[#This Row],[year]],'2015 sah unit data'!K:K,data_tracking[[#This Row],[month]],'2015 sah unit data'!J:J,data_tracking[[#This Row],[week]])=0,\"\",SUMIFS('2015 sah unit data'!C:C,'2015 sah unit data'!L:L,data_tracking[[#This Row],[year]],'2015 sah unit data'!K:K,data_tracking[[#This Row],[month]],'2015 sah unit data'!J:J,data_tracking[[#This Row],[week]]))","v":""},{"$f":"IF(SUMIFS('2015 sah unit data'!D:D,'2015 sah unit data'!L:L,data_tracking[[#This Row],[year]],'2015 sah unit data'!K:K,data_tracking[[#This Row],[month]],'2015 sah unit data'!J:J,data_tracking[[#This Row],[week]])=0,\"\",SUMIFS('2015 sah unit data'!D:D,'2015 sah unit data'!L:L,data_tracking[[#This Row],[year]],'2015 sah unit data'!K:K,data_tracking[[#This Row],[month]],'2015 sah unit data'!J:J,data_tracking[[#This Row],[week]]))","v":""},{"$f":"IF(SUMIFS('2015 sah unit data'!E:E,'2015 sah unit data'!L:L,data_tracking[[#This Row],[year]],'2015 sah unit data'!K:K,data_tracking[[#This Row],[month]],'2015 sah unit data'!J:J,data_tracking[[#This Row],[week]])=0,\"\",SUMIFS('2015 sah unit data'!E:E,'2015 sah unit data'!L:L,data_tracking[[#This Row],[year]],'2015 sah unit data'!K:K,data_tracking[[#This Row],[month]],'2015 sah unit data'!J:J,data_tracking[[#This Row],[week]]))","v":""},{"$f":"IF(SUMIFS('2015 sah unit data'!F:F,'2015 sah unit data'!L:L,data_tracking[[#This Row],[year]],'2015 sah unit data'!K:K,data_tracking[[#This Row],[month]],'2015 sah unit data'!J:J,data_tracking[[#This Row],[week]])=0,\"\",SUMIFS('2015 sah unit data'!F:F,'2015 sah unit data'!L:L,data_tracking[[#This Row],[year]],'2015 sah unit data'!K:K,data_tracking[[#This Row],[month]],'2015 sah unit data'!J:J,data_tracking[[#This Row],[week]]))","v":""},{"$f":"IF(SUMIFS('2015 sah unit data'!G:G,'2015 sah unit data'!L:L,data_tracking[[#This Row],[year]],'2015 sah unit data'!K:K,data_tracking[[#This Row],[month]],'2015 sah unit data'!J:J,data_tracking[[#This Row],[week]])=0,\"\",SUMIFS('2015 sah unit data'!G:G,'2015 sah unit data'!L:L,data_tracking[[#This Row],[year]],'2015 sah unit data'!K:K,data_tracking[[#This Row],[month]],'2015 sah unit data'!J:J,data_tracking[[#This Row],[week]]))","v":""},null,{"$f":"SUMIFS('overhead costs data'!E:E,'overhead costs data'!C:C,data_tracking[[#This Row],[year]],'overhead costs data'!B:B,data_tracking[[#This Row],[month]])","v":0}]
[52,12,2017,43.30983492,23.765856839999994,{"$f":"IFERROR((data_tracking[[#This Row],[overhead]]+SUMIFS('labor costs data'!H:H,'labor costs data'!D:D,data_tracking[[#This Row],[year]],'labor costs data'!A:A,data_tracking[[#This Row],[week]]))/data_tracking[[#This Row],[SAH Completed (Total)]],\"\")","v":""},{"$f":"IFERROR(SUMIFS('labor costs data'!E:E,'labor costs data'!D:D,data_tracking[[#This Row],[year]],'labor costs data'!A:A,data_tracking[[#This Row],[week]])/data_tracking[[#This Row],[SAH Completed (Total)]],\"\")","v":""},{"$f":"IFERROR((data_tracking[[#This Row],[overhead]]+SUMIFS(labor_costs[total labor cost],labor_costs[year],data_tracking[[#This Row],[year]],labor_costs[week],data_tracking[[#This Row],[week]]))/data_tracking[[#This Row],[Units Completed (Total)]],\"\")","v":""},{"$f":"IF(SUM(data_tracking[[#This Row],[111-FILSN1 SAH]],data_tracking[[#This Row],[112-FILSN2 SAH]],data_tracking[[#This Row],[113-FILSN3 SAH]])=0,\"\",SUM(data_tracking[[#This Row],[111-FILSN1 SAH]],data_tracking[[#This Row],[112-FILSN2 SAH]],data_tracking[[#This Row],[113-FILSN3 SAH]]))","v":""},{"$f":"IF(SUM(data_tracking[[#This Row],[111-FILSN1 Units]],data_tracking[[#This Row],[112-FILSN2 Units]],data_tracking[[#This Row],[113-FILSN3 Units]])=0,\"\",SUM(data_tracking[[#This Row],[111-FILSN1 Units]],data_tracking[[#This Row],[112-FILSN2 Units]],data_tracking[[#This Row],[113-FILSN3 Units]]))","v":""},{"$f":"IF(SUMIFS('2015 sah unit data'!B:B,'2015 sah unit data'!L:L,data_tracking[[#This Row],[year]],'2015 sah unit data'!K:K,data_tracking[[#This Row],[month]],'2015 sah unit data'!J:J,data_tracking[[#This Row],[week]])=0,\"\",SUMIFS('2015 sah unit data'!B:B,'2015 sah unit data'!L:L,data_tracking[[#This Row],[year]],'2015 sah unit data'!K:K,data_tracking[[#This Row],[month]],'2015 sah unit data'!J:J,data_tracking[[#This Row],[week]]))","v":""},{"$f":"IF(SUMIFS('2015 sah unit data'!C:C,'2015 sah unit data'!L:L,data_tracking[[#This Row],[year]],'2015 sah unit data'!K:K,data_tracking[[#This Row],[month]],'2015 sah unit data'!J:J,data_tracking[[#This Row],[week]])=0,\"\",SUMIFS('2015 sah unit data'!C:C,'2015 sah unit data'!L:L,data_tracking[[#This Row],[year]],'2015 sah unit data'!K:K,data_tracking[[#This Row],[month]],'2015 sah unit data'!J:J,data_tracking[[#This Row],[week]]))","v":""},{"$f":"IF(SUMIFS('2015 sah unit data'!D:D,'2015 sah unit data'!L:L,data_tracking[[#This Row],[year]],'2015 sah unit data'!K:K,data_tracking[[#This Row],[month]],'2015 sah unit data'!J:J,data_tracking[[#This Row],[week]])=0,\"\",SUMIFS('2015 sah unit data'!D:D,'2015 sah unit data'!L:L,data_tracking[[#This Row],[year]],'2015 sah unit data'!K:K,data_tracking[[#This Row],[month]],'2015 sah unit data'!J:J,data_tracking[[#This Row],[week]]))","v":""},{"$f":"IF(SUMIFS('2015 sah unit data'!E:E,'2015 sah unit data'!L:L,data_tracking[[#This Row],[year]],'2015 sah unit data'!K:K,data_tracking[[#This Row],[month]],'2015 sah unit data'!J:J,data_tracking[[#This Row],[week]])=0,\"\",SUMIFS('2015 sah unit data'!E:E,'2015 sah unit data'!L:L,data_tracking[[#This Row],[year]],'2015 sah unit data'!K:K,data_tracking[[#This Row],[month]],'2015 sah unit data'!J:J,data_tracking[[#This Row],[week]]))","v":""},{"$f":"IF(SUMIFS('2015 sah unit data'!F:F,'2015 sah unit data'!L:L,data_tracking[[#This Row],[year]],'2015 sah unit data'!K:K,data_tracking[[#This Row],[month]],'2015 sah unit data'!J:J,data_tracking[[#This Row],[week]])=0,\"\",SUMIFS('2015 sah unit data'!F:F,'2015 sah unit data'!L:L,data_tracking[[#This Row],[year]],'2015 sah unit data'!K:K,data_tracking[[#This Row],[month]],'2015 sah unit data'!J:J,data_tracking[[#This Row],[week]]))","v":""},{"$f":"IF(SUMIFS('2015 sah unit data'!G:G,'2015 sah unit data'!L:L,data_tracking[[#This Row],[year]],'2015 sah unit data'!K:K,data_tracking[[#This Row],[month]],'2015 sah unit data'!J:J,data_tracking[[#This Row],[week]])=0,\"\",SUMIFS('2015 sah unit data'!G:G,'2015 sah unit data'!L:L,data_tracking[[#This Row],[year]],'2015 sah unit data'!K:K,data_tracking[[#This Row],[month]],'2015 sah unit data'!J:J,data_tracking[[#This Row],[week]]))","v":""},null,{"$f":"SUMIFS('overhead costs data'!E:E,'overhead costs data'!C:C,data_tracking[[#This Row],[year]],'overhead costs data'!B:B,data_tracking[[#This Row],[month]])","v":0}]

{"sheet":"overhead costs data","index":3,"n_rows":25,"n_cols":5,"rows_kept":25,"cut":false,"hidden":true,"merged":[]}
["date","Month","Year","Overhead monthly cost estimate","weekly breakdown"]
["2015-01-05",1,2015,213684.79,{"$f":"D2/(4)","v":53421.197500000002}]
["2015-02-05",2,2015,244199.16999999998,{"$f":"D3/(4)","v":61049.792499999996}]
["2015-03-05",3,2015,233990.55000000002,{"$f":"D4/(5)","v":46798.11}]
["2015-04-05",4,2015,265237.52999999997,{"$f":"D5/(4)","v":66309.382499999992}]
["2015-05-05",5,2015,251155.56999999998,{"$f":"D6/(4)","v":62788.892499999994}]
["2015-06-05",6,2015,223909.69,{"$f":"D7/(5)","v":44781.938000000002}]
["2015-07-05",7,2015,265379.53999999998,{"$f":"D8/(4)","v":66344.884999999995}]
["2015-08-05",8,2015,307037.49000000005,{"$f":"D9/(4)","v":76759.372500000012}]
["2015-09-05",9,2015,351651.50000000012,{"$f":"D10/(5)","v":70330.300000000017}]
["2015-10-05",10,2015,276346.76,{"$f":"D11/(4)","v":69086.69}]
["2015-11-05",11,2015,288869.22999999992,{"$f":"D12/(4)","v":72217.307499999981}]
["2015-12-05",12,2015,400273.02,{"$f":"D13/(5)","v":80054.604000000007}]
["2016-01-05",1,2016,280000,{"$f":"D14/(4)","v":70000}]
["2016-02-05",2,2016,280000,{"$f":"D15/(4)","v":70000}]
["2016-03-05",3,2016,280000,{"$f":"D16/(5)","v":56000}]
["2016-04-05",4,2016,280000,{"$f":"D17/(4)","v":70000}]
["2016-05-05",5,2016,280000,{"$f":"D18/(4)","v":70000}]
["2016-06-05",6,2016,280000,{"$f":"D19/(5)","v":56000}]
["2016-07-05",7,2016,280000,{"$f":"D20/(4)","v":70000}]
["2016-08-05",8,2016,280000,{"$f":"D21/(4)","v":70000}]
["2016-09-05",9,2016,280000,{"$f":"D22/(5)","v":56000}]
["2016-10-05",10,2016,280000,{"$f":"D23/(4)","v":70000}]
["2016-11-05",11,2016,280000,{"$f":"D24/(4)","v":70000}]
["2016-12-05",12,2016,280000,{"$f":"D25/(5)","v":56000}]

{"sheet":"labor costs data","index":4,"n_rows":106,"n_cols":8,"rows_kept":106,"cut":false,"hidden":true,"merged":[]}
["week","week capture","month","year","Direct labor cost","Indirect labor cost","payroll tax adder 10%","total labor cost"]
[1,{"$f":"A3","v":2},1,2015,{"$f":"SUMIFS('finance data link'!I:I,'finance data link'!N:N,labor_costs[[#This Row],[year]],'finance data link'!M:M,labor_costs[[#This Row],[month]],'finance data link'!K:K,labor_costs[[#This Row],[week]])","v":98391.59},{"$f":"SUMIFS(fin_data_to_week[indirect labor],fin_data_to_week[year],labor_costs[[#This Row],[year]],fin_data_to_week[Month],labor_costs[[#This Row],[month]],fin_data_to_week[week capture],labor_costs[[#This Row],[week]])","v":47418.585000000006},{"$f":"SUM(labor_costs[[#This Row],[Direct labor cost]:[Indirect labor cost]])*0.1","v":14581.0175},{"$f":"SUM(labor_costs[[#This Row],[Direct labor cost]:[payroll tax adder 10%]])","v":160391.19249999998}]
[2,{"$f":"A4","v":3},1,2015,{"$f":"E2","v":98391.59},{"$f":"F2","v":47418.585000000006},{"$f":"SUM(labor_costs[[#This Row],[Direct labor cost]:[Indirect labor cost]])*0.1","v":14581.0175},{"$f":"SUM(labor_costs[[#This Row],[Direct labor cost]:[payroll tax adder 10%]])","v":160391.19249999998}]
[3,4,1,2015,{"$f":"SUMIFS('finance data link'!I:I,'finance data link'!N:N,labor_costs[[#This Row],[year]],'finance data link'!M:M,labor_costs[[#This Row],[month]],'finance data link'!K:K,labor_costs[[#This Row],[week]])","v":81242.924999999988},{"$f":"SUMIFS(fin_data_to_week[indirect labor],fin_data_to_week[year],labor_costs[[#This Row],[year]],fin_data_to_week[Month],labor_costs[[#This Row],[month]],fin_data_to_week[week capture],labor_costs[[#This Row],[week]])","v":41218.399999999994},{"$f":"SUM(labor_costs[[#This Row],[Direct labor cost]:[Indirect labor cost]])*0.1","v":12246.1325},{"$f":"SUM(labor_costs[[#This Row],[Direct labor cost]:[payroll tax adder 10%]])","v":134707.45749999999}]
[4,5,1,2015,{"$f":"E4","v":81242.924999999988},{"$f":"F4","v":41218.399999999994},{"$f":"SUM(labor_costs[[#This Row],[Direct labor cost]:[Indirect labor cost]])*0.1","v":12246.1325},{"$f":"SUM(labor_costs[[#This Row],[Direct labor cost]:[payroll tax adder 10%]])","v":134707.45749999999}]
[5,6,2,2015,{"$f":"SUMIFS('finance data link'!I:I,'finance data link'!N:N,labor_costs[[#This Row],[year]],'finance data link'!M:M,labor_costs[[#This Row],[month]],'finance data link'!K:K,labor_costs[[#This Row],[week]])","v":88537.065000000002},{"$f":"SUMIFS(fin_data_to_week[indirect labor],fin_data_to_week[year],labor_costs[[#This Row],[year]],fin_data_to_week[Month],labor_costs[[#This Row],[month]],fin_data_to_week[week capture],labor_costs[[#This Row],[week]])","v":44297.645000000004},{"$f":"SUM(labor_costs[[#This Row],[Direct labor cost]:[Indirect labor cost]])*0.1","v":13283.471000000003},{"$f":"SUM(labor_costs[[#This Row],[Direct labor cost]:[payroll tax adder 10%]])","v":146118.18100000001}]
[6,7,2,2015,{"$f":"E6","v":88537.065000000002},{"$f":"F6","v":44297.645000000004},{"$f":"SUM(labor_costs[[#This Row],[Direct labor cost]:[Indirect labor cost]])*0.1","v":13283.471000000003},{"$f":"SUM(labor_costs[[#This Row],[Direct labor cost]:[payroll tax adder 10%]])","v":146118.18100000001}]
[7,8,2,2015,{"$f":"SUMIFS('finance data link'!I:I,'finance data link'!N:N,labor_costs[[#This Row],[year]],'finance data link'!M:M,labor_costs[[#This Row],[month]],'finance data link'!K:K,labor_costs[[#This Row],[week]])","v":90360.180000000008},{"$f":"SUMIFS(fin_data_to_week[indirect labor],fin_data_to_week[year],labor_costs[[#This Row],[year]],fin_data_to_week[Month],labor_costs[[#This Row],[month]],fin_data_to_week[week capture],labor_costs[[#This Row],[week]])","v":48978.16},{"$f":"SUM(labor_costs[[#This Row],[Direct labor cost]:[Indirect labor cost]])*0.1","v":13933.834000000003},{"$f":"SUM(labor_costs[[#This Row],[Direct labor cost]:[payroll tax adder 10%]])","v":153272.17400000003}]
[8,9,2,2015,{"$f":"E8","v":90360.180000000008},{"$f":"F8","v":48978.16},{"$f":"SUM(labor_costs[[#This Row],[Direct labor cost]:[Indirect labor cost]])*0.1","v":13933.834000000003},{"$f":"SUM(labor_costs[[#This Row],[Direct labor cost]:[payroll tax adder 10%]])","v":153272.17400000003}]
[9,10,3,2015,{"$f":"SUMIFS('finance data link'!I:I,'finance data link'!N:N,labor_costs[[#This Row],[year]],'finance data link'!M:M,labor_costs[[#This Row],[month]],'finance data link'!K:K,labor_costs[[#This Row],[week]])","v":100683.93999999999},{"$f":"SUMIFS(fin_data_to_week[indirect labor],fin_data_to_week[year],labor_costs[[#This Row],[year]],fin_data_to_week[Month],labor_costs[[#This Row],[month]],fin_data_to_week[week capture],labor_costs[[#This Row],[week]])","v":49910.319999999992},{"$f":"SUM(labor_costs[[#This Row],[Direct labor cost]:[Indirect labor cost]])*0.1","v":15059.425999999999},{"$f":"SUM(labor_costs[[#This Row],[Direct labor cost]:[payroll tax adder 10%]])","v":165653.68599999999}]
[10,11,3,2015,{"$f":"E10","v":100683.93999999999},{"$f":"F10","v":49910.319999999992},{"$f":"SUM(labor_costs[[#This Row],[Direct labor cost]:[Indirect labor cost]])*0.1","v":15059.425999999999},{"$f":"SUM(labor_costs[[#This Row],[Direct labor cost]:[payroll tax adder 10%]])","v":165653.68599999999}]
[11,12,3,2015,{"$f":"SUMIFS('finance data link'!I:I,'finance data link'!N:N,labor_costs[[#This Row],[year]],'finance data link'!M:M,labor_costs[[#This Row],[month]],'finance data link'!K:K,labor_costs[[#This Row],[week]])","v":101150.06999999999},{"$f":"SUMIFS(fin_data_to_week[indirect labor],fin_data_to_week[year],labor_costs[[#This Row],[year]],fin_data_to_week[Month],labor_costs[[#This Row],[month]],fin_data_to_week[week capture],labor_costs[[#This Row],[week]])","v":51535.585000000006},{"$f":"SUM(labor_costs[[#This Row],[Direct labor cost]:[Indirect labor cost]])*0.1","v":15268.565500000001},{"$f":"SUM(labor_costs[[#This Row],[Direct labor cost]:[payroll tax adder 10%]])","v":167954.2205}]
[12,13,3,2015,{"$f":"E12","v":101150.06999999999},{"$f":"F12","v":51535.585000000006},{"$f":"SUM(labor_costs[[#This Row],[Direct labor cost]:[Indirect labor cost]])*0.1","v":15268.565500000001},{"$f":"SUM(labor_costs[[#This Row],[Direct labor cost]:[payroll tax adder 10%]])","v":167954.2205}]
[13,14,3,2015,{"$f":"SUMIFS('finance data link'!I:I,'finance data link'!N:N,labor_costs[[#This Row],[year]],'finance data link'!M:M,labor_costs[[#This Row],[month]],'finance data link'!K:K,labor_costs[[#This Row],[week]])","v":101156.07999999999},{"$f":"SUMIFS(fin_data_to_week[indirect labor],fin_data_to_week[year],labor_costs[[#This Row],[year]],fin_data_to_week[Month],labor_costs[[#This Row],[month]],fin_data_to_week[week capture],labor_costs[[#This Row],[week]])","v":54268.67},{"$f":"SUM(labor_costs[[#This Row],[Direct labor cost]:[Indirect labor cost]])*0.1","v":15542.475},{"$f":"SUM(labor_costs[[#This Row],[Direct labor cost]:[payroll tax adder 10%]])","v":170967.22500000001}]
[14,15,3,2015,{"$f":"E14","v":101156.07999999999},{"$f":"F14","v":54268.67},{"$f":"SUM(labor_costs[[#This Row],[Direct labor cost]:[Indirect labor cost]])*0.1","v":15542.475},{"$f":"SUM(labor_costs[[#This Row],[Direct labor cost]:[payroll tax adder 10%]])","v":170967.22500000001}]
[15,16,4,2015,{"$f":"SUMIFS('finance data link'!I:I,'finance data link'!N:N,labor_costs[[#This Row],[year]],'finance data link'!M:M,labor_costs[[#This Row],[month]],'finance data link'!K:K,labor_costs[[#This Row],[week]])","v":98561.68},{"$f":"SUMIFS(fin_data_to_week[indirect labor],fin_data_to_week[year],labor_costs[[#This Row],[year]],fin_data_to_week[Month],labor_costs[[#This Row],[month]],fin_data_to_week[week capture],labor_costs[[#This Row],[week]])","v":56142.715000000004},{"$f":"SUM(labor_costs[[#This Row],[Direct labor cost]:[Indirect labor cost]])*0.1","v":15470.4395},{"$f":"SUM(labor_costs[[#This Row],[Direct labor cost]:[payroll tax adder 10%]])","v":170174.8345}]
[16,17,4,2015,{"$f":"E16","v":98561.68},{"$f":"F16","v":56142.715000000004},{"$f":"SUM(labor_costs[[#This Row],[Direct labor cost]:[Indirect labor cost]])*0.1","v":15470.4395},{"$f":"SUM(labor_costs[[#This Row],[Direct labor cost]:[payroll tax adder 10%]])","v":170174.8345}]
[17,18,4,2015,{"$f":"SUMIFS('finance data link'!I:I,'finance data link'!N:N,labor_costs[[#This Row],[year]],'finance data link'!M:M,labor_costs[[#This Row],[month]],'finance data link'!K:K,labor_costs[[#This Row],[week]])","v":99641.395000000019},{"$f":"SUMIFS(fin_data_to_week[indirect labor],fin_data_to_week[year],labor_costs[[#This Row],[year]],fin_data_to_week[Month],labor_costs[[#This Row],[month]],fin_data_to_week[week capture],labor_costs[[#This Row],[week]])","v":55872.069999999992},{"$f":"SUM(labor_costs[[#This Row],[Direct labor cost]:[Indirect labor cost]])*0.1","v":15551.346500000003},{"$f":"SUM(labor_costs[[#This Row],[Direct labor cost]:[payroll tax adder 10%]])","v":171064.81150000004}]
[18,19,4,2015,{"$f":"E18","v":99641.395000000019},{"$f":"F18","v":55872.069999999992},{"$f":"SUM(labor_costs[[#This Row],[Direct labor cost]:[Indirect labor cost]])*0.1","v":15551.346500000003},{"$f":"SUM(labor_costs[[#This Row],[Direct labor cost]:[payroll tax adder 10%]])","v":171064.81150000004}]
[19,20,5,2015,{"$f":"SUMIFS('finance data link'!I:I,'finance data link'!N:N,labor_costs[[#This Row],[year]],'finance data link'!M:M,labor_costs[[#This Row],[month]],'finance data link'!K:K,labor_costs[[#This Row],[week]])","v":94021.694999999978},{"$f":"SUMIFS(fin_data_to_week[indirect labor],fin_data_to_week[year],labor_costs[[#This Row],[year]],fin_data_to_week[Month],labor_costs[[#This Row],[month]],fin_data_to_week[week capture],labor_costs[[#This Row],[week]])","v":53849.900000000009},{"$f":"SUM(labor_costs[[#This Row],[Direct labor cost]:[Indirect labor cost]])*0.1","v":14787.159499999998},{"$f":"SUM(labor_costs[[#This Row],[Direct labor cost]:[payroll tax adder 10%]])","v":162658.75449999998}]
[20,21,5,2015,{"$f":"E20","v":94021.694999999978},{"$f":"F20","v":53849.900000000009},{"$f":"SUM(labor_costs[[#This Row],[Direct labor cost]:[Indirect labor cost]])*0.1","v":14787.159499999998},{"$f":"SUM(labor_costs[[#This Row],[Direct labor cost]:[payroll tax adder 10%]])","v":162658.75449999998}]
[21,22,5,2015,{"$f":"SUMIFS('finance data link'!I:I,'finance data link'!N:N,labor_costs[[#This Row],[year]],'finance data link'!M:M,labor_costs[[#This Row],[month]],'finance data link'!K:K,labor_costs[[#This Row],[week]])","v":89913.295000000013},{"$f":"SUMIFS(fin_data_to_week[indirect labor],fin_data_to_week[year],labor_costs[[#This Row],[year]],fin_data_to_week[Month],labor_costs[[#This Row],[month]],fin_data_to_week[week capture],labor_costs[[#This Row],[week]])","v":54086.659999999996},{"$f":"SUM(labor_costs[[#This Row],[Direct labor cost]:[Indirect labor cost]])*0.1","v":14399.995500000003},{"$f":"SUM(labor_costs[[#This Row],[Direct labor cost]:[payroll tax adder 10%]])","v":158399.95050000001}]
[22,23,5,2015,{"$f":"E22","v":89913.295000000013},{"$f":"F22","v":54086.659999999996},{"$f":"SUM(labor_costs[[#This Row],[Direct labor cost]:[Indirect labor cost]])*0.1","v":14399.995500000003},{"$f":"SUM(labor_costs[[#This Row],[Direct labor cost]:[payroll tax adder 10%]])","v":158399.95050000001}]
[23,24,6,2015,{"$f":"SUMIFS('finance data link'!I:I,'finance data link'!N:N,labor_costs[[#This Row],[year]],'finance data link'!M:M,labor_costs[[#This Row],[month]],'finance data link'!K:K,labor_costs[[#This Row],[week]])","v":96179.049999999988},{"$f":"SUMIFS(fin_data_to_week[indirect labor],fin_data_to_week[year],labor_costs[[#This Row],[year]],fin_data_to_week[Month],labor_costs[[#This Row],[month]],fin_data_to_week[week capture],labor_costs[[#This Row],[week]])","v":57042.505000000005},{"$f":"SUM(labor_costs[[#This Row],[Direct labor cost]:[Indirect labor cost]])*0.1","v":15322.155500000001},{"$f":"SUM(labor_costs[[#This Row],[Direct labor cost]:[payroll tax adder 10%]])","v":168543.71049999999}]
[24,25,6,2015,{"$f":"E24","v":96179.049999999988},{"$f":"F24","v":57042.505000000005},{"$f":"SUM(labor_costs[[#This Row],[Direct labor cost]:[Indirect labor cost]])*0.1","v":15322.155500000001},{"$f":"SUM(labor_costs[[#This Row],[Direct labor cost]:[payroll tax adder 10%]])","v":168543.71049999999}]
[25,26,6,2015,{"$f":"SUMIFS('finance data link'!I:I,'finance data link'!N:N,labor_costs[[#This Row],[year]],'finance data link'!M:M,labor_costs[[#This Row],[month]],'finance data link'!K:K,labor_costs[[#This Row],[week]])","v":108167.895},{"$f":"SUMIFS(fin_data_to_week[indirect labor],fin_data_to_week[year],labor_costs[[#This Row],[year]],fin_data_to_week[Month],labor_costs[[#This Row],[month]],fin_data_to_week[week capture],labor_costs[[#This Row],[week]])","v":60183.61},{"$f":"SUM(labor_costs[[#This Row],[Direct labor cost]:[Indirect labor cost]])*0.1","v":16835.1505},{"$f":"SUM(labor_costs[[#This Row],[Direct labor cost]:[payroll tax adder 10%]])","v":185186.65549999999}]
[26,27,6,2015,{"$f":"E26","v":108167.895},{"$f":"F26","v":60183.61},{"$f":"SUM(labor_costs[[#This Row],[Direct labor cost]:[Indirect labor cost]])*0.1","v":16835.1505},{"$f":"SUM(labor_costs[[#This Row],[Direct labor cost]:[payroll tax adder 10%]])","v":185186.65549999999}]
[27,28,6,2015,{"$f":"SUMIFS('finance data link'!I:I,'finance data link'!N:N,labor_costs[[#This Row],[year]],'finance data link'!M:M,labor_costs[[#This Row],[month]],'finance data link'!K:K,labor_costs[[#This Row],[week]])","v":118936.97},{"$f":"SUMIFS(fin_data_to_week[indirect labor],fin_data_to_week[year],labor_costs[[#This Row],[year]],fin_data_to_week[Month],labor_costs[[#This Row],[month]],fin_data_to_week[week capture],labor_costs[[#This Row],[week]])","v":63048.884999999995},{"$f":"SUM(labor_costs[[#This Row],[Direct labor cost]:[Indirect labor cost]])*0.1","v":18198.585499999997},{"$f":"SUM(labor_costs[[#This Row],[Direct labor cost]:[payroll tax adder 10%]])","v":200184.44049999997}]
[28,29,7,2015,{"$f":"E28","v":118936.97},{"$f":"F28","v":63048.884999999995},{"$f":"SUM(labor_costs[[#This Row],[Direct labor cost]:[Indirect labor cost]])*0.1","v":18198.585499999997},{"$f":"SUM(labor_costs[[#This Row],[Direct labor cost]:[payroll tax adder 10%]])","v":200184.44049999997}]
[29,30,7,2015,{"$f":"SUMIFS('finance data link'!I:I,'finance data link'!N:N,labor_costs[[#This Row],[year]],'finance data link'!M:M,labor_costs[[#This Row],[month]],'finance data link'!K:K,labor_costs[[#This Row],[week]])","v":125643.18000000001},{"$f":"SUMIFS(fin_data_to_week[indirect labor],fin_data_to_week[year],labor_costs[[#This Row],[year]],fin_data_to_week[Month],labor_costs[[#This Row],[month]],fin_data_to_week[week capture],labor_costs[[#This Row],[week]])","v":63743.44},{"$f":"SUM(labor_costs[[#This Row],[Direct labor cost]:[Indirect labor cost]])*0.1","v":18938.662},{"$f":"SUM(labor_costs[[#This Row],[Direct labor cost]:[payroll tax adder 10%]])","v":208325.28200000001}]
[30,31,7,2015,{"$f":"E30","v":125643.18000000001},{"$f":"F30","v":63743.44},{"$f":"SUM(labor_costs[[#This Row],[Direct labor cost]:[Indirect labor cost]])*0.1","v":18938.662},{"$f":"SUM(labor_costs[[#This Row],[Direct labor cost]:[payroll tax adder 10%]])","v":208325.28200000001}]
[31,32,7,2015,{"$f":"SUMIFS('finance data link'!I:I,'finance data link'!N:N,labor_costs[[#This Row],[year]],'finance data link'!M:M,labor_costs[[#This Row],[month]],'finance data link'!K:K,labor_costs[[#This Row],[week]])","v":142094.465},{"$f":"SUMIFS(fin_data_to_week[indirect labor],fin_data_to_week[year],labor_costs[[#This Row],[year]],fin_data_to_week[Month],labor_costs[[#This Row],[month]],fin_data_to_week[week capture],labor_costs[[#This Row],[week]])","v":73975.814999999988},{"$f":"SUM(labor_costs[[#This Row],[Direct labor cost]:[Indirect labor cost]])*0.1","v":21607.027999999998},{"$f":"SUM(labor_costs[[#This Row],[Direct labor cost]:[payroll tax adder 10%]])","v":237677.30799999996}]
[32,33,8,2015,{"$f":"E32","v":142094.465},{"$f":"F32","v":73975.814999999988},{"$f":"SUM(labor_costs[[#This Row],[Direct labor cost]:[Indirect labor cost]])*0.1","v":21607.027999999998},{"$f":"SUM(labor_costs[[#This Row],[Direct labor cost]:[payroll tax adder 10%]])","v":237677.30799999996}]
[33,34,8,2015,{"$f":"SUMIFS('finance data link'!I:I,'finance data link'!N:N,labor_costs[[#This Row],[year]],'finance data link'!M:M,labor_costs[[#This Row],[month]],'finance data link'!K:K,labor_costs[[#This Row],[week]])","v":161034.97999999998},{"$f":"SUMIFS(fin_data_to_week[indirect labor],fin_data_to_week[year],labor_costs[[#This Row],[year]],fin_data_to_week[Month],labor_costs[[#This Row],[month]],fin_data_to_week[week capture],labor_costs[[#This Row],[week]])","v":82913.510000000009},{"$f":"SUM(labor_costs[[#This Row],[Direct labor cost]:[Indirect labor cost]])*0.1","v":24394.849000000002},{"$f":"SUM(labor_costs[[#This Row],[Direct labor cost]:[payroll tax adder 10%]])","v":268343.33899999998}]
[34,35,8,2015,{"$f":"E34","v":161034.97999999998},{"$f":"F34","v":82913.510000000009},{"$f":"SUM(labor_costs[[#This Row],[Direct labor cost]:[Indirect labor cost]])*0.1","v":24394.849000000002},{"$f":"SUM(labor_costs[[#This Row],[Direct labor cost]:[payroll tax adder 10%]])","v":268343.33899999998}]
[35,36,8,2015,{"$f":"SUMIFS('finance data link'!I:I,'finance data link'!N:N,labor_costs[[#This Row],[year]],'finance data link'!M:M,labor_costs[[#This Row],[month]],'finance data link'!K:K,labor_costs[[#This Row],[week]])","v":145458.28000000003},{"$f":"SUMIFS(fin_data_to_week[indirect labor],fin_data_to_week[year],labor_costs[[#This Row],[year]],fin_data_to_week[Month],labor_costs[[#This Row],[month]],fin_data_to_week[week capture],labor_costs[[#This Row],[week]])","v":79467.89},{"$f":"SUM(labor_costs[[#This Row],[Direct labor cost]:[Indirect labor cost]])*0.1","v":22492.617000000006},{"$f":"SUM(labor_costs[[#This Row],[Direct labor cost]:[payroll tax adder 10%]])","v":247418.78700000004}]
[36,37,8,2015,{"$f":"E36","v":145458.28000000003},{"$f":"F36","v":79467.89},{"$f":"SUM(labor_costs[[#This Row],[Direct labor cost]:[Indirect labor cost]])*0.1","v":22492.617000000006},{"$f":"SUM(labor_costs[[#This Row],[Direct labor cost]:[payroll tax adder 10%]])","v":247418.78700000004}]
[37,38,9,2015,{"$f":"SUMIFS('finance data link'!I:I,'finance data link'!N:N,labor_costs[[#This Row],[year]],'finance data link'!M:M,labor_costs[[#This Row],[month]],'finance data link'!K:K,labor_costs[[#This Row],[week]])","v":137017.83500000002},{"$f":"SUMIFS(fin_data_to_week[indirect labor],fin_data_to_week[year],labor_costs[[#This Row],[year]],fin_data_to_week[Month],labor_costs[[#This Row],[month]],fin_data_to_week[week capture],labor_costs[[#This Row],[week]])","v":79981.845000000001},{"$f":"SUM(labor_costs[[#This Row],[Direct labor cost]:[Indirect labor cost]])*0.1","v":21699.968000000004},{"$f":"SUM(labor_costs[[#This Row],[Direct labor cost]:[payroll tax adder 10%]])","v":238699.64800000002}]
[38,39,9,2015,{"$f":"E38","v":137017.83500000002},{"$f":"F38","v":79981.845000000001},{"$f":"SUM(labor_costs[[#This Row],[Direct labor cost]:[Indirect labor cost]])*0.1","v":21699.968000000004},{"$f":"SUM(labor_costs[[#This Row],[Direct labor cost]:[payroll tax adder 10%]])","v":238699.64800000002}]
[39,40,9,2015,{"$f":"SUMIFS('finance data link'!I:I,'finance data link'!N:N,labor_costs[[#This Row],[year]],'finance data link'!M:M,labor_costs[[#This Row],[month]],'finance data link'!K:K,labor_costs[[#This Row],[week]])","v":134943.03},{"$f":"SUMIFS(fin_data_to_week[indirect labor],fin_data_to_week[year],labor_costs[[#This Row],[year]],fin_data_to_week[Month],labor_costs[[#This Row],[month]],fin_data_to_week[week capture],labor_costs[[#This Row],[week]])","v":78256.225000000006},{"$f":"SUM(labor_costs[[#This Row],[Direct labor cost]:[Indirect labor cost]])*0.1","v":21319.925500000001},{"$f":"SUM(labor_costs[[#This Row],[Direct labor cost]:[payroll tax adder 10%]])","v":234519.18050000002}]
[40,41,9,2015,{"$f":"E40","v":134943.03},{"$f":"F40","v":78256.225000000006},{"$f":"SUM(labor_costs[[#This Row],[Direct labor cost]:[Indirect labor cost]])*0.1","v":21319.925500000001},{"$f":"SUM(labor_costs[[#This Row],[Direct labor cost]:[payroll tax adder 10%]])","v":234519.18050000002}]
[41,42,10,2015,{"$f":"SUMIFS('finance data link'!I:I,'finance data link'!N:N,labor_costs[[#This Row],[year]],'finance data link'!M:M,labor_costs[[#This Row],[month]],'finance data link'!K:K,labor_costs[[#This Row],[week]])","v":126726.77999999998},{"$f":"SUMIFS(fin_data_to_week[indirect labor],fin_data_to_week[year],labor_costs[[#This Row],[year]],fin_data_to_week[Month],labor_costs[[#This Row],[month]],fin_data_to_week[week capture],labor_costs[[#This Row],[week]])","v":79471.350000000006},{"$f":"SUM(labor_costs[[#This Row],[Direct labor cost]:[Indirect labor cost]])*0.1","v":20619.813000000002},{"$f":"SUM(labor_costs[[#This Row],[Direct labor cost]:[payroll tax adder 10%]])","v":226817.943}]
[42,43,10,2015,{"$f":"E42","v":126726.77999999998},{"$f":"F42","v":79471.350000000006},{"$f":"SUM(labor_costs[[#This Row],[Direct labor cost]:[Indirect labor cost]])*0.1","v":20619.813000000002},{"$f":"SUM(labor_costs[[#This Row],[Direct labor cost]:[payroll tax adder 10%]])","v":226817.943}]
[43,44,10,2015,{"$f":"SUMIFS('finance data link'!I:I,'finance data link'!N:N,labor_costs[[#This Row],[year]],'finance data link'!M:M,labor_costs[[#This Row],[month]],'finance data link'!K:K,labor_costs[[#This Row],[week]])","v":120724.83499999999},{"$f":"SUMIFS(fin_data_to_week[indirect labor],fin_data_to_week[year],labor_costs[[#This Row],[year]],fin_data_to_week[Month],labor_costs[[#This Row],[month]],fin_data_to_week[week capture],labor_costs[[#This Row],[week]])","v":74554.36},{"$f":"SUM(labor_costs[[#This Row],[Direct labor cost]:[Indirect labor cost]])*0.1","v":19527.9195},{"$f":"SUM(labor_costs[[#This Row],[Direct labor cost]:[payroll tax adder 10%]])","v":214807.1145}]
[44,45,10,2015,{"$f":"E44","v":120724.83499999999},{"$f":"F44","v":74554.36},{"$f":"SUM(labor_costs[[#This Row],[Direct labor cost]:[Indirect labor cost]])*0.1","v":19527.9195},{"$f":"SUM(labor_costs[[#This Row],[Direct labor cost]:[payroll tax adder 10%]])","v":214807.1145}]
[45,46,11,2015,{"$f":"SUMIFS('finance data link'!I:I,'finance data link'!N:N,labor_costs[[#This Row],[year]],'finance data link'!M:M,labor_costs[[#This Row],[month]],'finance data link'!K:K,labor_costs[[#This Row],[week]])","v":94943.494999999995},{"$f":"SUMIFS(fin_data_to_week[indirect labor],fin_data_to_week[year],labor_costs[[#This Row],[year]],fin_data_to_week[Month],labor_costs[[#This Row],[month]],fin_data_to_week[week capture],labor_costs[[#This Row],[week]])","v":74543.555000000008},{"$f":"SUM(labor_costs[[#This Row],[Direct labor cost]:[Indirect labor cost]])*0.1","v":16948.704999999998},{"$f":"SUM(labor_costs[[#This Row],[Direct labor cost]:[payroll tax adder 10%]])","v":186435.75499999998}]
[46,47,11,2015,{"$f":"E46","v":94943.494999999995},{"$f":"F46","v":74543.555000000008},{"$f":"SUM(labor_costs[[#This Row],[Direct labor cost]:[Indirect labor cost]])*0.1","v":16948.704999999998},{"$f":"SUM(labor_costs[[#This Row],[Direct labor cost]:[payroll tax adder 10%]])","v":186435.75499999998}]
[47,48,11,2015,{"$f":"SUMIFS('finance data link'!I:I,'finance data link'!N:N,labor_costs[[#This Row],[year]],'finance data link'!M:M,labor_costs[[#This Row],[month]],'finance data link'!K:K,labor_costs[[#This Row],[week]])","v":111631.56},{"$f":"SUMIFS(fin_data_to_week[indirect labor],fin_data_to_week[year],labor_costs[[#This Row],[year]],fin_data_to_week[Month],labor_costs[[#This Row],[month]],fin_data_to_week[week capture],labor_costs[[#This Row],[week]])","v":78629.189999999988},{"$f":"SUM(labor_costs[[#This Row],[Direct labor cost]:[Indirect labor cost]])*0.1","v":19026.075000000001},{"$f":"SUM(labor_costs[[#This Row],[Direct labor cost]:[payroll tax adder 10%]])","v":209286.82500000001}]
[48,49,11,2015,{"$f":"E48","v":111631.56},{"$f":"F48","v":78629.189999999988},{"$f":"SUM(labor_costs[[#This Row],[Direct labor cost]:[Indirect labor cost]])*0.1","v":19026.075000000001},{"$f":"SUM(labor_costs[[#This Row],[Direct labor cost]:[payroll tax adder 10%]])","v":209286.82500000001}]
[49,50,12,2015,{"$f":"SUMIFS('finance data link'!I:I,'finance data link'!N:N,labor_costs[[#This Row],[year]],'finance data link'!M:M,labor_costs[[#This Row],[month]],'finance data link'!K:K,labor_costs[[#This Row],[week]])","v":114628.64000000001},{"$f":"SUMIFS(fin_data_to_week[indirect labor],fin_data_to_week[year],labor_costs[[#This Row],[year]],fin_data_to_week[Month],labor_costs[[#This Row],[month]],fin_data_to_week[week capture],labor_costs[[#This Row],[week]])","v":82839.815000000002},{"$f":"SUM(labor_costs[[#This Row],[Direct labor cost]:[Indirect labor cost]])*0.1","v":19746.845500000003},{"$f":"SUM(labor_costs[[#This Row],[Direct labor cost]:[payroll tax adder 10%]])","v":217215.30050000001}]
[50,51,12,2015,{"$f":"E50","v":114628.64000000001},{"$f":"F50","v":82839.815000000002},{"$f":"SUM(labor_costs[[#This Row],[Direct labor cost]:[Indirect labor cost]])*0.1","v":19746.845500000003},{"$f":"SUM(labor_costs[[#This Row],[Direct labor cost]:[payroll tax adder 10%]])","v":217215.30050000001}]
[51,52,12,2015,{"$f":"SUMIFS('finance data link'!I:I,'finance data link'!N:N,labor_costs[[#This Row],[year]],'finance data link'!M:M,labor_costs[[#This Row],[month]],'finance data link'!K:K,labor_costs[[#This Row],[week]])","v":122743.435},{"$f":"SUMIFS(fin_data_to_week[indirect labor],fin_data_to_week[year],labor_costs[[#This Row],[year]],fin_data_to_week[Month],labor_costs[[#This Row],[month]],fin_data_to_week[week capture],labor_costs[[#This Row],[week]])","v":84421.5},{"$f":"SUM(labor_costs[[#This Row],[Direct labor cost]:[Indirect labor cost]])*0.1","v":20716.4935},{"$f":"SUM(labor_costs[[#This Row],[Direct labor cost]:[payroll tax adder 10%]])","v":227881.42850000001}]
[52,53,12,2015,{"$f":"E52","v":122743.435},{"$f":"F52","v":84421.5},{"$f":"SUM(labor_costs[[#This Row],[Direct labor cost]:[Indirect labor cost]])*0.1","v":20716.4935},{"$f":"SUM(labor_costs[[#This Row],[Direct labor cost]:[payroll tax adder 10%]])","v":227881.42850000001}]
[53,null,12,2015,{"$f":"SUMIFS('finance data link'!I:I,'finance data link'!N:N,labor_costs[[#This Row],[year]],'finance data link'!M:M,labor_costs[[#This Row],[month]],'finance data link'!K:K,labor_costs[[#This Row],[week]])","v":20139.260000000002},{"$f":"SUMIFS(fin_data_to_week[indirect labor],fin_data_to_week[year],labor_costs[[#This Row],[year]],fin_data_to_week[Month],labor_costs[[#This Row],[month]],fin_data_to_week[week capture],labor_costs[[#This Row],[week]])","v":40953.784999999996},{"$f":"SUM(labor_costs[[#This Row],[Direct labor cost]:[Indirect labor cost]])*0.1","v":6109.3045000000002},{"$f":"SUM(labor_costs[[#This Row],[Direct labor cost]:[payroll tax adder 10%]])","v":67202.349499999997}]
[1,2,1,2016,{"$f":"SUMIFS('finance data link'!I:I,'finance data link'!N:N,labor_costs[[#This Row],[year]],'finance data link'!M:M,labor_costs[[#This Row],[month]],'finance data link'!K:K,labor_costs[[#This Row],[week]])","v":132729.03},{"$f":"SUMIFS(fin_data_to_week[indirect labor],fin_data_to_week[year],labor_costs[[#This Row],[year]],fin_data_to_week[Month],labor_costs[[#This Row],[month]],fin_data_to_week[week capture],labor_costs[[#This Row],[week]])","v":81903.930000000008},{"$f":"SUM(labor_costs[[#This Row],[Direct labor cost]:[Indirect labor cost]])*0.1","v":21463.296000000002},{"$f":"SUM(labor_costs[[#This Row],[Direct labor cost]:[payroll tax adder 10%]])","v":236096.25600000002}]
[2,3,1,2016,{"$f":"E55","v":132729.03},{"$f":"F55","v":81903.930000000008},{"$f":"SUM(labor_costs[[#This Row],[Direct labor cost]:[Indirect labor cost]])*0.1","v":21463.296000000002},{"$f":"SUM(labor_costs[[#This Row],[Direct labor cost]:[payroll tax adder 10%]])","v":236096.25600000002}]
[3,4,1,2016,{"$f":"SUMIFS('finance data link'!I:I,'finance data link'!N:N,labor_costs[[#This Row],[year]],'finance data link'!M:M,labor_costs[[#This Row],[month]],'finance data link'!K:K,labor_costs[[#This Row],[week]])","v":101222.345},{"$f":"SUMIFS(fin_data_to_week[indirect labor],fin_data_to_week[year],labor_costs[[#This Row],[year]],fin_data_to_week[Month],labor_costs[[#This Row],[month]],fin_data_to_week[week capture],labor_costs[[#This Row],[week]])","v":71154.87},{"$f":"SUM(labor_costs[[#This Row],[Direct labor cost]:[Indirect labor cost]])*0.1","v":17237.7215},{"$f":"SUM(labor_costs[[#This Row],[Direct labor cost]:[payroll tax adder 10%]])","v":189614.93650000001}]
[4,5,1,2016,{"$f":"E57","v":101222.345},{"$f":"F57","v":71154.87},{"$f":"SUM(labor_costs[[#This Row],[Direct labor cost]:[Indirect labor cost]])*0.1","v":17237.7215},{"$f":"SUM(labor_costs[[#This Row],[Direct labor cost]:[payroll tax adder 10%]])","v":189614.93650000001}]
[5,6,2,2016,{"$f":"SUMIFS('finance data link'!I:I,'finance data link'!N:N,labor_costs[[#This Row],[year]],'finance data link'!M:M,labor_costs[[#This Row],[month]],'finance data link'!K:K,labor_costs[[#This Row],[week]])","v":99978.44},{"$f":"SUMIFS(fin_data_to_week[indirect labor],fin_data_to_week[year],labor_costs[[#This Row],[year]],fin_data_to_week[Month],labor_costs[[#This Row],[month]],fin_data_to_week[week capture],labor_costs[[#This Row],[week]])","v":74269.62000000001},{"$f":"SUM(labor_costs[[#This Row],[Direct labor cost]:[Indirect labor cost]])*0.1","v":17424.806},{"$f":"SUM(labor_costs[[#This Row],[Direct labor cost]:[payroll tax adder 10%]])","v":191672.86600000001}]
[6,7,2,2016,{"$f":"E59","v":99978.44},{"$f":"F59","v":74269.62000000001},{"$f":"SUM(labor_costs[[#This Row],[Direct labor cost]:[Indirect labor cost]])*0.1","v":17424.806},{"$f":"SUM(labor_costs[[#This Row],[Direct labor cost]:[payroll tax adder 10%]])","v":191672.86600000001}]
[7,8,2,2016,{"$f":"SUMIFS('finance data link'!I:I,'finance data link'!N:N,labor_costs[[#This Row],[year]],'finance data link'!M:M,labor_costs[[#This Row],[month]],'finance data link'!K:K,labor_costs[[#This Row],[week]])","v":95792.19},{"$f":"SUMIFS(fin_data_to_week[indirect labor],fin_data_to_week[year],labor_costs[[#This Row],[year]],fin_data_to_week[Month],labor_costs[[#This Row],[month]],fin_data_to_week[week capture],labor_costs[[#This Row],[week]])","v":71287.365000000005},{"$f":"SUM(labor_costs[[#This Row],[Direct labor cost]:[Indirect labor cost]])*0.1","v":16707.9555},{"$f":"SUM(labor_costs[[#This Row],[Direct labor cost]:[payroll tax adder 10%]])","v":183787.5105}]
[8,9,2,2016,{"$f":"E61","v":95792.19},{"$f":"F61","v":71287.365000000005},{"$f":"SUM(labor_costs[[#This Row],[Direct labor cost]:[Indirect labor cost]])*0.1","v":16707.9555},{"$f":"SUM(labor_costs[[#This Row],[Direct labor cost]:[payroll tax adder 10%]])","v":183787.5105}]
[9,10,3,2016,{"$f":"SUMIFS('finance data link'!I:I,'finance data link'!N:N,labor_costs[[#This Row],[year]],'finance data link'!M:M,labor_costs[[#This Row],[month]],'finance data link'!K:K,labor_costs[[#This Row],[week]])","v":99834.544999999998},{"$f":"SUMIFS(fin_data_to_week[indirect labor],fin_data_to_week[year],labor_costs[[#This Row],[year]],fin_data_to_week[Month],labor_costs[[#This Row],[month]],fin_data_to_week[week capture],labor_costs[[#This Row],[week]])","v":73110.91},{"$f":"SUM(labor_costs[[#This Row],[Direct labor cost]:[Indirect labor cost]])*0.1","v":17294.545500000004},{"$f":"SUM(labor_costs[[#This Row],[Direct labor cost]:[payroll tax adder 10%]])","v":190240.00050000002}]
[10,11,3,2016,{"$f":"E63","v":99834.544999999998},{"$f":"F63","v":73110.91},{"$f":"SUM(labor_costs[[#This Row],[Direct labor cost]:[Indirect labor cost]])*0.1","v":17294.545500000004},{"$f":"SUM(labor_costs[[#This Row],[Direct labor cost]:[payroll tax adder 10%]])","v":190240.00050000002}]
[11,12,3,2016,{"$f":"SUMIFS('finance data link'!I:I,'finance data link'!N:N,labor_costs[[#This Row],[year]],'finance data link'!M:M,labor_costs[[#This Row],[month]],'finance data link'!K:K,labor_costs[[#This Row],[week]])","v":97339.675000000003},{"$f":"SUMIFS(fin_data_to_week[indirect labor],fin_data_to_week[year],labor_costs[[#This Row],[year]],fin_data_to_week[Month],labor_costs[[#This Row],[month]],fin_data_to_week[week capture],labor_costs[[#This Row],[week]])","v":67839.179999999993},{"$f":"SUM(labor_costs[[#This Row],[Direct labor cost]:[Indirect labor cost]])*0.1","v":16517.8855},{"$f":"SUM(labor_costs[[#This Row],[Direct labor cost]:[payroll tax adder 10%]])","v":181696.74049999999}]
[12,13,3,2016,{"$f":"E65","v":97339.675000000003},{"$f":"F65","v":67839.179999999993},{"$f":"SUM(labor_costs[[#This Row],[Direct labor cost]:[Indirect labor cost]])*0.1","v":16517.8855},{"$f":"SUM(labor_costs[[#This Row],[Direct labor cost]:[payroll tax adder 10%]])","v":181696.74049999999}]
[13,14,3,2016,{"$f":"SUMIFS('finance data link'!I:I,'finance data link'!N:N,labor_costs[[#This Row],[year]],'finance data link'!M:M,labor_costs[[#This Row],[month]],'finance data link'!K:K,labor_costs[[#This Row],[week]])","v":100923.88499999999},{"$f":"SUMIFS(fin_data_to_week[indirect labor],fin_data_to_week[year],labor_costs[[#This Row],[year]],fin_data_to_week[Month],labor_costs[[#This Row],[month]],fin_data_to_week[week capture],labor_costs[[#This Row],[week]])","v":66778.69},{"$f":"SUM(labor_costs[[#This Row],[Direct labor cost]:[Indirect labor cost]])*0.1","v":16770.257500000003},{"$f":"SUM(labor_costs[[#This Row],[Direct labor cost]:[payroll tax adder 10%]])","v":184472.83250000002}]
[14,15,3,2016,{"$f":"E67","v":100923.88499999999},{"$f":"F67","v":66778.69},{"$f":"SUM(labor_costs[[#This Row],[Direct labor cost]:[Indirect labor cost]])*0.1","v":16770.257500000003},{"$f":"SUM(labor_costs[[#This Row],[Direct labor cost]:[payroll tax adder 10%]])","v":184472.83250000002}]
[15,16,4,2016,{"$f":"SUMIFS('finance data link'!I:I,'finance data link'!N:N,labor_costs[[#This Row],[year]],'finance data link'!M:M,labor_costs[[#This Row],[month]],'finance data link'!K:K,labor_costs[[#This Row],[week]])","v":108091.88499999998},{"$f":"SUMIFS(fin_data_to_week[indirect labor],fin_data_to_week[year],labor_costs[[#This Row],[year]],fin_data_to_week[Month],labor_costs[[#This Row],[month]],fin_data_to_week[week capture],labor_costs[[#This Row],[week]])","v":70040.815000000002},{"$f":"SUM(labor_costs[[#This Row],[Direct labor cost]:[Indirect labor cost]])*0.1","v":17813.27},{"$f":"SUM(labor_costs[[#This Row],[Direct labor cost]:[payroll tax adder 10%]])","v":195945.96999999997}]
[16,17,4,2016,{"$f":"E69","v":108091.88499999998},{"$f":"F69","v":70040.815000000002},{"$f":"SUM(labor_costs[[#This Row],[Direct labor cost]:[Indirect labor cost]])*0.1","v":17813.27},{"$f":"SUM(labor_costs[[#This Row],[Direct labor cost]:[payroll tax adder 10%]])","v":195945.96999999997}]
[17,18,4,2016,{"$f":"SUMIFS('finance data link'!I:I,'finance data link'!N:N,labor_costs[[#This Row],[year]],'finance data link'!M:M,labor_costs[[#This Row],[month]],'finance data link'!K:K,labor_costs[[#This Row],[week]])","v":113181.04999999999},{"$f":"SUMIFS(fin_data_to_week[indirect labor],fin_data_to_week[year],labor_costs[[#This Row],[year]],fin_data_to_week[Month],labor_costs[[#This Row],[month]],fin_data_to_week[week capture],labor_costs[[#This Row],[week]])","v":75762.154999999999},{"$f":"SUM(labor_costs[[#This Row],[Direct labor cost]:[Indirect labor cost]])*0.1","v":18894.320499999998},{"$f":"SUM(labor_costs[[#This Row],[Direct labor cost]:[payroll tax adder 10%]])","v":207837.52549999999}]
[18,19,4,2016,{"$f":"E71","v":113181.04999999999},{"$f":"F71","v":75762.154999999999},{"$f":"SUM(labor_costs[[#This Row],[Direct labor cost]:[Indirect labor cost]])*0.1","v":18894.320499999998},{"$f":"SUM(labor_costs[[#This Row],[Direct labor cost]:[payroll tax adder 10%]])","v":207837.52549999999}]
[19,20,4,2016,{"$f":"SUMIFS('finance data link'!I:I,'finance data link'!N:N,labor_costs[[#This Row],[year]],'finance data link'!M:M,labor_costs[[#This Row],[month]],'finance data link'!K:K,labor_costs[[#This Row],[week]])","v":0},{"$f":"SUMIFS(fin_data_to_week[indirect labor],fin_data_to_week[year],labor_costs[[#This Row],[year]],fin_data_to_week[Month],labor_costs[[#This Row],[month]],fin_data_to_week[week capture],labor_costs[[#This Row],[week]])","v":0},{"$f":"SUM(labor_costs[[#This Row],[Direct labor cost]:[Indirect labor cost]])*0.1","v":0},{"$f":"SUM(labor_costs[[#This Row],[Direct labor cost]:[payroll tax adder 10%]])","v":0}]
[20,21,5,2016,{"$f":"E73","v":0},{"$f":"F73","v":0},{"$f":"SUM(labor_costs[[#This Row],[Direct labor cost]:[Indirect labor cost]])*0.1","v":0},{"$f":"SUM(labor_costs[[#This Row],[Direct labor cost]:[payroll tax adder 10%]])","v":0}]
[21,22,5,2016,{"$f":"SUMIFS('finance data link'!I:I,'finance data link'!N:N,labor_costs[[#This Row],[year]],'finance data link'!M:M,labor_costs[[#This Row],[month]],'finance data link'!K:K,labor_costs[[#This Row],[week]])","v":0},{"$f":"SUMIFS(fin_data_to_week[indirect labor],fin_data_to_week[year],labor_costs[[#This Row],[year]],fin_data_to_week[Month],labor_costs[[#This Row],[month]],fin_data_to_week[week capture],labor_costs[[#This Row],[week]])","v":0},{"$f":"SUM(labor_costs[[#This Row],[Direct labor cost]:[Indirect labor cost]])*0.1","v":0},{"$f":"SUM(labor_costs[[#This Row],[Direct labor cost]:[payroll tax adder 10%]])","v":0}]
[22,23,5,2016,{"$f":"E75","v":0},{"$f":"F75","v":0},{"$f":"SUM(labor_costs[[#This Row],[Direct labor cost]:[Indirect labor cost]])*0.1","v":0},{"$f":"SUM(labor_costs[[#This Row],[Direct labor cost]:[payroll tax adder 10%]])","v":0}]
[23,24,5,2016,{"$f":"SUMIFS('finance data link'!I:I,'finance data link'!N:N,labor_costs[[#This Row],[year]],'finance data link'!M:M,labor_costs[[#This Row],[month]],'finance data link'!K:K,labor_costs[[#This Row],[week]])","v":0},{"$f":"SUMIFS(fin_data_to_week[indirect labor],fin_data_to_week[year],labor_costs[[#This Row],[year]],fin_data_to_week[Month],labor_costs[[#This Row],[month]],fin_data_to_week[week capture],labor_costs[[#This Row],[week]])","v":0},{"$f":"SUM(labor_costs[[#This Row],[Direct labor cost]:[Indirect labor cost]])*0.1","v":0},{"$f":"SUM(labor_costs[[#This Row],[Direct labor cost]:[payroll tax adder 10%]])","v":0}]
[24,25,6,2016,{"$f":"E77","v":0},{"$f":"F77","v":0},{"$f":"SUM(labor_costs[[#This Row],[Direct labor cost]:[Indirect labor cost]])*0.1","v":0},{"$f":"SUM(labor_costs[[#This Row],[Direct labor cost]:[payroll tax adder 10%]])","v":0}]
[25,26,6,2016,{"$f":"SUMIFS('finance data link'!I:I,'finance data link'!N:N,labor_costs[[#This Row],[year]],'finance data link'!M:M,labor_costs[[#This Row],[month]],'finance data link'!K:K,labor_costs[[#This Row],[week]])","v":0},{"$f":"SUMIFS(fin_data_to_week[indirect labor],fin_data_to_week[year],labor_costs[[#This Row],[year]],fin_data_to_week[Month],labor_costs[[#This Row],[month]],fin_data_to_week[week capture],labor_costs[[#This Row],[week]])","v":0},{"$f":"SUM(labor_costs[[#This Row],[Direct labor cost]:[Indirect labor cost]])*0.1","v":0},{"$f":"SUM(labor_costs[[#This Row],[Direct labor cost]:[payroll tax adder 10%]])","v":0}]
[26,27,6,2016,{"$f":"E79","v":0},{"$f":"F79","v":0},{"$f":"SUM(labor_costs[[#This Row],[Direct labor cost]:[Indirect labor cost]])*0.1","v":0},{"$f":"SUM(labor_costs[[#This Row],[Direct labor cost]:[payroll tax adder 10%]])","v":0}]
[27,28,6,2016,{"$f":"SUMIFS('finance data link'!I:I,'finance data link'!N:N,labor_costs[[#This Row],[year]],'finance data link'!M:M,labor_costs[[#This Row],[month]],'finance data link'!K:K,labor_costs[[#This Row],[week]])","v":0},{"$f":"SUMIFS(fin_data_to_week[indirect labor],fin_data_to_week[year],labor_costs[[#This Row],[year]],fin_data_to_week[Month],labor_costs[[#This Row],[month]],fin_data_to_week[week capture],labor_costs[[#This Row],[week]])","v":0},{"$f":"SUM(labor_costs[[#This Row],[Direct labor cost]:[Indirect labor cost]])*0.1","v":0},{"$f":"SUM(labor_costs[[#This Row],[Direct labor cost]:[payroll tax adder 10%]])","v":0}]
[28,29,7,2016,{"$f":"E81","v":0},{"$f":"F81","v":0},{"$f":"SUM(labor_costs[[#This Row],[Direct labor cost]:[Indirect labor cost]])*0.1","v":0},{"$f":"SUM(labor_costs[[#This Row],[Direct labor cost]:[payroll tax adder 10%]])","v":0}]
[29,30,7,2016,{"$f":"SUMIFS('finance data link'!I:I,'finance data link'!N:N,labor_costs[[#This Row],[year]],'finance data link'!M:M,labor_costs[[#This Row],[month]],'finance data link'!K:K,labor_costs[[#This Row],[week]])","v":0},{"$f":"SUMIFS(fin_data_to_week[indirect labor],fin_data_to_week[year],labor_costs[[#This Row],[year]],fin_data_to_week[Month],labor_costs[[#This Row],[month]],fin_data_to_week[week capture],labor_costs[[#This Row],[week]])","v":0},{"$f":"SUM(labor_costs[[#This Row],[Direct labor cost]:[Indirect labor cost]])*0.1","v":0},{"$f":"SUM(labor_costs[[#This Row],[Direct labor cost]:[payroll tax adder 10%]])","v":0}]
[30,31,7,2016,{"$f":"E83","v":0},{"$f":"F83","v":0},{"$f":"SUM(labor_costs[[#This Row],[Direct labor cost]:[Indirect labor cost]])*0.1","v":0},{"$f":"SUM(labor_costs[[#This Row],[Direct labor cost]:[payroll tax adder 10%]])","v":0}]
[31,32,7,2016,{"$f":"SUMIFS('finance data link'!I:I,'finance data link'!N:N,labor_costs[[#This Row],[year]],'finance data link'!M:M,labor_costs[[#This Row],[month]],'finance data link'!K:K,labor_costs[[#This Row],[week]])","v":0},{"$f":"SUMIFS(fin_data_to_week[indirect labor],fin_data_to_week[year],labor_costs[[#This Row],[year]],fin_data_to_week[Month],labor_costs[[#This Row],[month]],fin_data_to_week[week capture],labor_costs[[#This Row],[week]])","v":0},{"$f":"SUM(labor_costs[[#This Row],[Direct labor cost]:[Indirect labor cost]])*0.1","v":0},{"$f":"SUM(labor_costs[[#This Row],[Direct labor cost]:[payroll tax adder 10%]])","v":0}]
[32,33,8,2016,{"$f":"E85","v":0},{"$f":"F85","v":0},{"$f":"SUM(labor_costs[[#This Row],[Direct labor cost]:[Indirect labor cost]])*0.1","v":0},{"$f":"SUM(labor_costs[[#This Row],[Direct labor cost]:[payroll tax adder 10%]])","v":0}]
[33,34,8,2016,{"$f":"SUMIFS('finance data link'!I:I,'finance data link'!N:N,labor_costs[[#This Row],[year]],'finance data link'!M:M,labor_costs[[#This Row],[month]],'finance data link'!K:K,labor_costs[[#This Row],[week]])","v":0},{"$f":"SUMIFS(fin_data_to_week[indirect labor],fin_data_to_week[year],labor_costs[[#This Row],[year]],fin_data_to_week[Month],labor_costs[[#This Row],[month]],fin_data_to_week[week capture],labor_costs[[#This Row],[week]])","v":0},{"$f":"SUM(labor_costs[[#This Row],[Direct labor cost]:[Indirect labor cost]])*0.1","v":0},{"$f":"SUM(labor_costs[[#This Row],[Direct labor cost]:[payroll tax adder 10%]])","v":0}]
[34,35,8,2016,{"$f":"E87","v":0},{"$f":"F87","v":0},{"$f":"SUM(labor_costs[[#This Row],[Direct labor cost]:[Indirect labor cost]])*0.1","v":0},{"$f":"SUM(labor_costs[[#This Row],[Direct labor cost]:[payroll tax adder 10%]])","v":0}]
[35,36,8,2016,{"$f":"SUMIFS('finance data link'!I:I,'finance data link'!N:N,labor_costs[[#This Row],[year]],'finance data link'!M:M,labor_costs[[#This Row],[month]],'finance data link'!K:K,labor_costs[[#This Row],[week]])","v":0},{"$f":"SUMIFS(fin_data_to_week[indirect labor],fin_data_to_week[year],labor_costs[[#This Row],[year]],fin_data_to_week[Month],labor_costs[[#This Row],[month]],fin_data_to_week[week capture],labor_costs[[#This Row],[week]])","v":0},{"$f":"SUM(labor_costs[[#This Row],[Direct labor cost]:[Indirect labor cost]])*0.1","v":0},{"$f":"SUM(labor_costs[[#This Row],[Direct labor cost]:[payroll tax adder 10%]])","v":0}]
[36,37,8,2016,{"$f":"E89","v":0},{"$f":"F89","v":0},{"$f":"SUM(labor_costs[[#This Row],[Direct labor cost]:[Indirect labor cost]])*0.1","v":0},{"$f":"SUM(labor_costs[[#This Row],[Direct labor cost]:[payroll tax adder 10%]])","v":0}]
[37,38,9,2016,{"$f":"SUMIFS('finance data link'!I:I,'finance data link'!N:N,labor_costs[[#This Row],[year]],'finance data link'!M:M,labor_costs[[#This Row],[month]],'finance data link'!K:K,labor_costs[[#This Row],[week]])","v":0},{"$f":"SUMIFS(fin_data_to_week[indirect labor],fin_data_to_week[year],labor_costs[[#This Row],[year]],fin_data_to_week[Month],labor_costs[[#This Row],[month]],fin_data_to_week[week capture],labor_costs[[#This Row],[week]])","v":0},{"$f":"SUM(labor_costs[[#This Row],[Direct labor cost]:[Indirect labor cost]])*0.1","v":0},{"$f":"SUM(labor_costs[[#This Row],[Direct labor cost]:[payroll tax adder 10%]])","v":0}]
[38,39,9,2016,{"$f":"E91","v":0},{"$f":"F91","v":0},{"$f":"SUM(labor_costs[[#This Row],[Direct labor cost]:[Indirect labor cost]])*0.1","v":0},{"$f":"SUM(labor_costs[[#This Row],[Direct labor cost]:[payroll tax adder 10%]])","v":0}]
[39,40,9,2016,{"$f":"SUMIFS('finance data link'!I:I,'finance data link'!N:N,labor_costs[[#This Row],[year]],'finance data link'!M:M,labor_costs[[#This Row],[month]],'finance data link'!K:K,labor_costs[[#This Row],[week]])","v":0},{"$f":"SUMIFS(fin_data_to_week[indirect labor],fin_data_to_week[year],labor_costs[[#This Row],[year]],fin_data_to_week[Month],labor_costs[[#This Row],[month]],fin_data_to_week[week capture],labor_costs[[#This Row],[week]])","v":0},{"$f":"SUM(labor_costs[[#This Row],[Direct labor cost]:[Indirect labor cost]])*0.1","v":0},{"$f":"SUM(labor_costs[[#This Row],[Direct labor cost]:[payroll tax adder 10%]])","v":0}]
[40,41,9,2016,{"$f":"E93","v":0},{"$f":"F93","v":0},{"$f":"SUM(labor_costs[[#This Row],[Direct labor cost]:[Indirect labor cost]])*0.1","v":0},{"$f":"SUM(labor_costs[[#This Row],[Direct labor cost]:[payroll tax adder 10%]])","v":0}]
[41,42,10,2016,{"$f":"SUMIFS('finance data link'!I:I,'finance data link'!N:N,labor_costs[[#This Row],[year]],'finance data link'!M:M,labor_costs[[#This Row],[month]],'finance data link'!K:K,labor_costs[[#This Row],[week]])","v":0},{"$f":"SUMIFS(fin_data_to_week[indirect labor],fin_data_to_week[year],labor_costs[[#This Row],[year]],fin_data_to_week[Month],labor_costs[[#This Row],[month]],fin_data_to_week[week capture],labor_costs[[#This Row],[week]])","v":0},{"$f":"SUM(labor_costs[[#This Row],[Direct labor cost]:[Indirect labor cost]])*0.1","v":0},{"$f":"SUM(labor_costs[[#This Row],[Direct labor cost]:[payroll tax adder 10%]])","v":0}]
[42,43,10,2016,{"$f":"E95","v":0},{"$f":"F95","v":0},{"$f":"SUM(labor_costs[[#This Row],[Direct labor cost]:[Indirect labor cost]])*0.1","v":0},{"$f":"SUM(labor_costs[[#This Row],[Direct labor cost]:[payroll tax adder 10%]])","v":0}]
[43,44,10,2016,{"$f":"SUMIFS('finance data link'!I:I,'finance data link'!N:N,labor_costs[[#This Row],[year]],'finance data link'!M:M,labor_costs[[#This Row],[month]],'finance data link'!K:K,labor_costs[[#This Row],[week]])","v":0},{"$f":"SUMIFS(fin_data_to_week[indirect labor],fin_data_to_week[year],labor_costs[[#This Row],[year]],fin_data_to_week[Month],labor_costs[[#This Row],[month]],fin_data_to_week[week capture],labor_costs[[#This Row],[week]])","v":0},{"$f":"SUM(labor_costs[[#This Row],[Direct labor cost]:[Indirect labor cost]])*0.1","v":0},{"$f":"SUM(labor_costs[[#This Row],[Direct labor cost]:[payroll tax adder 10%]])","v":0}]
[44,45,10,2016,{"$f":"E97","v":0},{"$f":"F97","v":0},{"$f":"SUM(labor_costs[[#This Row],[Direct labor cost]:[Indirect labor cost]])*0.1","v":0},{"$f":"SUM(labor_costs[[#This Row],[Direct labor cost]:[payroll tax adder 10%]])","v":0}]
[45,46,10,2016,{"$f":"SUMIFS('finance data link'!I:I,'finance data link'!N:N,labor_costs[[#This Row],[year]],'finance data link'!M:M,labor_costs[[#This Row],[month]],'finance data link'!K:K,labor_costs[[#This Row],[week]])","v":0},{"$f":"SUMIFS(fin_data_to_week[indirect labor],fin_data_to_week[year],labor_costs[[#This Row],[year]],fin_data_to_week[Month],labor_costs[[#This Row],[month]],fin_data_to_week[week capture],labor_costs[[#This Row],[week]])","v":0},{"$f":"SUM(labor_costs[[#This Row],[Direct labor cost]:[Indirect labor cost]])*0.1","v":0},{"$f":"SUM(labor_costs[[#This Row],[Direct labor cost]:[payroll tax adder 10%]])","v":0}]
[46,47,11,2016,{"$f":"E99","v":0},{"$f":"F99","v":0},{"$f":"SUM(labor_costs[[#This Row],[Direct labor cost]:[Indirect labor cost]])*0.1","v":0},{"$f":"SUM(labor_costs[[#This Row],[Direct labor cost]:[payroll tax adder 10%]])","v":0}]
[47,48,11,2016,{"$f":"SUMIFS('finance data link'!I:I,'finance data link'!N:N,labor_costs[[#This Row],[year]],'finance data link'!M:M,labor_costs[[#This Row],[month]],'finance data link'!K:K,labor_costs[[#This Row],[week]])","v":0},{"$f":"SUMIFS(fin_data_to_week[indirect labor],fin_data_to_week[year],labor_costs[[#This Row],[year]],fin_data_to_week[Month],labor_costs[[#This Row],[month]],fin_data_to_week[week capture],labor_costs[[#This Row],[week]])","v":0},{"$f":"SUM(labor_costs[[#This Row],[Direct labor cost]:[Indirect labor cost]])*0.1","v":0},{"$f":"SUM(labor_costs[[#This Row],[Direct labor cost]:[payroll tax adder 10%]])","v":0}]
[48,49,11,2016,{"$f":"E101","v":0},{"$f":"F101","v":0},{"$f":"SUM(labor_costs[[#This Row],[Direct labor cost]:[Indirect labor cost]])*0.1","v":0},{"$f":"SUM(labor_costs[[#This Row],[Direct labor cost]:[payroll tax adder 10%]])","v":0}]
[49,50,11,2016,{"$f":"SUMIFS('finance data link'!I:I,'finance data link'!N:N,labor_costs[[#This Row],[year]],'finance data link'!M:M,labor_costs[[#This Row],[month]],'finance data link'!K:K,labor_costs[[#This Row],[week]])","v":0},{"$f":"SUMIFS(fin_data_to_week[indirect labor],fin_data_to_week[year],labor_costs[[#This Row],[year]],fin_data_to_week[Month],labor_costs[[#This Row],[month]],fin_data_to_week[week capture],labor_costs[[#This Row],[week]])","v":0},{"$f":"SUM(labor_costs[[#This Row],[Direct labor cost]:[Indirect labor cost]])*0.1","v":0},{"$f":"SUM(labor_costs[[#This Row],[Direct labor cost]:[payroll tax adder 10%]])","v":0}]
[50,51,12,2016,{"$f":"E103","v":0},{"$f":"F103","v":0},{"$f":"SUM(labor_costs[[#This Row],[Direct labor cost]:[Indirect labor cost]])*0.1","v":0},{"$f":"SUM(labor_costs[[#This Row],[Direct labor cost]:[payroll tax adder 10%]])","v":0}]
[51,52,12,2016,{"$f":"SUMIFS('finance data link'!I:I,'finance data link'!N:N,labor_costs[[#This Row],[year]],'finance data link'!M:M,labor_costs[[#This Row],[month]],'finance data link'!K:K,labor_costs[[#This Row],[week]])","v":0},{"$f":"SUMIFS(fin_data_to_week[indirect labor],fin_data_to_week[year],labor_costs[[#This Row],[year]],fin_data_to_week[Month],labor_costs[[#This Row],[month]],fin_data_to_week[week capture],labor_costs[[#This Row],[week]])","v":0},{"$f":"SUM(labor_costs[[#This Row],[Direct labor cost]:[Indirect labor cost]])*0.1","v":0},{"$f":"SUM(labor_costs[[#This Row],[Direct labor cost]:[payroll tax adder 10%]])","v":0}]
[52,53,12,2016,{"$f":"E105","v":0},{"$f":"F105","v":0},{"$f":"SUM(labor_costs[[#This Row],[Direct labor cost]:[Indirect labor cost]])*0.1","v":0},{"$f":"SUM(labor_costs[[#This Row],[Direct labor cost]:[payroll tax adder 10%]])","v":0}]

{"sheet":"finance data link","index":5,"n_rows":54,"n_cols":14,"rows_kept":54,"cut":false,"hidden":true,"merged":[]}
["pay date period ","date of covereage ","SEA Union piece work","SEA Union Hourly","SEA Non Union","PF piece work","PF Hourly",null,"direct labor","indirect labor","week capture","weekcapture2","Month","year"]
[{"$f":"'[1]SEA - Union Piecework'!A5","v":"2015 - PP01"},{"$f":"'[1]SEA - Union Piecework'!B5","v":0},{"$f":"'[1]SEA - Union Piecework'!C5","v":166384.94},{"$f":"'[1]SEA - Union Hourly'!C5","v":41558.649999999994},{"$f":"'[1]SEA - Non Union '!C5","v":34459.200000000004},{"$f":"'[1]Post Falls- Non Union Piecework'!C5","v":30398.239999999998},{"$f":"'[1]Post Falls - Non Union Hourly'!C5","v":18819.32},null,{"$f":"SUM(C2,F2)/2","v":98391.59},{"$f":"SUM(D2,E2,G2)/2","v":47418.585000000006},1,2,1,2015]
[{"$f":"'[1]SEA - Union Piecework'!A6","v":"2015 - PP02"},{"$f":"'[1]SEA - Union Piecework'!B6","v":0},{"$f":"'[1]SEA - Union Piecework'!C6","v":133378.51999999999},{"$f":"'[1]SEA - Union Hourly'!C6","v":31476.949999999997},{"$f":"'[1]SEA - Non Union '!C6","v":34122.409999999996},{"$f":"'[1]Post Falls- Non Union Piecework'!C6","v":29107.33},{"$f":"'[1]Post Falls - Non Union Hourly'!C6","v":16837.439999999999},null,{"$f":"SUM(C3,F3)/2","v":81242.924999999988},{"$f":"SUM(D3,E3,G3)/2","v":41218.399999999994},{"$f":"K2+2","v":3},{"$f":"L2+2","v":4},1,2015]
[{"$f":"'[1]SEA - Union Piecework'!A7","v":"2015 - PP03"},{"$f":"'[1]SEA - Union Piecework'!B7","v":0},{"$f":"'[1]SEA - Union Piecework'!C7","v":145281.46},{"$f":"'[1]SEA - Union Hourly'!C7","v":33189.65},{"$f":"'[1]SEA - Non Union '!C7","v":36002.71},{"$f":"'[1]Post Falls- Non Union Piecework'!C7","v":31792.670000000002},{"$f":"'[1]Post Falls - Non Union Hourly'!C7","v":19402.93},null,88537.065000000002,44297.645000000004,{"$f":"K3+2","v":5},{"$f":"L3+2","v":6},2,2015]
[{"$f":"'[1]SEA - Union Piecework'!A8","v":"2015 - PP04"},{"$f":"'[1]SEA - Union Piecework'!B8","v":0},{"$f":"'[1]SEA - Union Piecework'!C8","v":151445.20000000001},{"$f":"'[1]SEA - Union Hourly'!C8","v":37872.500000000007},{"$f":"'[1]SEA - Non Union '!C8","v":41352.659999999996},{"$f":"'[1]Post Falls- Non Union Piecework'!C8","v":29275.16},{"$f":"'[1]Post Falls - Non Union Hourly'!C8","v":18731.16},null,90360.180000000008,48978.16,7,8,2,2015]
[{"$f":"'[1]SEA - Union Piecework'!A9","v":"2015 - PP05"},{"$f":"'[1]SEA - Union Piecework'!B9","v":0},{"$f":"'[1]SEA - Union Piecework'!C9","v":172859.18999999997},{"$f":"'[1]SEA - Union Hourly'!C9","v":37865.5},{"$f":"'[1]SEA - Non Union '!C9","v":43146.9},{"$f":"'[1]Post Falls- Non Union Piecework'!C9","v":28508.690000000002},{"$f":"'[1]Post Falls - Non Union Hourly'!C9","v":18808.239999999998},null,100683.93999999999,49910.319999999992,9,10,3,2015]
[{"$f":"'[1]SEA - Union Piecework'!A10","v":"2015 - PP06"},{"$f":"'[1]SEA - Union Piecework'!B10","v":0},{"$f":"'[1]SEA - Union Piecework'!C10","v":171531.33},{"$f":"'[1]SEA - Union Hourly'!C10","v":39212.51},{"$f":"'[1]SEA - Non Union '!C10","v":44479.350000000006},{"$f":"'[1]Post Falls- Non Union Piecework'!C10","v":30768.81},{"$f":"'[1]Post Falls - Non Union Hourly'!C10","v":19379.309999999998},null,101150.06999999999,51535.585000000006,11,12,3,2015]
[{"$f":"'[1]SEA - Union Piecework'!A11","v":"2015 - PP07"},{"$f":"'[1]SEA - Union Piecework'!B11","v":0},{"$f":"'[1]SEA - Union Piecework'!C11","v":171869.55999999997},{"$f":"'[1]SEA - Union Hourly'!C11","v":43899.47},{"$f":"'[1]SEA - Non Union '!C11","v":45433.4},{"$f":"'[1]Post Falls- Non Union Piecework'!C11","v":30442.600000000002},{"$f":"'[1]Post Falls - Non Union Hourly'!C11","v":19204.47},null,101156.07999999999,54268.67,13,14,3,2015]
[{"$f":"'[1]SEA - Union Piecework'!A12","v":"2015 - PP08"},{"$f":"'[1]SEA - Union Piecework'!B12","v":0},{"$f":"'[1]SEA - Union Piecework'!C12","v":167250.03},{"$f":"'[1]SEA - Union Hourly'!C12","v":41486.519999999997},{"$f":"'[1]SEA - Non Union '!C12","v":51884.05},{"$f":"'[1]Post Falls- Non Union Piecework'!C12","v":29873.33},{"$f":"'[1]Post Falls - Non Union Hourly'!C12","v":18914.86},null,98561.68,56142.715000000004,15,16,4,2015]
[{"$f":"'[1]SEA - Union Piecework'!A13","v":"2015 - PP09"},{"$f":"'[1]SEA - Union Piecework'!B13","v":0},{"$f":"'[1]SEA - Union Piecework'!C13","v":167309.22000000003},{"$f":"'[1]SEA - Union Hourly'!C13","v":43555.99},{"$f":"'[1]SEA - Non Union '!C13","v":49035.06},{"$f":"'[1]Post Falls- Non Union Piecework'!C13","v":31973.57},{"$f":"'[1]Post Falls - Non Union Hourly'!C13","v":19153.089999999997},null,99641.395000000019,55872.069999999992,17,18,4,2015]
[{"$f":"'[1]SEA - Union Piecework'!A14","v":"2015 - PP10"},{"$f":"'[1]SEA - Union Piecework'!B14","v":0},{"$f":"'[1]SEA - Union Piecework'!C14","v":155982.05999999997},{"$f":"'[1]SEA - Union Hourly'!C14","v":39059.58},{"$f":"'[1]SEA - Non Union '!C14","v":48780.090000000004},{"$f":"'[1]Post Falls- Non Union Piecework'!C14","v":32061.329999999998},{"$f":"'[1]Post Falls - Non Union Hourly'!C14","v":19860.13},null,94021.694999999978,53849.900000000009,19,20,5,2015]
[{"$f":"'[1]SEA - Union Piecework'!A15","v":"2015 - PP11"},{"$f":"'[1]SEA - Union Piecework'!B15","v":"05/11-05/24"},{"$f":"'[1]SEA - Union Piecework'!C15","v":147409.85000000003},{"$f":"'[1]SEA - Union Hourly'!C15","v":40874.919999999991},{"$f":"'[1]SEA - Non Union '!C15","v":47683.85},{"$f":"'[1]Post Falls- Non Union Piecework'!C15","v":32416.74},{"$f":"'[1]Post Falls - Non Union Hourly'!C15","v":19614.55},null,89913.295000000013,54086.659999999996,21,22,5,2015]
[{"$f":"'[1]SEA - Union Piecework'!A16","v":"2015 - PP12"},{"$f":"'[1]SEA - Union Piecework'!B16","v":"05/25-06/07"},{"$f":"'[1]SEA - Union Piecework'!C16","v":157105.60999999999},{"$f":"'[1]SEA - Union Hourly'!C16","v":46749.05},{"$f":"'[1]SEA - Non Union '!C16","v":48689.8},{"$f":"'[1]Post Falls- Non Union Piecework'!C16","v":35252.490000000005},{"$f":"'[1]Post Falls - Non Union Hourly'!C16","v":18646.16},null,96179.049999999988,57042.505000000005,23,24,6,2015]
[{"$f":"'[1]SEA - Union Piecework'!A17","v":"2015 - PP13"},{"$f":"'[1]SEA - Union Piecework'!B17","v":"06/08-06/21"},{"$f":"'[1]SEA - Union Piecework'!C17","v":177248.01},{"$f":"'[1]SEA - Union Hourly'!C17","v":50517.729999999996},{"$f":"'[1]SEA - Non Union '!C17","v":50536.320000000007},{"$f":"'[1]Post Falls- Non Union Piecework'!C17","v":39087.78},{"$f":"'[1]Post Falls - Non Union Hourly'!C17","v":19313.169999999998},null,108167.895,60183.61,25,26,6,2015]
[{"$f":"'[1]SEA - Union Piecework'!A18","v":"2015 - PP14"},{"$f":"'[1]SEA - Union Piecework'!B18","v":"06/22-07/05"},{"$f":"'[1]SEA - Union Piecework'!C18","v":199242.91},{"$f":"'[1]SEA - Union Hourly'!C18","v":55072.21},{"$f":"'[1]SEA - Non Union '!C18","v":51840.19},{"$f":"'[1]Post Falls- Non Union Piecework'!C18","v":38631.03},{"$f":"'[1]Post Falls - Non Union Hourly'!C18","v":19185.370000000003},null,118936.97,63048.884999999995,27,28,6,2015]
[{"$f":"'[1]SEA - Union Piecework'!A19","v":"2015 - PP15"},{"$f":"'[1]SEA - Union Piecework'!B19","v":"07/06-07/19"},{"$f":"'[1]SEA - Union Piecework'!C19","v":216934.64},{"$f":"'[1]SEA - Union Hourly'!C19","v":60118.18},{"$f":"'[1]SEA - Non Union '!C19","v":50444.319999999992},{"$f":"'[1]Post Falls- Non Union Piecework'!C19","v":34351.72},{"$f":"'[1]Post Falls - Non Union Hourly'!C19","v":16924.379999999997},null,125643.18000000001,63743.44,29,30,7,2015]
[{"$f":"'[1]SEA - Union Piecework'!A20","v":"2015 - PP16"},{"$f":"'[1]SEA - Union Piecework'!B20","v":"07/20-08/02"},{"$f":"'[1]SEA - Union Piecework'!C20","v":244683.53999999998},{"$f":"'[1]SEA - Union Hourly'!C20","v":69935.37999999999},{"$f":"'[1]SEA - Non Union '!C20","v":55191.54},{"$f":"'[1]Post Falls- Non Union Piecework'!C20","v":39505.39},{"$f":"'[1]Post Falls - Non Union Hourly'!C20","v":22824.710000000003},null,142094.465,73975.814999999988,31,32,7,2015]
[{"$f":"'[1]SEA - Union Piecework'!A21","v":"2015 - PP17"},{"$f":"'[1]SEA - Union Piecework'!B21","v":"08/03-08/16"},{"$f":"'[1]SEA - Union Piecework'!C21","v":278020.11},{"$f":"'[1]SEA - Union Hourly'!C21","v":82622.460000000006},{"$f":"'[1]SEA - Non Union '!C21","v":61023.8},{"$f":"'[1]Post Falls- Non Union Piecework'!C21","v":44049.85},{"$f":"'[1]Post Falls - Non Union Hourly'!C21","v":22180.760000000002},null,161034.97999999998,82913.510000000009,33,34,8,2015]
[{"$f":"'[1]SEA - Union Piecework'!A22","v":"2015 - PP18"},{"$f":"'[1]SEA - Union Piecework'!B22","v":"08/17-08/30"},{"$f":"'[1]SEA - Union Piecework'!C22","v":247615.69000000003},{"$f":"'[1]SEA - Union Hourly'!C22","v":74565.490000000005},{"$f":"'[1]SEA - Non Union '!C22","v":60943.64},{"$f":"'[1]Post Falls- Non Union Piecework'!C22","v":43300.87},{"$f":"'[1]Post Falls - Non Union Hourly'!C22","v":23426.649999999998},null,145458.28000000003,79467.89,35,36,8,2015]
[{"$f":"'[1]SEA - Union Piecework'!A23","v":"2015 - PP19"},{"$f":"'[1]SEA - Union Piecework'!B23","v":"08/31-09/13"},{"$f":"'[1]SEA - Union Piecework'!C23","v":228375.02000000002},{"$f":"'[1]SEA - Union Hourly'!C23","v":70984.17},{"$f":"'[1]SEA - Non Union '!C23","v":65229.39},{"$f":"'[1]Post Falls- Non Union Piecework'!C23","v":45660.649999999994},{"$f":"'[1]Post Falls - Non Union Hourly'!C23","v":23750.129999999997},null,137017.83500000002,79981.845000000001,37,38,9,2015]
[{"$f":"'[1]SEA - Union Piecework'!A24","v":"2015 - PP20"},{"$f":"'[1]SEA - Union Piecework'!B24","v":"09/14-09/27"},{"$f":"'[1]SEA - Union Piecework'!C24","v":223323.43},{"$f":"'[1]SEA - Union Hourly'!C24","v":72698.81},{"$f":"'[1]SEA - Non Union '!C24","v":60745.909999999996},{"$f":"'[1]Post Falls- Non Union Piecework'!C24","v":46562.63},{"$f":"'[1]Post Falls - Non Union Hourly'!C24","v":23067.73},null,134943.03,78256.225000000006,39,40,9,2015]
[{"$f":"'[1]SEA - Union Piecework'!A25","v":"2015 - PP21"},{"$f":"'[1]SEA - Union Piecework'!B25","v":"09/28-10/11"},{"$f":"'[1]SEA - Union Piecework'!C25","v":207409.30999999997},{"$f":"'[1]SEA - Union Hourly'!C25","v":73701.23},{"$f":"'[1]SEA - Non Union '!C25","v":62827.78},{"$f":"'[1]Post Falls- Non Union Piecework'!C25","v":46044.25},{"$f":"'[1]Post Falls - Non Union Hourly'!C25","v":22413.690000000002},null,126726.77999999998,79471.350000000006,41,42,10,2015]
[{"$f":"'[1]SEA - Union Piecework'!A26","v":"2015 - PP22"},{"$f":"'[1]SEA - Union Piecework'!B26","v":"10/12-10/25"},{"$f":"'[1]SEA - Union Piecework'!C26","v":198354.49},{"$f":"'[1]SEA - Union Hourly'!C26","v":63463.11},{"$f":"'[1]SEA - Non Union '!C26","v":62733.53},{"$f":"'[1]Post Falls- Non Union Piecework'!C26","v":43095.179999999993},{"$f":"'[1]Post Falls - Non Union Hourly'!C26","v":22912.080000000002},null,120724.83499999999,74554.36,43,44,10,2015]
[{"$f":"'[1]SEA - Union Piecework'!A27","v":"2015 - PP23"},{"$f":"'[1]SEA - Union Piecework'!B27","v":"10/26-11/08"},{"$f":"'[1]SEA - Union Piecework'!C27","v":147633.99},{"$f":"'[1]SEA - Union Hourly'!C27","v":66181.81},{"$f":"'[1]SEA - Non Union '!C27","v":59531.76},{"$f":"'[1]Post Falls- Non Union Piecework'!C27","v":42253},{"$f":"'[1]Post Falls - Non Union Hourly'!C27","v":23373.54},null,94943.494999999995,74543.555000000008,45,46,11,2015]
[{"$f":"'[1]SEA - Union Piecework'!A28","v":"2015 - PP24"},{"$f":"'[1]SEA - Union Piecework'!B28","v":"11/09-11/22"},{"$f":"'[1]SEA - Union Piecework'!C28","v":178343.57},{"$f":"'[1]SEA - Union Hourly'!C28","v":73817.959999999992},{"$f":"'[1]SEA - Non Union '!C28","v":60264.810000000005},{"$f":"'[1]Post Falls- Non Union Piecework'!C28","v":44919.55},{"$f":"'[1]Post Falls - Non Union Hourly'!C28","v":23175.609999999997},null,111631.56,78629.189999999988,47,48,11,2015]
[{"$f":"'[1]SEA - Union Piecework'!A29","v":"2015 - PP25"},{"$f":"'[1]SEA - Union Piecework'!B29","v":"11/23-12/06"},{"$f":"'[1]SEA - Union Piecework'!C29","v":188651.51},{"$f":"'[1]SEA - Union Hourly'!C29","v":77689.75},{"$f":"'[1]SEA - Non Union '!C29","v":63633.600000000006},{"$f":"'[1]Post Falls- Non Union Piecework'!C29","v":40605.770000000004},{"$f":"'[1]Post Falls - Non Union Hourly'!C29","v":24356.28},null,114628.64000000001,82839.815000000002,49,50,12,2015]
[{"$f":"'[1]SEA - Union Piecework'!A30","v":"2015 - PP26"},{"$f":"'[1]SEA - Union Piecework'!B30","v":"12/07-12/20"},{"$f":"'[1]SEA - Union Piecework'!C30","v":202918.07},{"$f":"'[1]SEA - Union Hourly'!C30","v":75468.87000000001},{"$f":"'[1]SEA - Non Union '!C30","v":67586.2},{"$f":"'[1]Post Falls- Non Union Piecework'!C30","v":42568.800000000003},{"$f":"'[1]Post Falls - Non Union Hourly'!C30","v":25787.93},null,122743.435,84421.5,51,52,12,2015]
[{"$f":"'[1]Post Falls- Non Union Piecework'!A31","v":"2015 - PP27"},{"$f":"'[1]Post Falls- Non Union Piecework'!B31","v":"12/14-12/27"},null,null,{"$f":"'[1]SEA - Non Union '!C31","v":58025.45},{"$f":"'[1]Post Falls- Non Union Piecework'!C31","v":40278.520000000004},{"$f":"'[1]Post Falls - Non Union Hourly'!C31","v":23882.12},null,20139.260000000002,40953.784999999996,53,54,12,2015]
[{"$f":"'[1]SEA - Union Piecework'!A31","v":"01/11/2016 - PP01"},{"$f":"'[1]SEA - Union Piecework'!B31","v":"12/21-01/03"},{"$f":"'[1]SEA - Union Piecework'!C31","v":225657.97},{"$f":"'[1]SEA - Union Hourly'!C31","v":80484.39},{"$f":"'[1]SEA - Non Union '!C32","v":61328.130000000005},{"$f":"'[1]Post Falls- Non Union Piecework'!C32","v":39800.089999999997},{"$f":"'[1]Post Falls - Non Union Hourly'!C32","v":21995.339999999997},null,132729.03,81903.930000000008,1,2,1,2016]
[{"$f":"'[1]SEA - Union Piecework'!A32","v":"01/25/2016 - PP02"},{"$f":"'[1]SEA - Union Piecework'!B32","v":"01/04-01/17"},{"$f":"'[1]SEA - Union Piecework'!C32","v":163480.54},{"$f":"'[1]SEA - Union Hourly'!C32","v":62092.749999999993},{"$f":"'[1]SEA - Non Union '!C33","v":56789.25},{"$f":"'[1]Post Falls- Non Union Piecework'!C33","v":38964.15},{"$f":"'[1]Post Falls - Non Union Hourly'!C33","v":23427.739999999998},null,101222.345,71154.87,{"$f":"K29+2","v":3},{"$f":"L29+2","v":4},1,2016]
[{"$f":"'[1]SEA - Union Piecework'!A33","v":"02/08/2016 - PP03"},{"$f":"'[1]SEA - Union Piecework'!B33","v":"01/18-01/31"},{"$f":"'[1]SEA - Union Piecework'!C33","v":165700.46},{"$f":"'[1]SEA - Union Hourly'!C33","v":63809.94},{"$f":"'[1]SEA - Non Union '!C34","v":60951.740000000005},{"$f":"'[1]Post Falls- Non Union Piecework'!C34","v":34256.42},{"$f":"'[1]Post Falls - Non Union Hourly'!C34","v":23777.56},null,99978.44,74269.62000000001,{"$f":"K30+2","v":5},{"$f":"L30+2","v":6},2,2016]
[{"$f":"'[1]SEA - Union Piecework'!A34","v":"02/22/2016 - PP04"},{"$f":"'[1]SEA - Union Piecework'!B34","v":"02/01-02/14"},{"$f":"'[1]SEA - Union Piecework'!C34","v":159437.30000000002},{"$f":"'[1]SEA - Union Hourly'!C34","v":60600.21},{"$f":"'[1]SEA - Non Union '!C35","v":58664.71},{"$f":"'[1]Post Falls- Non Union Piecework'!C35","v":32147.08},{"$f":"'[1]Post Falls - Non Union Hourly'!C35","v":23309.81},null,95792.19,71287.365000000005,7,8,2,2016]
[{"$f":"'[1]SEA - Union Piecework'!A35","v":"03/07/2016 - PP05"},{"$f":"'[1]SEA - Union Piecework'!B35","v":"02/15-02/28"},{"$f":"'[1]SEA - Union Piecework'!C35","v":165531.46},{"$f":"'[1]SEA - Union Hourly'!C35","v":60232.42},{"$f":"'[1]SEA - Non Union '!C36","v":62729.579999999994},{"$f":"'[1]Post Falls- Non Union Piecework'!C36","v":34137.629999999997},{"$f":"'[1]Post Falls - Non Union Hourly'!C36","v":23259.820000000003},null,99834.544999999998,73110.91,9,10,3,2016]
[{"$f":"'[1]SEA - Union Piecework'!A36","v":"03/21/2016 - PP06"},{"$f":"'[1]SEA - Union Piecework'!B36","v":"02/29-03/13"},{"$f":"'[1]SEA - Union Piecework'!C36","v":160556.53},{"$f":"'[1]SEA - Union Hourly'!C36","v":57578.68},{"$f":"'[1]SEA - Non Union '!C37","v":54097.289999999994},{"$f":"'[1]Post Falls- Non Union Piecework'!C37","v":34122.82},{"$f":"'[1]Post Falls - Non Union Hourly'!C37","v":24002.39},null,97339.675000000003,67839.179999999993,11,12,3,2016]
[{"$f":"'[1]SEA - Union Piecework'!A37","v":"04/04/2016 - PP07"},{"$f":"'[1]SEA - Union Piecework'!B37","v":"03/14-03/27"},{"$f":"'[1]SEA - Union Piecework'!C37","v":168727.8},{"$f":"'[1]SEA - Union Hourly'!C37","v":54937.24},{"$f":"'[1]SEA - Non Union '!C38","v":54556.68},{"$f":"'[1]Post Falls- Non Union Piecework'!C38","v":33119.97},{"$f":"'[1]Post Falls - Non Union Hourly'!C38","v":24063.46},null,100923.88499999999,66778.69,13,14,3,2016]
[{"$f":"'[1]SEA - Union Piecework'!A38","v":"04/18/2016 - PP08"},{"$f":"'[1]SEA - Union Piecework'!B38","v":"03/28-04/10"},{"$f":"'[1]SEA - Union Piecework'!C38","v":182401.81999999998},{"$f":"'[1]SEA - Union Hourly'!C38","v":54393.94},{"$f":"'[1]SEA - Non Union '!C39","v":61747.770000000004},{"$f":"'[1]Post Falls- Non Union Piecework'!C39","v":33781.949999999997},{"$f":"'[1]Post Falls - Non Union Hourly'!C39","v":23939.919999999998},null,108091.88499999998,70040.815000000002,15,16,4,2016]
[{"$f":"'[1]SEA - Union Piecework'!A39","v":"05/02/2016 - PP09"},{"$f":"'[1]SEA - Union Piecework'!B39","v":"04/11-04/24"},{"$f":"'[1]SEA - Union Piecework'!C39","v":189669.33},{"$f":"'[1]SEA - Union Hourly'!C39","v":60261.770000000004},{"$f":"'[1]SEA - Non Union '!C40","v":65144.41},{"$f":"'[1]Post Falls- Non Union Piecework'!C40","v":36692.770000000004},{"$f":"'[1]Post Falls - Non Union Hourly'!C40","v":26118.13},null,113181.04999999999,75762.154999999999,17,18,4,2016]
[{"$f":"'[1]SEA - Union Piecework'!A40","v":"05/16/2016 - PP10"},{"$f":"'[1]SEA - Union Piecework'!B40","v":"04/25-05/08"},{"$f":"'[1]SEA - Union Piecework'!C40","v":0},{"$f":"'[1]SEA - Union Hourly'!C40","v":0},{"$f":"'[1]SEA - Non Union '!C41","v":0},{"$f":"'[1]Post Falls- Non Union Piecework'!C41","v":0},{"$f":"'[1]Post Falls - Non Union Hourly'!C41","v":0},null,0,0,19,20,5,2016]
[{"$f":"'[1]SEA - Union Piecework'!A41","v":"05/27/2016 - PP11"},{"$f":"'[1]SEA - Union Piecework'!B41","v":"05/09-05/22"},{"$f":"'[1]SEA - Union Piecework'!C41","v":0},{"$f":"'[1]SEA - Union Hourly'!C41","v":0},{"$f":"'[1]SEA - Non Union '!C42","v":0},{"$f":"'[1]Post Falls- Non Union Piecework'!C42","v":0},{"$f":"'[1]Post Falls - Non Union Hourly'!C42","v":0},null,0,0,21,22,5,2016]
[{"$f":"'[1]SEA - Union Piecework'!A42","v":"06/13/2016 - PP12"},{"$f":"'[1]SEA - Union Piecework'!B42","v":"05/23-06/05"},{"$f":"'[1]SEA - Union Piecework'!C42","v":0},{"$f":"'[1]SEA - Union Hourly'!C42","v":0},{"$f":"'[1]SEA - Non Union '!C43","v":0},{"$f":"'[1]Post Falls- Non Union Piecework'!C43","v":0},{"$f":"'[1]Post Falls - Non Union Hourly'!C43","v":0},null,0,0,23,24,6,2016]
[{"$f":"'[1]SEA - Union Piecework'!A43","v":"06/27/2016 - PP13"},{"$f":"'[1]SEA - Union Piecework'!B43","v":"06/06-06/19"},{"$f":"'[1]SEA - Union Piecework'!C43","v":0},{"$f":"'[1]SEA - Union Hourly'!C43","v":0},{"$f":"'[1]SEA - Non Union '!C44","v":0},{"$f":"'[1]Post Falls- Non Union Piecework'!C44","v":0},{"$f":"'[1]Post Falls - Non Union Hourly'!C44","v":0},null,0,0,25,26,6,2016]
[{"$f":"'[1]SEA - Union Piecework'!A44","v":"07/11/2016 - PP14"},{"$f":"'[1]SEA - Union Piecework'!B44","v":"06/20-07/03"},{"$f":"'[1]SEA - Union Piecework'!C44","v":0},{"$f":"'[1]SEA - Union Hourly'!C44","v":0},{"$f":"'[1]SEA - Non Union '!C45","v":0},{"$f":"'[1]Post Falls- Non Union Piecework'!C45","v":0},{"$f":"'[1]Post Falls - Non Union Hourly'!C45","v":0},null,0,0,27,28,6,2016]
[{"$f":"'[1]SEA - Union Piecework'!A45","v":"07/25/2016 - PP15"},{"$f":"'[1]SEA - Union Piecework'!B45","v":"07/04-07/17"},{"$f":"'[1]SEA - Union Piecework'!C45","v":0},{"$f":"'[1]SEA - Union Hourly'!C45","v":0},{"$f":"'[1]SEA - Non Union '!C46","v":0},{"$f":"'[1]Post Falls- Non Union Piecework'!C46","v":0},{"$f":"'[1]Post Falls - Non Union Hourly'!C46","v":0},null,0,0,29,30,7,2016]
[{"$f":"'[1]SEA - Union Piecework'!A46","v":"08/08/2016 - PP16"},{"$f":"'[1]SEA - Union Piecework'!B46","v":"07/18-07/31"},{"$f":"'[1]SEA - Union Piecework'!C46","v":0},{"$f":"'[1]SEA - Union Hourly'!C46","v":0},{"$f":"'[1]SEA - Non Union '!C47","v":0},{"$f":"'[1]Post Falls- Non Union Piecework'!C47","v":0},{"$f":"'[1]Post Falls - Non Union Hourly'!C47","v":0},null,0,0,31,32,7,2016]
[{"$f":"'[1]SEA - Union Piecework'!A47","v":"08/22/2016 - PP17"},{"$f":"'[1]SEA - Union Piecework'!B47","v":"08/01-08/14"},{"$f":"'[1]SEA - Union Piecework'!C47","v":0},{"$f":"'[1]SEA - Union Hourly'!C47","v":0},{"$f":"'[1]SEA - Non Union '!C48","v":0},{"$f":"'[1]Post Falls- Non Union Piecework'!C48","v":0},{"$f":"'[1]Post Falls - Non Union Hourly'!C48","v":0},null,0,0,33,34,8,2016]
[{"$f":"'[1]SEA - Union Piecework'!A48","v":"09/02/2016 - PP18"},{"$f":"'[1]SEA - Union Piecework'!B48","v":"08/15-08/28"},{"$f":"'[1]SEA - Union Piecework'!C48","v":0},{"$f":"'[1]SEA - Union Hourly'!C48","v":0},{"$f":"'[1]SEA - Non Union '!C49","v":0},{"$f":"'[1]Post Falls- Non Union Piecework'!C49","v":0},{"$f":"'[1]Post Falls - Non Union Hourly'!C49","v":0},null,0,0,35,36,8,2016]
[{"$f":"'[1]SEA - Union Piecework'!A49","v":"09/19/2016 - PP19"},{"$f":"'[1]SEA - Union Piecework'!B49","v":"08/29-09/11"},{"$f":"'[1]SEA - Union Piecework'!C49","v":0},{"$f":"'[1]SEA - Union Hourly'!C49","v":0},{"$f":"'[1]SEA - Non Union '!C50","v":0},{"$f":"'[1]Post Falls- Non Union Piecework'!C50","v":0},{"$f":"'[1]Post Falls - Non Union Hourly'!C50","v":0},null,0,0,37,38,9,2016]
[{"$f":"'[1]SEA - Union Piecework'!A50","v":"10/03/2016 - PP20"},{"$f":"'[1]SEA - Union Piecework'!B50","v":"09/12-09/25"},{"$f":"'[1]SEA - Union Piecework'!C50","v":0},{"$f":"'[1]SEA - Union Hourly'!C50","v":0},{"$f":"'[1]SEA - Non Union '!C51","v":0},{"$f":"'[1]Post Falls- Non Union Piecework'!C51","v":0},{"$f":"'[1]Post Falls - Non Union Hourly'!C51","v":0},null,0,0,39,40,9,2016]
[{"$f":"'[1]SEA - Union Piecework'!A51","v":"10/17/2016 - PP21"},{"$f":"'[1]SEA - Union Piecework'!B51","v":"09/26-10/09"},{"$f":"'[1]SEA - Union Piecework'!C51","v":0},{"$f":"'[1]SEA - Union Hourly'!C51","v":0},{"$f":"'[1]SEA - Non Union '!C52","v":0},{"$f":"'[1]Post Falls- Non Union Piecework'!C52","v":0},{"$f":"'[1]Post Falls - Non Union Hourly'!C52","v":0},null,0,0,41,42,10,2016]
[{"$f":"'[1]SEA - Union Piecework'!A52","v":"10/31/2016 - PP22"},{"$f":"'[1]SEA - Union Piecework'!B52","v":"10/10-10/23"},{"$f":"'[1]SEA - Union Piecework'!C52","v":0},{"$f":"'[1]SEA - Union Hourly'!C52","v":0},{"$f":"'[1]SEA - Non Union '!C53","v":0},{"$f":"'[1]Post Falls- Non Union Piecework'!C53","v":0},{"$f":"'[1]Post Falls - Non Union Hourly'!C53","v":0},null,0,0,43,44,10,2016]
[{"$f":"'[1]SEA - Union Piecework'!A53","v":"11/14/2016 - PP23"},{"$f":"'[1]SEA - Union Piecework'!B53","v":"10/24-11/06"},{"$f":"'[1]SEA - Union Piecework'!C53","v":0},{"$f":"'[1]SEA - Union Hourly'!C53","v":0},{"$f":"'[1]SEA - Non Union '!C54","v":0},{"$f":"'[1]Post Falls- Non Union Piecework'!C54","v":0},{"$f":"'[1]Post Falls - Non Union Hourly'!C54","v":0},null,0,0,45,46,11,2016]
[{"$f":"'[1]SEA - Union Piecework'!A54","v":"11/28/2016 - PP24"},{"$f":"'[1]SEA - Union Piecework'!B54","v":"11/07-11/20"},{"$f":"'[1]SEA - Union Piecework'!C54","v":0},{"$f":"'[1]SEA - Union Hourly'!C54","v":0},{"$f":"'[1]SEA - Non Union '!C55","v":0},{"$f":"'[1]Post Falls- Non Union Piecework'!C55","v":0},{"$f":"'[1]Post Falls - Non Union Hourly'!C55","v":0},null,0,0,47,48,11,2016]
[{"$f":"'[1]SEA - Union Piecework'!A55","v":"12/12/2016 - PP25"},{"$f":"'[1]SEA - Union Piecework'!B55","v":"11/21-12/04"},{"$f":"'[1]SEA - Union Piecework'!C55","v":0},{"$f":"'[1]SEA - Union Hourly'!C55","v":0},{"$f":"'[1]SEA - Non Union '!C56","v":0},{"$f":"'[1]Post Falls- Non Union Piecework'!C56","v":0},{"$f":"'[1]Post Falls - Non Union Hourly'!C56","v":0},null,0,0,49,50,12,2016]
[{"$f":"'[1]SEA - Union Piecework'!A56","v":"12/23/2016 - PP26"},{"$f":"'[1]SEA - Union Piecework'!B56","v":"12/05-12/18"},{"$f":"'[1]SEA - Union Piecework'!C56","v":0},{"$f":"'[1]SEA - Union Hourly'!C56","v":0},{"$f":"'[1]SEA - Non Union '!C57","v":0},{"$f":"'[1]Post Falls- Non Union Piecework'!C57","v":0},{"$f":"'[1]Post Falls - Non Union Hourly'!C57","v":0},null,0,0,51,52,12,2016]

{"sheet":"AX data dump","index":6,"n_rows":1754,"n_cols":35,"rows_kept":1754,"cut":false,"hidden":true,"merged":[]}
["vlookup for total SAH","week","year","style #","style color","Column1","Column2","Column3","Column4","Column5","Column6","Column7","Column8","Column9","Column10","Column11","Column12","Column13","Column14","Column15","Column16","Column17","Column18","Column19",null,null,"Week","Year","111-FILSN1","112-FILSN2","113-FILSN3","111-FILSN1 units","112-FILSN2 units","113-FILSN3 units","unique count of styles delivered"]
[{"$f":"IF(ISNUMBER(U2)=TRUE,VLOOKUP(vlookup_data[[#This Row],[style '#]],[2]Sheet1!$A:$D,4,0)*ABS(U2),0)","v":0},{"$f":"WEEKNUM(vlookup_data[[#This Row],[Column8]],2)","v":1},{"$f":"YEAR(vlookup_data[[#This Row],[Column8]])","v":1900},{"$f":"VALUE(G2)","v":0},{"$f":"CONCATENATE(vlookup_data[[#This Row],[style '#]],\"|\",R2)","v":"0|"},null,null,null,null,null,null,null,null,null,null,null,null,null,null,null,null,null,null,null,null,null,1,2016,{"$f":"IFERROR(SUMIFS(A:A,C:C,ax_data_rollup[[#This Row],[Year]],B:B,ax_data_rollup[[#This Row],[Week]],I:I,\"111-FILSN1\"),\"\")","v":0},{"$f":"IFERROR(SUMIFS(A:A,C:C,ax_data_rollup[[#This Row],[Year]],B:B,ax_data_rollup[[#This Row],[Week]],I:I,\"112-FILSN2\"),\"\")","v":0},{"$f":"IFERROR(SUMIFS(A:A,C:C,ax_data_rollup[[#This Row],[Year]],B:B,ax_data_rollup[[#This Row],[Week]],I:I,\"113-FILSN3\"),\"\")","v":0},{"$f":"ABS(SUMIFS(U:U,C:C,ax_data_rollup[[#This Row],[Year]],B:B,ax_data_rollup[[#This Row],[Week]],I:I,\"111-FILSN1\"))","v":0},{"$f":"ABS(SUMIFS(U:U,C:C,ax_data_rollup[[#This Row],[Year]],B:B,ax_data_rollup[[#This Row],[Week]],I:I,\"112-FILSN2\"))","v":0},{"$f":"ABS(SUMIFS(U:U,C:C,ax_data_rollup[[#This Row],[Year]],B:B,ax_data_rollup[[#This Row],[Week]],I:I,\"113-FILSN3\"))","v":0}]
[{"$f":"IF(ISNUMBER(U3)=TRUE,VLOOKUP(vlookup_data[[#This Row],[style '#]],[2]Sheet1!$A:$D,4,0)*ABS(U3),0)","v":0},{"$f":"WEEKNUM(vlookup_data[[#This Row],[Column8]],2)","v":1},{"$f":"YEAR(vlookup_data[[#This Row],[Column8]])","v":1900},0,{"$f":"CONCATENATE(vlookup_data[[#This Row],[style '#]],\"|\",R3)","v":"0|"},null,null,null,null,null,null,null,null,null,null,null,null,null,null,null,null,null,null,null,null,null,2,2016,{"$f":"IFERROR(SUMIFS(A:A,C:C,ax_data_rollup[[#This Row],[Year]],B:B,ax_data_rollup[[#This Row],[Week]],I:I,\"111-FILSN1\"),\"\")","v":0},{"$f":"IFERROR(SUMIFS(A:A,C:C,ax_data_rollup[[#This Row],[Year]],B:B,ax_data_rollup[[#This Row],[Week]],I:I,\"112-FILSN2\"),\"\")","v":0},{"$f":"IFERROR(SUMIFS(A:A,C:C,ax_data_rollup[[#This Row],[Year]],B:B,ax_data_rollup[[#This Row],[Week]],I:I,\"113-FILSN3\"),\"\")","v":0},{"$f":"ABS(SUMIFS(U:U,C:C,ax_data_rollup[[#This Row],[Year]],B:B,ax_data_rollup[[#This Row],[Week]],I:I,\"111-FILSN1\"))","v":0},{"$f":"ABS(SUMIFS(U:U,C:C,ax_data_rollup[[#This Row],[Year]],B:B,ax_data_rollup[[#This Row],[Week]],I:I,\"112-FILSN2\"))","v":0},{"$f":"ABS(SUMIFS(U:U,C:C,ax_data_rollup[[#This Row],[Year]],B:B,ax_data_rollup[[#This Row],[Week]],I:I,\"113-FILSN3\"))","v":0}]
[{"$f":"IF(ISNUMBER(U4)=TRUE,VLOOKUP(vlookup_data[[#This Row],[style '#]],[2]Sheet1!$A:$D,4,0)*ABS(U4),0)","v":0},{"$f":"WEEKNUM(vlookup_data[[#This Row],[Column8]],2)","v":1},{"$f":"YEAR(vlookup_data[[#This Row],[Column8]])","v":1900},0,{"$f":"CONCATENATE(vlookup_data[[#This Row],[style '#]],\"|\",R4)","v":"0|"},null,null,null,null,null,null,null,null,null,null,null,null,null,null,null,null,null,null,null,null,null,3,2016,{"$f":"IFERROR(SUMIFS(A:A,C:C,ax_data_rollup[[#This Row],[Year]],B:B,ax_data_rollup[[#This Row],[Week]],I:I,\"111-FILSN1\"),\"\")","v":0},{"$f":"IFERROR(SUMIFS(A:A,C:C,ax_data_rollup[[#This Row],[Year]],B:B,ax_data_rollup[[#This Row],[Week]],I:I,\"112-FILSN2\"),\"\")","v":0},{"$f":"IFERROR(SUMIFS(A:A,C:C,ax_data_rollup[[#This Row],[Year]],B:B,ax_data_rollup[[#This Row],[Week]],I:I,\"113-FILSN3\"),\"\")","v":0},{"$f":"ABS(SUMIFS(U:U,C:C,ax_data_rollup[[#This Row],[Year]],B:B,ax_data_rollup[[#This Row],[Week]],I:I,\"111-FILSN1\"))","v":0},{"$f":"ABS(SUMIFS(U:U,C:C,ax_data_rollup[[#This Row],[Year]],B:B,ax_data_rollup[[#This Row],[Week]],I:I,\"112-FILSN2\"))","v":0},{"$f":"ABS(SUMIFS(U:U,C:C,ax_data_rollup[[#This Row],[Year]],B:B,ax_data_rollup[[#This Row],[Week]],I:I,\"113-FILSN3\"))","v":0}]
[{"$f":"IF(ISNUMBER(U5)=TRUE,VLOOKUP(vlookup_data[[#This Row],[style '#]],[2]Sheet1!$A:$D,4,0)*ABS(U5),0)","v":0},{"$f":"WEEKNUM(vlookup_data[[#This Row],[Column8]],2)","v":1},{"$f":"YEAR(vlookup_data[[#This Row],[Column8]])","v":1900},0,{"$f":"CONCATENATE(vlookup_data[[#This Row],[style '#]],\"|\",R5)","v":"0|"},null,null,null,null,null,null,null,null,null,null,null,null,null,null,null,null,null,null,null,null,null,4,2016,{"$f":"IFERROR(SUMIFS(A:A,C:C,ax_data_rollup[[#This Row],[Year]],B:B,ax_data_rollup[[#This Row],[Week]],I:I,\"111-FILSN1\"),\"\")","v":0},{"$f":"IFERROR(SUMIFS(A:A,C:C,ax_data_rollup[[#This Row],[Year]],B:B,ax_data_rollup[[#This Row],[Week]],I:I,\"112-FILSN2\"),\"\")","v":0},{"$f":"IFERROR(SUMIFS(A:A,C:C,ax_data_rollup[[#This Row],[Year]],B:B,ax_data_rollup[[#This Row],[Week]],I:I,\"113-FILSN3\"),\"\")","v":0},{"$f":"ABS(SUMIFS(U:U,C:C,ax_data_rollup[[#This Row],[Year]],B:B,ax_data_rollup[[#This Row],[Week]],I:I,\"111-FILSN1\"))","v":0},{"$f":"ABS(SUMIFS(U:U,C:C,ax_data_rollup[[#This Row],[Year]],B:B,ax_data_rollup[[#This Row],[Week]],I:I,\"112-FILSN2\"))","v":0},{"$f":"ABS(SUMIFS(U:U,C:C,ax_data_rollup[[#This Row],[Year]],B:B,ax_data_rollup[[#This Row],[Week]],I:I,\"113-FILSN3\"))","v":0}]
[{"$f":"IF(ISNUMBER(U6)=TRUE,VLOOKUP(vlookup_data[[#This Row],[style '#]],[2]Sheet1!$A:$D,4,0)*ABS(U6),0)","v":0},{"$f":"WEEKNUM(vlookup_data[[#This Row],[Column8]],2)","v":1},{"$f":"YEAR(vlookup_data[[#This Row],[Column8]])","v":1900},0,{"$f":"CONCATENATE(vlookup_data[[#This Row],[style '#]],\"|\",R6)","v":"0|"},null,null,null,null,null,null,null,null,null,null,null,null,null,null,null,null,null,null,null,null,null,5,2016,{"$f":"IFERROR(SUMIFS(A:A,C:C,ax_data_rollup[[#This Row],[Year]],B:B,ax_data_rollup[[#This Row],[Week]],I:I,\"111-FILSN1\"),\"\")","v":0},{"$f":"IFERROR(SUMIFS(A:A,C:C,ax_data_rollup[[#This Row],[Year]],B:B,ax_data_rollup[[#This Row],[Week]],I:I,\"112-FILSN2\"),\"\")","v":0},{"$f":"IFERROR(SUMIFS(A:A,C:C,ax_data_rollup[[#This Row],[Year]],B:B,ax_data_rollup[[#This Row],[Week]],I:I,\"113-FILSN3\"),\"\")","v":0},{"$f":"ABS(SUMIFS(U:U,C:C,ax_data_rollup[[#This Row],[Year]],B:B,ax_data_rollup[[#This Row],[Week]],I:I,\"111-FILSN1\"))","v":0},{"$f":"ABS(SUMIFS(U:U,C:C,ax_data_rollup[[#This Row],[Year]],B:B,ax_data_rollup[[#This Row],[Week]],I:I,\"112-FILSN2\"))","v":0},{"$f":"ABS(SUMIFS(U:U,C:C,ax_data_rollup[[#This Row],[Year]],B:B,ax_data_rollup[[#This Row],[Week]],I:I,\"113-FILSN3\"))","v":0}]
[{"$f":"IF(ISNUMBER(U7)=TRUE,VLOOKUP(vlookup_data[[#This Row],[style '#]],[2]Sheet1!$A:$D,4,0)*ABS(U7),0)","v":0},{"$f":"WEEKNUM(vlookup_data[[#This Row],[Column8]],2)","v":1},{"$f":"YEAR(vlookup_data[[#This Row],[Column8]])","v":1900},0,{"$f":"CONCATENATE(vlookup_data[[#This Row],[style '#]],\"|\",R7)","v":"0|"},null,null,null,null,null,null,null,null,null,null,null,null,null,null,null,null,null,null,null,null,null,{"$f":"AA6+1","v":6},2016,{"$f":"IFERROR(SUMIFS(A:A,C:C,ax_data_rollup[[#This Row],[Year]],B:B,ax_data_rollup[[#This Row],[Week]],I:I,\"111-FILSN1\"),\"\")","v":0},{"$f":"IFERROR(SUMIFS(A:A,C:C,ax_data_rollup[[#This Row],[Year]],B:B,ax_data_rollup[[#This Row],[Week]],I:I,\"112-FILSN2\"),\"\")","v":0},{"$f":"IFERROR(SUMIFS(A:A,C:C,ax_data_rollup[[#This Row],[Year]],B:B,ax_data_rollup[[#This Row],[Week]],I:I,\"113-FILSN3\"),\"\")","v":0},{"$f":"ABS(SUMIFS(U:U,C:C,ax_data_rollup[[#This Row],[Year]],B:B,ax_data_rollup[[#This Row],[Week]],I:I,\"111-FILSN1\"))","v":0},{"$f":"ABS(SUMIFS(U:U,C:C,ax_data_rollup[[#This Row],[Year]],B:B,ax_data_rollup[[#This Row],[Week]],I:I,\"112-FILSN2\"))","v":0},{"$f":"ABS(SUMIFS(U:U,C:C,ax_data_rollup[[#This Row],[Year]],B:B,ax_data_rollup[[#This Row],[Week]],I:I,\"113-FILSN3\"))","v":0}]
[{"$f":"IF(ISNUMBER(U8)=TRUE,VLOOKUP(vlookup_data[[#This Row],[style '#]],[2]Sheet1!$A:$D,4,0)*ABS(U8),0)","v":0},{"$f":"WEEKNUM(vlookup_data[[#This Row],[Column8]],2)","v":1},{"$f":"YEAR(vlookup_data[[#This Row],[Column8]])","v":1900},0,{"$f":"CONCATENATE(vlookup_data[[#This Row],[style '#]],\"|\",R8)","v":"0|"},null,null,null,null,null,null,null,null,null,null,null,null,null,null,null,null,null,null,null,null,null,{"$f":"AA7+1","v":7},2016,{"$f":"IFERROR(SUMIFS(A:A,C:C,ax_data_rollup[[#This Row],[Year]],B:B,ax_data_rollup[[#This Row],[Week]],I:I,\"111-FILSN1\"),\"\")","v":0},{"$f":"IFERROR(SUMIFS(A:A,C:C,ax_data_rollup[[#This Row],[Year]],B:B,ax_data_rollup[[#This Row],[Week]],I:I,\"112-FILSN2\"),\"\")","v":0},{"$f":"IFERROR(SUMIFS(A:A,C:C,ax_data_rollup[[#This Row],[Year]],B:B,ax_data_rollup[[#This Row],[Week]],I:I,\"113-FILSN3\"),\"\")","v":0},{"$f":"ABS(SUMIFS(U:U,C:C,ax_data_rollup[[#This Row],[Year]],B:B,ax_data_rollup[[#This Row],[Week]],I:I,\"111-FILSN1\"))","v":0},{"$f":"ABS(SUMIFS(U:U,C:C,ax_data_rollup[[#This Row],[Year]],B:B,ax_data_rollup[[#This Row],[Week]],I:I,\"112-FILSN2\"))","v":0},{"$f":"ABS(SUMIFS(U:U,C:C,ax_data_rollup[[#This Row],[Year]],B:B,ax_data_rollup[[#This Row],[Week]],I:I,\"113-FILSN3\"))","v":0}]
[{"$f":"IF(ISNUMBER(U9)=TRUE,VLOOKUP(vlookup_data[[#This Row],[style '#]],[2]Sheet1!$A:$D,4,0)*ABS(U9),0)","v":0},{"$f":"WEEKNUM(vlookup_data[[#This Row],[Column8]],2)","v":1},{"$f":"YEAR(vlookup_data[[#This Row],[Column8]])","v":1900},0,{"$f":"CONCATENATE(vlookup_data[[#This Row],[style '#]],\"|\",R9)","v":"0|"},null,null,null,null,null,null,null,null,null,null,null,null,null,null,null,null,null,null,null,null,null,8,2016,{"$f":"IFERROR(SUMIFS(A:A,C:C,ax_data_rollup[[#This Row],[Year]],B:B,ax_data_rollup[[#This Row],[Week]],I:I,\"111-FILSN1\"),\"\")","v":0},{"$f":"IFERROR(SUMIFS(A:A,C:C,ax_data_rollup[[#This Row],[Year]],B:B,ax_data_rollup[[#This Row],[Week]],I:I,\"112-FILSN2\"),\"\")","v":0},{"$f":"IFERROR(SUMIFS(A:A,C:C,ax_data_rollup[[#This Row],[Year]],B:B,ax_data_rollup[[#This Row],[Week]],I:I,\"113-FILSN3\"),\"\")","v":0},{"$f":"ABS(SUMIFS(U:U,C:C,ax_data_rollup[[#This Row],[Year]],B:B,ax_data_rollup[[#This Row],[Week]],I:I,\"111-FILSN1\"))","v":0},{"$f":"ABS(SUMIFS(U:U,C:C,ax_data_rollup[[#This Row],[Year]],B:B,ax_data_rollup[[#This Row],[Week]],I:I,\"112-FILSN2\"))","v":0},{"$f":"ABS(SUMIFS(U:U,C:C,ax_data_rollup[[#This Row],[Year]],B:B,ax_data_rollup[[#This Row],[Week]],I:I,\"113-FILSN3\"))","v":0}]
[{"$f":"IF(ISNUMBER(U10)=TRUE,VLOOKUP(vlookup_data[[#This Row],[style '#]],[2]Sheet1!$A:$D,4,0)*ABS(U10),0)","v":0},{"$f":"WEEKNUM(vlookup_data[[#This Row],[Column8]],2)","v":1},{"$f":"YEAR(vlookup_data[[#This Row],[Column8]])","v":1900},0,{"$f":"CONCATENATE(vlookup_data[[#This Row],[style '#]],\"|\",R10)","v":"0|"},null,null,null,null,null,null,null,null,null,null,null,null,null,null,null,null,null,null,null,null,null,9,2016,{"$f":"IFERROR(SUMIFS(A:A,C:C,ax_data_rollup[[#This Row],[Year]],B:B,ax_data_rollup[[#This Row],[Week]],I:I,\"111-FILSN1\"),\"\")","v":0},{"$f":"IFERROR(SUMIFS(A:A,C:C,ax_data_rollup[[#This Row],[Year]],B:B,ax_data_rollup[[#This Row],[Week]],I:I,\"112-FILSN2\"),\"\")","v":0},{"$f":"IFERROR(SUMIFS(A:A,C:C,ax_data_rollup[[#This Row],[Year]],B:B,ax_data_rollup[[#This Row],[Week]],I:I,\"113-FILSN3\"),\"\")","v":0},{"$f":"ABS(SUMIFS(U:U,C:C,ax_data_rollup[[#This Row],[Year]],B:B,ax_data_rollup[[#This Row],[Week]],I:I,\"111-FILSN1\"))","v":0},{"$f":"ABS(SUMIFS(U:U,C:C,ax_data_rollup[[#This Row],[Year]],B:B,ax_data_rollup[[#This Row],[Week]],I:I,\"112-FILSN2\"))","v":0},{"$f":"ABS(SUMIFS(U:U,C:C,ax_data_rollup[[#This Row],[Year]],B:B,ax_data_rollup[[#This Row],[Week]],I:I,\"113-FILSN3\"))","v":0}]
[{"$f":"IF(ISNUMBER(U11)=TRUE,VLOOKUP(vlookup_data[[#This Row],[style '#]],[2]Sheet1!$A:$D,4,0)*ABS(U11),0)","v":0},{"$f":"WEEKNUM(vlookup_data[[#This Row],[Column8]],2)","v":1},{"$f":"YEAR(vlookup_data[[#This Row],[Column8]])","v":1900},0,{"$f":"CONCATENATE(vlookup_data[[#This Row],[style '#]],\"|\",R11)","v":"0|"},null,null,null,null,null,null,null,null,null,null,null,null,null,null,null,null,null,null,null,null,null,10,2016,{"$f":"IFERROR(SUMIFS(A:A,C:C,ax_data_rollup[[#This Row],[Year]],B:B,ax_data_rollup[[#This Row],[Week]],I:I,\"111-FILSN1\"),\"\")","v":0},{"$f":"IFERROR(SUMIFS(A:A,C:C,ax_data_rollup[[#This Row],[Year]],B:B,ax_data_rollup[[#This Row],[Week]],I:I,\"112-FILSN2\"),\"\")","v":0},{"$f":"IFERROR(SUMIFS(A:A,C:C,ax_data_rollup[[#This Row],[Year]],B:B,ax_data_rollup[[#This Row],[Week]],I:I,\"113-FILSN3\"),\"\")","v":0},{"$f":"ABS(SUMIFS(U:U,C:C,ax_data_rollup[[#This Row],[Year]],B:B,ax_data_rollup[[#This Row],[Week]],I:I,\"111-FILSN1\"))","v":0},{"$f":"ABS(SUMIFS(U:U,C:C,ax_data_rollup[[#This Row],[Year]],B:B,ax_data_rollup[[#This Row],[Week]],I:I,\"112-FILSN2\"))","v":0},{"$f":"ABS(SUMIFS(U:U,C:C,ax_data_rollup[[#This Row],[Year]],B:B,ax_data_rollup[[#This Row],[Week]],I:I,\"113-FILSN3\"))","v":0}]
[{"$f":"IF(ISNUMBER(U12)=TRUE,VLOOKUP(vlookup_data[[#This Row],[style '#]],[2]Sheet1!$A:$D,4,0)*ABS(U12),0)","v":0},{"$f":"WEEKNUM(vlookup_data[[#This Row],[Column8]],2)","v":1},{"$f":"YEAR(vlookup_data[[#This Row],[Column8]])","v":1900},0,{"$f":"CONCATENATE(vlookup_data[[#This Row],[style '#]],\"|\",R12)","v":"0|"},null,null,null,null,null,null,null,null,null,null,null,null,null,null,null,null,null,null,null,null,null,11,2016,{"$f":"IFERROR(SUMIFS(A:A,C:C,ax_data_rollup[[#This Row],[Year]],B:B,ax_data_rollup[[#This Row],[Week]],I:I,\"111-FILSN1\"),\"\")","v":0},{"$f":"IFERROR(SUMIFS(A:A,C:C,ax_data_rollup[[#This Row],[Year]],B:B,ax_data_rollup[[#This Row],[Week]],I:I,\"112-FILSN2\"),\"\")","v":0},{"$f":"IFERROR(SUMIFS(A:A,C:C,ax_data_rollup[[#This Row],[Year]],B:B,ax_data_rollup[[#This Row],[Week]],I:I,\"113-FILSN3\"),\"\")","v":0},{"$f":"ABS(SUMIFS(U:U,C:C,ax_data_rollup[[#This Row],[Year]],B:B,ax_data_rollup[[#This Row],[Week]],I:I,\"111-FILSN1\"))","v":0},{"$f":"ABS(SUMIFS(U:U,C:C,ax_data_rollup[[#This Row],[Year]],B:B,ax_data_rollup[[#This Row],[Week]],I:I,\"112-FILSN2\"))","v":0},{"$f":"ABS(SUMIFS(U:U,C:C,ax_data_rollup[[#This Row],[Year]],B:B,ax_data_rollup[[#This Row],[Week]],I:I,\"113-FILSN3\"))","v":0}]
[{"$f":"IF(ISNUMBER(U13)=TRUE,VLOOKUP(vlookup_data[[#This Row],[style '#]],[2]Sheet1!$A:$D,4,0)*ABS(U13),0)","v":0},{"$f":"WEEKNUM(vlookup_data[[#This Row],[Column8]],2)","v":1},{"$f":"YEAR(vlookup_data[[#This Row],[Column8]])","v":1900},0,{"$f":"CONCATENATE(vlookup_data[[#This Row],[style '#]],\"|\",R13)","v":"0|"},null,null,null,null,null,null,null,null,null,null,null,null,null,null,null,null,null,null,null,null,null,12,2016,{"$f":"IFERROR(SUMIFS(A:A,C:C,ax_data_rollup[[#This Row],[Year]],B:B,ax_data_rollup[[#This Row],[Week]],I:I,\"111-FILSN1\"),\"\")","v":0},{"$f":"IFERROR(SUMIFS(A:A,C:C,ax_data_rollup[[#This Row],[Year]],B:B,ax_data_rollup[[#This Row],[Week]],I:I,\"112-FILSN2\"),\"\")","v":0},{"$f":"IFERROR(SUMIFS(A:A,C:C,ax_data_rollup[[#This Row],[Year]],B:B,ax_data_rollup[[#This Row],[Week]],I:I,\"113-FILSN3\"),\"\")","v":0},{"$f":"ABS(SUMIFS(U:U,C:C,ax_data_rollup[[#This Row],[Year]],B:B,ax_data_rollup[[#This Row],[Week]],I:I,\"111-FILSN1\"))","v":0},{"$f":"ABS(SUMIFS(U:U,C:C,ax_data_rollup[[#This Row],[Year]],B:B,ax_data_rollup[[#This Row],[Week]],I:I,\"112-FILSN2\"))","v":0},{"$f":"ABS(SUMIFS(U:U,C:C,ax_data_rollup[[#This Row],[Year]],B:B,ax_data_rollup[[#This Row],[Week]],I:I,\"113-FILSN3\"))","v":0}]
[{"$f":"IF(ISNUMBER(U14)=TRUE,VLOOKUP(vlookup_data[[#This Row],[style '#]],[2]Sheet1!$A:$D,4,0)*ABS(U14),0)","v":0},{"$f":"WEEKNUM(vlookup_data[[#This Row],[Column8]],2)","v":1},{"$f":"YEAR(vlookup_data[[#This Row],[Column8]])","v":1900},0,{"$f":"CONCATENATE(vlookup_data[[#This Row],[style '#]],\"|\",R14)","v":"0|"},null,null,null,null,null,null,null,null,null,null,null,null,null,null,null,null,null,null,null,null,null,13,2016,{"$f":"IFERROR(SUMIFS(A:A,C:C,ax_data_rollup[[#This Row],[Year]],B:B,ax_data_rollup[[#This Row],[Week]],I:I,\"111-FILSN1\"),\"\")","v":0},{"$f":"IFERROR(SUMIFS(A:A,C:C,ax_data_rollup[[#This Row],[Year]],B:B,ax_data_rollup[[#This Row],[Week]],I:I,\"112-FILSN2\"),\"\")","v":0},{"$f":"IFERROR(SUMIFS(A:A,C:C,ax_data_rollup[[#This Row],[Year]],B:B,ax_data_rollup[[#This Row],[Week]],I:I,\"113-FILSN3\"),\"\")","v":0},{"$f":"ABS(SUMIFS(U:U,C:C,ax_data_rollup[[#This Row],[Year]],B:B,ax_data_rollup[[#This Row],[Week]],I:I,\"111-FILSN1\"))","v":0},{"$f":"ABS(SUMIFS(U:U,C:C,ax_data_rollup[[#This Row],[Year]],B:B,ax_data_rollup[[#This Row],[Week]],I:I,\"112-FILSN2\"))","v":0},{"$f":"ABS(SUMIFS(U:U,C:C,ax_data_rollup[[#This Row],[Year]],B:B,ax_data_rollup[[#This Row],[Week]],I:I,\"113-FILSN3\"))","v":0}]
[{"$f":"IF(ISNUMBER(U15)=TRUE,VLOOKUP(vlookup_data[[#This Row],[style '#]],[2]Sheet1!$A:$D,4,0)*ABS(U15),0)","v":0},{"$f":"WEEKNUM(vlookup_data[[#This Row],[Column8]],2)","v":1},{"$f":"YEAR(vlookup_data[[#This Row],[Column8]])","v":1900},0,{"$f":"CONCATENATE(vlookup_data[[#This Row],[style '#]],\"|\",R15)","v":"0|"},null,null,null,null,null,null,null,null,null,null,null,null,null,null,null,null,null,null,null,null,null,14,2016,{"$f":"IFERROR(SUMIFS(A:A,C:C,ax_data_rollup[[#This Row],[Year]],B:B,ax_data_rollup[[#This Row],[Week]],I:I,\"111-FILSN1\"),\"\")","v":0},{"$f":"IFERROR(SUMIFS(A:A,C:C,ax_data_rollup[[#This Row],[Year]],B:B,ax_data_rollup[[#This Row],[Week]],I:I,\"112-FILSN2\"),\"\")","v":0},{"$f":"IFERROR(SUMIFS(A:A,C:C,ax_data_rollup[[#This Row],[Year]],B:B,ax_data_rollup[[#This Row],[Week]],I:I,\"113-FILSN3\"),\"\")","v":0},{"$f":"ABS(SUMIFS(U:U,C:C,ax_data_rollup[[#This Row],[Year]],B:B,ax_data_rollup[[#This Row],[Week]],I:I,\"111-FILSN1\"))","v":0},{"$f":"ABS(SUMIFS(U:U,C:C,ax_data_rollup[[#This Row],[Year]],B:B,ax_data_rollup[[#This Row],[Week]],I:I,\"112-FILSN2\"))","v":0},{"$f":"ABS(SUMIFS(U:U,C:C,ax_data_rollup[[#This Row],[Year]],B:B,ax_data_rollup[[#This Row],[Week]],I:I,\"113-FILSN3\"))","v":0}]
[{"$f":"IF(ISNUMBER(U16)=TRUE,VLOOKUP(vlookup_data[[#This Row],[style '#]],[2]Sheet1!$A:$D,4,0)*ABS(U16),0)","v":0},{"$f":"WEEKNUM(vlookup_data[[#This Row],[Column8]],2)","v":1},{"$f":"YEAR(vlookup_data[[#This Row],[Column8]])","v":1900},0,{"$f":"CONCATENATE(vlookup_data[[#This Row],[style '#]],\"|\",R16)","v":"0|"},null,null,null,null,null,null,null,null,null,null,null,null,null,null,null,null,null,null,null,null,null,15,2016,{"$f":"IFERROR(SUMIFS(A:A,C:C,ax_data_rollup[[#This Row],[Year]],B:B,ax_data_rollup[[#This Row],[Week]],I:I,\"111-FILSN1\"),\"\")","v":0},{"$f":"IFERROR(SUMIFS(A:A,C:C,ax_data_rollup[[#This Row],[Year]],B:B,ax_data_rollup[[#This Row],[Week]],I:I,\"112-FILSN2\"),\"\")","v":0},{"$f":"IFERROR(SUMIFS(A:A,C:C,ax_data_rollup[[#This Row],[Year]],B:B,ax_data_rollup[[#This Row],[Week]],I:I,\"113-FILSN3\"),\"\")","v":0},{"$f":"ABS(SUMIFS(U:U,C:C,ax_data_rollup[[#This Row],[Year]],B:B,ax_data_rollup[[#This Row],[Week]],I:I,\"111-FILSN1\"))","v":0},{"$f":"ABS(SUMIFS(U:U,C:C,ax_data_rollup[[#This Row],[Year]],B:B,ax_data_rollup[[#This Row],[Week]],I:I,\"112-FILSN2\"))","v":0},{"$f":"ABS(SUMIFS(U:U,C:C,ax_data_rollup[[#This Row],[Year]],B:B,ax_data_rollup[[#This Row],[Week]],I:I,\"113-FILSN3\"))","v":0}]
[{"$f":"IF(ISNUMBER(U17)=TRUE,VLOOKUP(vlookup_data[[#This Row],[style '#]],[2]Sheet1!$A:$D,4,0)*ABS(U17),0)","v":0},{"$f":"WEEKNUM(vlookup_data[[#This Row],[Column8]],2)","v":1},{"$f":"YEAR(vlookup_data[[#This Row],[Column8]])","v":1900},0,{"$f":"CONCATENATE(vlookup_data[[#This Row],[style '#]],\"|\",R17)","v":"0|"},null,null,null,null,null,null,null,null,null,null,null,null,null,null,null,null,null,null,null,null,null,16,2016,{"$f":"IFERROR(SUMIFS(A:A,C:C,ax_data_rollup[[#This Row],[Year]],B:B,ax_data_rollup[[#This Row],[Week]],I:I,\"111-FILSN1\"),\"\")","v":0},{"$f":"IFERROR(SUMIFS(A:A,C:C,ax_data_rollup[[#This Row],[Year]],B:B,ax_data_rollup[[#This Row],[Week]],I:I,\"112-FILSN2\"),\"\")","v":0},{"$f":"IFERROR(SUMIFS(A:A,C:C,ax_data_rollup[[#This Row],[Year]],B:B,ax_data_rollup[[#This Row],[Week]],I:I,\"113-FILSN3\"),\"\")","v":0},{"$f":"ABS(SUMIFS(U:U,C:C,ax_data_rollup[[#This Row],[Year]],B:B,ax_data_rollup[[#This Row],[Week]],I:I,\"111-FILSN1\"))","v":0},{"$f":"ABS(SUMIFS(U:U,C:C,ax_data_rollup[[#This Row],[Year]],B:B,ax_data_rollup[[#This Row],[Week]],I:I,\"112-FILSN2\"))","v":0},{"$f":"ABS(SUMIFS(U:U,C:C,ax_data_rollup[[#This Row],[Year]],B:B,ax_data_rollup[[#This Row],[Week]],I:I,\"113-FILSN3\"))","v":0}]
[{"$f":"IF(ISNUMBER(U18)=TRUE,VLOOKUP(vlookup_data[[#This Row],[style '#]],[2]Sheet1!$A:$D,4,0)*ABS(U18),0)","v":0},{"$f":"WEEKNUM(vlookup_data[[#This Row],[Column8]],2)","v":1},{"$f":"YEAR(vlookup_data[[#This Row],[Column8]])","v":1900},0,{"$f":"CONCATENATE(vlookup_data[[#This Row],[style '#]],\"|\",R18)","v":"0|"},null,null,null,null,null,null,null,null,null,null,null,null,null,null,null,null,null,null,null,null,null,17,2016,{"$f":"IFERROR(SUMIFS(A:A,C:C,ax_data_rollup[[#This Row],[Year]],B:B,ax_data_rollup[[#This Row],[Week]],I:I,\"111-FILSN1\"),\"\")","v":0},{"$f":"IFERROR(SUMIFS(A:A,C:C,ax_data_rollup[[#This Row],[Year]],B:B,ax_data_rollup[[#This Row],[Week]],I:I,\"112-FILSN2\"),\"\")","v":0},{"$f":"IFERROR(SUMIFS(A:A,C:C,ax_data_rollup[[#This Row],[Year]],B:B,ax_data_rollup[[#This Row],[Week]],I:I,\"113-FILSN3\"),\"\")","v":0},{"$f":"ABS(SUMIFS(U:U,C:C,ax_data_rollup[[#This Row],[Year]],B:B,ax_data_rollup[[#This Row],[Week]],I:I,\"111-FILSN1\"))","v":0},{"$f":"ABS(SUMIFS(U:U,C:C,ax_data_rollup[[#This Row],[Year]],B:B,ax_data_rollup[[#This Row],[Week]],I:I,\"112-FILSN2\"))","v":0},{"$f":"ABS(SUMIFS(U:U,C:C,ax_data_rollup[[#This Row],[Year]],B:B,ax_data_rollup[[#This Row],[Week]],I:I,\"113-FILSN3\"))","v":0}]
[{"$f":"IF(ISNUMBER(U19)=TRUE,VLOOKUP(vlookup_data[[#This Row],[style '#]],[2]Sheet1!$A:$D,4,0)*ABS(U19),0)","v":0},{"$f":"WEEKNUM(vlookup_data[[#This Row],[Column8]],2)","v":1},{"$f":"YEAR(vlookup_data[[#This Row],[Column8]])","v":1900},0,{"$f":"CONCATENATE(vlookup_data[[#This Row],[style '#]],\"|\",R19)","v":"0|"},null,null,null,null,null,null,null,null,null,null,null,null,null,null,null,null,null,null,null,null,null,18,2016,{"$f":"IFERROR(SUMIFS(A:A,C:C,ax_data_rollup[[#This Row],[Year]],B:B,ax_data_rollup[[#This Row],[Week]],I:I,\"111-FILSN1\"),\"\")","v":0},{"$f":"IFERROR(SUMIFS(A:A,C:C,ax_data_rollup[[#This Row],[Year]],B:B,ax_data_rollup[[#This Row],[Week]],I:I,\"112-FILSN2\"),\"\")","v":0},{"$f":"IFERROR(SUMIFS(A:A,C:C,ax_data_rollup[[#This Row],[Year]],B:B,ax_data_rollup[[#This Row],[Week]],I:I,\"113-FILSN3\"),\"\")","v":0},{"$f":"ABS(SUMIFS(U:U,C:C,ax_data_rollup[[#This Row],[Year]],B:B,ax_data_rollup[[#This Row],[Week]],I:I,\"111-FILSN1\"))","v":0},{"$f":"ABS(SUMIFS(U:U,C:C,ax_data_rollup[[#This Row],[Year]],B:B,ax_data_rollup[[#This Row],[Week]],I:I,\"112-FILSN2\"))","v":0},{"$f":"ABS(SUMIFS(U:U,C:C,ax_data_rollup[[#This Row],[Year]],B:B,ax_data_rollup[[#This Row],[Week]],I:I,\"113-FILSN3\"))","v":0}]
[{"$f":"IF(ISNUMBER(U20)=TRUE,VLOOKUP(vlookup_data[[#This Row],[style '#]],[2]Sheet1!$A:$D,4,0)*ABS(U20),0)","v":0},{"$f":"WEEKNUM(vlookup_data[[#This Row],[Column8]],2)","v":1},{"$f":"YEAR(vlookup_data[[#This Row],[Column8]])","v":1900},0,{"$f":"CONCATENATE(vlookup_data[[#This Row],[style '#]],\"|\",R20)","v":"0|"},null,null,null,null,null,null,null,null,null,null,null,null,null,null,null,null,null,null,null,null,null,19,2016,{"$f":"IFERROR(SUMIFS(A:A,C:C,ax_data_rollup[[#This Row],[Year]],B:B,ax_data_rollup[[#This Row],[Week]],I:I,\"111-FILSN1\"),\"\")","v":0},{"$f":"IFERROR(SUMIFS(A:A,C:C,ax_data_rollup[[#This Row],[Year]],B:B,ax_data_rollup[[#This Row],[Week]],I:I,\"112-FILSN2\"),\"\")","v":0},{"$f":"IFERROR(SUMIFS(A:A,C:C,ax_data_rollup[[#This Row],[Year]],B:B,ax_data_rollup[[#This Row],[Week]],I:I,\"113-FILSN3\"),\"\")","v":0},{"$f":"ABS(SUMIFS(U:U,C:C,ax_data_rollup[[#This Row],[Year]],B:B,ax_data_rollup[[#This Row],[Week]],I:I,\"111-FILSN1\"))","v":0},{"$f":"ABS(SUMIFS(U:U,C:C,ax_data_rollup[[#This Row],[Year]],B:B,ax_data_rollup[[#This Row],[Week]],I:I,\"112-FILSN2\"))","v":0},{"$f":"ABS(SUMIFS(U:U,C:C,ax_data_rollup[[#This Row],[Year]],B:B,ax_data_rollup[[#This Row],[Week]],I:I,\"113-FILSN3\"))","v":0}]
[{"$f":"IF(ISNUMBER(U21)=TRUE,VLOOKUP(vlookup_data[[#This Row],[style '#]],[2]Sheet1!$A:$D,4,0)*ABS(U21),0)","v":0},{"$f":"WEEKNUM(vlookup_data[[#This Row],[Column8]],2)","v":1},{"$f":"YEAR(vlookup_data[[#This Row],[Column8]])","v":1900},0,{"$f":"CONCATENATE(vlookup_data[[#This Row],[style '#]],\"|\",R21)","v":"0|"},null,null,null,null,null,null,null,null,null,null,null,null,null,null,null,null,null,null,null,null,null,20,2016,{"$f":"IFERROR(SUMIFS(A:A,C:C,ax_data_rollup[[#This Row],[Year]],B:B,ax_data_rollup[[#This Row],[Week]],I:I,\"111-FILSN1\"),\"\")","v":0},{"$f":"IFERROR(SUMIFS(A:A,C:C,ax_data_rollup[[#This Row],[Year]],B:B,ax_data_rollup[[#This Row],[Week]],I:I,\"112-FILSN2\"),\"\")","v":0},{"$f":"IFERROR(SUMIFS(A:A,C:C,ax_data_rollup[[#This Row],[Year]],B:B,ax_data_rollup[[#This Row],[Week]],I:I,\"113-FILSN3\"),\"\")","v":0},{"$f":"ABS(SUMIFS(U:U,C:C,ax_data_rollup[[#This Row],[Year]],B:B,ax_data_rollup[[#This Row],[Week]],I:I,\"111-FILSN1\"))","v":0},{"$f":"ABS(SUMIFS(U:U,C:C,ax_data_rollup[[#This Row],[Year]],B:B,ax_data_rollup[[#This Row],[Week]],I:I,\"112-FILSN2\"))","v":0},{"$f":"ABS(SUMIFS(U:U,C:C,ax_data_rollup[[#This Row],[Year]],B:B,ax_data_rollup[[#This Row],[Week]],I:I,\"113-FILSN3\"))","v":0}]
[{"$f":"IF(ISNUMBER(U22)=TRUE,VLOOKUP(vlookup_data[[#This Row],[style '#]],[2]Sheet1!$A:$D,4,0)*ABS(U22),0)","v":0},{"$f":"WEEKNUM(vlookup_data[[#This Row],[Column8]],2)","v":1},{"$f":"YEAR(vlookup_data[[#This Row],[Column8]])","v":1900},0,{"$f":"CONCATENATE(vlookup_data[[#This Row],[style '#]],\"|\",R22)","v":"0|"},null,null,null,null,null,null,null,null,null,null,null,null,null,null,null,null,null,null,null,null,null,21,2016,{"$f":"IFERROR(SUMIFS(A:A,C:C,ax_data_rollup[[#This Row],[Year]],B:B,ax_data_rollup[[#This Row],[Week]],I:I,\"111-FILSN1\"),\"\")","v":0},{"$f":"IFERROR(SUMIFS(A:A,C:C,ax_data_rollup[[#This Row],[Year]],B:B,ax_data_rollup[[#This Row],[Week]],I:I,\"112-FILSN2\"),\"\")","v":0},{"$f":"IFERROR(SUMIFS(A:A,C:C,ax_data_rollup[[#This Row],[Year]],B:B,ax_data_rollup[[#This Row],[Week]],I:I,\"113-FILSN3\"),\"\")","v":0},{"$f":"ABS(SUMIFS(U:U,C:C,ax_data_rollup[[#This Row],[Year]],B:B,ax_data_rollup[[#This Row],[Week]],I:I,\"111-FILSN1\"))","v":0},{"$f":"ABS(SUMIFS(U:U,C:C,ax_data_rollup[[#This Row],[Year]],B:B,ax_data_rollup[[#This Row],[Week]],I:I,\"112-FILSN2\"))","v":0},{"$f":"ABS(SUMIFS(U:U,C:C,ax_data_rollup[[#This Row],[Year]],B:B,ax_data_rollup[[#This Row],[Week]],I:I,\"113-FILSN3\"))","v":0}]
[{"$f":"IF(ISNUMBER(U23)=TRUE,VLOOKUP(vlookup_data[[#This Row],[style '#]],[2]Sheet1!$A:$D,4,0)*ABS(U23),0)","v":0},{"$f":"WEEKNUM(vlookup_data[[#This Row],[Column8]],2)","v":1},{"$f":"YEAR(vlookup_data[[#This Row],[Column8]])","v":1900},0,{"$f":"CONCATENATE(vlookup_data[[#This Row],[style '#]],\"|\",R23)","v":"0|"},null,null,null,null,null,null,null,null,null,null,null,null,null,null,null,null,null,null,null,null,null,22,2016,{"$f":"IFERROR(SUMIFS(A:A,C:C,ax_data_rollup[[#This Row],[Year]],B:B,ax_data_rollup[[#This Row],[Week]],I:I,\"111-FILSN1\"),\"\")","v":0},{"$f":"IFERROR(SUMIFS(A:A,C:C,ax_data_rollup[[#This Row],[Year]],B:B,ax_data_rollup[[#This Row],[Week]],I:I,\"112-FILSN2\"),\"\")","v":0},{"$f":"IFERROR(SUMIFS(A:A,C:C,ax_data_rollup[[#This Row],[Year]],B:B,ax_data_rollup[[#This Row],[Week]],I:I,\"113-FILSN3\"),\"\")","v":0},{"$f":"ABS(SUMIFS(U:U,C:C,ax_data_rollup[[#This Row],[Year]],B:B,ax_data_rollup[[#This Row],[Week]],I:I,\"111-FILSN1\"))","v":0},{"$f":"ABS(SUMIFS(U:U,C:C,ax_data_rollup[[#This Row],[Year]],B:B,ax_data_rollup[[#This Row],[Week]],I:I,\"112-FILSN2\"))","v":0},{"$f":"ABS(SUMIFS(U:U,C:C,ax_data_rollup[[#This Row],[Year]],B:B,ax_data_rollup[[#This Row],[Week]],I:I,\"113-FILSN3\"))","v":0}]
[{"$f":"IF(ISNUMBER(U24)=TRUE,VLOOKUP(vlookup_data[[#This Row],[style '#]],[2]Sheet1!$A:$D,4,0)*ABS(U24),0)","v":0},{"$f":"WEEKNUM(vlookup_data[[#This Row],[Column8]],2)","v":1},{"$f":"YEAR(vlookup_data[[#This Row],[Column8]])","v":1900},0,{"$f":"CONCATENATE(vlookup_data[[#This Row],[style '#]],\"|\",R24)","v":"0|"},null,null,null,null,null,null,null,null,null,null,null,null,null,null,null,null,null,null,null,null,null,23,2016,{"$f":"IFERROR(SUMIFS(A:A,C:C,ax_data_rollup[[#This Row],[Year]],B:B,ax_data_rollup[[#This Row],[Week]],I:I,\"111-FILSN1\"),\"\")","v":0},{"$f":"IFERROR(SUMIFS(A:A,C:C,ax_data_rollup[[#This Row],[Year]],B:B,ax_data_rollup[[#This Row],[Week]],I:I,\"112-FILSN2\"),\"\")","v":0},{"$f":"IFERROR(SUMIFS(A:A,C:C,ax_data_rollup[[#This Row],[Year]],B:B,ax_data_rollup[[#This Row],[Week]],I:I,\"113-FILSN3\"),\"\")","v":0},{"$f":"ABS(SUMIFS(U:U,C:C,ax_data_rollup[[#This Row],[Year]],B:B,ax_data_rollup[[#This Row],[Week]],I:I,\"111-FILSN1\"))","v":0},{"$f":"ABS(SUMIFS(U:U,C:C,ax_data_rollup[[#This Row],[Year]],B:B,ax_data_rollup[[#This Row],[Week]],I:I,\"112-FILSN2\"))","v":0},{"$f":"ABS(SUMIFS(U:U,C:C,ax_data_rollup[[#This Row],[Year]],B:B,ax_data_rollup[[#This Row],[Week]],I:I,\"113-FILSN3\"))","v":0}]
[{"$f":"IF(ISNUMBER(U25)=TRUE,VLOOKUP(vlookup_data[[#This Row],[style '#]],[2]Sheet1!$A:$D,4,0)*ABS(U25),0)","v":0},{"$f":"WEEKNUM(vlookup_data[[#This Row],[Column8]],2)","v":1},{"$f":"YEAR(vlookup_data[[#This Row],[Column8]])","v":1900},0,{"$f":"CONCATENATE(vlookup_data[[#This Row],[style '#]],\"|\",R25)","v":"0|"},null,null,null,null,null,null,null,null,null,null,null,null,null,null,null,null,null,null,null,null,null,24,2016,{"$f":"IFERROR(SUMIFS(A:A,C:C,ax_data_rollup[[#This Row],[Year]],B:B,ax_data_rollup[[#This Row],[Week]],I:I,\"111-FILSN1\"),\"\")","v":0},{"$f":"IFERROR(SUMIFS(A:A,C:C,ax_data_rollup[[#This Row],[Year]],B:B,ax_data_rollup[[#This Row],[Week]],I:I,\"112-FILSN2\"),\"\")","v":0},{"$f":"IFERROR(SUMIFS(A:A,C:C,ax_data_rollup[[#This Row],[Year]],B:B,ax_data_rollup[[#This Row],[Week]],I:I,\"113-FILSN3\"),\"\")","v":0},{"$f":"ABS(SUMIFS(U:U,C:C,ax_data_rollup[[#This Row],[Year]],B:B,ax_data_rollup[[#This Row],[Week]],I:I,\"111-FILSN1\"))","v":0},{"$f":"ABS(SUMIFS(U:U,C:C,ax_data_rollup[[#This Row],[Year]],B:B,ax_data_rollup[[#This Row],[Week]],I:I,\"112-FILSN2\"))","v":0},{"$f":"ABS(SUMIFS(U:U,C:C,ax_data_rollup[[#This Row],[Year]],B:B,ax_data_rollup[[#This Row],[Week]],I:I,\"113-FILSN3\"))","v":0}]
[{"$f":"IF(ISNUMBER(U26)=TRUE,VLOOKUP(vlookup_data[[#This Row],[style '#]],[2]Sheet1!$A:$D,4,0)*ABS(U26),0)","v":0},{"$f":"WEEKNUM(vlookup_data[[#This Row],[Column8]],2)","v":1},{"$f":"YEAR(vlookup_data[[#This Row],[Column8]])","v":1900},0,{"$f":"CONCATENATE(vlookup_data[[#This Row],[style '#]],\"|\",R26)","v":"0|"},null,null,null,null,null,null,null,null,null,null,null,null,null,null,null,null,null,null,null,null,null,25,2016,{"$f":"IFERROR(SUMIFS(A:A,C:C,ax_data_rollup[[#This Row],[Year]],B:B,ax_data_rollup[[#This Row],[Week]],I:I,\"111-FILSN1\"),\"\")","v":0},{"$f":"IFERROR(SUMIFS(A:A,C:C,ax_data_rollup[[#This Row],[Year]],B:B,ax_data_rollup[[#This Row],[Week]],I:I,\"112-FILSN2\"),\"\")","v":0},{"$f":"IFERROR(SUMIFS(A:A,C:C,ax_data_rollup[[#This Row],[Year]],B:B,ax_data_rollup[[#This Row],[Week]],I:I,\"113-FILSN3\"),\"\")","v":0},{"$f":"ABS(SUMIFS(U:U,C:C,ax_data_rollup[[#This Row],[Year]],B:B,ax_data_rollup[[#This Row],[Week]],I:I,\"111-FILSN1\"))","v":0},{"$f":"ABS(SUMIFS(U:U,C:C,ax_data_rollup[[#This Row],[Year]],B:B,ax_data_rollup[[#This Row],[Week]],I:I,\"112-FILSN2\"))","v":0},{"$f":"ABS(SUMIFS(U:U,C:C,ax_data_rollup[[#This Row],[Year]],B:B,ax_data_rollup[[#This Row],[Week]],I:I,\"113-FILSN3\"))","v":0}]
[{"$f":"IF(ISNUMBER(U27)=TRUE,VLOOKUP(vlookup_data[[#This Row],[style '#]],[2]Sheet1!$A:$D,4,0)*ABS(U27),0)","v":0},{"$f":"WEEKNUM(vlookup_data[[#This Row],[Column8]],2)","v":1},{"$f":"YEAR(vlookup_data[[#This Row],[Column8]])","v":1900},0,{"$f":"CONCATENATE(vlookup_data[[#This Row],[style '#]],\"|\",R27)","v":"0|"},null,null,null,null,null,null,null,null,null,null,null,null,null,null,null,null,null,null,null,null,null,26,2016,{"$f":"IFERROR(SUMIFS(A:A,C:C,ax_data_rollup[[#This Row],[Year]],B:B,ax_data_rollup[[#This Row],[Week]],I:I,\"111-FILSN1\"),\"\")","v":0},{"$f":"IFERROR(SUMIFS(A:A,C:C,ax_data_rollup[[#This Row],[Year]],B:B,ax_data_rollup[[#This Row],[Week]],I:I,\"112-FILSN2\"),\"\")","v":0},{"$f":"IFERROR(SUMIFS(A:A,C:C,ax_data_rollup[[#This Row],[Year]],B:B,ax_data_rollup[[#This Row],[Week]],I:I,\"113-FILSN3\"),\"\")","v":0},{"$f":"ABS(SUMIFS(U:U,C:C,ax_data_rollup[[#This Row],[Year]],B:B,ax_data_rollup[[#This Row],[Week]],I:I,\"111-FILSN1\"))","v":0},{"$f":"ABS(SUMIFS(U:U,C:C,ax_data_rollup[[#This Row],[Year]],B:B,ax_data_rollup[[#This Row],[Week]],I:I,\"112-FILSN2\"))","v":0},{"$f":"ABS(SUMIFS(U:U,C:C,ax_data_rollup[[#This Row],[Year]],B:B,ax_data_rollup[[#This Row],[Week]],I:I,\"113-FILSN3\"))","v":0}]
[{"$f":"IF(ISNUMBER(U28)=TRUE,VLOOKUP(vlookup_data[[#This Row],[style '#]],[2]Sheet1!$A:$D,4,0)*ABS(U28),0)","v":0},{"$f":"WEEKNUM(vlookup_data[[#This Row],[Column8]],2)","v":1},{"$f":"YEAR(vlookup_data[[#This Row],[Column8]])","v":1900},0,{"$f":"CONCATENATE(vlookup_data[[#This Row],[style '#]],\"|\",R28)","v":"0|"},null,null,null,null,null,null,null,null,null,null,null,null,null,null,null,null,null,null,null,null,null,27,2016,{"$f":"IFERROR(SUMIFS(A:A,C:C,ax_data_rollup[[#This Row],[Year]],B:B,ax_data_rollup[[#This Row],[Week]],I:I,\"111-FILSN1\"),\"\")","v":0},{"$f":"IFERROR(SUMIFS(A:A,C:C,ax_data_rollup[[#This Row],[Year]],B:B,ax_data_rollup[[#This Row],[Week]],I:I,\"112-FILSN2\"),\"\")","v":0},{"$f":"IFERROR(SUMIFS(A:A,C:C,ax_data_rollup[[#This Row],[Year]],B:B,ax_data_rollup[[#This Row],[Week]],I:I,\"113-FILSN3\"),\"\")","v":0},{"$f":"ABS(SUMIFS(U:U,C:C,ax_data_rollup[[#This Row],[Year]],B:B,ax_data_rollup[[#This Row],[Week]],I:I,\"111-FILSN1\"))","v":0},{"$f":"ABS(SUMIFS(U:U,C:C,ax_data_rollup[[#This Row],[Year]],B:B,ax_data_rollup[[#This Row],[Week]],I:I,\"112-FILSN2\"))","v":0},{"$f":"ABS(SUMIFS(U:U,C:C,ax_data_rollup[[#This Row],[Year]],B:B,ax_data_rollup[[#This Row],[Week]],I:I,\"113-FILSN3\"))","v":0}]
[{"$f":"IF(ISNUMBER(U29)=TRUE,VLOOKUP(vlookup_data[[#This Row],[style '#]],[2]Sheet1!$A:$D,4,0)*ABS(U29),0)","v":0},{"$f":"WEEKNUM(vlookup_data[[#This Row],[Column8]],2)","v":1},{"$f":"YEAR(vlookup_data[[#This Row],[Column8]])","v":1900},0,{"$f":"CONCATENATE(vlookup_data[[#This Row],[style '#]],\"|\",R29)","v":"0|"},null,null,null,null,null,null,null,null,null,null,null,null,null,null,null,null,null,null,null,null,null,28,2016,{"$f":"IFERROR(SUMIFS(A:A,C:C,ax_data_rollup[[#This Row],[Year]],B:B,ax_data_rollup[[#This Row],[Week]],I:I,\"111-FILSN1\"),\"\")","v":0},{"$f":"IFERROR(SUMIFS(A:A,C:C,ax_data_rollup[[#This Row],[Year]],B:B,ax_data_rollup[[#This Row],[Week]],I:I,\"112-FILSN2\"),\"\")","v":0},{"$f":"IFERROR(SUMIFS(A:A,C:C,ax_data_rollup[[#This Row],[Year]],B:B,ax_data_rollup[[#This Row],[Week]],I:I,\"113-FILSN3\"),\"\")","v":0},{"$f":"ABS(SUMIFS(U:U,C:C,ax_data_rollup[[#This Row],[Year]],B:B,ax_data_rollup[[#This Row],[Week]],I:I,\"111-FILSN1\"))","v":0},{"$f":"ABS(SUMIFS(U:U,C:C,ax_data_rollup[[#This Row],[Year]],B:B,ax_data_rollup[[#This Row],[Week]],I:I,\"112-FILSN2\"))","v":0},{"$f":"ABS(SUMIFS(U:U,C:C,ax_data_rollup[[#This Row],[Year]],B:B,ax_data_rollup[[#This Row],[Week]],I:I,\"113-FILSN3\"))","v":0}]
[{"$f":"IF(ISNUMBER(U30)=TRUE,VLOOKUP(vlookup_data[[#This Row],[style '#]],[2]Sheet1!$A:$D,4,0)*ABS(U30),0)","v":0},{"$f":"WEEKNUM(vlookup_data[[#This Row],[Column8]],2)","v":1},{"$f":"YEAR(vlookup_data[[#This Row],[Column8]])","v":1900},0,{"$f":"CONCATENATE(vlookup_data[[#This Row],[style '#]],\"|\",R30)","v":"0|"},null,null,null,null,null,null,null,null,null,null,null,null,null,null,null,null,null,null,null,null,null,29,2016,{"$f":"IFERROR(SUMIFS(A:A,C:C,ax_data_rollup[[#This Row],[Year]],B:B,ax_data_rollup[[#This Row],[Week]],I:I,\"111-FILSN1\"),\"\")","v":0},{"$f":"IFERROR(SUMIFS(A:A,C:C,ax_data_rollup[[#This Row],[Year]],B:B,ax_data_rollup[[#This Row],[Week]],I:I,\"112-FILSN2\"),\"\")","v":0},{"$f":"IFERROR(SUMIFS(A:A,C:C,ax_data_rollup[[#This Row],[Year]],B:B,ax_data_rollup[[#This Row],[Week]],I:I,\"113-FILSN3\"),\"\")","v":0},{"$f":"ABS(SUMIFS(U:U,C:C,ax_data_rollup[[#This Row],[Year]],B:B,ax_data_rollup[[#This Row],[Week]],I:I,\"111-FILSN1\"))","v":0},{"$f":"ABS(SUMIFS(U:U,C:C,ax_data_rollup[[#This Row],[Year]],B:B,ax_data_rollup[[#This Row],[Week]],I:I,\"112-FILSN2\"))","v":0},{"$f":"ABS(SUMIFS(U:U,C:C,ax_data_rollup[[#This Row],[Year]],B:B,ax_data_rollup[[#This Row],[Week]],I:I,\"113-FILSN3\"))","v":0}]
[{"$f":"IF(ISNUMBER(U31)=TRUE,VLOOKUP(vlookup_data[[#This Row],[style '#]],[2]Sheet1!$A:$D,4,0)*ABS(U31),0)","v":0},{"$f":"WEEKNUM(vlookup_data[[#This Row],[Column8]],2)","v":1},{"$f":"YEAR(vlookup_data[[#This Row],[Column8]])","v":1900},0,{"$f":"CONCATENATE(vlookup_data[[#This Row],[style '#]],\"|\",R31)","v":"0|"},null,null,null,null,null,null,null,null,null,null,null,null,null,null,null,null,null,null,null,null,null,30,2016,{"$f":"IFERROR(SUMIFS(A:A,C:C,ax_data_rollup[[#This Row],[Year]],B:B,ax_data_rollup[[#This Row],[Week]],I:I,\"111-FILSN1\"),\"\")","v":0},{"$f":"IFERROR(SUMIFS(A:A,C:C,ax_data_rollup[[#This Row],[Year]],B:B,ax_data_rollup[[#This Row],[Week]],I:I,\"112-FILSN2\"),\"\")","v":0},{"$f":"IFERROR(SUMIFS(A:A,C:C,ax_data_rollup[[#This Row],[Year]],B:B,ax_data_rollup[[#This Row],[Week]],I:I,\"113-FILSN3\"),\"\")","v":0},{"$f":"ABS(SUMIFS(U:U,C:C,ax_data_rollup[[#This Row],[Year]],B:B,ax_data_rollup[[#This Row],[Week]],I:I,\"111-FILSN1\"))","v":0},{"$f":"ABS(SUMIFS(U:U,C:C,ax_data_rollup[[#This Row],[Year]],B:B,ax_data_rollup[[#This Row],[Week]],I:I,\"112-FILSN2\"))","v":0},{"$f":"ABS(SUMIFS(U:U,C:C,ax_data_rollup[[#This Row],[Year]],B:B,ax_data_rollup[[#This Row],[Week]],I:I,\"113-FILSN3\"))","v":0}]
[{"$f":"IF(ISNUMBER(U32)=TRUE,VLOOKUP(vlookup_data[[#This Row],[style '#]],[2]Sheet1!$A:$D,4,0)*ABS(U32),0)","v":0},{"$f":"WEEKNUM(vlookup_data[[#This Row],[Column8]],2)","v":1},{"$f":"YEAR(vlookup_data[[#This Row],[Column8]])","v":1900},0,{"$f":"CONCATENATE(vlookup_data[[#This Row],[style '#]],\"|\",R32)","v":"0|"},null,null,null,null,null,null,null,null,null,null,null,null,null,null,null,null,null,null,null,null,null,31,2016,{"$f":"IFERROR(SUMIFS(A:A,C:C,ax_data_rollup[[#This Row],[Year]],B:B,ax_data_rollup[[#This Row],[Week]],I:I,\"111-FILSN1\"),\"\")","v":0},{"$f":"IFERROR(SUMIFS(A:A,C:C,ax_data_rollup[[#This Row],[Year]],B:B,ax_data_rollup[[#This Row],[Week]],I:I,\"112-FILSN2\"),\"\")","v":0},{"$f":"IFERROR(SUMIFS(A:A,C:C,ax_data_rollup[[#This Row],[Year]],B:B,ax_data_rollup[[#This Row],[Week]],I:I,\"113-FILSN3\"),\"\")","v":0},{"$f":"ABS(SUMIFS(U:U,C:C,ax_data_rollup[[#This Row],[Year]],B:B,ax_data_rollup[[#This Row],[Week]],I:I,\"111-FILSN1\"))","v":0},{"$f":"ABS(SUMIFS(U:U,C:C,ax_data_rollup[[#This Row],[Year]],B:B,ax_data_rollup[[#This Row],[Week]],I:I,\"112-FILSN2\"))","v":0},{"$f":"ABS(SUMIFS(U:U,C:C,ax_data_rollup[[#This Row],[Year]],B:B,ax_data_rollup[[#This Row],[Week]],I:I,\"113-FILSN3\"))","v":0}]
[{"$f":"IF(ISNUMBER(U33)=TRUE,VLOOKUP(vlookup_data[[#This Row],[style '#]],[2]Sheet1!$A:$D,4,0)*ABS(U33),0)","v":0},{"$f":"WEEKNUM(vlookup_data[[#This Row],[Column8]],2)","v":1},{"$f":"YEAR(vlookup_data[[#This Row],[Column8]])","v":1900},0,{"$f":"CONCATENATE(vlookup_data[[#This Row],[style '#]],\"|\",R33)","v":"0|"},null,null,null,null,null,null,null,null,null,null,null,null,null,null,null,null,null,null,null,null,null,32,2016,{"$f":"IFERROR(SUMIFS(A:A,C:C,ax_data_rollup[[#This Row],[Year]],B:B,ax_data_rollup[[#This Row],[Week]],I:I,\"111-FILSN1\"),\"\")","v":0},{"$f":"IFERROR(SUMIFS(A:A,C:C,ax_data_rollup[[#This Row],[Year]],B:B,ax_data_rollup[[#This Row],[Week]],I:I,\"112-FILSN2\"),\"\")","v":0},{"$f":"IFERROR(SUMIFS(A:A,C:C,ax_data_rollup[[#This Row],[Year]],B:B,ax_data_rollup[[#This Row],[Week]],I:I,\"113-FILSN3\"),\"\")","v":0},{"$f":"ABS(SUMIFS(U:U,C:C,ax_data_rollup[[#This Row],[Year]],B:B,ax_data_rollup[[#This Row],[Week]],I:I,\"111-FILSN1\"))","v":0},{"$f":"ABS(SUMIFS(U:U,C:C,ax_data_rollup[[#This Row],[Year]],B:B,ax_data_rollup[[#This Row],[Week]],I:I,\"112-FILSN2\"))","v":0},{"$f":"ABS(SUMIFS(U:U,C:C,ax_data_rollup[[#This Row],[Year]],B:B,ax_data_rollup[[#This Row],[Week]],I:I,\"113-FILSN3\"))","v":0}]
[{"$f":"IF(ISNUMBER(U34)=TRUE,VLOOKUP(vlookup_data[[#This Row],[style '#]],[2]Sheet1!$A:$D,4,0)*ABS(U34),0)","v":0},{"$f":"WEEKNUM(vlookup_data[[#This Row],[Column8]],2)","v":1},{"$f":"YEAR(vlookup_data[[#This Row],[Column8]])","v":1900},{"$f":"VALUE(G34)","v":0},{"$f":"CONCATENATE(vlookup_data[[#This Row],[style '#]],\"|\",R34)","v":"0|"},null,null,null,null,null,null,null,null,null,null,null,null,null,null,null,null,null,null,null,null,null,33,2016,{"$f":"IFERROR(SUMIFS(A:A,C:C,ax_data_rollup[[#This Row],[Year]],B:B,ax_data_rollup[[#This Row],[Week]],I:I,\"111-FILSN1\"),\"\")","v":0},{"$f":"IFERROR(SUMIFS(A:A,C:C,ax_data_rollup[[#This Row],[Year]],B:B,ax_data_rollup[[#This Row],[Week]],I:I,\"112-FILSN2\"),\"\")","v":0},{"$f":"IFERROR(SUMIFS(A:A,C:C,ax_data_rollup[[#This Row],[Year]],B:B,ax_data_rollup[[#This Row],[Week]],I:I,\"113-FILSN3\"),\"\")","v":0},{"$f":"ABS(SUMIFS(U:U,C:C,ax_data_rollup[[#This Row],[Year]],B:B,ax_data_rollup[[#This Row],[Week]],I:I,\"111-FILSN1\"))","v":0},{"$f":"ABS(SUMIFS(U:U,C:C,ax_data_rollup[[#This Row],[Year]],B:B,ax_data_rollup[[#This Row],[Week]],I:I,\"112-FILSN2\"))","v":0},{"$f":"ABS(SUMIFS(U:U,C:C,ax_data_rollup[[#This Row],[Year]],B:B,ax_data_rollup[[#This Row],[Week]],I:I,\"113-FILSN3\"))","v":0}]
[{"$f":"IF(ISNUMBER(U35)=TRUE,VLOOKUP(vlookup_data[[#This Row],[style '#]],[2]Sheet1!$A:$D,4,0)*ABS(U35),0)","v":0},{"$f":"WEEKNUM(vlookup_data[[#This Row],[Column8]],2)","v":1},{"$f":"YEAR(vlookup_data[[#This Row],[Column8]])","v":1900},0,{"$f":"CONCATENATE(vlookup_data[[#This Row],[style '#]],\"|\",R35)","v":"0|"},null,null,null,null,null,null,null,null,null,null,null,null,null,null,null,null,null,null,null,null,null,34,2016,{"$f":"IFERROR(SUMIFS(A:A,C:C,ax_data_rollup[[#This Row],[Year]],B:B,ax_data_rollup[[#This Row],[Week]],I:I,\"111-FILSN1\"),\"\")","v":0},{"$f":"IFERROR(SUMIFS(A:A,C:C,ax_data_rollup[[#This Row],[Year]],B:B,ax_data_rollup[[#This Row],[Week]],I:I,\"112-FILSN2\"),\"\")","v":0},{"$f":"IFERROR(SUMIFS(A:A,C:C,ax_data_rollup[[#This Row],[Year]],B:B,ax_data_rollup[[#This Row],[Week]],I:I,\"113-FILSN3\"),\"\")","v":0},{"$f":"ABS(SUMIFS(U:U,C:C,ax_data_rollup[[#This Row],[Year]],B:B,ax_data_rollup[[#This Row],[Week]],I:I,\"111-FILSN1\"))","v":0},{"$f":"ABS(SUMIFS(U:U,C:C,ax_data_rollup[[#This Row],[Year]],B:B,ax_data_rollup[[#This Row],[Week]],I:I,\"112-FILSN2\"))","v":0},{"$f":"ABS(SUMIFS(U:U,C:C,ax_data_rollup[[#This Row],[Year]],B:B,ax_data_rollup[[#This Row],[Week]],I:I,\"113-FILSN3\"))","v":0}]
[{"$f":"IF(ISNUMBER(U36)=TRUE,VLOOKUP(vlookup_data[[#This Row],[style '#]],[2]Sheet1!$A:$D,4,0)*ABS(U36),0)","v":0},{"$f":"WEEKNUM(vlookup_data[[#This Row],[Column8]],2)","v":1},{"$f":"YEAR(vlookup_data[[#This Row],[Column8]])","v":1900},0,{"$f":"CONCATENATE(vlookup_data[[#This Row],[style '#]],\"|\",R36)","v":"0|"},null,null,null,null,null,null,null,null,null,null,null,null,null,null,null,null,null,null,null,null,null,35,2016,{"$f":"IFERROR(SUMIFS(A:A,C:C,ax_data_rollup[[#This Row],[Year]],B:B,ax_data_rollup[[#This Row],[Week]],I:I,\"111-FILSN1\"),\"\")","v":0},{"$f":"IFERROR(SUMIFS(A:A,C:C,ax_data_rollup[[#This Row],[Year]],B:B,ax_data_rollup[[#This Row],[Week]],I:I,\"112-FILSN2\"),\"\")","v":0},{"$f":"IFERROR(SUMIFS(A:A,C:C,ax_data_rollup[[#This Row],[Year]],B:B,ax_data_rollup[[#This Row],[Week]],I:I,\"113-FILSN3\"),\"\")","v":0},{"$f":"ABS(SUMIFS(U:U,C:C,ax_data_rollup[[#This Row],[Year]],B:B,ax_data_rollup[[#This Row],[Week]],I:I,\"111-FILSN1\"))","v":0},{"$f":"ABS(SUMIFS(U:U,C:C,ax_data_rollup[[#This Row],[Year]],B:B,ax_data_rollup[[#This Row],[Week]],I:I,\"112-FILSN2\"))","v":0},{"$f":"ABS(SUMIFS(U:U,C:C,ax_data_rollup[[#This Row],[Year]],B:B,ax_data_rollup[[#This Row],[Week]],I:I,\"113-FILSN3\"))","v":0}]
[{"$f":"IF(ISNUMBER(U37)=TRUE,VLOOKUP(vlookup_data[[#This Row],[style '#]],[2]Sheet1!$A:$D,4,0)*ABS(U37),0)","v":0},{"$f":"WEEKNUM(vlookup_data[[#This Row],[Column8]],2)","v":1},{"$f":"YEAR(vlookup_data[[#This Row],[Column8]])","v":1900},0,{"$f":"CONCATENATE(vlookup_data[[#This Row],[style '#]],\"|\",R37)","v":"0|"},null,null,null,null,null,null,null,null,null,null,null,null,null,null,null,null,null,null,null,null,null,36,2016,{"$f":"IFERROR(SUMIFS(A:A,C:C,ax_data_rollup[[#This Row],[Year]],B:B,ax_data_rollup[[#This Row],[Week]],I:I,\"111-FILSN1\"),\"\")","v":0},{"$f":"IFERROR(SUMIFS(A:A,C:C,ax_data_rollup[[#This Row],[Year]],B:B,ax_data_rollup[[#This Row],[Week]],I:I,\"112-FILSN2\"),\"\")","v":0},{"$f":"IFERROR(SUMIFS(A:A,C:C,ax_data_rollup[[#This Row],[Year]],B:B,ax_data_rollup[[#This Row],[Week]],I:I,\"113-FILSN3\"),\"\")","v":0},{"$f":"ABS(SUMIFS(U:U,C:C,ax_data_rollup[[#This Row],[Year]],B:B,ax_data_rollup[[#This Row],[Week]],I:I,\"111-FILSN1\"))","v":0},{"$f":"ABS(SUMIFS(U:U,C:C,ax_data_rollup[[#This Row],[Year]],B:B,ax_data_rollup[[#This Row],[Week]],I:I,\"112-FILSN2\"))","v":0},{"$f":"ABS(SUMIFS(U:U,C:C,ax_data_rollup[[#This Row],[Year]],B:B,ax_data_rollup[[#This Row],[Week]],I:I,\"113-FILSN3\"))","v":0}]
[{"$f":"IF(ISNUMBER(U38)=TRUE,VLOOKUP(vlookup_data[[#This Row],[style '#]],[2]Sheet1!$A:$D,4,0)*ABS(U38),0)","v":0},{"$f":"WEEKNUM(vlookup_data[[#This Row],[Column8]],2)","v":1},{"$f":"YEAR(vlookup_data[[#This Row],[Column8]])","v":1900},0,{"$f":"CONCATENATE(vlookup_data[[#This Row],[style '#]],\"|\",R38)","v":"0|"},null,null,null,null,null,null,null,null,null,null,null,null,null,null,null,null,null,null,null,null,null,37,2016,{"$f":"IFERROR(SUMIFS(A:A,C:C,ax_data_rollup[[#This Row],[Year]],B:B,ax_data_rollup[[#This Row],[Week]],I:I,\"111-FILSN1\"),\"\")","v":0},{"$f":"IFERROR(SUMIFS(A:A,C:C,ax_data_rollup[[#This Row],[Year]],B:B,ax_data_rollup[[#This Row],[Week]],I:I,\"112-FILSN2\"),\"\")","v":0},{"$f":"IFERROR(SUMIFS(A:A,C:C,ax_data_rollup[[#This Row],[Year]],B:B,ax_data_rollup[[#This Row],[Week]],I:I,\"113-FILSN3\"),\"\")","v":0},{"$f":"ABS(SUMIFS(U:U,C:C,ax_data_rollup[[#This Row],[Year]],B:B,ax_data_rollup[[#This Row],[Week]],I:I,\"111-FILSN1\"))","v":0},{"$f":"ABS(SUMIFS(U:U,C:C,ax_data_rollup[[#This Row],[Year]],B:B,ax_data_rollup[[#This Row],[Week]],I:I,\"112-FILSN2\"))","v":0},{"$f":"ABS(SUMIFS(U:U,C:C,ax_data_rollup[[#This Row],[Year]],B:B,ax_data_rollup[[#This Row],[Week]],I:I,\"113-FILSN3\"))","v":0}]
[{"$f":"IF(ISNUMBER(U39)=TRUE,VLOOKUP(vlookup_data[[#This Row],[style '#]],[2]Sheet1!$A:$D,4,0)*ABS(U39),0)","v":0},{"$f":"WEEKNUM(vlookup_data[[#This Row],[Column8]],2)","v":1},{"$f":"YEAR(vlookup_data[[#This Row],[Column8]])","v":1900},0,{"$f":"CONCATENATE(vlookup_data[[#This Row],[style '#]],\"|\",R39)","v":"0|"},null,null,null,null,null,null,null,null,null,null,null,null,null,null,null,null,null,null,null,null,null,38,2016,{"$f":"IFERROR(SUMIFS(A:A,C:C,ax_data_rollup[[#This Row],[Year]],B:B,ax_data_rollup[[#This Row],[Week]],I:I,\"111-FILSN1\"),\"\")","v":0},{"$f":"IFERROR(SUMIFS(A:A,C:C,ax_data_rollup[[#This Row],[Year]],B:B,ax_data_rollup[[#This Row],[Week]],I:I,\"112-FILSN2\"),\"\")","v":0},{"$f":"IFERROR(SUMIFS(A:A,C:C,ax_data_rollup[[#This Row],[Year]],B:B,ax_data_rollup[[#This Row],[Week]],I:I,\"113-FILSN3\"),\"\")","v":0},{"$f":"ABS(SUMIFS(U:U,C:C,ax_data_rollup[[#This Row],[Year]],B:B,ax_data_rollup[[#This Row],[Week]],I:I,\"111-FILSN1\"))","v":0},{"$f":"ABS(SUMIFS(U:U,C:C,ax_data_rollup[[#This Row],[Year]],B:B,ax_data_rollup[[#This Row],[Week]],I:I,\"112-FILSN2\"))","v":0},{"$f":"ABS(SUMIFS(U:U,C:C,ax_data_rollup[[#This Row],[Year]],B:B,ax_data_rollup[[#This Row],[Week]],I:I,\"113-FILSN3\"))","v":0}]
[{"$f":"IF(ISNUMBER(U40)=TRUE,VLOOKUP(vlookup_data[[#This Row],[style '#]],[2]Sheet1!$A:$D,4,0)*ABS(U40),0)","v":0},{"$f":"WEEKNUM(vlookup_data[[#This Row],[Column8]],2)","v":1},{"$f":"YEAR(vlookup_data[[#This Row],[Column8]])","v":1900},0,{"$f":"CONCATENATE(vlookup_data[[#This Row],[style '#]],\"|\",R40)","v":"0|"},null,null,null,null,null,null,null,null,null,null,null,null,null,null,null,null,null,null,null,null,null,39,2016,{"$f":"IFERROR(SUMIFS(A:A,C:C,ax_data_rollup[[#This Row],[Year]],B:B,ax_data_rollup[[#This Row],[Week]],I:I,\"111-FILSN1\"),\"\")","v":0},{"$f":"IFERROR(SUMIFS(A:A,C:C,ax_data_rollup[[#This Row],[Year]],B:B,ax_data_rollup[[#This Row],[Week]],I:I,\"112-FILSN2\"),\"\")","v":0},{"$f":"IFERROR(SUMIFS(A:A,C:C,ax_data_rollup[[#This Row],[Year]],B:B,ax_data_rollup[[#This Row],[Week]],I:I,\"113-FILSN3\"),\"\")","v":0},{"$f":"ABS(SUMIFS(U:U,C:C,ax_data_rollup[[#This Row],[Year]],B:B,ax_data_rollup[[#This Row],[Week]],I:I,\"111-FILSN1\"))","v":0},{"$f":"ABS(SUMIFS(U:U,C:C,ax_data_rollup[[#This Row],[Year]],B:B,ax_data_rollup[[#This Row],[Week]],I:I,\"112-FILSN2\"))","v":0},{"$f":"ABS(SUMIFS(U:U,C:C,ax_data_rollup[[#This Row],[Year]],B:B,ax_data_rollup[[#This Row],[Week]],I:I,\"113-FILSN3\"))","v":0}]
[{"$f":"IF(ISNUMBER(U41)=TRUE,VLOOKUP(vlookup_data[[#This Row],[style '#]],[2]Sheet1!$A:$D,4,0)*ABS(U41),0)","v":0},{"$f":"WEEKNUM(vlookup_data[[#This Row],[Column8]],2)","v":1},{"$f":"YEAR(vlookup_data[[#This Row],[Column8]])","v":1900},0,{"$f":"CONCATENATE(vlookup_data[[#This Row],[style '#]],\"|\",R41)","v":"0|"},null,null,null,null,null,null,null,null,null,null,null,null,null,null,null,null,null,null,null,null,null,40,2016,{"$f":"IFERROR(SUMIFS(A:A,C:C,ax_data_rollup[[#This Row],[Year]],B:B,ax_data_rollup[[#This Row],[Week]],I:I,\"111-FILSN1\"),\"\")","v":0},{"$f":"IFERROR(SUMIFS(A:A,C:C,ax_data_rollup[[#This Row],[Year]],B:B,ax_data_rollup[[#This Row],[Week]],I:I,\"112-FILSN2\"),\"\")","v":0},{"$f":"IFERROR(SUMIFS(A:A,C:C,ax_data_rollup[[#This Row],[Year]],B:B,ax_data_rollup[[#This Row],[Week]],I:I,\"113-FILSN3\"),\"\")","v":0},{"$f":"ABS(SUMIFS(U:U,C:C,ax_data_rollup[[#This Row],[Year]],B:B,ax_data_rollup[[#This Row],[Week]],I:I,\"111-FILSN1\"))","v":0},{"$f":"ABS(SUMIFS(U:U,C:C,ax_data_rollup[[#This Row],[Year]],B:B,ax_data_rollup[[#This Row],[Week]],I:I,\"112-FILSN2\"))","v":0},{"$f":"ABS(SUMIFS(U:U,C:C,ax_data_rollup[[#This Row],[Year]],B:B,ax_data_rollup[[#This Row],[Week]],I:I,\"113-FILSN3\"))","v":0}]
[{"$f":"IF(ISNUMBER(U42)=TRUE,VLOOKUP(vlookup_data[[#This Row],[style '#]],[2]Sheet1!$A:$D,4,0)*ABS(U42),0)","v":0},{"$f":"WEEKNUM(vlookup_data[[#This Row],[Column8]],2)","v":1},{"$f":"YEAR(vlookup_data[[#This Row],[Column8]])","v":1900},0,{"$f":"CONCATENATE(vlookup_data[[#This Row],[style '#]],\"|\",R42)","v":"0|"},null,null,null,null,null,null,null,null,null,null,null,null,null,null,null,null,null,null,null,null,null,41,2016,{"$f":"IFERROR(SUMIFS(A:A,C:C,ax_data_rollup[[#This Row],[Year]],B:B,ax_data_rollup[[#This Row],[Week]],I:I,\"111-FILSN1\"),\"\")","v":0},{"$f":"IFERROR(SUMIFS(A:A,C:C,ax_data_rollup[[#This Row],[Year]],B:B,ax_data_rollup[[#This Row],[Week]],I:I,\"112-FILSN2\"),\"\")","v":0},{"$f":"IFERROR(SUMIFS(A:A,C:C,ax_data_rollup[[#This Row],[Year]],B:B,ax_data_rollup[[#This Row],[Week]],I:I,\"113-FILSN3\"),\"\")","v":0},{"$f":"ABS(SUMIFS(U:U,C:C,ax_data_rollup[[#This Row],[Year]],B:B,ax_data_rollup[[#This Row],[Week]],I:I,\"111-FILSN1\"))","v":0},{"$f":"ABS(SUMIFS(U:U,C:C,ax_data_rollup[[#This Row],[Year]],B:B,ax_data_rollup[[#This Row],[Week]],I:I,\"112-FILSN2\"))","v":0},{"$f":"ABS(SUMIFS(U:U,C:C,ax_data_rollup[[#This Row],[Year]],B:B,ax_data_rollup[[#This Row],[Week]],I:I,\"113-FILSN3\"))","v":0}]
[{"$f":"IF(ISNUMBER(U43)=TRUE,VLOOKUP(vlookup_data[[#This Row],[style '#]],[2]Sheet1!$A:$D,4,0)*ABS(U43),0)","v":0},{"$f":"WEEKNUM(vlookup_data[[#This Row],[Column8]],2)","v":1},{"$f":"YEAR(vlookup_data[[#This Row],[Column8]])","v":1900},0,{"$f":"CONCATENATE(vlookup_data[[#This Row],[style '#]],\"|\",R43)","v":"0|"},null,null,null,null,null,null,null,null,null,null,null,null,null,null,null,null,null,null,null,null,null,42,2016,{"$f":"IFERROR(SUMIFS(A:A,C:C,ax_data_rollup[[#This Row],[Year]],B:B,ax_data_rollup[[#This Row],[Week]],I:I,\"111-FILSN1\"),\"\")","v":0},{"$f":"IFERROR(SUMIFS(A:A,C:C,ax_data_rollup[[#This Row],[Year]],B:B,ax_data_rollup[[#This Row],[Week]],I:I,\"112-FILSN2\"),\"\")","v":0},{"$f":"IFERROR(SUMIFS(A:A,C:C,ax_data_rollup[[#This Row],[Year]],B:B,ax_data_rollup[[#This Row],[Week]],I:I,\"113-FILSN3\"),\"\")","v":0},{"$f":"ABS(SUMIFS(U:U,C:C,ax_data_rollup[[#This Row],[Year]],B:B,ax_data_rollup[[#This Row],[Week]],I:I,\"111-FILSN1\"))","v":0},{"$f":"ABS(SUMIFS(U:U,C:C,ax_data_rollup[[#This Row],[Year]],B:B,ax_data_rollup[[#This Row],[Week]],I:I,\"112-FILSN2\"))","v":0},{"$f":"ABS(SUMIFS(U:U,C:C,ax_data_rollup[[#This Row],[Year]],B:B,ax_data_rollup[[#This Row],[Week]],I:I,\"113-FILSN3\"))","v":0}]
[{"$f":"IF(ISNUMBER(U44)=TRUE,VLOOKUP(vlookup_data[[#This Row],[style '#]],[2]Sheet1!$A:$D,4,0)*ABS(U44),0)","v":0},{"$f":"WEEKNUM(vlookup_data[[#This Row],[Column8]],2)","v":1},{"$f":"YEAR(vlookup_data[[#This Row],[Column8]])","v":1900},0,{"$f":"CONCATENATE(vlookup_data[[#This Row],[style '#]],\"|\",R44)","v":"0|"},null,null,null,null,null,null,null,null,null,null,null,null,null,null,null,null,null,null,null,null,null,43,2016,{"$f":"IFERROR(SUMIFS(A:A,C:C,ax_data_rollup[[#This Row],[Year]],B:B,ax_data_rollup[[#This Row],[Week]],I:I,\"111-FILSN1\"),\"\")","v":0},{"$f":"IFERROR(SUMIFS(A:A,C:C,ax_data_rollup[[#This Row],[Year]],B:B,ax_data_rollup[[#This Row],[Week]],I:I,\"112-FILSN2\"),\"\")","v":0},{"$f":"IFERROR(SUMIFS(A:A,C:C,ax_data_rollup[[#This Row],[Year]],B:B,ax_data_rollup[[#This Row],[Week]],I:I,\"113-FILSN3\"),\"\")","v":0},{"$f":"ABS(SUMIFS(U:U,C:C,ax_data_rollup[[#This Row],[Year]],B:B,ax_data_rollup[[#This Row],[Week]],I:I,\"111-FILSN1\"))","v":0},{"$f":"ABS(SUMIFS(U:U,C:C,ax_data_rollup[[#This Row],[Year]],B:B,ax_data_rollup[[#This Row],[Week]],I:I,\"112-FILSN2\"))","v":0},{"$f":"ABS(SUMIFS(U:U,C:C,ax_data_rollup[[#This Row],[Year]],B:B,ax_data_rollup[[#This Row],[Week]],I:I,\"113-FILSN3\"))","v":0}]
[{"$f":"IF(ISNUMBER(U45)=TRUE,VLOOKUP(vlookup_data[[#This Row],[style '#]],[2]Sheet1!$A:$D,4,0)*ABS(U45),0)","v":0},{"$f":"WEEKNUM(vlookup_data[[#This Row],[Column8]],2)","v":1},{"$f":"YEAR(vlookup_data[[#This Row],[Column8]])","v":1900},0,{"$f":"CONCATENATE(vlookup_data[[#This Row],[style '#]],\"|\",R45)","v":"0|"},null,null,null,null,null,null,null,null,null,null,null,null,null,null,null,null,null,null,null,null,null,44,2016,{"$f":"IFERROR(SUMIFS(A:A,C:C,ax_data_rollup[[#This Row],[Year]],B:B,ax_data_rollup[[#This Row],[Week]],I:I,\"111-FILSN1\"),\"\")","v":0},{"$f":"IFERROR(SUMIFS(A:A,C:C,ax_data_rollup[[#This Row],[Year]],B:B,ax_data_rollup[[#This Row],[Week]],I:I,\"112-FILSN2\"),\"\")","v":0},{"$f":"IFERROR(SUMIFS(A:A,C:C,ax_data_rollup[[#This Row],[Year]],B:B,ax_data_rollup[[#This Row],[Week]],I:I,\"113-FILSN3\"),\"\")","v":0},{"$f":"ABS(SUMIFS(U:U,C:C,ax_data_rollup[[#This Row],[Year]],B:B,ax_data_rollup[[#This Row],[Week]],I:I,\"111-FILSN1\"))","v":0},{"$f":"ABS(SUMIFS(U:U,C:C,ax_data_rollup[[#This Row],[Year]],B:B,ax_data_rollup[[#This Row],[Week]],I:I,\"112-FILSN2\"))","v":0},{"$f":"ABS(SUMIFS(U:U,C:C,ax_data_rollup[[#This Row],[Year]],B:B,ax_data_rollup[[#This Row],[Week]],I:I,\"113-FILSN3\"))","v":0}]
[{"$f":"IF(ISNUMBER(U46)=TRUE,VLOOKUP(vlookup_data[[#This Row],[style '#]],[2]Sheet1!$A:$D,4,0)*ABS(U46),0)","v":0},{"$f":"WEEKNUM(vlookup_data[[#This Row],[Column8]],2)","v":1},{"$f":"YEAR(vlookup_data[[#This Row],[Column8]])","v":1900},0,{"$f":"CONCATENATE(vlookup_data[[#This Row],[style '#]],\"|\",R46)","v":"0|"},null,null,null,null,null,null,null,null,null,null,null,null,null,null,null,null,null,null,null,null,null,45,2016,{"$f":"IFERROR(SUMIFS(A:A,C:C,ax_data_rollup[[#This Row],[Year]],B:B,ax_data_rollup[[#This Row],[Week]],I:I,\"111-FILSN1\"),\"\")","v":0},{"$f":"IFERROR(SUMIFS(A:A,C:C,ax_data_rollup[[#This Row],[Year]],B:B,ax_data_rollup[[#This Row],[Week]],I:I,\"112-FILSN2\"),\"\")","v":0},{"$f":"IFERROR(SUMIFS(A:A,C:C,ax_data_rollup[[#This Row],[Year]],B:B,ax_data_rollup[[#This Row],[Week]],I:I,\"113-FILSN3\"),\"\")","v":0},{"$f":"ABS(SUMIFS(U:U,C:C,ax_data_rollup[[#This Row],[Year]],B:B,ax_data_rollup[[#This Row],[Week]],I:I,\"111-FILSN1\"))","v":0},{"$f":"ABS(SUMIFS(U:U,C:C,ax_data_rollup[[#This Row],[Year]],B:B,ax_data_rollup[[#This Row],[Week]],I:I,\"112-FILSN2\"))","v":0},{"$f":"ABS(SUMIFS(U:U,C:C,ax_data_rollup[[#This Row],[Year]],B:B,ax_data_rollup[[#This Row],[Week]],I:I,\"113-FILSN3\"))","v":0}]
[{"$f":"IF(ISNUMBER(U47)=TRUE,VLOOKUP(vlookup_data[[#This Row],[style '#]],[2]Sheet1!$A:$D,4,0)*ABS(U47),0)","v":0},{"$f":"WEEKNUM(vlookup_data[[#This Row],[Column8]],2)","v":1},{"$f":"YEAR(vlookup_data[[#This Row],[Column8]])","v":1900},0,{"$f":"CONCATENATE(vlookup_data[[#This Row],[style '#]],\"|\",R47)","v":"0|"},null,null,null,null,null,null,null,null,null,null,null,null,null,null,null,null,null,null,null,null,null,46,2016,{"$f":"IFERROR(SUMIFS(A:A,C:C,ax_data_rollup[[#This Row],[Year]],B:B,ax_data_rollup[[#This Row],[Week]],I:I,\"111-FILSN1\"),\"\")","v":0},{"$f":"IFERROR(SUMIFS(A:A,C:C,ax_data_rollup[[#This Row],[Year]],B:B,ax_data_rollup[[#This Row],[Week]],I:I,\"112-FILSN2\"),\"\")","v":0},{"$f":"IFERROR(SUMIFS(A:A,C:C,ax_data_rollup[[#This Row],[Year]],B:B,ax_data_rollup[[#This Row],[Week]],I:I,\"113-FILSN3\"),\"\")","v":0},{"$f":"ABS(SUMIFS(U:U,C:C,ax_data_rollup[[#This Row],[Year]],B:B,ax_data_rollup[[#This Row],[Week]],I:I,\"111-FILSN1\"))","v":0},{"$f":"ABS(SUMIFS(U:U,C:C,ax_data_rollup[[#This Row],[Year]],B:B,ax_data_rollup[[#This Row],[Week]],I:I,\"112-FILSN2\"))","v":0},{"$f":"ABS(SUMIFS(U:U,C:C,ax_data_rollup[[#This Row],[Year]],B:B,ax_data_rollup[[#This Row],[Week]],I:I,\"113-FILSN3\"))","v":0}]
[{"$f":"IF(ISNUMBER(U48)=TRUE,VLOOKUP(vlookup_data[[#This Row],[style '#]],[2]Sheet1!$A:$D,4,0)*ABS(U48),0)","v":0},{"$f":"WEEKNUM(vlookup_data[[#This Row],[Column8]],2)","v":1},{"$f":"YEAR(vlookup_data[[#This Row],[Column8]])","v":1900},0,{"$f":"CONCATENATE(vlookup_data[[#This Row],[style '#]],\"|\",R48)","v":"0|"},null,null,null,null,null,null,null,null,null,null,null,null,null,null,null,null,null,null,null,null,null,47,2016,{"$f":"IFERROR(SUMIFS(A:A,C:C,ax_data_rollup[[#This Row],[Year]],B:B,ax_data_rollup[[#This Row],[Week]],I:I,\"111-FILSN1\"),\"\")","v":0},{"$f":"IFERROR(SUMIFS(A:A,C:C,ax_data_rollup[[#This Row],[Year]],B:B,ax_data_rollup[[#This Row],[Week]],I:I,\"112-FILSN2\"),\"\")","v":0},{"$f":"IFERROR(SUMIFS(A:A,C:C,ax_data_rollup[[#This Row],[Year]],B:B,ax_data_rollup[[#This Row],[Week]],I:I,\"113-FILSN3\"),\"\")","v":0},{"$f":"ABS(SUMIFS(U:U,C:C,ax_data_rollup[[#This Row],[Year]],B:B,ax_data_rollup[[#This Row],[Week]],I:I,\"111-FILSN1\"))","v":0},{"$f":"ABS(SUMIFS(U:U,C:C,ax_data_rollup[[#This Row],[Year]],B:B,ax_data_rollup[[#This Row],[Week]],I:I,\"112-FILSN2\"))","v":0},{"$f":"ABS(SUMIFS(U:U,C:C,ax_data_rollup[[#This Row],[Year]],B:B,ax_data_rollup[[#This Row],[Week]],I:I,\"113-FILSN3\"))","v":0}]
[{"$f":"IF(ISNUMBER(U49)=TRUE,VLOOKUP(vlookup_data[[#This Row],[style '#]],[2]Sheet1!$A:$D,4,0)*ABS(U49),0)","v":0},{"$f":"WEEKNUM(vlookup_data[[#This Row],[Column8]],2)","v":1},{"$f":"YEAR(vlookup_data[[#This Row],[Column8]])","v":1900},0,{"$f":"CONCATENATE(vlookup_data[[#This Row],[style '#]],\"|\",R49)","v":"0|"},null,null,null,null,null,null,null,null,null,null,null,null,null,null,null,null,null,null,null,null,null,48,2016,{"$f":"IFERROR(SUMIFS(A:A,C:C,ax_data_rollup[[#This Row],[Year]],B:B,ax_data_rollup[[#This Row],[Week]],I:I,\"111-FILSN1\"),\"\")","v":0},{"$f":"IFERROR(SUMIFS(A:A,C:C,ax_data_rollup[[#This Row],[Year]],B:B,ax_data_rollup[[#This Row],[Week]],I:I,\"112-FILSN2\"),\"\")","v":0},{"$f":"IFERROR(SUMIFS(A:A,C:C,ax_data_rollup[[#This Row],[Year]],B:B,ax_data_rollup[[#This Row],[Week]],I:I,\"113-FILSN3\"),\"\")","v":0},{"$f":"ABS(SUMIFS(U:U,C:C,ax_data_rollup[[#This Row],[Year]],B:B,ax_data_rollup[[#This Row],[Week]],I:I,\"111-FILSN1\"))","v":0},{"$f":"ABS(SUMIFS(U:U,C:C,ax_data_rollup[[#This Row],[Year]],B:B,ax_data_rollup[[#This Row],[Week]],I:I,\"112-FILSN2\"))","v":0},{"$f":"ABS(SUMIFS(U:U,C:C,ax_data_rollup[[#This Row],[Year]],B:B,ax_data_rollup[[#This Row],[Week]],I:I,\"113-FILSN3\"))","v":0}]
[{"$f":"IF(ISNUMBER(U50)=TRUE,VLOOKUP(vlookup_data[[#This Row],[style '#]],[2]Sheet1!$A:$D,4,0)*ABS(U50),0)","v":0},{"$f":"WEEKNUM(vlookup_data[[#This Row],[Column8]],2)","v":1},{"$f":"YEAR(vlookup_data[[#This Row],[Column8]])","v":1900},0,{"$f":"CONCATENATE(vlookup_data[[#This Row],[style '#]],\"|\",R50)","v":"0|"},null,null,null,null,null,null,null,null,null,null,null,null,null,null,null,null,null,null,null,null,null,49,2016,{"$f":"IFERROR(SUMIFS(A:A,C:C,ax_data_rollup[[#This Row],[Year]],B:B,ax_data_rollup[[#This Row],[Week]],I:I,\"111-FILSN1\"),\"\")","v":0},{"$f":"IFERROR(SUMIFS(A:A,C:C,ax_data_rollup[[#This Row],[Year]],B:B,ax_data_rollup[[#This Row],[Week]],I:I,\"112-FILSN2\"),\"\")","v":0},{"$f":"IFERROR(SUMIFS(A:A,C:C,ax_data_rollup[[#This Row],[Year]],B:B,ax_data_rollup[[#This Row],[Week]],I:I,\"113-FILSN3\"),\"\")","v":0},{"$f":"ABS(SUMIFS(U:U,C:C,ax_data_rollup[[#This Row],[Year]],B:B,ax_data_rollup[[#This Row],[Week]],I:I,\"111-FILSN1\"))","v":0},{"$f":"ABS(SUMIFS(U:U,C:C,ax_data_rollup[[#This Row],[Year]],B:B,ax_data_rollup[[#This Row],[Week]],I:I,\"112-FILSN2\"))","v":0},{"$f":"ABS(SUMIFS(U:U,C:C,ax_data_rollup[[#This Row],[Year]],B:B,ax_data_rollup[[#This Row],[Week]],I:I,\"113-FILSN3\"))","v":0}]
[{"$f":"IF(ISNUMBER(U51)=TRUE,VLOOKUP(vlookup_data[[#This Row],[style '#]],[2]Sheet1!$A:$D,4,0)*ABS(U51),0)","v":0},{"$f":"WEEKNUM(vlookup_data[[#This Row],[Column8]],2)","v":1},{"$f":"YEAR(vlookup_data[[#This Row],[Column8]])","v":1900},0,{"$f":"CONCATENATE(vlookup_data[[#This Row],[style '#]],\"|\",R51)","v":"0|"},null,null,null,null,null,null,null,null,null,null,null,null,null,null,null,null,null,null,null,null,null,50,2016,{"$f":"IFERROR(SUMIFS(A:A,C:C,ax_data_rollup[[#This Row],[Year]],B:B,ax_data_rollup[[#This Row],[Week]],I:I,\"111-FILSN1\"),\"\")","v":0},{"$f":"IFERROR(SUMIFS(A:A,C:C,ax_data_rollup[[#This Row],[Year]],B:B,ax_data_rollup[[#This Row],[Week]],I:I,\"112-FILSN2\"),\"\")","v":0},{"$f":"IFERROR(SUMIFS(A:A,C:C,ax_data_rollup[[#This Row],[Year]],B:B,ax_data_rollup[[#This Row],[Week]],I:I,\"113-FILSN3\"),\"\")","v":0},{"$f":"ABS(SUMIFS(U:U,C:C,ax_data_rollup[[#This Row],[Year]],B:B,ax_data_rollup[[#This Row],[Week]],I:I,\"111-FILSN1\"))","v":0},{"$f":"ABS(SUMIFS(U:U,C:C,ax_data_rollup[[#This Row],[Year]],B:B,ax_data_rollup[[#This Row],[Week]],I:I,\"112-FILSN2\"))","v":0},{"$f":"ABS(SUMIFS(U:U,C:C,ax_data_rollup[[#This Row],[Year]],B:B,ax_data_rollup[[#This Row],[Week]],I:I,\"113-FILSN3\"))","v":0}]
[{"$f":"IF(ISNUMBER(U52)=TRUE,VLOOKUP(vlookup_data[[#This Row],[style '#]],[2]Sheet1!$A:$D,4,0)*ABS(U52),0)","v":0},{"$f":"WEEKNUM(vlookup_data[[#This Row],[Column8]],2)","v":1},{"$f":"YEAR(vlookup_data[[#This Row],[Column8]])","v":1900},0,{"$f":"CONCATENATE(vlookup_data[[#This Row],[style '#]],\"|\",R52)","v":"0|"},null,null,null,null,null,null,null,null,null,null,null,null,null,null,null,null,null,null,null,null,null,51,2016,{"$f":"IFERROR(SUMIFS(A:A,C:C,ax_data_rollup[[#This Row],[Year]],B:B,ax_data_rollup[[#This Row],[Week]],I:I,\"111-FILSN1\"),\"\")","v":0},{"$f":"IFERROR(SUMIFS(A:A,C:C,ax_data_rollup[[#This Row],[Year]],B:B,ax_data_rollup[[#This Row],[Week]],I:I,\"112-FILSN2\"),\"\")","v":0},{"$f":"IFERROR(SUMIFS(A:A,C:C,ax_data_rollup[[#This Row],[Year]],B:B,ax_data_rollup[[#This Row],[Week]],I:I,\"113-FILSN3\"),\"\")","v":0},{"$f":"ABS(SUMIFS(U:U,C:C,ax_data_rollup[[#This Row],[Year]],B:B,ax_data_rollup[[#This Row],[Week]],I:I,\"111-FILSN1\"))","v":0},{"$f":"ABS(SUMIFS(U:U,C:C,ax_data_rollup[[#This Row],[Year]],B:B,ax_data_rollup[[#This Row],[Week]],I:I,\"112-FILSN2\"))","v":0},{"$f":"ABS(SUMIFS(U:U,C:C,ax_data_rollup[[#This Row],[Year]],B:B,ax_data_rollup[[#This Row],[Week]],I:I,\"113-FILSN3\"))","v":0}]
[{"$f":"IF(ISNUMBER(U53)=TRUE,VLOOKUP(vlookup_data[[#This Row],[style '#]],[2]Sheet1!$A:$D,4,0)*ABS(U53),0)","v":0},{"$f":"WEEKNUM(vlookup_data[[#This Row],[Column8]],2)","v":1},{"$f":"YEAR(vlookup_data[[#This Row],[Column8]])","v":1900},0,{"$f":"CONCATENATE(vlookup_data[[#This Row],[style '#]],\"|\",R53)","v":"0|"},null,null,null,null,null,null,null,null,null,null,null,null,null,null,null,null,null,null,null,null,null,52,2016,{"$f":"IFERROR(SUMIFS(A:A,C:C,ax_data_rollup[[#This Row],[Year]],B:B,ax_data_rollup[[#This Row],[Week]],I:I,\"111-FILSN1\"),\"\")","v":0},{"$f":"IFERROR(SUMIFS(A:A,C:C,ax_data_rollup[[#This Row],[Year]],B:B,ax_data_rollup[[#This Row],[Week]],I:I,\"112-FILSN2\"),\"\")","v":0},{"$f":"IFERROR(SUMIFS(A:A,C:C,ax_data_rollup[[#This Row],[Year]],B:B,ax_data_rollup[[#This Row],[Week]],I:I,\"113-FILSN3\"),\"\")","v":0},{"$f":"ABS(SUMIFS(U:U,C:C,ax_data_rollup[[#This Row],[Year]],B:B,ax_data_rollup[[#This Row],[Week]],I:I,\"111-FILSN1\"))","v":0},{"$f":"ABS(SUMIFS(U:U,C:C,ax_data_rollup[[#This Row],[Year]],B:B,ax_data_rollup[[#This Row],[Week]],I:I,\"112-FILSN2\"))","v":0},{"$f":"ABS(SUMIFS(U:U,C:C,ax_data_rollup[[#This Row],[Year]],B:B,ax_data_rollup[[#This Row],[Week]],I:I,\"113-FILSN3\"))","v":0}]
[{"$f":"IF(ISNUMBER(U54)=TRUE,VLOOKUP(vlookup_data[[#This Row],[style '#]],[2]Sheet1!$A:$D,4,0)*ABS(U54),0)","v":0},{"$f":"WEEKNUM(vlookup_data[[#This Row],[Column8]],2)","v":1},{"$f":"YEAR(vlookup_data[[#This Row],[Column8]])","v":1900},0,{"$f":"CONCATENATE(vlookup_data[[#This Row],[style '#]],\"|\",R54)","v":"0|"},null,null,null,null,null,null,null,null,null,null,null,null,null,null,null,null,null,null,null,null,null,53,2016,{"$f":"IFERROR(SUMIFS(A:A,C:C,ax_data_rollup[[#This Row],[Year]],B:B,ax_data_rollup[[#This Row],[Week]],I:I,\"111-FILSN1\"),\"\")","v":0},{"$f":"IFERROR(SUMIFS(A:A,C:C,ax_data_rollup[[#This Row],[Year]],B:B,ax_data_rollup[[#This Row],[Week]],I:I,\"112-FILSN2\"),\"\")","v":0},{"$f":"IFERROR(SUMIFS(A:A,C:C,ax_data_rollup[[#This Row],[Year]],B:B,ax_data_rollup[[#This Row],[Week]],I:I,\"113-FILSN3\"),\"\")","v":0},{"$f":"ABS(SUMIFS(U:U,C:C,ax_data_rollup[[#This Row],[Year]],B:B,ax_data_rollup[[#This Row],[Week]],I:I,\"111-FILSN1\"))","v":0},{"$f":"ABS(SUMIFS(U:U,C:C,ax_data_rollup[[#This Row],[Year]],B:B,ax_data_rollup[[#This Row],[Week]],I:I,\"112-FILSN2\"))","v":0},{"$f":"ABS(SUMIFS(U:U,C:C,ax_data_rollup[[#This Row],[Year]],B:B,ax_data_rollup[[#This Row],[Week]],I:I,\"113-FILSN3\"))","v":0}]
[{"$f":"IF(ISNUMBER(U55)=TRUE,VLOOKUP(vlookup_data[[#This Row],[style '#]],[2]Sheet1!$A:$D,4,0)*ABS(U55),0)","v":0},{"$f":"WEEKNUM(vlookup_data[[#This Row],[Column8]],2)","v":1},{"$f":"YEAR(vlookup_data[[#This Row],[Column8]])","v":1900},0,{"$f":"CONCATENATE(vlookup_data[[#This Row],[style '#]],\"|\",R55)","v":"0|"},null,null,null,null,null,null,null,null,null,null,null,null,null,null,null,null,null,null,null,null,null,1,2017,{"$f":"IFERROR(SUMIFS(A:A,C:C,ax_data_rollup[[#This Row],[Year]],B:B,ax_data_rollup[[#This Row],[Week]],I:I,\"111-FILSN1\"),\"\")","v":0},{"$f":"IFERROR(SUMIFS(A:A,C:C,ax_data_rollup[[#This Row],[Year]],B:B,ax_data_rollup[[#This Row],[Week]],I:I,\"112-FILSN2\"),\"\")","v":0},{"$f":"IFERROR(SUMIFS(A:A,C:C,ax_data_rollup[[#This Row],[Year]],B:B,ax_data_rollup[[#This Row],[Week]],I:I,\"113-FILSN3\"),\"\")","v":0},{"$f":"ABS(SUMIFS(U:U,C:C,ax_data_rollup[[#This Row],[Year]],B:B,ax_data_rollup[[#This Row],[Week]],I:I,\"111-FILSN1\"))","v":0},{"$f":"ABS(SUMIFS(U:U,C:C,ax_data_rollup[[#This Row],[Year]],B:B,ax_data_rollup[[#This Row],[Week]],I:I,\"112-FILSN2\"))","v":0},{"$f":"ABS(SUMIFS(U:U,C:C,ax_data_rollup[[#This Row],[Year]],B:B,ax_data_rollup[[#This Row],[Week]],I:I,\"113-FILSN3\"))","v":0}]
[{"$f":"IF(ISNUMBER(U56)=TRUE,VLOOKUP(vlookup_data[[#This Row],[style '#]],[2]Sheet1!$A:$D,4,0)*ABS(U56),0)","v":0},{"$f":"WEEKNUM(vlookup_data[[#This Row],[Column8]],2)","v":1},{"$f":"YEAR(vlookup_data[[#This Row],[Column8]])","v":1900},0,{"$f":"CONCATENATE(vlookup_data[[#This Row],[style '#]],\"|\",R56)","v":"0|"},null,null,null,null,null,null,null,null,null,null,null,null,null,null,null,null,null,null,null,null,null,{"$f":"AA55+1","v":2},2017,{"$f":"IFERROR(SUMIFS(A:A,C:C,ax_data_rollup[[#This Row],[Year]],B:B,ax_data_rollup[[#This Row],[Week]],I:I,\"111-FILSN1\"),\"\")","v":0},{"$f":"IFERROR(SUMIFS(A:A,C:C,ax_data_rollup[[#This Row],[Year]],B:B,ax_data_rollup[[#This Row],[Week]],I:I,\"112-FILSN2\"),\"\")","v":0},{"$f":"IFERROR(SUMIFS(A:A,C:C,ax_data_rollup[[#This Row],[Year]],B:B,ax_data_rollup[[#This Row],[Week]],I:I,\"113-FILSN3\"),\"\")","v":0},{"$f":"ABS(SUMIFS(U:U,C:C,ax_data_rollup[[#This Row],[Year]],B:B,ax_data_rollup[[#This Row],[Week]],I:I,\"111-FILSN1\"))","v":0},{"$f":"ABS(SUMIFS(U:U,C:C,ax_data_rollup[[#This Row],[Year]],B:B,ax_data_rollup[[#This Row],[Week]],I:I,\"112-FILSN2\"))","v":0},{"$f":"ABS(SUMIFS(U:U,C:C,ax_data_rollup[[#This Row],[Year]],B:B,ax_data_rollup[[#This Row],[Week]],I:I,\"113-FILSN3\"))","v":0}]
[{"$f":"IF(ISNUMBER(U57)=TRUE,VLOOKUP(vlookup_data[[#This Row],[style '#]],[2]Sheet1!$A:$D,4,0)*ABS(U57),0)","v":0},{"$f":"WEEKNUM(vlookup_data[[#This Row],[Column8]],2)","v":1},{"$f":"YEAR(vlookup_data[[#This Row],[Column8]])","v":1900},0,{"$f":"CONCATENATE(vlookup_data[[#This Row],[style '#]],\"|\",R57)","v":"0|"},null,null,null,null,null,null,null,null,null,null,null,null,null,null,null,null,null,null,null,null,null,{"$f":"AA56+1","v":3},2017,{"$f":"IFERROR(SUMIFS(A:A,C:C,ax_data_rollup[[#This Row],[Year]],B:B,ax_data_rollup[[#This Row],[Week]],I:I,\"111-FILSN1\"),\"\")","v":0},{"$f":"IFERROR(SUMIFS(A:A,C:C,ax_data_rollup[[#This Row],[Year]],B:B,ax_data_rollup[[#This Row],[Week]],I:I,\"112-FILSN2\"),\"\")","v":0},{"$f":"IFERROR(SUMIFS(A:A,C:C,ax_data_rollup[[#This Row],[Year]],B:B,ax_data_rollup[[#This Row],[Week]],I:I,\"113-FILSN3\"),\"\")","v":0},{"$f":"ABS(SUMIFS(U:U,C:C,ax_data_rollup[[#This Row],[Year]],B:B,ax_data_rollup[[#This Row],[Week]],I:I,\"111-FILSN1\"))","v":0},{"$f":"ABS(SUMIFS(U:U,C:C,ax_data_rollup[[#This Row],[Year]],B:B,ax_data_rollup[[#This Row],[Week]],I:I,\"112-FILSN2\"))","v":0},{"$f":"ABS(SUMIFS(U:U,C:C,ax_data_rollup[[#This Row],[Year]],B:B,ax_data_rollup[[#This Row],[Week]],I:I,\"113-FILSN3\"))","v":0}]
[{"$f":"IF(ISNUMBER(U58)=TRUE,VLOOKUP(vlookup_data[[#This Row],[style '#]],[2]Sheet1!$A:$D,4,0)*ABS(U58),0)","v":0},{"$f":"WEEKNUM(vlookup_data[[#This Row],[Column8]],2)","v":1},{"$f":"YEAR(vlookup_data[[#This Row],[Column8]])","v":1900},0,{"$f":"CONCATENATE(vlookup_data[[#This Row],[style '#]],\"|\",R58)","v":"0|"},null,null,null,null,null,null,null,null,null,null,null,null,null,null,null,null,null,null,null,null,null,4,2017,{"$f":"IFERROR(SUMIFS(A:A,C:C,ax_data_rollup[[#This Row],[Year]],B:B,ax_data_rollup[[#This Row],[Week]],I:I,\"111-FILSN1\"),\"\")","v":0},{"$f":"IFERROR(SUMIFS(A:A,C:C,ax_data_rollup[[#This Row],[Year]],B:B,ax_data_rollup[[#This Row],[Week]],I:I,\"112-FILSN2\"),\"\")","v":0},{"$f":"IFERROR(SUMIFS(A:A,C:C,ax_data_rollup[[#This Row],[Year]],B:B,ax_data_rollup[[#This Row],[Week]],I:I,\"113-FILSN3\"),\"\")","v":0},{"$f":"ABS(SUMIFS(U:U,C:C,ax_data_rollup[[#This Row],[Year]],B:B,ax_data_rollup[[#This Row],[Week]],I:I,\"111-FILSN1\"))","v":0},{"$f":"ABS(SUMIFS(U:U,C:C,ax_data_rollup[[#This Row],[Year]],B:B,ax_data_rollup[[#This Row],[Week]],I:I,\"112-FILSN2\"))","v":0},{"$f":"ABS(SUMIFS(U:U,C:C,ax_data_rollup[[#This Row],[Year]],B:B,ax_data_rollup[[#This Row],[Week]],I:I,\"113-FILSN3\"))","v":0}]
[{"$f":"IF(ISNUMBER(U59)=TRUE,VLOOKUP(vlookup_data[[#This Row],[style '#]],[2]Sheet1!$A:$D,4,0)*ABS(U59),0)","v":0},{"$f":"WEEKNUM(vlookup_data[[#This Row],[Column8]],2)","v":1},{"$f":"YEAR(vlookup_data[[#This Row],[Column8]])","v":1900},0,{"$f":"CONCATENATE(vlookup_data[[#This Row],[style '#]],\"|\",R59)","v":"0|"},null,null,null,null,null,null,null,null,null,null,null,null,null,null,null,null,null,null,null,null,null,5,2017,{"$f":"IFERROR(SUMIFS(A:A,C:C,ax_data_rollup[[#This Row],[Year]],B:B,ax_data_rollup[[#This Row],[Week]],I:I,\"111-FILSN1\"),\"\")","v":0},{"$f":"IFERROR(SUMIFS(A:A,C:C,ax_data_rollup[[#This Row],[Year]],B:B,ax_data_rollup[[#This Row],[Week]],I:I,\"112-FILSN2\"),\"\")","v":0},{"$f":"IFERROR(SUMIFS(A:A,C:C,ax_data_rollup[[#This Row],[Year]],B:B,ax_data_rollup[[#This Row],[Week]],I:I,\"113-FILSN3\"),\"\")","v":0},{"$f":"ABS(SUMIFS(U:U,C:C,ax_data_rollup[[#This Row],[Year]],B:B,ax_data_rollup[[#This Row],[Week]],I:I,\"111-FILSN1\"))","v":0},{"$f":"ABS(SUMIFS(U:U,C:C,ax_data_rollup[[#This Row],[Year]],B:B,ax_data_rollup[[#This Row],[Week]],I:I,\"112-FILSN2\"))","v":0},{"$f":"ABS(SUMIFS(U:U,C:C,ax_data_rollup[[#This Row],[Year]],B:B,ax_data_rollup[[#This Row],[Week]],I:I,\"113-FILSN3\"))","v":0}]
[{"$f":"IF(ISNUMBER(U60)=TRUE,VLOOKUP(vlookup_data[[#This Row],[style '#]],[2]Sheet1!$A:$D,4,0)*ABS(U60),0)","v":0},{"$f":"WEEKNUM(vlookup_data[[#This Row],[Column8]],2)","v":1},{"$f":"YEAR(vlookup_data[[#This Row],[Column8]])","v":1900},0,{"$f":"CONCATENATE(vlookup_data[[#This Row],[style '#]],\"|\",R60)","v":"0|"},null,null,null,null,null,null,null,null,null,null,null,null,null,null,null,null,null,null,null,null,null,6,2017,{"$f":"IFERROR(SUMIFS(A:A,C:C,ax_data_rollup[[#This Row],[Year]],B:B,ax_data_rollup[[#This Row],[Week]],I:I,\"111-FILSN1\"),\"\")","v":0},{"$f":"IFERROR(SUMIFS(A:A,C:C,ax_data_rollup[[#This Row],[Year]],B:B,ax_data_rollup[[#This Row],[Week]],I:I,\"112-FILSN2\"),\"\")","v":0},{"$f":"IFERROR(SUMIFS(A:A,C:C,ax_data_rollup[[#This Row],[Year]],B:B,ax_data_rollup[[#This Row],[Week]],I:I,\"113-FILSN3\"),\"\")","v":0},{"$f":"ABS(SUMIFS(U:U,C:C,ax_data_rollup[[#This Row],[Year]],B:B,ax_data_rollup[[#This Row],[Week]],I:I,\"111-FILSN1\"))","v":0},{"$f":"ABS(SUMIFS(U:U,C:C,ax_data_rollup[[#This Row],[Year]],B:B,ax_data_rollup[[#This Row],[Week]],I:I,\"112-FILSN2\"))","v":0},{"$f":"ABS(SUMIFS(U:U,C:C,ax_data_rollup[[#This Row],[Year]],B:B,ax_data_rollup[[#This Row],[Week]],I:I,\"113-FILSN3\"))","v":0}]
[{"$f":"IF(ISNUMBER(U61)=TRUE,VLOOKUP(vlookup_data[[#This Row],[style '#]],[2]Sheet1!$A:$D,4,0)*ABS(U61),0)","v":0},{"$f":"WEEKNUM(vlookup_data[[#This Row],[Column8]],2)","v":1},{"$f":"YEAR(vlookup_data[[#This Row],[Column8]])","v":1900},0,{"$f":"CONCATENATE(vlookup_data[[#This Row],[style '#]],\"|\",R61)","v":"0|"},null,null,null,null,null,null,null,null,null,null,null,null,null,null,null,null,null,null,null,null,null,7,2017,{"$f":"IFERROR(SUMIFS(A:A,C:C,ax_data_rollup[[#This Row],[Year]],B:B,ax_data_rollup[[#This Row],[Week]],I:I,\"111-FILSN1\"),\"\")","v":0},{"$f":"IFERROR(SUMIFS(A:A,C:C,ax_data_rollup[[#This Row],[Year]],B:B,ax_data_rollup[[#This Row],[Week]],I:I,\"112-FILSN2\"),\"\")","v":0},{"$f":"IFERROR(SUMIFS(A:A,C:C,ax_data_rollup[[#This Row],[Year]],B:B,ax_data_rollup[[#This Row],[Week]],I:I,\"113-FILSN3\"),\"\")","v":0},{"$f":"ABS(SUMIFS(U:U,C:C,ax_data_rollup[[#This Row],[Year]],B:B,ax_data_rollup[[#This Row],[Week]],I:I,\"111-FILSN1\"))","v":0},{"$f":"ABS(SUMIFS(U:U,C:C,ax_data_rollup[[#This Row],[Year]],B:B,ax_data_rollup[[#This Row],[Week]],I:I,\"112-FILSN2\"))","v":0},{"$f":"ABS(SUMIFS(U:U,C:C,ax_data_rollup[[#This Row],[Year]],B:B,ax_data_rollup[[#This Row],[Week]],I:I,\"113-FILSN3\"))","v":0}]
[{"$f":"IF(ISNUMBER(U62)=TRUE,VLOOKUP(vlookup_data[[#This Row],[style '#]],[2]Sheet1!$A:$D,4,0)*ABS(U62),0)","v":0},{"$f":"WEEKNUM(vlookup_data[[#This Row],[Column8]],2)","v":1},{"$f":"YEAR(vlookup_data[[#This Row],[Column8]])","v":1900},0,{"$f":"CONCATENATE(vlookup_data[[#This Row],[style '#]],\"|\",R62)","v":"0|"},null,null,null,null,null,null,null,null,null,null,null,null,null,null,null,null,null,null,null,null,null,8,2017,{"$f":"IFERROR(SUMIFS(A:A,C:C,ax_data_rollup[[#This Row],[Year]],B:B,ax_data_rollup[[#This Row],[Week]],I:I,\"111-FILSN1\"),\"\")","v":0},{"$f":"IFERROR(SUMIFS(A:A,C:C,ax_data_rollup[[#This Row],[Year]],B:B,ax_data_rollup[[#This Row],[Week]],I:I,\"112-FILSN2\"),\"\")","v":0},{"$f":"IFERROR(SUMIFS(A:A,C:C,ax_data_rollup[[#This Row],[Year]],B:B,ax_data_rollup[[#This Row],[Week]],I:I,\"113-FILSN3\"),\"\")","v":0},{"$f":"ABS(SUMIFS(U:U,C:C,ax_data_rollup[[#This Row],[Year]],B:B,ax_data_rollup[[#This Row],[Week]],I:I,\"111-FILSN1\"))","v":0},{"$f":"ABS(SUMIFS(U:U,C:C,ax_data_rollup[[#This Row],[Year]],B:B,ax_data_rollup[[#This Row],[Week]],I:I,\"112-FILSN2\"))","v":0},{"$f":"ABS(SUMIFS(U:U,C:C,ax_data_rollup[[#This Row],[Year]],B:B,ax_data_rollup[[#This Row],[Week]],I:I,\"113-FILSN3\"))","v":0}]
[{"$f":"IF(ISNUMBER(U63)=TRUE,VLOOKUP(vlookup_data[[#This Row],[style '#]],[2]Sheet1!$A:$D,4,0)*ABS(U63),0)","v":0},{"$f":"WEEKNUM(vlookup_data[[#This Row],[Column8]],2)","v":1},{"$f":"YEAR(vlookup_data[[#This Row],[Column8]])","v":1900},0,{"$f":"CONCATENATE(vlookup_data[[#This Row],[style '#]],\"|\",R63)","v":"0|"},null,null,null,null,null,null,null,null,null,null,null,null,null,null,null,null,null,null,null,null,null,9,2017,{"$f":"IFERROR(SUMIFS(A:A,C:C,ax_data_rollup[[#This Row],[Year]],B:B,ax_data_rollup[[#This Row],[Week]],I:I,\"111-FILSN1\"),\"\")","v":0},{"$f":"IFERROR(SUMIFS(A:A,C:C,ax_data_rollup[[#This Row],[Year]],B:B,ax_data_rollup[[#This Row],[Week]],I:I,\"112-FILSN2\"),\"\")","v":0},{"$f":"IFERROR(SUMIFS(A:A,C:C,ax_data_rollup[[#This Row],[Year]],B:B,ax_data_rollup[[#This Row],[Week]],I:I,\"113-FILSN3\"),\"\")","v":0},{"$f":"ABS(SUMIFS(U:U,C:C,ax_data_rollup[[#This Row],[Year]],B:B,ax_data_rollup[[#This Row],[Week]],I:I,\"111-FILSN1\"))","v":0},{"$f":"ABS(SUMIFS(U:U,C:C,ax_data_rollup[[#This Row],[Year]],B:B,ax_data_rollup[[#This Row],[Week]],I:I,\"112-FILSN2\"))","v":0},{"$f":"ABS(SUMIFS(U:U,C:C,ax_data_rollup[[#This Row],[Year]],B:B,ax_data_rollup[[#This Row],[Week]],I:I,\"113-FILSN3\"))","v":0}]
[{"$f":"IF(ISNUMBER(U64)=TRUE,VLOOKUP(vlookup_data[[#This Row],[style '#]],[2]Sheet1!$A:$D,4,0)*ABS(U64),0)","v":0},{"$f":"WEEKNUM(vlookup_data[[#This Row],[Column8]],2)","v":1},{"$f":"YEAR(vlookup_data[[#This Row],[Column8]])","v":1900},0,{"$f":"CONCATENATE(vlookup_data[[#This Row],[style '#]],\"|\",R64)","v":"0|"},null,null,null,null,null,null,null,null,null,null,null,null,null,null,null,null,null,null,null,null,null,10,2017,{"$f":"IFERROR(SUMIFS(A:A,C:C,ax_data_rollup[[#This Row],[Year]],B:B,ax_data_rollup[[#This Row],[Week]],I:I,\"111-FILSN1\"),\"\")","v":0},{"$f":"IFERROR(SUMIFS(A:A,C:C,ax_data_rollup[[#This Row],[Year]],B:B,ax_data_rollup[[#This Row],[Week]],I:I,\"112-FILSN2\"),\"\")","v":0},{"$f":"IFERROR(SUMIFS(A:A,C:C,ax_data_rollup[[#This Row],[Year]],B:B,ax_data_rollup[[#This Row],[Week]],I:I,\"113-FILSN3\"),\"\")","v":0},{"$f":"ABS(SUMIFS(U:U,C:C,ax_data_rollup[[#This Row],[Year]],B:B,ax_data_rollup[[#This Row],[Week]],I:I,\"111-FILSN1\"))","v":0},{"$f":"ABS(SUMIFS(U:U,C:C,ax_data_rollup[[#This Row],[Year]],B:B,ax_data_rollup[[#This Row],[Week]],I:I,\"112-FILSN2\"))","v":0},{"$f":"ABS(SUMIFS(U:U,C:C,ax_data_rollup[[#This Row],[Year]],B:B,ax_data_rollup[[#This Row],[Week]],I:I,\"113-FILSN3\"))","v":0}]
[{"$f":"IF(ISNUMBER(U65)=TRUE,VLOOKUP(vlookup_data[[#This Row],[style '#]],[2]Sheet1!$A:$D,4,0)*ABS(U65),0)","v":0},{"$f":"WEEKNUM(vlookup_data[[#This Row],[Column8]],2)","v":1},{"$f":"YEAR(vlookup_data[[#This Row],[Column8]])","v":1900},0,{"$f":"CONCATENATE(vlookup_data[[#This Row],[style '#]],\"|\",R65)","v":"0|"},null,null,null,null,null,null,null,null,null,null,null,null,null,null,null,null,null,null,null,null,null,11,2017,{"$f":"IFERROR(SUMIFS(A:A,C:C,ax_data_rollup[[#This Row],[Year]],B:B,ax_data_rollup[[#This Row],[Week]],I:I,\"111-FILSN1\"),\"\")","v":0},{"$f":"IFERROR(SUMIFS(A:A,C:C,ax_data_rollup[[#This Row],[Year]],B:B,ax_data_rollup[[#This Row],[Week]],I:I,\"112-FILSN2\"),\"\")","v":0},{"$f":"IFERROR(SUMIFS(A:A,C:C,ax_data_rollup[[#This Row],[Year]],B:B,ax_data_rollup[[#This Row],[Week]],I:I,\"113-FILSN3\"),\"\")","v":0},{"$f":"ABS(SUMIFS(U:U,C:C,ax_data_rollup[[#This Row],[Year]],B:B,ax_data_rollup[[#This Row],[Week]],I:I,\"111-FILSN1\"))","v":0},{"$f":"ABS(SUMIFS(U:U,C:C,ax_data_rollup[[#This Row],[Year]],B:B,ax_data_rollup[[#This Row],[Week]],I:I,\"112-FILSN2\"))","v":0},{"$f":"ABS(SUMIFS(U:U,C:C,ax_data_rollup[[#This Row],[Year]],B:B,ax_data_rollup[[#This Row],[Week]],I:I,\"113-FILSN3\"))","v":0}]
[{"$f":"IF(ISNUMBER(U66)=TRUE,VLOOKUP(vlookup_data[[#This Row],[style '#]],[2]Sheet1!$A:$D,4,0)*ABS(U66),0)","v":0},{"$f":"WEEKNUM(vlookup_data[[#This Row],[Column8]],2)","v":1},{"$f":"YEAR(vlookup_data[[#This Row],[Column8]])","v":1900},{"$f":"VALUE(G66)","v":0},{"$f":"CONCATENATE(vlookup_data[[#This Row],[style '#]],\"|\",R66)","v":"0|"},null,null,null,null,null,null,null,null,null,null,null,null,null,null,null,null,null,null,null,null,null,12,2017,{"$f":"IFERROR(SUMIFS(A:A,C:C,ax_data_rollup[[#This Row],[Year]],B:B,ax_data_rollup[[#This Row],[Week]],I:I,\"111-FILSN1\"),\"\")","v":0},{"$f":"IFERROR(SUMIFS(A:A,C:C,ax_data_rollup[[#This Row],[Year]],B:B,ax_data_rollup[[#This Row],[Week]],I:I,\"112-FILSN2\"),\"\")","v":0},{"$f":"IFERROR(SUMIFS(A:A,C:C,ax_data_rollup[[#This Row],[Year]],B:B,ax_data_rollup[[#This Row],[Week]],I:I,\"113-FILSN3\"),\"\")","v":0},{"$f":"ABS(SUMIFS(U:U,C:C,ax_data_rollup[[#This Row],[Year]],B:B,ax_data_rollup[[#This Row],[Week]],I:I,\"111-FILSN1\"))","v":0},{"$f":"ABS(SUMIFS(U:U,C:C,ax_data_rollup[[#This Row],[Year]],B:B,ax_data_rollup[[#This Row],[Week]],I:I,\"112-FILSN2\"))","v":0},{"$f":"ABS(SUMIFS(U:U,C:C,ax_data_rollup[[#This Row],[Year]],B:B,ax_data_rollup[[#This Row],[Week]],I:I,\"113-FILSN3\"))","v":0}]
[{"$f":"IF(ISNUMBER(U67)=TRUE,VLOOKUP(vlookup_data[[#This Row],[style '#]],[2]Sheet1!$A:$D,4,0)*ABS(U67),0)","v":0},{"$f":"WEEKNUM(vlookup_data[[#This Row],[Column8]],2)","v":1},{"$f":"YEAR(vlookup_data[[#This Row],[Column8]])","v":1900},0,{"$f":"CONCATENATE(vlookup_data[[#This Row],[style '#]],\"|\",R67)","v":"0|"},null,null,null,null,null,null,null,null,null,null,null,null,null,null,null,null,null,null,null,null,null,13,2017,{"$f":"IFERROR(SUMIFS(A:A,C:C,ax_data_rollup[[#This Row],[Year]],B:B,ax_data_rollup[[#This Row],[Week]],I:I,\"111-FILSN1\"),\"\")","v":0},{"$f":"IFERROR(SUMIFS(A:A,C:C,ax_data_rollup[[#This Row],[Year]],B:B,ax_data_rollup[[#This Row],[Week]],I:I,\"112-FILSN2\"),\"\")","v":0},{"$f":"IFERROR(SUMIFS(A:A,C:C,ax_data_rollup[[#This Row],[Year]],B:B,ax_data_rollup[[#This Row],[Week]],I:I,\"113-FILSN3\"),\"\")","v":0},{"$f":"ABS(SUMIFS(U:U,C:C,ax_data_rollup[[#This Row],[Year]],B:B,ax_data_rollup[[#This Row],[Week]],I:I,\"111-FILSN1\"))","v":0},{"$f":"ABS(SUMIFS(U:U,C:C,ax_data_rollup[[#This Row],[Year]],B:B,ax_data_rollup[[#This Row],[Week]],I:I,\"112-FILSN2\"))","v":0},{"$f":"ABS(SUMIFS(U:U,C:C,ax_data_rollup[[#This Row],[Year]],B:B,ax_data_rollup[[#This Row],[Week]],I:I,\"113-FILSN3\"))","v":0}]
[{"$f":"IF(ISNUMBER(U68)=TRUE,VLOOKUP(vlookup_data[[#This Row],[style '#]],[2]Sheet1!$A:$D,4,0)*ABS(U68),0)","v":0},{"$f":"WEEKNUM(vlookup_data[[#This Row],[Column8]],2)","v":1},{"$f":"YEAR(vlookup_data[[#This Row],[Column8]])","v":1900},0,{"$f":"CONCATENATE(vlookup_data[[#This Row],[style '#]],\"|\",R68)","v":"0|"},null,null,null,null,null,null,null,null,null,null,null,null,null,null,null,null,null,null,null,null,null,14,2017,{"$f":"IFERROR(SUMIFS(A:A,C:C,ax_data_rollup[[#This Row],[Year]],B:B,ax_data_rollup[[#This Row],[Week]],I:I,\"111-FILSN1\"),\"\")","v":0},{"$f":"IFERROR(SUMIFS(A:A,C:C,ax_data_rollup[[#This Row],[Year]],B:B,ax_data_rollup[[#This Row],[Week]],I:I,\"112-FILSN2\"),\"\")","v":0},{"$f":"IFERROR(SUMIFS(A:A,C:C,ax_data_rollup[[#This Row],[Year]],B:B,ax_data_rollup[[#This Row],[Week]],I:I,\"113-FILSN3\"),\"\")","v":0},{"$f":"ABS(SUMIFS(U:U,C:C,ax_data_rollup[[#This Row],[Year]],B:B,ax_data_rollup[[#This Row],[Week]],I:I,\"111-FILSN1\"))","v":0},{"$f":"ABS(SUMIFS(U:U,C:C,ax_data_rollup[[#This Row],[Year]],B:B,ax_data_rollup[[#This Row],[Week]],I:I,\"112-FILSN2\"))","v":0},{"$f":"ABS(SUMIFS(U:U,C:C,ax_data_rollup[[#This Row],[Year]],B:B,ax_data_rollup[[#This Row],[Week]],I:I,\"113-FILSN3\"))","v":0}]
[{"$f":"IF(ISNUMBER(U69)=TRUE,VLOOKUP(vlookup_data[[#This Row],[style '#]],[2]Sheet1!$A:$D,4,0)*ABS(U69),0)","v":0},{"$f":"WEEKNUM(vlookup_data[[#This Row],[Column8]],2)","v":1},{"$f":"YEAR(vlookup_data[[#This Row],[Column8]])","v":1900},0,{"$f":"CONCATENATE(vlookup_data[[#This Row],[style '#]],\"|\",R69)","v":"0|"},null,null,null,null,null,null,null,null,null,null,null,null,null,null,null,null,null,null,null,null,null,15,2017,{"$f":"IFERROR(SUMIFS(A:A,C:C,ax_data_rollup[[#This Row],[Year]],B:B,ax_data_rollup[[#This Row],[Week]],I:I,\"111-FILSN1\"),\"\")","v":0},{"$f":"IFERROR(SUMIFS(A:A,C:C,ax_data_rollup[[#This Row],[Year]],B:B,ax_data_rollup[[#This Row],[Week]],I:I,\"112-FILSN2\"),\"\")","v":0},{"$f":"IFERROR(SUMIFS(A:A,C:C,ax_data_rollup[[#This Row],[Year]],B:B,ax_data_rollup[[#This Row],[Week]],I:I,\"113-FILSN3\"),\"\")","v":0},{"$f":"ABS(SUMIFS(U:U,C:C,ax_data_rollup[[#This Row],[Year]],B:B,ax_data_rollup[[#This Row],[Week]],I:I,\"111-FILSN1\"))","v":0},{"$f":"ABS(SUMIFS(U:U,C:C,ax_data_rollup[[#This Row],[Year]],B:B,ax_data_rollup[[#This Row],[Week]],I:I,\"112-FILSN2\"))","v":0},{"$f":"ABS(SUMIFS(U:U,C:C,ax_data_rollup[[#This Row],[Year]],B:B,ax_data_rollup[[#This Row],[Week]],I:I,\"113-FILSN3\"))","v":0}]
[{"$f":"IF(ISNUMBER(U70)=TRUE,VLOOKUP(vlookup_data[[#This Row],[style '#]],[2]Sheet1!$A:$D,4,0)*ABS(U70),0)","v":0},{"$f":"WEEKNUM(vlookup_data[[#This Row],[Column8]],2)","v":1},{"$f":"YEAR(vlookup_data[[#This Row],[Column8]])","v":1900},0,{"$f":"CONCATENATE(vlookup_data[[#This Row],[style '#]],\"|\",R70)","v":"0|"},null,null,null,null,null,null,null,null,null,null,null,null,null,null,null,null,null,null,null,null,null,16,2017,{"$f":"IFERROR(SUMIFS(A:A,C:C,ax_data_rollup[[#This Row],[Year]],B:B,ax_data_rollup[[#This Row],[Week]],I:I,\"111-FILSN1\"),\"\")","v":0},{"$f":"IFERROR(SUMIFS(A:A,C:C,ax_data_rollup[[#This Row],[Year]],B:B,ax_data_rollup[[#This Row],[Week]],I:I,\"112-FILSN2\"),\"\")","v":0},{"$f":"IFERROR(SUMIFS(A:A,C:C,ax_data_rollup[[#This Row],[Year]],B:B,ax_data_rollup[[#This Row],[Week]],I:I,\"113-FILSN3\"),\"\")","v":0},{"$f":"ABS(SUMIFS(U:U,C:C,ax_data_rollup[[#This Row],[Year]],B:B,ax_data_rollup[[#This Row],[Week]],I:I,\"111-FILSN1\"))","v":0},{"$f":"ABS(SUMIFS(U:U,C:C,ax_data_rollup[[#This Row],[Year]],B:B,ax_data_rollup[[#This Row],[Week]],I:I,\"112-FILSN2\"))","v":0},{"$f":"ABS(SUMIFS(U:U,C:C,ax_data_rollup[[#This Row],[Year]],B:B,ax_data_rollup[[#This Row],[Week]],I:I,\"113-FILSN3\"))","v":0}]
[{"$f":"IF(ISNUMBER(U71)=TRUE,VLOOKUP(vlookup_data[[#This Row],[style '#]],[2]Sheet1!$A:$D,4,0)*ABS(U71),0)","v":0},{"$f":"WEEKNUM(vlookup_data[[#This Row],[Column8]],2)","v":1},{"$f":"YEAR(vlookup_data[[#This Row],[Column8]])","v":1900},0,{"$f":"CONCATENATE(vlookup_data[[#This Row],[style '#]],\"|\",R71)","v":"0|"},null,null,null,null,null,null,null,null,null,null,null,null,null,null,null,null,null,null,null,null,null,17,2017,{"$f":"IFERROR(SUMIFS(A:A,C:C,ax_data_rollup[[#This Row],[Year]],B:B,ax_data_rollup[[#This Row],[Week]],I:I,\"111-FILSN1\"),\"\")","v":0},{"$f":"IFERROR(SUMIFS(A:A,C:C,ax_data_rollup[[#This Row],[Year]],B:B,ax_data_rollup[[#This Row],[Week]],I:I,\"112-FILSN2\"),\"\")","v":0},{"$f":"IFERROR(SUMIFS(A:A,C:C,ax_data_rollup[[#This Row],[Year]],B:B,ax_data_rollup[[#This Row],[Week]],I:I,\"113-FILSN3\"),\"\")","v":0},{"$f":"ABS(SUMIFS(U:U,C:C,ax_data_rollup[[#This Row],[Year]],B:B,ax_data_rollup[[#This Row],[Week]],I:I,\"111-FILSN1\"))","v":0},{"$f":"ABS(SUMIFS(U:U,C:C,ax_data_rollup[[#This Row],[Year]],B:B,ax_data_rollup[[#This Row],[Week]],I:I,\"112-FILSN2\"))","v":0},{"$f":"ABS(SUMIFS(U:U,C:C,ax_data_rollup[[#This Row],[Year]],B:B,ax_data_rollup[[#This Row],[Week]],I:I,\"113-FILSN3\"))","v":0}]
[{"$f":"IF(ISNUMBER(U72)=TRUE,VLOOKUP(vlookup_data[[#This Row],[style '#]],[2]Sheet1!$A:$D,4,0)*ABS(U72),0)","v":0},{"$f":"WEEKNUM(vlookup_data[[#This Row],[Column8]],2)","v":1},{"$f":"YEAR(vlookup_data[[#This Row],[Column8]])","v":1900},0,{"$f":"CONCATENATE(vlookup_data[[#This Row],[style '#]],\"|\",R72)","v":"0|"},null,null,null,null,null,null,null,null,null,null,null,null,null,null,null,null,null,null,null,null,null,18,2017,{"$f":"IFERROR(SUMIFS(A:A,C:C,ax_data_rollup[[#This Row],[Year]],B:B,ax_data_rollup[[#This Row],[Week]],I:I,\"111-FILSN1\"),\"\")","v":0},{"$f":"IFERROR(SUMIFS(A:A,C:C,ax_data_rollup[[#This Row],[Year]],B:B,ax_data_rollup[[#This Row],[Week]],I:I,\"112-FILSN2\"),\"\")","v":0},{"$f":"IFERROR(SUMIFS(A:A,C:C,ax_data_rollup[[#This Row],[Year]],B:B,ax_data_rollup[[#This Row],[Week]],I:I,\"113-FILSN3\"),\"\")","v":0},{"$f":"ABS(SUMIFS(U:U,C:C,ax_data_rollup[[#This Row],[Year]],B:B,ax_data_rollup[[#This Row],[Week]],I:I,\"111-FILSN1\"))","v":0},{"$f":"ABS(SUMIFS(U:U,C:C,ax_data_rollup[[#This Row],[Year]],B:B,ax_data_rollup[[#This Row],[Week]],I:I,\"112-FILSN2\"))","v":0},{"$f":"ABS(SUMIFS(U:U,C:C,ax_data_rollup[[#This Row],[Year]],B:B,ax_data_rollup[[#This Row],[Week]],I:I,\"113-FILSN3\"))","v":0}]
[{"$f":"IF(ISNUMBER(U73)=TRUE,VLOOKUP(vlookup_data[[#This Row],[style '#]],[2]Sheet1!$A:$D,4,0)*ABS(U73),0)","v":0},{"$f":"WEEKNUM(vlookup_data[[#This Row],[Column8]],2)","v":1},{"$f":"YEAR(vlookup_data[[#This Row],[Column8]])","v":1900},0,{"$f":"CONCATENATE(vlookup_data[[#This Row],[style '#]],\"|\",R73)","v":"0|"},null,null,null,null,null,null,null,null,null,null,null,null,null,null,null,null,null,null,null,null,null,19,2017,{"$f":"IFERROR(SUMIFS(A:A,C:C,ax_data_rollup[[#This Row],[Year]],B:B,ax_data_rollup[[#This Row],[Week]],I:I,\"111-FILSN1\"),\"\")","v":0},{"$f":"IFERROR(SUMIFS(A:A,C:C,ax_data_rollup[[#This Row],[Year]],B:B,ax_data_rollup[[#This Row],[Week]],I:I,\"112-FILSN2\"),\"\")","v":0},{"$f":"IFERROR(SUMIFS(A:A,C:C,ax_data_rollup[[#This Row],[Year]],B:B,ax_data_rollup[[#This Row],[Week]],I:I,\"113-FILSN3\"),\"\")","v":0},{"$f":"ABS(SUMIFS(U:U,C:C,ax_data_rollup[[#This Row],[Year]],B:B,ax_data_rollup[[#This Row],[Week]],I:I,\"111-FILSN1\"))","v":0},{"$f":"ABS(SUMIFS(U:U,C:C,ax_data_rollup[[#This Row],[Year]],B:B,ax_data_rollup[[#This Row],[Week]],I:I,\"112-FILSN2\"))","v":0},{"$f":"ABS(SUMIFS(U:U,C:C,ax_data_rollup[[#This Row],[Year]],B:B,ax_data_rollup[[#This Row],[Week]],I:I,\"113-FILSN3\"))","v":0}]
[{"$f":"IF(ISNUMBER(U74)=TRUE,VLOOKUP(vlookup_data[[#This Row],[style '#]],[2]Sheet1!$A:$D,4,0)*ABS(U74),0)","v":0},{"$f":"WEEKNUM(vlookup_data[[#This Row],[Column8]],2)","v":1},{"$f":"YEAR(vlookup_data[[#This Row],[Column8]])","v":1900},0,{"$f":"CONCATENATE(vlookup_data[[#This Row],[style '#]],\"|\",R74)","v":"0|"},null,null,null,null,null,null,null,null,null,null,null,null,null,null,null,null,null,null,null,null,null,20,2017,{"$f":"IFERROR(SUMIFS(A:A,C:C,ax_data_rollup[[#This Row],[Year]],B:B,ax_data_rollup[[#This Row],[Week]],I:I,\"111-FILSN1\"),\"\")","v":0},{"$f":"IFERROR(SUMIFS(A:A,C:C,ax_data_rollup[[#This Row],[Year]],B:B,ax_data_rollup[[#This Row],[Week]],I:I,\"112-FILSN2\"),\"\")","v":0},{"$f":"IFERROR(SUMIFS(A:A,C:C,ax_data_rollup[[#This Row],[Year]],B:B,ax_data_rollup[[#This Row],[Week]],I:I,\"113-FILSN3\"),\"\")","v":0},{"$f":"ABS(SUMIFS(U:U,C:C,ax_data_rollup[[#This Row],[Year]],B:B,ax_data_rollup[[#This Row],[Week]],I:I,\"111-FILSN1\"))","v":0},{"$f":"ABS(SUMIFS(U:U,C:C,ax_data_rollup[[#This Row],[Year]],B:B,ax_data_rollup[[#This Row],[Week]],I:I,\"112-FILSN2\"))","v":0},{"$f":"ABS(SUMIFS(U:U,C:C,ax_data_rollup[[#This Row],[Year]],B:B,ax_data_rollup[[#This Row],[Week]],I:I,\"113-FILSN3\"))","v":0}]
[{"$f":"IF(ISNUMBER(U75)=TRUE,VLOOKUP(vlookup_data[[#This Row],[style '#]],[2]Sheet1!$A:$D,4,0)*ABS(U75),0)","v":0},{"$f":"WEEKNUM(vlookup_data[[#This Row],[Column8]],2)","v":1},{"$f":"YEAR(vlookup_data[[#This Row],[Column8]])","v":1900},0,{"$f":"CONCATENATE(vlookup_data[[#This Row],[style '#]],\"|\",R75)","v":"0|"},null,null,null,null,null,null,null,null,null,null,null,null,null,null,null,null,null,null,null,null,null,21,2017,{"$f":"IFERROR(SUMIFS(A:A,C:C,ax_data_rollup[[#This Row],[Year]],B:B,ax_data_rollup[[#This Row],[Week]],I:I,\"111-FILSN1\"),\"\")","v":0},{"$f":"IFERROR(SUMIFS(A:A,C:C,ax_data_rollup[[#This Row],[Year]],B:B,ax_data_rollup[[#This Row],[Week]],I:I,\"112-FILSN2\"),\"\")","v":0},{"$f":"IFERROR(SUMIFS(A:A,C:C,ax_data_rollup[[#This Row],[Year]],B:B,ax_data_rollup[[#This Row],[Week]],I:I,\"113-FILSN3\"),\"\")","v":0},{"$f":"ABS(SUMIFS(U:U,C:C,ax_data_rollup[[#This Row],[Year]],B:B,ax_data_rollup[[#This Row],[Week]],I:I,\"111-FILSN1\"))","v":0},{"$f":"ABS(SUMIFS(U:U,C:C,ax_data_rollup[[#This Row],[Year]],B:B,ax_data_rollup[[#This Row],[Week]],I:I,\"112-FILSN2\"))","v":0},{"$f":"ABS(SUMIFS(U:U,C:C,ax_data_rollup[[#This Row],[Year]],B:B,ax_data_rollup[[#This Row],[Week]],I:I,\"113-FILSN3\"))","v":0}]
[{"$f":"IF(ISNUMBER(U76)=TRUE,VLOOKUP(vlookup_data[[#This Row],[style '#]],[2]Sheet1!$A:$D,4,0)*ABS(U76),0)","v":0},{"$f":"WEEKNUM(vlookup_data[[#This Row],[Column8]],2)","v":1},{"$f":"YEAR(vlookup_data[[#This Row],[Column8]])","v":1900},0,{"$f":"CONCATENATE(vlookup_data[[#This Row],[style '#]],\"|\",R76)","v":"0|"},null,null,null,null,null,null,null,null,null,null,null,null,null,null,null,null,null,null,null,null,null,22,2017,{"$f":"IFERROR(SUMIFS(A:A,C:C,ax_data_rollup[[#This Row],[Year]],B:B,ax_data_rollup[[#This Row],[Week]],I:I,\"111-FILSN1\"),\"\")","v":0},{"$f":"IFERROR(SUMIFS(A:A,C:C,ax_data_rollup[[#This Row],[Year]],B:B,ax_data_rollup[[#This Row],[Week]],I:I,\"112-FILSN2\"),\"\")","v":0},{"$f":"IFERROR(SUMIFS(A:A,C:C,ax_data_rollup[[#This Row],[Year]],B:B,ax_data_rollup[[#This Row],[Week]],I:I,\"113-FILSN3\"),\"\")","v":0},{"$f":"ABS(SUMIFS(U:U,C:C,ax_data_rollup[[#This Row],[Year]],B:B,ax_data_rollup[[#This Row],[Week]],I:I,\"111-FILSN1\"))","v":0},{"$f":"ABS(SUMIFS(U:U,C:C,ax_data_rollup[[#This Row],[Year]],B:B,ax_data_rollup[[#This Row],[Week]],I:I,\"112-FILSN2\"))","v":0},{"$f":"ABS(SUMIFS(U:U,C:C,ax_data_rollup[[#This Row],[Year]],B:B,ax_data_rollup[[#This Row],[Week]],I:I,\"113-FILSN3\"))","v":0}]
[{"$f":"IF(ISNUMBER(U77)=TRUE,VLOOKUP(vlookup_data[[#This Row],[style '#]],[2]Sheet1!$A:$D,4,0)*ABS(U77),0)","v":0},{"$f":"WEEKNUM(vlookup_data[[#This Row],[Column8]],2)","v":1},{"$f":"YEAR(vlookup_data[[#This Row],[Column8]])","v":1900},0,{"$f":"CONCATENATE(vlookup_data[[#This Row],[style '#]],\"|\",R77)","v":"0|"},null,null,null,null,null,null,null,null,null,null,null,null,null,null,null,null,null,null,null,null,null,23,2017,{"$f":"IFERROR(SUMIFS(A:A,C:C,ax_data_rollup[[#This Row],[Year]],B:B,ax_data_rollup[[#This Row],[Week]],I:I,\"111-FILSN1\"),\"\")","v":0},{"$f":"IFERROR(SUMIFS(A:A,C:C,ax_data_rollup[[#This Row],[Year]],B:B,ax_data_rollup[[#This Row],[Week]],I:I,\"112-FILSN2\"),\"\")","v":0},{"$f":"IFERROR(SUMIFS(A:A,C:C,ax_data_rollup[[#This Row],[Year]],B:B,ax_data_rollup[[#This Row],[Week]],I:I,\"113-FILSN3\"),\"\")","v":0},{"$f":"ABS(SUMIFS(U:U,C:C,ax_data_rollup[[#This Row],[Year]],B:B,ax_data_rollup[[#This Row],[Week]],I:I,\"111-FILSN1\"))","v":0},{"$f":"ABS(SUMIFS(U:U,C:C,ax_data_rollup[[#This Row],[Year]],B:B,ax_data_rollup[[#This Row],[Week]],I:I,\"112-FILSN2\"))","v":0},{"$f":"ABS(SUMIFS(U:U,C:C,ax_data_rollup[[#This Row],[Year]],B:B,ax_data_rollup[[#This Row],[Week]],I:I,\"113-FILSN3\"))","v":0}]
[{"$f":"IF(ISNUMBER(U78)=TRUE,VLOOKUP(vlookup_data[[#This Row],[style '#]],[2]Sheet1!$A:$D,4,0)*ABS(U78),0)","v":0},{"$f":"WEEKNUM(vlookup_data[[#This Row],[Column8]],2)","v":1},{"$f":"YEAR(vlookup_data[[#This Row],[Column8]])","v":1900},0,{"$f":"CONCATENATE(vlookup_data[[#This Row],[style '#]],\"|\",R78)","v":"0|"},null,null,null,null,null,null,null,null,null,null,null,null,null,null,null,null,null,null,null,null,null,24,2017,{"$f":"IFERROR(SUMIFS(A:A,C:C,ax_data_rollup[[#This Row],[Year]],B:B,ax_data_rollup[[#This Row],[Week]],I:I,\"111-FILSN1\"),\"\")","v":0},{"$f":"IFERROR(SUMIFS(A:A,C:C,ax_data_rollup[[#This Row],[Year]],B:B,ax_data_rollup[[#This Row],[Week]],I:I,\"112-FILSN2\"),\"\")","v":0},{"$f":"IFERROR(SUMIFS(A:A,C:C,ax_data_rollup[[#This Row],[Year]],B:B,ax_data_rollup[[#This Row],[Week]],I:I,\"113-FILSN3\"),\"\")","v":0},{"$f":"ABS(SUMIFS(U:U,C:C,ax_data_rollup[[#This Row],[Year]],B:B,ax_data_rollup[[#This Row],[Week]],I:I,\"111-FILSN1\"))","v":0},{"$f":"ABS(SUMIFS(U:U,C:C,ax_data_rollup[[#This Row],[Year]],B:B,ax_data_rollup[[#This Row],[Week]],I:I,\"112-FILSN2\"))","v":0},{"$f":"ABS(SUMIFS(U:U,C:C,ax_data_rollup[[#This Row],[Year]],B:B,ax_data_rollup[[#This Row],[Week]],I:I,\"113-FILSN3\"))","v":0}]
[{"$f":"IF(ISNUMBER(U79)=TRUE,VLOOKUP(vlookup_data[[#This Row],[style '#]],[2]Sheet1!$A:$D,4,0)*ABS(U79),0)","v":0},{"$f":"WEEKNUM(vlookup_data[[#This Row],[Column8]],2)","v":1},{"$f":"YEAR(vlookup_data[[#This Row],[Column8]])","v":1900},0,{"$f":"CONCATENATE(vlookup_data[[#This Row],[style '#]],\"|\",R79)","v":"0|"},null,null,null,null,null,null,null,null,null,null,null,null,null,null,null,null,null,null,null,null,null,25,2017,{"$f":"IFERROR(SUMIFS(A:A,C:C,ax_data_rollup[[#This Row],[Year]],B:B,ax_data_rollup[[#This Row],[Week]],I:I,\"111-FILSN1\"),\"\")","v":0},{"$f":"IFERROR(SUMIFS(A:A,C:C,ax_data_rollup[[#This Row],[Year]],B:B,ax_data_rollup[[#This Row],[Week]],I:I,\"112-FILSN2\"),\"\")","v":0},{"$f":"IFERROR(SUMIFS(A:A,C:C,ax_data_rollup[[#This Row],[Year]],B:B,ax_data_rollup[[#This Row],[Week]],I:I,\"113-FILSN3\"),\"\")","v":0},{"$f":"ABS(SUMIFS(U:U,C:C,ax_data_rollup[[#This Row],[Year]],B:B,ax_data_rollup[[#This Row],[Week]],I:I,\"111-FILSN1\"))","v":0},{"$f":"ABS(SUMIFS(U:U,C:C,ax_data_rollup[[#This Row],[Year]],B:B,ax_data_rollup[[#This Row],[Week]],I:I,\"112-FILSN2\"))","v":0},{"$f":"ABS(SUMIFS(U:U,C:C,ax_data_rollup[[#This Row],[Year]],B:B,ax_data_rollup[[#This Row],[Week]],I:I,\"113-FILSN3\"))","v":0}]
[{"$f":"IF(ISNUMBER(U80)=TRUE,VLOOKUP(vlookup_data[[#This Row],[style '#]],[2]Sheet1!$A:$D,4,0)*ABS(U80),0)","v":0},{"$f":"WEEKNUM(vlookup_data[[#This Row],[Column8]],2)","v":1},{"$f":"YEAR(vlookup_data[[#This Row],[Column8]])","v":1900},0,{"$f":"CONCATENATE(vlookup_data[[#This Row],[style '#]],\"|\",R80)","v":"0|"},null,null,null,null,null,null,null,null,null,null,null,null,null,null,null,null,null,null,null,null,null,26,2017,{"$f":"IFERROR(SUMIFS(A:A,C:C,ax_data_rollup[[#This Row],[Year]],B:B,ax_data_rollup[[#This Row],[Week]],I:I,\"111-FILSN1\"),\"\")","v":0},{"$f":"IFERROR(SUMIFS(A:A,C:C,ax_data_rollup[[#This Row],[Year]],B:B,ax_data_rollup[[#This Row],[Week]],I:I,\"112-FILSN2\"),\"\")","v":0},{"$f":"IFERROR(SUMIFS(A:A,C:C,ax_data_rollup[[#This Row],[Year]],B:B,ax_data_rollup[[#This Row],[Week]],I:I,\"113-FILSN3\"),\"\")","v":0},{"$f":"ABS(SUMIFS(U:U,C:C,ax_data_rollup[[#This Row],[Year]],B:B,ax_data_rollup[[#This Row],[Week]],I:I,\"111-FILSN1\"))","v":0},{"$f":"ABS(SUMIFS(U:U,C:C,ax_data_rollup[[#This Row],[Year]],B:B,ax_data_rollup[[#This Row],[Week]],I:I,\"112-FILSN2\"))","v":0},{"$f":"ABS(SUMIFS(U:U,C:C,ax_data_rollup[[#This Row],[Year]],B:B,ax_data_rollup[[#This Row],[Week]],I:I,\"113-FILSN3\"))","v":0}]
[{"$f":"IF(ISNUMBER(U81)=TRUE,VLOOKUP(vlookup_data[[#This Row],[style '#]],[2]Sheet1!$A:$D,4,0)*ABS(U81),0)","v":0},{"$f":"WEEKNUM(vlookup_data[[#This Row],[Column8]],2)","v":1},{"$f":"YEAR(vlookup_data[[#This Row],[Column8]])","v":1900},0,{"$f":"CONCATENATE(vlookup_data[[#This Row],[style '#]],\"|\",R81)","v":"0|"},null,null,null,null,null,null,null,null,null,null,null,null,null,null,null,null,null,null,null,null,null,27,2017,{"$f":"IFERROR(SUMIFS(A:A,C:C,ax_data_rollup[[#This Row],[Year]],B:B,ax_data_rollup[[#This Row],[Week]],I:I,\"111-FILSN1\"),\"\")","v":0},{"$f":"IFERROR(SUMIFS(A:A,C:C,ax_data_rollup[[#This Row],[Year]],B:B,ax_data_rollup[[#This Row],[Week]],I:I,\"112-FILSN2\"),\"\")","v":0},{"$f":"IFERROR(SUMIFS(A:A,C:C,ax_data_rollup[[#This Row],[Year]],B:B,ax_data_rollup[[#This Row],[Week]],I:I,\"113-FILSN3\"),\"\")","v":0},{"$f":"ABS(SUMIFS(U:U,C:C,ax_data_rollup[[#This Row],[Year]],B:B,ax_data_rollup[[#This Row],[Week]],I:I,\"111-FILSN1\"))","v":0},{"$f":"ABS(SUMIFS(U:U,C:C,ax_data_rollup[[#This Row],[Year]],B:B,ax_data_rollup[[#This Row],[Week]],I:I,\"112-FILSN2\"))","v":0},{"$f":"ABS(SUMIFS(U:U,C:C,ax_data_rollup[[#This Row],[Year]],B:B,ax_data_rollup[[#This Row],[Week]],I:I,\"113-FILSN3\"))","v":0}]
[{"$f":"IF(ISNUMBER(U82)=TRUE,VLOOKUP(vlookup_data[[#This Row],[style '#]],[2]Sheet1!$A:$D,4,0)*ABS(U82),0)","v":0},{"$f":"WEEKNUM(vlookup_data[[#This Row],[Column8]],2)","v":1},{"$f":"YEAR(vlookup_data[[#This Row],[Column8]])","v":1900},0,{"$f":"CONCATENATE(vlookup_data[[#This Row],[style '#]],\"|\",R82)","v":"0|"},null,null,null,null,null,null,null,null,null,null,null,null,null,null,null,null,null,null,null,null,null,28,2017,{"$f":"IFERROR(SUMIFS(A:A,C:C,ax_data_rollup[[#This Row],[Year]],B:B,ax_data_rollup[[#This Row],[Week]],I:I,\"111-FILSN1\"),\"\")","v":0},{"$f":"IFERROR(SUMIFS(A:A,C:C,ax_data_rollup[[#This Row],[Year]],B:B,ax_data_rollup[[#This Row],[Week]],I:I,\"112-FILSN2\"),\"\")","v":0},{"$f":"IFERROR(SUMIFS(A:A,C:C,ax_data_rollup[[#This Row],[Year]],B:B,ax_data_rollup[[#This Row],[Week]],I:I,\"113-FILSN3\"),\"\")","v":0},{"$f":"ABS(SUMIFS(U:U,C:C,ax_data_rollup[[#This Row],[Year]],B:B,ax_data_rollup[[#This Row],[Week]],I:I,\"111-FILSN1\"))","v":0},{"$f":"ABS(SUMIFS(U:U,C:C,ax_data_rollup[[#This Row],[Year]],B:B,ax_data_rollup[[#This Row],[Week]],I:I,\"112-FILSN2\"))","v":0},{"$f":"ABS(SUMIFS(U:U,C:C,ax_data_rollup[[#This Row],[Year]],B:B,ax_data_rollup[[#This Row],[Week]],I:I,\"113-FILSN3\"))","v":0}]
[{"$f":"IF(ISNUMBER(U83)=TRUE,VLOOKUP(vlookup_data[[#This Row],[style '#]],[2]Sheet1!$A:$D,4,0)*ABS(U83),0)","v":0},{"$f":"WEEKNUM(vlookup_data[[#This Row],[Column8]],2)","v":1},{"$f":"YEAR(vlookup_data[[#This Row],[Column8]])","v":1900},0,{"$f":"CONCATENATE(vlookup_data[[#This Row],[style '#]],\"|\",R83)","v":"0|"},null,null,null,null,null,null,null,null,null,null,null,null,null,null,null,null,null,null,null,null,null,29,2017,{"$f":"IFERROR(SUMIFS(A:A,C:C,ax_data_rollup[[#This Row],[Year]],B:B,ax_data_rollup[[#This Row],[Week]],I:I,\"111-FILSN1\"),\"\")","v":0},{"$f":"IFERROR(SUMIFS(A:A,C:C,ax_data_rollup[[#This Row],[Year]],B:B,ax_data_rollup[[#This Row],[Week]],I:I,\"112-FILSN2\"),\"\")","v":0},{"$f":"IFERROR(SUMIFS(A:A,C:C,ax_data_rollup[[#This Row],[Year]],B:B,ax_data_rollup[[#This Row],[Week]],I:I,\"113-FILSN3\"),\"\")","v":0},{"$f":"ABS(SUMIFS(U:U,C:C,ax_data_rollup[[#This Row],[Year]],B:B,ax_data_rollup[[#This Row],[Week]],I:I,\"111-FILSN1\"))","v":0},{"$f":"ABS(SUMIFS(U:U,C:C,ax_data_rollup[[#This Row],[Year]],B:B,ax_data_rollup[[#This Row],[Week]],I:I,\"112-FILSN2\"))","v":0},{"$f":"ABS(SUMIFS(U:U,C:C,ax_data_rollup[[#This Row],[Year]],B:B,ax_data_rollup[[#This Row],[Week]],I:I,\"113-FILSN3\"))","v":0}]
[{"$f":"IF(ISNUMBER(U84)=TRUE,VLOOKUP(vlookup_data[[#This Row],[style '#]],[2]Sheet1!$A:$D,4,0)*ABS(U84),0)","v":0},{"$f":"WEEKNUM(vlookup_data[[#This Row],[Column8]],2)","v":1},{"$f":"YEAR(vlookup_data[[#This Row],[Column8]])","v":1900},0,{"$f":"CONCATENATE(vlookup_data[[#This Row],[style '#]],\"|\",R84)","v":"0|"},null,null,null,null,null,null,null,null,null,null,null,null,null,null,null,null,null,null,null,null,null,30,2017,{"$f":"IFERROR(SUMIFS(A:A,C:C,ax_data_rollup[[#This Row],[Year]],B:B,ax_data_rollup[[#This Row],[Week]],I:I,\"111-FILSN1\"),\"\")","v":0},{"$f":"IFERROR(SUMIFS(A:A,C:C,ax_data_rollup[[#This Row],[Year]],B:B,ax_data_rollup[[#This Row],[Week]],I:I,\"112-FILSN2\"),\"\")","v":0},{"$f":"IFERROR(SUMIFS(A:A,C:C,ax_data_rollup[[#This Row],[Year]],B:B,ax_data_rollup[[#This Row],[Week]],I:I,\"113-FILSN3\"),\"\")","v":0},{"$f":"ABS(SUMIFS(U:U,C:C,ax_data_rollup[[#This Row],[Year]],B:B,ax_data_rollup[[#This Row],[Week]],I:I,\"111-FILSN1\"))","v":0},{"$f":"ABS(SUMIFS(U:U,C:C,ax_data_rollup[[#This Row],[Year]],B:B,ax_data_rollup[[#This Row],[Week]],I:I,\"112-FILSN2\"))","v":0},{"$f":"ABS(SUMIFS(U:U,C:C,ax_data_rollup[[#This Row],[Year]],B:B,ax_data_rollup[[#This Row],[Week]],I:I,\"113-FILSN3\"))","v":0}]
[{"$f":"IF(ISNUMBER(U85)=TRUE,VLOOKUP(vlookup_data[[#This Row],[style '#]],[2]Sheet1!$A:$D,4,0)*ABS(U85),0)","v":0},{"$f":"WEEKNUM(vlookup_data[[#This Row],[Column8]],2)","v":1},{"$f":"YEAR(vlookup_data[[#This Row],[Column8]])","v":1900},0,{"$f":"CONCATENATE(vlookup_data[[#This Row],[style '#]],\"|\",R85)","v":"0|"},null,null,null,null,null,null,null,null,null,null,null,null,null,null,null,null,null,null,null,null,null,31,2017,{"$f":"IFERROR(SUMIFS(A:A,C:C,ax_data_rollup[[#This Row],[Year]],B:B,ax_data_rollup[[#This Row],[Week]],I:I,\"111-FILSN1\"),\"\")","v":0},{"$f":"IFERROR(SUMIFS(A:A,C:C,ax_data_rollup[[#This Row],[Year]],B:B,ax_data_rollup[[#This Row],[Week]],I:I,\"112-FILSN2\"),\"\")","v":0},{"$f":"IFERROR(SUMIFS(A:A,C:C,ax_data_rollup[[#This Row],[Year]],B:B,ax_data_rollup[[#This Row],[Week]],I:I,\"113-FILSN3\"),\"\")","v":0},{"$f":"ABS(SUMIFS(U:U,C:C,ax_data_rollup[[#This Row],[Year]],B:B,ax_data_rollup[[#This Row],[Week]],I:I,\"111-FILSN1\"))","v":0},{"$f":"ABS(SUMIFS(U:U,C:C,ax_data_rollup[[#This Row],[Year]],B:B,ax_data_rollup[[#This Row],[Week]],I:I,\"112-FILSN2\"))","v":0},{"$f":"ABS(SUMIFS(U:U,C:C,ax_data_rollup[[#This Row],[Year]],B:B,ax_data_rollup[[#This Row],[Week]],I:I,\"113-FILSN3\"))","v":0}]
[{"$f":"IF(ISNUMBER(U86)=TRUE,VLOOKUP(vlookup_data[[#This Row],[style '#]],[2]Sheet1!$A:$D,4,0)*ABS(U86),0)","v":0},{"$f":"WEEKNUM(vlookup_data[[#This Row],[Column8]],2)","v":1},{"$f":"YEAR(vlookup_data[[#This Row],[Column8]])","v":1900},0,{"$f":"CONCATENATE(vlookup_data[[#This Row],[style '#]],\"|\",R86)","v":"0|"},null,null,null,null,null,null,null,null,null,null,null,null,null,null,null,null,null,null,null,null,null,32,2017,{"$f":"IFERROR(SUMIFS(A:A,C:C,ax_data_rollup[[#This Row],[Year]],B:B,ax_data_rollup[[#This Row],[Week]],I:I,\"111-FILSN1\"),\"\")","v":0},{"$f":"IFERROR(SUMIFS(A:A,C:C,ax_data_rollup[[#This Row],[Year]],B:B,ax_data_rollup[[#This Row],[Week]],I:I,\"112-FILSN2\"),\"\")","v":0},{"$f":"IFERROR(SUMIFS(A:A,C:C,ax_data_rollup[[#This Row],[Year]],B:B,ax_data_rollup[[#This Row],[Week]],I:I,\"113-FILSN3\"),\"\")","v":0},{"$f":"ABS(SUMIFS(U:U,C:C,ax_data_rollup[[#This Row],[Year]],B:B,ax_data_rollup[[#This Row],[Week]],I:I,\"111-FILSN1\"))","v":0},{"$f":"ABS(SUMIFS(U:U,C:C,ax_data_rollup[[#This Row],[Year]],B:B,ax_data_rollup[[#This Row],[Week]],I:I,\"112-FILSN2\"))","v":0},{"$f":"ABS(SUMIFS(U:U,C:C,ax_data_rollup[[#This Row],[Year]],B:B,ax_data_rollup[[#This Row],[Week]],I:I,\"113-FILSN3\"))","v":0}]
[{"$f":"IF(ISNUMBER(U87)=TRUE,VLOOKUP(vlookup_data[[#This Row],[style '#]],[2]Sheet1!$A:$D,4,0)*ABS(U87),0)","v":0},{"$f":"WEEKNUM(vlookup_data[[#This Row],[Column8]],2)","v":1},{"$f":"YEAR(vlookup_data[[#This Row],[Column8]])","v":1900},0,{"$f":"CONCATENATE(vlookup_data[[#This Row],[style '#]],\"|\",R87)","v":"0|"},null,null,null,null,null,null,null,null,null,null,null,null,null,null,null,null,null,null,null,null,null,33,2017,{"$f":"IFERROR(SUMIFS(A:A,C:C,ax_data_rollup[[#This Row],[Year]],B:B,ax_data_rollup[[#This Row],[Week]],I:I,\"111-FILSN1\"),\"\")","v":0},{"$f":"IFERROR(SUMIFS(A:A,C:C,ax_data_rollup[[#This Row],[Year]],B:B,ax_data_rollup[[#This Row],[Week]],I:I,\"112-FILSN2\"),\"\")","v":0},{"$f":"IFERROR(SUMIFS(A:A,C:C,ax_data_rollup[[#This Row],[Year]],B:B,ax_data_rollup[[#This Row],[Week]],I:I,\"113-FILSN3\"),\"\")","v":0},{"$f":"ABS(SUMIFS(U:U,C:C,ax_data_rollup[[#This Row],[Year]],B:B,ax_data_rollup[[#This Row],[Week]],I:I,\"111-FILSN1\"))","v":0},{"$f":"ABS(SUMIFS(U:U,C:C,ax_data_rollup[[#This Row],[Year]],B:B,ax_data_rollup[[#This Row],[Week]],I:I,\"112-FILSN2\"))","v":0},{"$f":"ABS(SUMIFS(U:U,C:C,ax_data_rollup[[#This Row],[Year]],B:B,ax_data_rollup[[#This Row],[Week]],I:I,\"113-FILSN3\"))","v":0}]
[{"$f":"IF(ISNUMBER(U88)=TRUE,VLOOKUP(vlookup_data[[#This Row],[style '#]],[2]Sheet1!$A:$D,4,0)*ABS(U88),0)","v":0},{"$f":"WEEKNUM(vlookup_data[[#This Row],[Column8]],2)","v":1},{"$f":"YEAR(vlookup_data[[#This Row],[Column8]])","v":1900},0,{"$f":"CONCATENATE(vlookup_data[[#This Row],[style '#]],\"|\",R88)","v":"0|"},null,null,null,null,null,null,null,null,null,null,null,null,null,null,null,null,null,null,null,null,null,34,2017,{"$f":"IFERROR(SUMIFS(A:A,C:C,ax_data_rollup[[#This Row],[Year]],B:B,ax_data_rollup[[#This Row],[Week]],I:I,\"111-FILSN1\"),\"\")","v":0},{"$f":"IFERROR(SUMIFS(A:A,C:C,ax_data_rollup[[#This Row],[Year]],B:B,ax_data_rollup[[#This Row],[Week]],I:I,\"112-FILSN2\"),\"\")","v":0},{"$f":"IFERROR(SUMIFS(A:A,C:C,ax_data_rollup[[#This Row],[Year]],B:B,ax_data_rollup[[#This Row],[Week]],I:I,\"113-FILSN3\"),\"\")","v":0},{"$f":"ABS(SUMIFS(U:U,C:C,ax_data_rollup[[#This Row],[Year]],B:B,ax_data_rollup[[#This Row],[Week]],I:I,\"111-FILSN1\"))","v":0},{"$f":"ABS(SUMIFS(U:U,C:C,ax_data_rollup[[#This Row],[Year]],B:B,ax_data_rollup[[#This Row],[Week]],I:I,\"112-FILSN2\"))","v":0},{"$f":"ABS(SUMIFS(U:U,C:C,ax_data_rollup[[#This Row],[Year]],B:B,ax_data_rollup[[#This Row],[Week]],I:I,\"113-FILSN3\"))","v":0}]
[{"$f":"IF(ISNUMBER(U89)=TRUE,VLOOKUP(vlookup_data[[#This Row],[style '#]],[2]Sheet1!$A:$D,4,0)*ABS(U89),0)","v":0},{"$f":"WEEKNUM(vlookup_data[[#This Row],[Column8]],2)","v":1},{"$f":"YEAR(vlookup_data[[#This Row],[Column8]])","v":1900},0,{"$f":"CONCATENATE(vlookup_data[[#This Row],[style '#]],\"|\",R89)","v":"0|"},null,null,null,null,null,null,null,null,null,null,null,null,null,null,null,null,null,null,null,null,null,35,2017,{"$f":"IFERROR(SUMIFS(A:A,C:C,ax_data_rollup[[#This Row],[Year]],B:B,ax_data_rollup[[#This Row],[Week]],I:I,\"111-FILSN1\"),\"\")","v":0},{"$f":"IFERROR(SUMIFS(A:A,C:C,ax_data_rollup[[#This Row],[Year]],B:B,ax_data_rollup[[#This Row],[Week]],I:I,\"112-FILSN2\"),\"\")","v":0},{"$f":"IFERROR(SUMIFS(A:A,C:C,ax_data_rollup[[#This Row],[Year]],B:B,ax_data_rollup[[#This Row],[Week]],I:I,\"113-FILSN3\"),\"\")","v":0},{"$f":"ABS(SUMIFS(U:U,C:C,ax_data_rollup[[#This Row],[Year]],B:B,ax_data_rollup[[#This Row],[Week]],I:I,\"111-FILSN1\"))","v":0},{"$f":"ABS(SUMIFS(U:U,C:C,ax_data_rollup[[#This Row],[Year]],B:B,ax_data_rollup[[#This Row],[Week]],I:I,\"112-FILSN2\"))","v":0},{"$f":"ABS(SUMIFS(U:U,C:C,ax_data_rollup[[#This Row],[Year]],B:B,ax_data_rollup[[#This Row],[Week]],I:I,\"113-FILSN3\"))","v":0}]
[{"$f":"IF(ISNUMBER(U90)=TRUE,VLOOKUP(vlookup_data[[#This Row],[style '#]],[2]Sheet1!$A:$D,4,0)*ABS(U90),0)","v":0},{"$f":"WEEKNUM(vlookup_data[[#This Row],[Column8]],2)","v":1},{"$f":"YEAR(vlookup_data[[#This Row],[Column8]])","v":1900},0,{"$f":"CONCATENATE(vlookup_data[[#This Row],[style '#]],\"|\",R90)","v":"0|"},null,null,null,null,null,null,null,null,null,null,null,null,null,null,null,null,null,null,null,null,null,36,2017,{"$f":"IFERROR(SUMIFS(A:A,C:C,ax_data_rollup[[#This Row],[Year]],B:B,ax_data_rollup[[#This Row],[Week]],I:I,\"111-FILSN1\"),\"\")","v":0},{"$f":"IFERROR(SUMIFS(A:A,C:C,ax_data_rollup[[#This Row],[Year]],B:B,ax_data_rollup[[#This Row],[Week]],I:I,\"112-FILSN2\"),\"\")","v":0},{"$f":"IFERROR(SUMIFS(A:A,C:C,ax_data_rollup[[#This Row],[Year]],B:B,ax_data_rollup[[#This Row],[Week]],I:I,\"113-FILSN3\"),\"\")","v":0},{"$f":"ABS(SUMIFS(U:U,C:C,ax_data_rollup[[#This Row],[Year]],B:B,ax_data_rollup[[#This Row],[Week]],I:I,\"111-FILSN1\"))","v":0},{"$f":"ABS(SUMIFS(U:U,C:C,ax_data_rollup[[#This Row],[Year]],B:B,ax_data_rollup[[#This Row],[Week]],I:I,\"112-FILSN2\"))","v":0},{"$f":"ABS(SUMIFS(U:U,C:C,ax_data_rollup[[#This Row],[Year]],B:B,ax_data_rollup[[#This Row],[Week]],I:I,\"113-FILSN3\"))","v":0}]
[{"$f":"IF(ISNUMBER(U91)=TRUE,VLOOKUP(vlookup_data[[#This Row],[style '#]],[2]Sheet1!$A:$D,4,0)*ABS(U91),0)","v":0},{"$f":"WEEKNUM(vlookup_data[[#This Row],[Column8]],2)","v":1},{"$f":"YEAR(vlookup_data[[#This Row],[Column8]])","v":1900},{"$f":"VALUE(G91)","v":0},{"$f":"CONCATENATE(vlookup_data[[#This Row],[style '#]],\"|\",R91)","v":"0|"},null,null,null,null,null,null,null,null,null,null,null,null,null,null,null,null,null,null,null,null,null,37,2017,{"$f":"IFERROR(SUMIFS(A:A,C:C,ax_data_rollup[[#This Row],[Year]],B:B,ax_data_rollup[[#This Row],[Week]],I:I,\"111-FILSN1\"),\"\")","v":0},{"$f":"IFERROR(SUMIFS(A:A,C:C,ax_data_rollup[[#This Row],[Year]],B:B,ax_data_rollup[[#This Row],[Week]],I:I,\"112-FILSN2\"),\"\")","v":0},{"$f":"IFERROR(SUMIFS(A:A,C:C,ax_data_rollup[[#This Row],[Year]],B:B,ax_data_rollup[[#This Row],[Week]],I:I,\"113-FILSN3\"),\"\")","v":0},{"$f":"ABS(SUMIFS(U:U,C:C,ax_data_rollup[[#This Row],[Year]],B:B,ax_data_rollup[[#This Row],[Week]],I:I,\"111-FILSN1\"))","v":0},{"$f":"ABS(SUMIFS(U:U,C:C,ax_data_rollup[[#This Row],[Year]],B:B,ax_data_rollup[[#This Row],[Week]],I:I,\"112-FILSN2\"))","v":0},{"$f":"ABS(SUMIFS(U:U,C:C,ax_data_rollup[[#This Row],[Year]],B:B,ax_data_rollup[[#This Row],[Week]],I:I,\"113-FILSN3\"))","v":0}]
[{"$f":"IF(ISNUMBER(U92)=TRUE,VLOOKUP(vlookup_data[[#This Row],[style '#]],[2]Sheet1!$A:$D,4,0)*ABS(U92),0)","v":0},{"$f":"WEEKNUM(vlookup_data[[#This Row],[Column8]],2)","v":1},{"$f":"YEAR(vlookup_data[[#This Row],[Column8]])","v":1900},0,{"$f":"CONCATENATE(vlookup_data[[#This Row],[style '#]],\"|\",R92)","v":"0|"},null,null,null,null,null,null,null,null,null,null,null,null,null,null,null,null,null,null,null,null,null,38,2017,{"$f":"IFERROR(SUMIFS(A:A,C:C,ax_data_rollup[[#This Row],[Year]],B:B,ax_data_rollup[[#This Row],[Week]],I:I,\"111-FILSN1\"),\"\")","v":0},{"$f":"IFERROR(SUMIFS(A:A,C:C,ax_data_rollup[[#This Row],[Year]],B:B,ax_data_rollup[[#This Row],[Week]],I:I,\"112-FILSN2\"),\"\")","v":0},{"$f":"IFERROR(SUMIFS(A:A,C:C,ax_data_rollup[[#This Row],[Year]],B:B,ax_data_rollup[[#This Row],[Week]],I:I,\"113-FILSN3\"),\"\")","v":0},{"$f":"ABS(SUMIFS(U:U,C:C,ax_data_rollup[[#This Row],[Year]],B:B,ax_data_rollup[[#This Row],[Week]],I:I,\"111-FILSN1\"))","v":0},{"$f":"ABS(SUMIFS(U:U,C:C,ax_data_rollup[[#This Row],[Year]],B:B,ax_data_rollup[[#This Row],[Week]],I:I,\"112-FILSN2\"))","v":0},{"$f":"ABS(SUMIFS(U:U,C:C,ax_data_rollup[[#This Row],[Year]],B:B,ax_data_rollup[[#This Row],[Week]],I:I,\"113-FILSN3\"))","v":0}]
[{"$f":"IF(ISNUMBER(U93)=TRUE,VLOOKUP(vlookup_data[[#This Row],[style '#]],[2]Sheet1!$A:$D,4,0)*ABS(U93),0)","v":0},{"$f":"WEEKNUM(vlookup_data[[#This Row],[Column8]],2)","v":1},{"$f":"YEAR(vlookup_data[[#This Row],[Column8]])","v":1900},0,{"$f":"CONCATENATE(vlookup_data[[#This Row],[style '#]],\"|\",R93)","v":"0|"},null,null,null,null,null,null,null,null,null,null,null,null,null,null,null,null,null,null,null,null,null,39,2017,{"$f":"IFERROR(SUMIFS(A:A,C:C,ax_data_rollup[[#This Row],[Year]],B:B,ax_data_rollup[[#This Row],[Week]],I:I,\"111-FILSN1\"),\"\")","v":0},{"$f":"IFERROR(SUMIFS(A:A,C:C,ax_data_rollup[[#This Row],[Year]],B:B,ax_data_rollup[[#This Row],[Week]],I:I,\"112-FILSN2\"),\"\")","v":0},{"$f":"IFERROR(SUMIFS(A:A,C:C,ax_data_rollup[[#This Row],[Year]],B:B,ax_data_rollup[[#This Row],[Week]],I:I,\"113-FILSN3\"),\"\")","v":0},{"$f":"ABS(SUMIFS(U:U,C:C,ax_data_rollup[[#This Row],[Year]],B:B,ax_data_rollup[[#This Row],[Week]],I:I,\"111-FILSN1\"))","v":0},{"$f":"ABS(SUMIFS(U:U,C:C,ax_data_rollup[[#This Row],[Year]],B:B,ax_data_rollup[[#This Row],[Week]],I:I,\"112-FILSN2\"))","v":0},{"$f":"ABS(SUMIFS(U:U,C:C,ax_data_rollup[[#This Row],[Year]],B:B,ax_data_rollup[[#This Row],[Week]],I:I,\"113-FILSN3\"))","v":0}]
[{"$f":"IF(ISNUMBER(U94)=TRUE,VLOOKUP(vlookup_data[[#This Row],[style '#]],[2]Sheet1!$A:$D,4,0)*ABS(U94),0)","v":0},{"$f":"WEEKNUM(vlookup_data[[#This Row],[Column8]],2)","v":1},{"$f":"YEAR(vlookup_data[[#This Row],[Column8]])","v":1900},0,{"$f":"CONCATENATE(vlookup_data[[#This Row],[style '#]],\"|\",R94)","v":"0|"},null,null,null,null,null,null,null,null,null,null,null,null,null,null,null,null,null,null,null,null,null,40,2017,{"$f":"IFERROR(SUMIFS(A:A,C:C,ax_data_rollup[[#This Row],[Year]],B:B,ax_data_rollup[[#This Row],[Week]],I:I,\"111-FILSN1\"),\"\")","v":0},{"$f":"IFERROR(SUMIFS(A:A,C:C,ax_data_rollup[[#This Row],[Year]],B:B,ax_data_rollup[[#This Row],[Week]],I:I,\"112-FILSN2\"),\"\")","v":0},{"$f":"IFERROR(SUMIFS(A:A,C:C,ax_data_rollup[[#This Row],[Year]],B:B,ax_data_rollup[[#This Row],[Week]],I:I,\"113-FILSN3\"),\"\")","v":0},{"$f":"ABS(SUMIFS(U:U,C:C,ax_data_rollup[[#This Row],[Year]],B:B,ax_data_rollup[[#This Row],[Week]],I:I,\"111-FILSN1\"))","v":0},{"$f":"ABS(SUMIFS(U:U,C:C,ax_data_rollup[[#This Row],[Year]],B:B,ax_data_rollup[[#This Row],[Week]],I:I,\"112-FILSN2\"))","v":0},{"$f":"ABS(SUMIFS(U:U,C:C,ax_data_rollup[[#This Row],[Year]],B:B,ax_data_rollup[[#This Row],[Week]],I:I,\"113-FILSN3\"))","v":0}]
[{"$f":"IF(ISNUMBER(U95)=TRUE,VLOOKUP(vlookup_data[[#This Row],[style '#]],[2]Sheet1!$A:$D,4,0)*ABS(U95),0)","v":0},{"$f":"WEEKNUM(vlookup_data[[#This Row],[Column8]],2)","v":1},{"$f":"YEAR(vlookup_data[[#This Row],[Column8]])","v":1900},0,{"$f":"CONCATENATE(vlookup_data[[#This Row],[style '#]],\"|\",R95)","v":"0|"},null,null,null,null,null,null,null,null,null,null,null,null,null,null,null,null,null,null,null,null,null,41,2017,{"$f":"IFERROR(SUMIFS(A:A,C:C,ax_data_rollup[[#This Row],[Year]],B:B,ax_data_rollup[[#This Row],[Week]],I:I,\"111-FILSN1\"),\"\")","v":0},{"$f":"IFERROR(SUMIFS(A:A,C:C,ax_data_rollup[[#This Row],[Year]],B:B,ax_data_rollup[[#This Row],[Week]],I:I,\"112-FILSN2\"),\"\")","v":0},{"$f":"IFERROR(SUMIFS(A:A,C:C,ax_data_rollup[[#This Row],[Year]],B:B,ax_data_rollup[[#This Row],[Week]],I:I,\"113-FILSN3\"),\"\")","v":0},{"$f":"ABS(SUMIFS(U:U,C:C,ax_data_rollup[[#This Row],[Year]],B:B,ax_data_rollup[[#This Row],[Week]],I:I,\"111-FILSN1\"))","v":0},{"$f":"ABS(SUMIFS(U:U,C:C,ax_data_rollup[[#This Row],[Year]],B:B,ax_data_rollup[[#This Row],[Week]],I:I,\"112-FILSN2\"))","v":0},{"$f":"ABS(SUMIFS(U:U,C:C,ax_data_rollup[[#This Row],[Year]],B:B,ax_data_rollup[[#This Row],[Week]],I:I,\"113-FILSN3\"))","v":0}]
[{"$f":"IF(ISNUMBER(U96)=TRUE,VLOOKUP(vlookup_data[[#This Row],[style '#]],[2]Sheet1!$A:$D,4,0)*ABS(U96),0)","v":0},{"$f":"WEEKNUM(vlookup_data[[#This Row],[Column8]],2)","v":1},{"$f":"YEAR(vlookup_data[[#This Row],[Column8]])","v":1900},0,{"$f":"CONCATENATE(vlookup_data[[#This Row],[style '#]],\"|\",R96)","v":"0|"},null,null,null,null,null,null,null,null,null,null,null,null,null,null,null,null,null,null,null,null,null,42,2017,{"$f":"IFERROR(SUMIFS(A:A,C:C,ax_data_rollup[[#This Row],[Year]],B:B,ax_data_rollup[[#This Row],[Week]],I:I,\"111-FILSN1\"),\"\")","v":0},{"$f":"IFERROR(SUMIFS(A:A,C:C,ax_data_rollup[[#This Row],[Year]],B:B,ax_data_rollup[[#This Row],[Week]],I:I,\"112-FILSN2\"),\"\")","v":0},{"$f":"IFERROR(SUMIFS(A:A,C:C,ax_data_rollup[[#This Row],[Year]],B:B,ax_data_rollup[[#This Row],[Week]],I:I,\"113-FILSN3\"),\"\")","v":0},{"$f":"ABS(SUMIFS(U:U,C:C,ax_data_rollup[[#This Row],[Year]],B:B,ax_data_rollup[[#This Row],[Week]],I:I,\"111-FILSN1\"))","v":0},{"$f":"ABS(SUMIFS(U:U,C:C,ax_data_rollup[[#This Row],[Year]],B:B,ax_data_rollup[[#This Row],[Week]],I:I,\"112-FILSN2\"))","v":0},{"$f":"ABS(SUMIFS(U:U,C:C,ax_data_rollup[[#This Row],[Year]],B:B,ax_data_rollup[[#This Row],[Week]],I:I,\"113-FILSN3\"))","v":0}]
[{"$f":"IF(ISNUMBER(U97)=TRUE,VLOOKUP(vlookup_data[[#This Row],[style '#]],[2]Sheet1!$A:$D,4,0)*ABS(U97),0)","v":0},{"$f":"WEEKNUM(vlookup_data[[#This Row],[Column8]],2)","v":1},{"$f":"YEAR(vlookup_data[[#This Row],[Column8]])","v":1900},0,{"$f":"CONCATENATE(vlookup_data[[#This Row],[style '#]],\"|\",R97)","v":"0|"},null,null,null,null,null,null,null,null,null,null,null,null,null,null,null,null,null,null,null,null,null,43,2017,{"$f":"IFERROR(SUMIFS(A:A,C:C,ax_data_rollup[[#This Row],[Year]],B:B,ax_data_rollup[[#This Row],[Week]],I:I,\"111-FILSN1\"),\"\")","v":0},{"$f":"IFERROR(SUMIFS(A:A,C:C,ax_data_rollup[[#This Row],[Year]],B:B,ax_data_rollup[[#This Row],[Week]],I:I,\"112-FILSN2\"),\"\")","v":0},{"$f":"IFERROR(SUMIFS(A:A,C:C,ax_data_rollup[[#This Row],[Year]],B:B,ax_data_rollup[[#This Row],[Week]],I:I,\"113-FILSN3\"),\"\")","v":0},{"$f":"ABS(SUMIFS(U:U,C:C,ax_data_rollup[[#This Row],[Year]],B:B,ax_data_rollup[[#This Row],[Week]],I:I,\"111-FILSN1\"))","v":0},{"$f":"ABS(SUMIFS(U:U,C:C,ax_data_rollup[[#This Row],[Year]],B:B,ax_data_rollup[[#This Row],[Week]],I:I,\"112-FILSN2\"))","v":0},{"$f":"ABS(SUMIFS(U:U,C:C,ax_data_rollup[[#This Row],[Year]],B:B,ax_data_rollup[[#This Row],[Week]],I:I,\"113-FILSN3\"))","v":0}]
[{"$f":"IF(ISNUMBER(U98)=TRUE,VLOOKUP(vlookup_data[[#This Row],[style '#]],[2]Sheet1!$A:$D,4,0)*ABS(U98),0)","v":0},{"$f":"WEEKNUM(vlookup_data[[#This Row],[Column8]],2)","v":1},{"$f":"YEAR(vlookup_data[[#This Row],[Column8]])","v":1900},0,{"$f":"CONCATENATE(vlookup_data[[#This Row],[style '#]],\"|\",R98)","v":"0|"},null,null,null,null,null,null,null,null,null,null,null,null,null,null,null,null,null,null,null,null,null,44,2017,{"$f":"IFERROR(SUMIFS(A:A,C:C,ax_data_rollup[[#This Row],[Year]],B:B,ax_data_rollup[[#This Row],[Week]],I:I,\"111-FILSN1\"),\"\")","v":0},{"$f":"IFERROR(SUMIFS(A:A,C:C,ax_data_rollup[[#This Row],[Year]],B:B,ax_data_rollup[[#This Row],[Week]],I:I,\"112-FILSN2\"),\"\")","v":0},{"$f":"IFERROR(SUMIFS(A:A,C:C,ax_data_rollup[[#This Row],[Year]],B:B,ax_data_rollup[[#This Row],[Week]],I:I,\"113-FILSN3\"),\"\")","v":0},{"$f":"ABS(SUMIFS(U:U,C:C,ax_data_rollup[[#This Row],[Year]],B:B,ax_data_rollup[[#This Row],[Week]],I:I,\"111-FILSN1\"))","v":0},{"$f":"ABS(SUMIFS(U:U,C:C,ax_data_rollup[[#This Row],[Year]],B:B,ax_data_rollup[[#This Row],[Week]],I:I,\"112-FILSN2\"))","v":0},{"$f":"ABS(SUMIFS(U:U,C:C,ax_data_rollup[[#This Row],[Year]],B:B,ax_data_rollup[[#This Row],[Week]],I:I,\"113-FILSN3\"))","v":0}]
[{"$f":"IF(ISNUMBER(U99)=TRUE,VLOOKUP(vlookup_data[[#This Row],[style '#]],[2]Sheet1!$A:$D,4,0)*ABS(U99),0)","v":0},{"$f":"WEEKNUM(vlookup_data[[#This Row],[Column8]],2)","v":1},{"$f":"YEAR(vlookup_data[[#This Row],[Column8]])","v":1900},0,{"$f":"CONCATENATE(vlookup_data[[#This Row],[style '#]],\"|\",R99)","v":"0|"},null,null,null,null,null,null,null,null,null,null,null,null,null,null,null,null,null,null,null,null,null,45,2017,{"$f":"IFERROR(SUMIFS(A:A,C:C,ax_data_rollup[[#This Row],[Year]],B:B,ax_data_rollup[[#This Row],[Week]],I:I,\"111-FILSN1\"),\"\")","v":0},{"$f":"IFERROR(SUMIFS(A:A,C:C,ax_data_rollup[[#This Row],[Year]],B:B,ax_data_rollup[[#This Row],[Week]],I:I,\"112-FILSN2\"),\"\")","v":0},{"$f":"IFERROR(SUMIFS(A:A,C:C,ax_data_rollup[[#This Row],[Year]],B:B,ax_data_rollup[[#This Row],[Week]],I:I,\"113-FILSN3\"),\"\")","v":0},{"$f":"ABS(SUMIFS(U:U,C:C,ax_data_rollup[[#This Row],[Year]],B:B,ax_data_rollup[[#This Row],[Week]],I:I,\"111-FILSN1\"))","v":0},{"$f":"ABS(SUMIFS(U:U,C:C,ax_data_rollup[[#This Row],[Year]],B:B,ax_data_rollup[[#This Row],[Week]],I:I,\"112-FILSN2\"))","v":0},{"$f":"ABS(SUMIFS(U:U,C:C,ax_data_rollup[[#This Row],[Year]],B:B,ax_data_rollup[[#This Row],[Week]],I:I,\"113-FILSN3\"))","v":0}]
[{"$f":"IF(ISNUMBER(U100)=TRUE,VLOOKUP(vlookup_data[[#This Row],[style '#]],[2]Sheet1!$A:$D,4,0)*ABS(U100),0)","v":0},{"$f":"WEEKNUM(vlookup_data[[#This Row],[Column8]],2)","v":1},{"$f":"YEAR(vlookup_data[[#This Row],[Column8]])","v":1900},0,{"$f":"CONCATENATE(vlookup_data[[#This Row],[style '#]],\"|\",R100)","v":"0|"},null,null,null,null,null,null,null,null,null,null,null,null,null,null,null,null,null,null,null,null,null,46,2017,{"$f":"IFERROR(SUMIFS(A:A,C:C,ax_data_rollup[[#This Row],[Year]],B:B,ax_data_rollup[[#This Row],[Week]],I:I,\"111-FILSN1\"),\"\")","v":0},{"$f":"IFERROR(SUMIFS(A:A,C:C,ax_data_rollup[[#This Row],[Year]],B:B,ax_data_rollup[[#This Row],[Week]],I:I,\"112-FILSN2\"),\"\")","v":0},{"$f":"IFERROR(SUMIFS(A:A,C:C,ax_data_rollup[[#This Row],[Year]],B:B,ax_data_rollup[[#This Row],[Week]],I:I,\"113-FILSN3\"),\"\")","v":0},{"$f":"ABS(SUMIFS(U:U,C:C,ax_data_rollup[[#This Row],[Year]],B:B,ax_data_rollup[[#This Row],[Week]],I:I,\"111-FILSN1\"))","v":0},{"$f":"ABS(SUMIFS(U:U,C:C,ax_data_rollup[[#This Row],[Year]],B:B,ax_data_rollup[[#This Row],[Week]],I:I,\"112-FILSN2\"))","v":0},{"$f":"ABS(SUMIFS(U:U,C:C,ax_data_rollup[[#This Row],[Year]],B:B,ax_data_rollup[[#This Row],[Week]],I:I,\"113-FILSN3\"))","v":0}]
[{"$f":"IF(ISNUMBER(U101)=TRUE,VLOOKUP(vlookup_data[[#This Row],[style '#]],[2]Sheet1!$A:$D,4,0)*ABS(U101),0)","v":0},{"$f":"WEEKNUM(vlookup_data[[#This Row],[Column8]],2)","v":1},{"$f":"YEAR(vlookup_data[[#This Row],[Column8]])","v":1900},0,{"$f":"CONCATENATE(vlookup_data[[#This Row],[style '#]],\"|\",R101)","v":"0|"},null,null,null,null,null,null,null,null,null,null,null,null,null,null,null,null,null,null,null,null,null,47,2017,{"$f":"IFERROR(SUMIFS(A:A,C:C,ax_data_rollup[[#This Row],[Year]],B:B,ax_data_rollup[[#This Row],[Week]],I:I,\"111-FILSN1\"),\"\")","v":0},{"$f":"IFERROR(SUMIFS(A:A,C:C,ax_data_rollup[[#This Row],[Year]],B:B,ax_data_rollup[[#This Row],[Week]],I:I,\"112-FILSN2\"),\"\")","v":0},{"$f":"IFERROR(SUMIFS(A:A,C:C,ax_data_rollup[[#This Row],[Year]],B:B,ax_data_rollup[[#This Row],[Week]],I:I,\"113-FILSN3\"),\"\")","v":0},{"$f":"ABS(SUMIFS(U:U,C:C,ax_data_rollup[[#This Row],[Year]],B:B,ax_data_rollup[[#This Row],[Week]],I:I,\"111-FILSN1\"))","v":0},{"$f":"ABS(SUMIFS(U:U,C:C,ax_data_rollup[[#This Row],[Year]],B:B,ax_data_rollup[[#This Row],[Week]],I:I,\"112-FILSN2\"))","v":0},{"$f":"ABS(SUMIFS(U:U,C:C,ax_data_rollup[[#This Row],[Year]],B:B,ax_data_rollup[[#This Row],[Week]],I:I,\"113-FILSN3\"))","v":0}]
[{"$f":"IF(ISNUMBER(U102)=TRUE,VLOOKUP(vlookup_data[[#This Row],[style '#]],[2]Sheet1!$A:$D,4,0)*ABS(U102),0)","v":0},{"$f":"WEEKNUM(vlookup_data[[#This Row],[Column8]],2)","v":1},{"$f":"YEAR(vlookup_data[[#This Row],[Column8]])","v":1900},0,{"$f":"CONCATENATE(vlookup_data[[#This Row],[style '#]],\"|\",R102)","v":"0|"},null,null,null,null,null,null,null,null,null,null,null,null,null,null,null,null,null,null,null,null,null,48,2017,{"$f":"IFERROR(SUMIFS(A:A,C:C,ax_data_rollup[[#This Row],[Year]],B:B,ax_data_rollup[[#This Row],[Week]],I:I,\"111-FILSN1\"),\"\")","v":0},{"$f":"IFERROR(SUMIFS(A:A,C:C,ax_data_rollup[[#This Row],[Year]],B:B,ax_data_rollup[[#This Row],[Week]],I:I,\"112-FILSN2\"),\"\")","v":0},{"$f":"IFERROR(SUMIFS(A:A,C:C,ax_data_rollup[[#This Row],[Year]],B:B,ax_data_rollup[[#This Row],[Week]],I:I,\"113-FILSN3\"),\"\")","v":0},{"$f":"ABS(SUMIFS(U:U,C:C,ax_data_rollup[[#This Row],[Year]],B:B,ax_data_rollup[[#This Row],[Week]],I:I,\"111-FILSN1\"))","v":0},{"$f":"ABS(SUMIFS(U:U,C:C,ax_data_rollup[[#This Row],[Year]],B:B,ax_data_rollup[[#This Row],[Week]],I:I,\"112-FILSN2\"))","v":0},{"$f":"ABS(SUMIFS(U:U,C:C,ax_data_rollup[[#This Row],[Year]],B:B,ax_data_rollup[[#This Row],[Week]],I:I,\"113-FILSN3\"))","v":0}]
[{"$f":"IF(ISNUMBER(U103)=TRUE,VLOOKUP(vlookup_data[[#This Row],[style '#]],[2]Sheet1!$A:$D,4,0)*ABS(U103),0)","v":0},{"$f":"WEEKNUM(vlookup_data[[#This Row],[Column8]],2)","v":1},{"$f":"YEAR(vlookup_data[[#This Row],[Column8]])","v":1900},0,{"$f":"CONCATENATE(vlookup_data[[#This Row],[style '#]],\"|\",R103)","v":"0|"},null,null,null,null,null,null,null,null,null,null,null,null,null,null,null,null,null,null,null,null,null,49,2017,{"$f":"IFERROR(SUMIFS(A:A,C:C,ax_data_rollup[[#This Row],[Year]],B:B,ax_data_rollup[[#This Row],[Week]],I:I,\"111-FILSN1\"),\"\")","v":0},{"$f":"IFERROR(SUMIFS(A:A,C:C,ax_data_rollup[[#This Row],[Year]],B:B,ax_data_rollup[[#This Row],[Week]],I:I,\"112-FILSN2\"),\"\")","v":0},{"$f":"IFERROR(SUMIFS(A:A,C:C,ax_data_rollup[[#This Row],[Year]],B:B,ax_data_rollup[[#This Row],[Week]],I:I,\"113-FILSN3\"),\"\")","v":0},{"$f":"ABS(SUMIFS(U:U,C:C,ax_data_rollup[[#This Row],[Year]],B:B,ax_data_rollup[[#This Row],[Week]],I:I,\"111-FILSN1\"))","v":0},{"$f":"ABS(SUMIFS(U:U,C:C,ax_data_rollup[[#This Row],[Year]],B:B,ax_data_rollup[[#This Row],[Week]],I:I,\"112-FILSN2\"))","v":0},{"$f":"ABS(SUMIFS(U:U,C:C,ax_data_rollup[[#This Row],[Year]],B:B,ax_data_rollup[[#This Row],[Week]],I:I,\"113-FILSN3\"))","v":0}]
[{"$f":"IF(ISNUMBER(U104)=TRUE,VLOOKUP(vlookup_data[[#This Row],[style '#]],[2]Sheet1!$A:$D,4,0)*ABS(U104),0)","v":0},{"$f":"WEEKNUM(vlookup_data[[#This Row],[Column8]],2)","v":1},{"$f":"YEAR(vlookup_data[[#This Row],[Column8]])","v":1900},0,{"$f":"CONCATENATE(vlookup_data[[#This Row],[style '#]],\"|\",R104)","v":"0|"},null,null,null,null,null,null,null,null,null,null,null,null,null,null,null,null,null,null,null,null,null,50,2017,{"$f":"IFERROR(SUMIFS(A:A,C:C,ax_data_rollup[[#This Row],[Year]],B:B,ax_data_rollup[[#This Row],[Week]],I:I,\"111-FILSN1\"),\"\")","v":0},{"$f":"IFERROR(SUMIFS(A:A,C:C,ax_data_rollup[[#This Row],[Year]],B:B,ax_data_rollup[[#This Row],[Week]],I:I,\"112-FILSN2\"),\"\")","v":0},{"$f":"IFERROR(SUMIFS(A:A,C:C,ax_data_rollup[[#This Row],[Year]],B:B,ax_data_rollup[[#This Row],[Week]],I:I,\"113-FILSN3\"),\"\")","v":0},{"$f":"ABS(SUMIFS(U:U,C:C,ax_data_rollup[[#This Row],[Year]],B:B,ax_data_rollup[[#This Row],[Week]],I:I,\"111-FILSN1\"))","v":0},{"$f":"ABS(SUMIFS(U:U,C:C,ax_data_rollup[[#This Row],[Year]],B:B,ax_data_rollup[[#This Row],[Week]],I:I,\"112-FILSN2\"))","v":0},{"$f":"ABS(SUMIFS(U:U,C:C,ax_data_rollup[[#This Row],[Year]],B:B,ax_data_rollup[[#This Row],[Week]],I:I,\"113-FILSN3\"))","v":0}]
[{"$f":"IF(ISNUMBER(U105)=TRUE,VLOOKUP(vlookup_data[[#This Row],[style '#]],[2]Sheet1!$A:$D,4,0)*ABS(U105),0)","v":0},{"$f":"WEEKNUM(vlookup_data[[#This Row],[Column8]],2)","v":1},{"$f":"YEAR(vlookup_data[[#This Row],[Column8]])","v":1900},0,{"$f":"CONCATENATE(vlookup_data[[#This Row],[style '#]],\"|\",R105)","v":"0|"},null,null,null,null,null,null,null,null,null,null,null,null,null,null,null,null,null,null,null,null,null,51,2017,{"$f":"IFERROR(SUMIFS(A:A,C:C,ax_data_rollup[[#This Row],[Year]],B:B,ax_data_rollup[[#This Row],[Week]],I:I,\"111-FILSN1\"),\"\")","v":0},{"$f":"IFERROR(SUMIFS(A:A,C:C,ax_data_rollup[[#This Row],[Year]],B:B,ax_data_rollup[[#This Row],[Week]],I:I,\"112-FILSN2\"),\"\")","v":0},{"$f":"IFERROR(SUMIFS(A:A,C:C,ax_data_rollup[[#This Row],[Year]],B:B,ax_data_rollup[[#This Row],[Week]],I:I,\"113-FILSN3\"),\"\")","v":0},{"$f":"ABS(SUMIFS(U:U,C:C,ax_data_rollup[[#This Row],[Year]],B:B,ax_data_rollup[[#This Row],[Week]],I:I,\"111-FILSN1\"))","v":0},{"$f":"ABS(SUMIFS(U:U,C:C,ax_data_rollup[[#This Row],[Year]],B:B,ax_data_rollup[[#This Row],[Week]],I:I,\"112-FILSN2\"))","v":0},{"$f":"ABS(SUMIFS(U:U,C:C,ax_data_rollup[[#This Row],[Year]],B:B,ax_data_rollup[[#This Row],[Week]],I:I,\"113-FILSN3\"))","v":0}]
[{"$f":"IF(ISNUMBER(U106)=TRUE,VLOOKUP(vlookup_data[[#This Row],[style '#]],[2]Sheet1!$A:$D,4,0)*ABS(U106),0)","v":0},{"$f":"WEEKNUM(vlookup_data[[#This Row],[Column8]],2)","v":1},{"$f":"YEAR(vlookup_data[[#This Row],[Column8]])","v":1900},0,{"$f":"CONCATENATE(vlookup_data[[#This Row],[style '#]],\"|\",R106)","v":"0|"},null,null,null,null,null,null,null,null,null,null,null,null,null,null,null,null,null,null,null,null,null,52,2017,{"$f":"IFERROR(SUMIFS(A:A,C:C,ax_data_rollup[[#This Row],[Year]],B:B,ax_data_rollup[[#This Row],[Week]],I:I,\"111-FILSN1\"),\"\")","v":0},{"$f":"IFERROR(SUMIFS(A:A,C:C,ax_data_rollup[[#This Row],[Year]],B:B,ax_data_rollup[[#This Row],[Week]],I:I,\"112-FILSN2\"),\"\")","v":0},{"$f":"IFERROR(SUMIFS(A:A,C:C,ax_data_rollup[[#This Row],[Year]],B:B,ax_data_rollup[[#This Row],[Week]],I:I,\"113-FILSN3\"),\"\")","v":0},{"$f":"ABS(SUMIFS(U:U,C:C,ax_data_rollup[[#This Row],[Year]],B:B,ax_data_rollup[[#This Row],[Week]],I:I,\"111-FILSN1\"))","v":0},{"$f":"ABS(SUMIFS(U:U,C:C,ax_data_rollup[[#This Row],[Year]],B:B,ax_data_rollup[[#This Row],[Week]],I:I,\"112-FILSN2\"))","v":0},{"$f":"ABS(SUMIFS(U:U,C:C,ax_data_rollup[[#This Row],[Year]],B:B,ax_data_rollup[[#This Row],[Week]],I:I,\"113-FILSN3\"))","v":0}]
[{"$f":"IF(ISNUMBER(U107)=TRUE,VLOOKUP(vlookup_data[[#This Row],[style '#]],[2]Sheet1!$A:$D,4,0)*ABS(U107),0)","v":0},{"$f":"WEEKNUM(vlookup_data[[#This Row],[Column8]],2)","v":1},{"$f":"YEAR(vlookup_data[[#This Row],[Column8]])","v":1900},0,{"$f":"CONCATENATE(vlookup_data[[#This Row],[style '#]],\"|\",R107)","v":"0|"},null,null,null,null,null,null,null,null,null,null,null,null,null,null,null,null,null,null,null,null,null,53,2017,{"$f":"IFERROR(SUMIFS(A:A,C:C,ax_data_rollup[[#This Row],[Year]],B:B,ax_data_rollup[[#This Row],[Week]],I:I,\"111-FILSN1\"),\"\")","v":0},{"$f":"IFERROR(SUMIFS(A:A,C:C,ax_data_rollup[[#This Row],[Year]],B:B,ax_data_rollup[[#This Row],[Week]],I:I,\"112-FILSN2\"),\"\")","v":0},{"$f":"IFERROR(SUMIFS(A:A,C:C,ax_data_rollup[[#This Row],[Year]],B:B,ax_data_rollup[[#This Row],[Week]],I:I,\"113-FILSN3\"),\"\")","v":0},{"$f":"ABS(SUMIFS(U:U,C:C,ax_data_rollup[[#This Row],[Year]],B:B,ax_data_rollup[[#This Row],[Week]],I:I,\"111-FILSN1\"))","v":0},{"$f":"ABS(SUMIFS(U:U,C:C,ax_data_rollup[[#This Row],[Year]],B:B,ax_data_rollup[[#This Row],[Week]],I:I,\"112-FILSN2\"))","v":0},{"$f":"ABS(SUMIFS(U:U,C:C,ax_data_rollup[[#This Row],[Year]],B:B,ax_data_rollup[[#This Row],[Week]],I:I,\"113-FILSN3\"))","v":0}]
[{"$f":"IF(ISNUMBER(U108)=TRUE,VLOOKUP(vlookup_data[[#This Row],[style '#]],[2]Sheet1!$A:$D,4,0)*ABS(U108),0)","v":0},{"$f":"WEEKNUM(vlookup_data[[#This Row],[Column8]],2)","v":1},{"$f":"YEAR(vlookup_data[[#This Row],[Column8]])","v":1900},0,{"$f":"CONCATENATE(vlookup_data[[#This Row],[style '#]],\"|\",R108)","v":"0|"}]
[{"$f":"IF(ISNUMBER(U109)=TRUE,VLOOKUP(vlookup_data[[#This Row],[style '#]],[2]Sheet1!$A:$D,4,0)*ABS(U109),0)","v":0},{"$f":"WEEKNUM(vlookup_data[[#This Row],[Column8]],2)","v":1},{"$f":"YEAR(vlookup_data[[#This Row],[Column8]])","v":1900},0,{"$f":"CONCATENATE(vlookup_data[[#This Row],[style '#]],\"|\",R109)","v":"0|"}]
[{"$f":"IF(ISNUMBER(U110)=TRUE,VLOOKUP(vlookup_data[[#This Row],[style '#]],[2]Sheet1!$A:$D,4,0)*ABS(U110),0)","v":0},{"$f":"WEEKNUM(vlookup_data[[#This Row],[Column8]],2)","v":1},{"$f":"YEAR(vlookup_data[[#This Row],[Column8]])","v":1900},0,{"$f":"CONCATENATE(vlookup_data[[#This Row],[style '#]],\"|\",R110)","v":"0|"}]
[{"$f":"IF(ISNUMBER(U111)=TRUE,VLOOKUP(vlookup_data[[#This Row],[style '#]],[2]Sheet1!$A:$D,4,0)*ABS(U111),0)","v":0},{"$f":"WEEKNUM(vlookup_data[[#This Row],[Column8]],2)","v":1},{"$f":"YEAR(vlookup_data[[#This Row],[Column8]])","v":1900},0,{"$f":"CONCATENATE(vlookup_data[[#This Row],[style '#]],\"|\",R111)","v":"0|"}]
[{"$f":"IF(ISNUMBER(U112)=TRUE,VLOOKUP(vlookup_data[[#This Row],[style '#]],[2]Sheet1!$A:$D,4,0)*ABS(U112),0)","v":0},{"$f":"WEEKNUM(vlookup_data[[#This Row],[Column8]],2)","v":1},{"$f":"YEAR(vlookup_data[[#This Row],[Column8]])","v":1900},0,{"$f":"CONCATENATE(vlookup_data[[#This Row],[style '#]],\"|\",R112)","v":"0|"}]
[{"$f":"IF(ISNUMBER(U113)=TRUE,VLOOKUP(vlookup_data[[#This Row],[style '#]],[2]Sheet1!$A:$D,4,0)*ABS(U113),0)","v":0},{"$f":"WEEKNUM(vlookup_data[[#This Row],[Column8]],2)","v":1},{"$f":"YEAR(vlookup_data[[#This Row],[Column8]])","v":1900},0,{"$f":"CONCATENATE(vlookup_data[[#This Row],[style '#]],\"|\",R113)","v":"0|"}]
[{"$f":"IF(ISNUMBER(U114)=TRUE,VLOOKUP(vlookup_data[[#This Row],[style '#]],[2]Sheet1!$A:$D,4,0)*ABS(U114),0)","v":0},{"$f":"WEEKNUM(vlookup_data[[#This Row],[Column8]],2)","v":1},{"$f":"YEAR(vlookup_data[[#This Row],[Column8]])","v":1900},0,{"$f":"CONCATENATE(vlookup_data[[#This Row],[style '#]],\"|\",R114)","v":"0|"}]
[{"$f":"IF(ISNUMBER(U115)=TRUE,VLOOKUP(vlookup_data[[#This Row],[style '#]],[2]Sheet1!$A:$D,4,0)*ABS(U115),0)","v":0},{"$f":"WEEKNUM(vlookup_data[[#This Row],[Column8]],2)","v":1},{"$f":"YEAR(vlookup_data[[#This Row],[Column8]])","v":1900},0,{"$f":"CONCATENATE(vlookup_data[[#This Row],[style '#]],\"|\",R115)","v":"0|"}]
[{"$f":"IF(ISNUMBER(U116)=TRUE,VLOOKUP(vlookup_data[[#This Row],[style '#]],[2]Sheet1!$A:$D,4,0)*ABS(U116),0)","v":0},{"$f":"WEEKNUM(vlookup_data[[#This Row],[Column8]],2)","v":1},{"$f":"YEAR(vlookup_data[[#This Row],[Column8]])","v":1900},0,{"$f":"CONCATENATE(vlookup_data[[#This Row],[style '#]],\"|\",R116)","v":"0|"}]
[{"$f":"IF(ISNUMBER(U117)=TRUE,VLOOKUP(vlookup_data[[#This Row],[style '#]],[2]Sheet1!$A:$D,4,0)*ABS(U117),0)","v":0},{"$f":"WEEKNUM(vlookup_data[[#This Row],[Column8]],2)","v":1},{"$f":"YEAR(vlookup_data[[#This Row],[Column8]])","v":1900},0,{"$f":"CONCATENATE(vlookup_data[[#This Row],[style '#]],\"|\",R117)","v":"0|"}]
[{"$f":"IF(ISNUMBER(U118)=TRUE,VLOOKUP(vlookup_data[[#This Row],[style '#]],[2]Sheet1!$A:$D,4,0)*ABS(U118),0)","v":0},{"$f":"WEEKNUM(vlookup_data[[#This Row],[Column8]],2)","v":1},{"$f":"YEAR(vlookup_data[[#This Row],[Column8]])","v":1900},0,{"$f":"CONCATENATE(vlookup_data[[#This Row],[style '#]],\"|\",R118)","v":"0|"}]
[{"$f":"IF(ISNUMBER(U119)=TRUE,VLOOKUP(vlookup_data[[#This Row],[style '#]],[2]Sheet1!$A:$D,4,0)*ABS(U119),0)","v":0},{"$f":"WEEKNUM(vlookup_data[[#This Row],[Column8]],2)","v":1},{"$f":"YEAR(vlookup_data[[#This Row],[Column8]])","v":1900},0,{"$f":"CONCATENATE(vlookup_data[[#This Row],[style '#]],\"|\",R119)","v":"0|"}]
[{"$f":"IF(ISNUMBER(U120)=TRUE,VLOOKUP(vlookup_data[[#This Row],[style '#]],[2]Sheet1!$A:$D,4,0)*ABS(U120),0)","v":0},{"$f":"WEEKNUM(vlookup_data[[#This Row],[Column8]],2)","v":1},{"$f":"YEAR(vlookup_data[[#This Row],[Column8]])","v":1900},0,{"$f":"CONCATENATE(vlookup_data[[#This Row],[style '#]],\"|\",R120)","v":"0|"}]
[{"$f":"IF(ISNUMBER(U121)=TRUE,VLOOKUP(vlookup_data[[#This Row],[style '#]],[2]Sheet1!$A:$D,4,0)*ABS(U121),0)","v":0},{"$f":"WEEKNUM(vlookup_data[[#This Row],[Column8]],2)","v":1},{"$f":"YEAR(vlookup_data[[#This Row],[Column8]])","v":1900},0,{"$f":"CONCATENATE(vlookup_data[[#This Row],[style '#]],\"|\",R121)","v":"0|"}]
[{"$f":"IF(ISNUMBER(U122)=TRUE,VLOOKUP(vlookup_data[[#This Row],[style '#]],[2]Sheet1!$A:$D,4,0)*ABS(U122),0)","v":0},{"$f":"WEEKNUM(vlookup_data[[#This Row],[Column8]],2)","v":1},{"$f":"YEAR(vlookup_data[[#This Row],[Column8]])","v":1900},0,{"$f":"CONCATENATE(vlookup_data[[#This Row],[style '#]],\"|\",R122)","v":"0|"}]
[{"$f":"IF(ISNUMBER(U123)=TRUE,VLOOKUP(vlookup_data[[#This Row],[style '#]],[2]Sheet1!$A:$D,4,0)*ABS(U123),0)","v":0},{"$f":"WEEKNUM(vlookup_data[[#This Row],[Column8]],2)","v":1},{"$f":"YEAR(vlookup_data[[#This Row],[Column8]])","v":1900},{"$f":"VALUE(G123)","v":0},{"$f":"CONCATENATE(vlookup_data[[#This Row],[style '#]],\"|\",R123)","v":"0|"}]
[{"$f":"IF(ISNUMBER(U124)=TRUE,VLOOKUP(vlookup_data[[#This Row],[style '#]],[2]Sheet1!$A:$D,4,0)*ABS(U124),0)","v":0},{"$f":"WEEKNUM(vlookup_data[[#This Row],[Column8]],2)","v":1},{"$f":"YEAR(vlookup_data[[#This Row],[Column8]])","v":1900},0,{"$f":"CONCATENATE(vlookup_data[[#This Row],[style '#]],\"|\",R124)","v":"0|"}]
[{"$f":"IF(ISNUMBER(U125)=TRUE,VLOOKUP(vlookup_data[[#This Row],[style '#]],[2]Sheet1!$A:$D,4,0)*ABS(U125),0)","v":0},{"$f":"WEEKNUM(vlookup_data[[#This Row],[Column8]],2)","v":1},{"$f":"YEAR(vlookup_data[[#This Row],[Column8]])","v":1900},0,{"$f":"CONCATENATE(vlookup_data[[#This Row],[style '#]],\"|\",R125)","v":"0|"}]
[{"$f":"IF(ISNUMBER(U126)=TRUE,VLOOKUP(vlookup_data[[#This Row],[style '#]],[2]Sheet1!$A:$D,4,0)*ABS(U126),0)","v":0},{"$f":"WEEKNUM(vlookup_data[[#This Row],[Column8]],2)","v":1},{"$f":"YEAR(vlookup_data[[#This Row],[Column8]])","v":1900},0,{"$f":"CONCATENATE(vlookup_data[[#This Row],[style '#]],\"|\",R126)","v":"0|"}]
[{"$f":"IF(ISNUMBER(U127)=TRUE,VLOOKUP(vlookup_data[[#This Row],[style '#]],[2]Sheet1!$A:$D,4,0)*ABS(U127),0)","v":0},{"$f":"WEEKNUM(vlookup_data[[#This Row],[Column8]],2)","v":1},{"$f":"YEAR(vlookup_data[[#This Row],[Column8]])","v":1900},0,{"$f":"CONCATENATE(vlookup_data[[#This Row],[style '#]],\"|\",R127)","v":"0|"}]
[{"$f":"IF(ISNUMBER(U128)=TRUE,VLOOKUP(vlookup_data[[#This Row],[style '#]],[2]Sheet1!$A:$D,4,0)*ABS(U128),0)","v":0},{"$f":"WEEKNUM(vlookup_data[[#This Row],[Column8]],2)","v":1},{"$f":"YEAR(vlookup_data[[#This Row],[Column8]])","v":1900},0,{"$f":"CONCATENATE(vlookup_data[[#This Row],[style '#]],\"|\",R128)","v":"0|"}]
[{"$f":"IF(ISNUMBER(U129)=TRUE,VLOOKUP(vlookup_data[[#This Row],[style '#]],[2]Sheet1!$A:$D,4,0)*ABS(U129),0)","v":0},{"$f":"WEEKNUM(vlookup_data[[#This Row],[Column8]],2)","v":1},{"$f":"YEAR(vlookup_data[[#This Row],[Column8]])","v":1900},0,{"$f":"CONCATENATE(vlookup_data[[#This Row],[style '#]],\"|\",R129)","v":"0|"}]
[{"$f":"IF(ISNUMBER(U130)=TRUE,VLOOKUP(vlookup_data[[#This Row],[style '#]],[2]Sheet1!$A:$D,4,0)*ABS(U130),0)","v":0},{"$f":"WEEKNUM(vlookup_data[[#This Row],[Column8]],2)","v":1},{"$f":"YEAR(vlookup_data[[#This Row],[Column8]])","v":1900},0,{"$f":"CONCATENATE(vlookup_data[[#This Row],[style '#]],\"|\",R130)","v":"0|"}]
[{"$f":"IF(ISNUMBER(U131)=TRUE,VLOOKUP(vlookup_data[[#This Row],[style '#]],[2]Sheet1!$A:$D,4,0)*ABS(U131),0)","v":0},{"$f":"WEEKNUM(vlookup_data[[#This Row],[Column8]],2)","v":1},{"$f":"YEAR(vlookup_data[[#This Row],[Column8]])","v":1900},0,{"$f":"CONCATENATE(vlookup_data[[#This Row],[style '#]],\"|\",R131)","v":"0|"}]
[{"$f":"IF(ISNUMBER(U132)=TRUE,VLOOKUP(vlookup_data[[#This Row],[style '#]],[2]Sheet1!$A:$D,4,0)*ABS(U132),0)","v":0},{"$f":"WEEKNUM(vlookup_data[[#This Row],[Column8]],2)","v":1},{"$f":"YEAR(vlookup_data[[#This Row],[Column8]])","v":1900},0,{"$f":"CONCATENATE(vlookup_data[[#This Row],[style '#]],\"|\",R132)","v":"0|"}]
[{"$f":"IF(ISNUMBER(U133)=TRUE,VLOOKUP(vlookup_data[[#This Row],[style '#]],[2]Sheet1!$A:$D,4,0)*ABS(U133),0)","v":0},{"$f":"WEEKNUM(vlookup_data[[#This Row],[Column8]],2)","v":1},{"$f":"YEAR(vlookup_data[[#This Row],[Column8]])","v":1900},0,{"$f":"CONCATENATE(vlookup_data[[#This Row],[style '#]],\"|\",R133)","v":"0|"}]
[{"$f":"IF(ISNUMBER(U134)=TRUE,VLOOKUP(vlookup_data[[#This Row],[style '#]],[2]Sheet1!$A:$D,4,0)*ABS(U134),0)","v":0},{"$f":"WEEKNUM(vlookup_data[[#This Row],[Column8]],2)","v":1},{"$f":"YEAR(vlookup_data[[#This Row],[Column8]])","v":1900},0,{"$f":"CONCATENATE(vlookup_data[[#This Row],[style '#]],\"|\",R134)","v":"0|"}]
[{"$f":"IF(ISNUMBER(U135)=TRUE,VLOOKUP(vlookup_data[[#This Row],[style '#]],[2]Sheet1!$A:$D,4,0)*ABS(U135),0)","v":0},{"$f":"WEEKNUM(vlookup_data[[#This Row],[Column8]],2)","v":1},{"$f":"YEAR(vlookup_data[[#This Row],[Column8]])","v":1900},0,{"$f":"CONCATENATE(vlookup_data[[#This Row],[style '#]],\"|\",R135)","v":"0|"}]
[{"$f":"IF(ISNUMBER(U136)=TRUE,VLOOKUP(vlookup_data[[#This Row],[style '#]],[2]Sheet1!$A:$D,4,0)*ABS(U136),0)","v":0},{"$f":"WEEKNUM(vlookup_data[[#This Row],[Column8]],2)","v":1},{"$f":"YEAR(vlookup_data[[#This Row],[Column8]])","v":1900},0,{"$f":"CONCATENATE(vlookup_data[[#This Row],[style '#]],\"|\",R136)","v":"0|"}]
[{"$f":"IF(ISNUMBER(U137)=TRUE,VLOOKUP(vlookup_data[[#This Row],[style '#]],[2]Sheet1!$A:$D,4,0)*ABS(U137),0)","v":0},{"$f":"WEEKNUM(vlookup_data[[#This Row],[Column8]],2)","v":1},{"$f":"YEAR(vlookup_data[[#This Row],[Column8]])","v":1900},0,{"$f":"CONCATENATE(vlookup_data[[#This Row],[style '#]],\"|\",R137)","v":"0|"}]
[{"$f":"IF(ISNUMBER(U138)=TRUE,VLOOKUP(vlookup_data[[#This Row],[style '#]],[2]Sheet1!$A:$D,4,0)*ABS(U138),0)","v":0},{"$f":"WEEKNUM(vlookup_data[[#This Row],[Column8]],2)","v":1},{"$f":"YEAR(vlookup_data[[#This Row],[Column8]])","v":1900},0,{"$f":"CONCATENATE(vlookup_data[[#This Row],[style '#]],\"|\",R138)","v":"0|"}]
[{"$f":"IF(ISNUMBER(U139)=TRUE,VLOOKUP(vlookup_data[[#This Row],[style '#]],[2]Sheet1!$A:$D,4,0)*ABS(U139),0)","v":0},{"$f":"WEEKNUM(vlookup_data[[#This Row],[Column8]],2)","v":1},{"$f":"YEAR(vlookup_data[[#This Row],[Column8]])","v":1900},0,{"$f":"CONCATENATE(vlookup_data[[#This Row],[style '#]],\"|\",R139)","v":"0|"}]
[{"$f":"IF(ISNUMBER(U140)=TRUE,VLOOKUP(vlookup_data[[#This Row],[style '#]],[2]Sheet1!$A:$D,4,0)*ABS(U140),0)","v":0},{"$f":"WEEKNUM(vlookup_data[[#This Row],[Column8]],2)","v":1},{"$f":"YEAR(vlookup_data[[#This Row],[Column8]])","v":1900},0,{"$f":"CONCATENATE(vlookup_data[[#This Row],[style '#]],\"|\",R140)","v":"0|"}]
[{"$f":"IF(ISNUMBER(U141)=TRUE,VLOOKUP(vlookup_data[[#This Row],[style '#]],[2]Sheet1!$A:$D,4,0)*ABS(U141),0)","v":0},{"$f":"WEEKNUM(vlookup_data[[#This Row],[Column8]],2)","v":1},{"$f":"YEAR(vlookup_data[[#This Row],[Column8]])","v":1900},0,{"$f":"CONCATENATE(vlookup_data[[#This Row],[style '#]],\"|\",R141)","v":"0|"}]
[{"$f":"IF(ISNUMBER(U142)=TRUE,VLOOKUP(vlookup_data[[#This Row],[style '#]],[2]Sheet1!$A:$D,4,0)*ABS(U142),0)","v":0},{"$f":"WEEKNUM(vlookup_data[[#This Row],[Column8]],2)","v":1},{"$f":"YEAR(vlookup_data[[#This Row],[Column8]])","v":1900},0,{"$f":"CONCATENATE(vlookup_data[[#This Row],[style '#]],\"|\",R142)","v":"0|"}]
[{"$f":"IF(ISNUMBER(U143)=TRUE,VLOOKUP(vlookup_data[[#This Row],[style '#]],[2]Sheet1!$A:$D,4,0)*ABS(U143),0)","v":0},{"$f":"WEEKNUM(vlookup_data[[#This Row],[Column8]],2)","v":1},{"$f":"YEAR(vlookup_data[[#This Row],[Column8]])","v":1900},0,{"$f":"CONCATENATE(vlookup_data[[#This Row],[style '#]],\"|\",R143)","v":"0|"}]
[{"$f":"IF(ISNUMBER(U144)=TRUE,VLOOKUP(vlookup_data[[#This Row],[style '#]],[2]Sheet1!$A:$D,4,0)*ABS(U144),0)","v":0},{"$f":"WEEKNUM(vlookup_data[[#This Row],[Column8]],2)","v":1},{"$f":"YEAR(vlookup_data[[#This Row],[Column8]])","v":1900},0,{"$f":"CONCATENATE(vlookup_data[[#This Row],[style '#]],\"|\",R144)","v":"0|"}]
[{"$f":"IF(ISNUMBER(U145)=TRUE,VLOOKUP(vlookup_data[[#This Row],[style '#]],[2]Sheet1!$A:$D,4,0)*ABS(U145),0)","v":0},{"$f":"WEEKNUM(vlookup_data[[#This Row],[Column8]],2)","v":1},{"$f":"YEAR(vlookup_data[[#This Row],[Column8]])","v":1900},0,{"$f":"CONCATENATE(vlookup_data[[#This Row],[style '#]],\"|\",R145)","v":"0|"}]
[{"$f":"IF(ISNUMBER(U146)=TRUE,VLOOKUP(vlookup_data[[#This Row],[style '#]],[2]Sheet1!$A:$D,4,0)*ABS(U146),0)","v":0},{"$f":"WEEKNUM(vlookup_data[[#This Row],[Column8]],2)","v":1},{"$f":"YEAR(vlookup_data[[#This Row],[Column8]])","v":1900},0,{"$f":"CONCATENATE(vlookup_data[[#This Row],[style '#]],\"|\",R146)","v":"0|"}]
[{"$f":"IF(ISNUMBER(U147)=TRUE,VLOOKUP(vlookup_data[[#This Row],[style '#]],[2]Sheet1!$A:$D,4,0)*ABS(U147),0)","v":0},{"$f":"WEEKNUM(vlookup_data[[#This Row],[Column8]],2)","v":1},{"$f":"YEAR(vlookup_data[[#This Row],[Column8]])","v":1900},0,{"$f":"CONCATENATE(vlookup_data[[#This Row],[style '#]],\"|\",R147)","v":"0|"}]
[{"$f":"IF(ISNUMBER(U148)=TRUE,VLOOKUP(vlookup_data[[#This Row],[style '#]],[2]Sheet1!$A:$D,4,0)*ABS(U148),0)","v":0},{"$f":"WEEKNUM(vlookup_data[[#This Row],[Column8]],2)","v":1},{"$f":"YEAR(vlookup_data[[#This Row],[Column8]])","v":1900},0,{"$f":"CONCATENATE(vlookup_data[[#This Row],[style '#]],\"|\",R148)","v":"0|"}]
[{"$f":"IF(ISNUMBER(U149)=TRUE,VLOOKUP(vlookup_data[[#This Row],[style '#]],[2]Sheet1!$A:$D,4,0)*ABS(U149),0)","v":0},{"$f":"WEEKNUM(vlookup_data[[#This Row],[Column8]],2)","v":1},{"$f":"YEAR(vlookup_data[[#This Row],[Column8]])","v":1900},0,{"$f":"CONCATENATE(vlookup_data[[#This Row],[style '#]],\"|\",R149)","v":"0|"}]
[{"$f":"IF(ISNUMBER(U150)=TRUE,VLOOKUP(vlookup_data[[#This Row],[style '#]],[2]Sheet1!$A:$D,4,0)*ABS(U150),0)","v":0},{"$f":"WEEKNUM(vlookup_data[[#This Row],[Column8]],2)","v":1},{"$f":"YEAR(vlookup_data[[#This Row],[Column8]])","v":1900},0,{"$f":"CONCATENATE(vlookup_data[[#This Row],[style '#]],\"|\",R150)","v":"0|"}]
[{"$f":"IF(ISNUMBER(U151)=TRUE,VLOOKUP(vlookup_data[[#This Row],[style '#]],[2]Sheet1!$A:$D,4,0)*ABS(U151),0)","v":0},{"$f":"WEEKNUM(vlookup_data[[#This Row],[Column8]],2)","v":1},{"$f":"YEAR(vlookup_data[[#This Row],[Column8]])","v":1900},0,{"$f":"CONCATENATE(vlookup_data[[#This Row],[style '#]],\"|\",R151)","v":"0|"}]
[{"$f":"IF(ISNUMBER(U152)=TRUE,VLOOKUP(vlookup_data[[#This Row],[style '#]],[2]Sheet1!$A:$D,4,0)*ABS(U152),0)","v":0},{"$f":"WEEKNUM(vlookup_data[[#This Row],[Column8]],2)","v":1},{"$f":"YEAR(vlookup_data[[#This Row],[Column8]])","v":1900},0,{"$f":"CONCATENATE(vlookup_data[[#This Row],[style '#]],\"|\",R152)","v":"0|"}]
[{"$f":"IF(ISNUMBER(U153)=TRUE,VLOOKUP(vlookup_data[[#This Row],[style '#]],[2]Sheet1!$A:$D,4,0)*ABS(U153),0)","v":0},{"$f":"WEEKNUM(vlookup_data[[#This Row],[Column8]],2)","v":1},{"$f":"YEAR(vlookup_data[[#This Row],[Column8]])","v":1900},0,{"$f":"CONCATENATE(vlookup_data[[#This Row],[style '#]],\"|\",R153)","v":"0|"}]
[{"$f":"IF(ISNUMBER(U154)=TRUE,VLOOKUP(vlookup_data[[#This Row],[style '#]],[2]Sheet1!$A:$D,4,0)*ABS(U154),0)","v":0},{"$f":"WEEKNUM(vlookup_data[[#This Row],[Column8]],2)","v":1},{"$f":"YEAR(vlookup_data[[#This Row],[Column8]])","v":1900},0,{"$f":"CONCATENATE(vlookup_data[[#This Row],[style '#]],\"|\",R154)","v":"0|"}]
[{"$f":"IF(ISNUMBER(U155)=TRUE,VLOOKUP(vlookup_data[[#This Row],[style '#]],[2]Sheet1!$A:$D,4,0)*ABS(U155),0)","v":0},{"$f":"WEEKNUM(vlookup_data[[#This Row],[Column8]],2)","v":1},{"$f":"YEAR(vlookup_data[[#This Row],[Column8]])","v":1900},{"$f":"VALUE(G155)","v":0},{"$f":"CONCATENATE(vlookup_data[[#This Row],[style '#]],\"|\",R155)","v":"0|"}]
[{"$f":"IF(ISNUMBER(U156)=TRUE,VLOOKUP(vlookup_data[[#This Row],[style '#]],[2]Sheet1!$A:$D,4,0)*ABS(U156),0)","v":0},{"$f":"WEEKNUM(vlookup_data[[#This Row],[Column8]],2)","v":1},{"$f":"YEAR(vlookup_data[[#This Row],[Column8]])","v":1900},0,{"$f":"CONCATENATE(vlookup_data[[#This Row],[style '#]],\"|\",R156)","v":"0|"}]
[{"$f":"IF(ISNUMBER(U157)=TRUE,VLOOKUP(vlookup_data[[#This Row],[style '#]],[2]Sheet1!$A:$D,4,0)*ABS(U157),0)","v":0},{"$f":"WEEKNUM(vlookup_data[[#This Row],[Column8]],2)","v":1},{"$f":"YEAR(vlookup_data[[#This Row],[Column8]])","v":1900},0,{"$f":"CONCATENATE(vlookup_data[[#This Row],[style '#]],\"|\",R157)","v":"0|"}]
[{"$f":"IF(ISNUMBER(U158)=TRUE,VLOOKUP(vlookup_data[[#This Row],[style '#]],[2]Sheet1!$A:$D,4,0)*ABS(U158),0)","v":0},{"$f":"WEEKNUM(vlookup_data[[#This Row],[Column8]],2)","v":1},{"$f":"YEAR(vlookup_data[[#This Row],[Column8]])","v":1900},0,{"$f":"CONCATENATE(vlookup_data[[#This Row],[style '#]],\"|\",R158)","v":"0|"}]
[{"$f":"IF(ISNUMBER(U159)=TRUE,VLOOKUP(vlookup_data[[#This Row],[style '#]],[2]Sheet1!$A:$D,4,0)*ABS(U159),0)","v":0},{"$f":"WEEKNUM(vlookup_data[[#This Row],[Column8]],2)","v":1},{"$f":"YEAR(vlookup_data[[#This Row],[Column8]])","v":1900},0,{"$f":"CONCATENATE(vlookup_data[[#This Row],[style '#]],\"|\",R159)","v":"0|"}]
[{"$f":"IF(ISNUMBER(U160)=TRUE,VLOOKUP(vlookup_data[[#This Row],[style '#]],[2]Sheet1!$A:$D,4,0)*ABS(U160),0)","v":0},{"$f":"WEEKNUM(vlookup_data[[#This Row],[Column8]],2)","v":1},{"$f":"YEAR(vlookup_data[[#This Row],[Column8]])","v":1900},0,{"$f":"CONCATENATE(vlookup_data[[#This Row],[style '#]],\"|\",R160)","v":"0|"}]
[{"$f":"IF(ISNUMBER(U161)=TRUE,VLOOKUP(vlookup_data[[#This Row],[style '#]],[2]Sheet1!$A:$D,4,0)*ABS(U161),0)","v":0},{"$f":"WEEKNUM(vlookup_data[[#This Row],[Column8]],2)","v":1},{"$f":"YEAR(vlookup_data[[#This Row],[Column8]])","v":1900},0,{"$f":"CONCATENATE(vlookup_data[[#This Row],[style '#]],\"|\",R161)","v":"0|"}]
[{"$f":"IF(ISNUMBER(U162)=TRUE,VLOOKUP(vlookup_data[[#This Row],[style '#]],[2]Sheet1!$A:$D,4,0)*ABS(U162),0)","v":0},{"$f":"WEEKNUM(vlookup_data[[#This Row],[Column8]],2)","v":1},{"$f":"YEAR(vlookup_data[[#This Row],[Column8]])","v":1900},0,{"$f":"CONCATENATE(vlookup_data[[#This Row],[style '#]],\"|\",R162)","v":"0|"}]
[{"$f":"IF(ISNUMBER(U163)=TRUE,VLOOKUP(vlookup_data[[#This Row],[style '#]],[2]Sheet1!$A:$D,4,0)*ABS(U163),0)","v":0},{"$f":"WEEKNUM(vlookup_data[[#This Row],[Column8]],2)","v":1},{"$f":"YEAR(vlookup_data[[#This Row],[Column8]])","v":1900},0,{"$f":"CONCATENATE(vlookup_data[[#This Row],[style '#]],\"|\",R163)","v":"0|"}]
[{"$f":"IF(ISNUMBER(U164)=TRUE,VLOOKUP(vlookup_data[[#This Row],[style '#]],[2]Sheet1!$A:$D,4,0)*ABS(U164),0)","v":0},{"$f":"WEEKNUM(vlookup_data[[#This Row],[Column8]],2)","v":1},{"$f":"YEAR(vlookup_data[[#This Row],[Column8]])","v":1900},0,{"$f":"CONCATENATE(vlookup_data[[#This Row],[style '#]],\"|\",R164)","v":"0|"}]
[{"$f":"IF(ISNUMBER(U165)=TRUE,VLOOKUP(vlookup_data[[#This Row],[style '#]],[2]Sheet1!$A:$D,4,0)*ABS(U165),0)","v":0},{"$f":"WEEKNUM(vlookup_data[[#This Row],[Column8]],2)","v":1},{"$f":"YEAR(vlookup_data[[#This Row],[Column8]])","v":1900},0,{"$f":"CONCATENATE(vlookup_data[[#This Row],[style '#]],\"|\",R165)","v":"0|"}]
[{"$f":"IF(ISNUMBER(U166)=TRUE,VLOOKUP(vlookup_data[[#This Row],[style '#]],[2]Sheet1!$A:$D,4,0)*ABS(U166),0)","v":0},{"$f":"WEEKNUM(vlookup_data[[#This Row],[Column8]],2)","v":1},{"$f":"YEAR(vlookup_data[[#This Row],[Column8]])","v":1900},0,{"$f":"CONCATENATE(vlookup_data[[#This Row],[style '#]],\"|\",R166)","v":"0|"}]
[{"$f":"IF(ISNUMBER(U167)=TRUE,VLOOKUP(vlookup_data[[#This Row],[style '#]],[2]Sheet1!$A:$D,4,0)*ABS(U167),0)","v":0},{"$f":"WEEKNUM(vlookup_data[[#This Row],[Column8]],2)","v":1},{"$f":"YEAR(vlookup_data[[#This Row],[Column8]])","v":1900},0,{"$f":"CONCATENATE(vlookup_data[[#This Row],[style '#]],\"|\",R167)","v":"0|"}]
[{"$f":"IF(ISNUMBER(U168)=TRUE,VLOOKUP(vlookup_data[[#This Row],[style '#]],[2]Sheet1!$A:$D,4,0)*ABS(U168),0)","v":0},{"$f":"WEEKNUM(vlookup_data[[#This Row],[Column8]],2)","v":1},{"$f":"YEAR(vlookup_data[[#This Row],[Column8]])","v":1900},0,{"$f":"CONCATENATE(vlookup_data[[#This Row],[style '#]],\"|\",R168)","v":"0|"}]
[{"$f":"IF(ISNUMBER(U169)=TRUE,VLOOKUP(vlookup_data[[#This Row],[style '#]],[2]Sheet1!$A:$D,4,0)*ABS(U169),0)","v":0},{"$f":"WEEKNUM(vlookup_data[[#This Row],[Column8]],2)","v":1},{"$f":"YEAR(vlookup_data[[#This Row],[Column8]])","v":1900},0,{"$f":"CONCATENATE(vlookup_data[[#This Row],[style '#]],\"|\",R169)","v":"0|"}]
[{"$f":"IF(ISNUMBER(U170)=TRUE,VLOOKUP(vlookup_data[[#This Row],[style '#]],[2]Sheet1!$A:$D,4,0)*ABS(U170),0)","v":0},{"$f":"WEEKNUM(vlookup_data[[#This Row],[Column8]],2)","v":1},{"$f":"YEAR(vlookup_data[[#This Row],[Column8]])","v":1900},0,{"$f":"CONCATENATE(vlookup_data[[#This Row],[style '#]],\"|\",R170)","v":"0|"}]
[{"$f":"IF(ISNUMBER(U171)=TRUE,VLOOKUP(vlookup_data[[#This Row],[style '#]],[2]Sheet1!$A:$D,4,0)*ABS(U171),0)","v":0},{"$f":"WEEKNUM(vlookup_data[[#This Row],[Column8]],2)","v":1},{"$f":"YEAR(vlookup_data[[#This Row],[Column8]])","v":1900},0,{"$f":"CONCATENATE(vlookup_data[[#This Row],[style '#]],\"|\",R171)","v":"0|"}]
[{"$f":"IF(ISNUMBER(U172)=TRUE,VLOOKUP(vlookup_data[[#This Row],[style '#]],[2]Sheet1!$A:$D,4,0)*ABS(U172),0)","v":0},{"$f":"WEEKNUM(vlookup_data[[#This Row],[Column8]],2)","v":1},{"$f":"YEAR(vlookup_data[[#This Row],[Column8]])","v":1900},0,{"$f":"CONCATENATE(vlookup_data[[#This Row],[style '#]],\"|\",R172)","v":"0|"}]
[{"$f":"IF(ISNUMBER(U173)=TRUE,VLOOKUP(vlookup_data[[#This Row],[style '#]],[2]Sheet1!$A:$D,4,0)*ABS(U173),0)","v":0},{"$f":"WEEKNUM(vlookup_data[[#This Row],[Column8]],2)","v":1},{"$f":"YEAR(vlookup_data[[#This Row],[Column8]])","v":1900},0,{"$f":"CONCATENATE(vlookup_data[[#This Row],[style '#]],\"|\",R173)","v":"0|"}]
[{"$f":"IF(ISNUMBER(U174)=TRUE,VLOOKUP(vlookup_data[[#This Row],[style '#]],[2]Sheet1!$A:$D,4,0)*ABS(U174),0)","v":0},{"$f":"WEEKNUM(vlookup_data[[#This Row],[Column8]],2)","v":1},{"$f":"YEAR(vlookup_data[[#This Row],[Column8]])","v":1900},0,{"$f":"CONCATENATE(vlookup_data[[#This Row],[style '#]],\"|\",R174)","v":"0|"}]
[{"$f":"IF(ISNUMBER(U175)=TRUE,VLOOKUP(vlookup_data[[#This Row],[style '#]],[2]Sheet1!$A:$D,4,0)*ABS(U175),0)","v":0},{"$f":"WEEKNUM(vlookup_data[[#This Row],[Column8]],2)","v":1},{"$f":"YEAR(vlookup_data[[#This Row],[Column8]])","v":1900},0,{"$f":"CONCATENATE(vlookup_data[[#This Row],[style '#]],\"|\",R175)","v":"0|"}]
[{"$f":"IF(ISNUMBER(U176)=TRUE,VLOOKUP(vlookup_data[[#This Row],[style '#]],[2]Sheet1!$A:$D,4,0)*ABS(U176),0)","v":0},{"$f":"WEEKNUM(vlookup_data[[#This Row],[Column8]],2)","v":1},{"$f":"YEAR(vlookup_data[[#This Row],[Column8]])","v":1900},0,{"$f":"CONCATENATE(vlookup_data[[#This Row],[style '#]],\"|\",R176)","v":"0|"}]
[{"$f":"IF(ISNUMBER(U177)=TRUE,VLOOKUP(vlookup_data[[#This Row],[style '#]],[2]Sheet1!$A:$D,4,0)*ABS(U177),0)","v":0},{"$f":"WEEKNUM(vlookup_data[[#This Row],[Column8]],2)","v":1},{"$f":"YEAR(vlookup_data[[#This Row],[Column8]])","v":1900},0,{"$f":"CONCATENATE(vlookup_data[[#This Row],[style '#]],\"|\",R177)","v":"0|"}]
[{"$f":"IF(ISNUMBER(U178)=TRUE,VLOOKUP(vlookup_data[[#This Row],[style '#]],[2]Sheet1!$A:$D,4,0)*ABS(U178),0)","v":0},{"$f":"WEEKNUM(vlookup_data[[#This Row],[Column8]],2)","v":1},{"$f":"YEAR(vlookup_data[[#This Row],[Column8]])","v":1900},0,{"$f":"CONCATENATE(vlookup_data[[#This Row],[style '#]],\"|\",R178)","v":"0|"}]
[{"$f":"IF(ISNUMBER(U179)=TRUE,VLOOKUP(vlookup_data[[#This Row],[style '#]],[2]Sheet1!$A:$D,4,0)*ABS(U179),0)","v":0},{"$f":"WEEKNUM(vlookup_data[[#This Row],[Column8]],2)","v":1},{"$f":"YEAR(vlookup_data[[#This Row],[Column8]])","v":1900},0,{"$f":"CONCATENATE(vlookup_data[[#This Row],[style '#]],\"|\",R179)","v":"0|"}]
[{"$f":"IF(ISNUMBER(U180)=TRUE,VLOOKUP(vlookup_data[[#This Row],[style '#]],[2]Sheet1!$A:$D,4,0)*ABS(U180),0)","v":0},{"$f":"WEEKNUM(vlookup_data[[#This Row],[Column8]],2)","v":1},{"$f":"YEAR(vlookup_data[[#This Row],[Column8]])","v":1900},0,{"$f":"CONCATENATE(vlookup_data[[#This Row],[style '#]],\"|\",R180)","v":"0|"}]
[{"$f":"IF(ISNUMBER(U181)=TRUE,VLOOKUP(vlookup_data[[#This Row],[style '#]],[2]Sheet1!$A:$D,4,0)*ABS(U181),0)","v":0},{"$f":"WEEKNUM(vlookup_data[[#This Row],[Column8]],2)","v":1},{"$f":"YEAR(vlookup_data[[#This Row],[Column8]])","v":1900},0,{"$f":"CONCATENATE(vlookup_data[[#This Row],[style '#]],\"|\",R181)","v":"0|"}]
[{"$f":"IF(ISNUMBER(U182)=TRUE,VLOOKUP(vlookup_data[[#This Row],[style '#]],[2]Sheet1!$A:$D,4,0)*ABS(U182),0)","v":0},{"$f":"WEEKNUM(vlookup_data[[#This Row],[Column8]],2)","v":1},{"$f":"YEAR(vlookup_data[[#This Row],[Column8]])","v":1900},0,{"$f":"CONCATENATE(vlookup_data[[#This Row],[style '#]],\"|\",R182)","v":"0|"}]
[{"$f":"IF(ISNUMBER(U183)=TRUE,VLOOKUP(vlookup_data[[#This Row],[style '#]],[2]Sheet1!$A:$D,4,0)*ABS(U183),0)","v":0},{"$f":"WEEKNUM(vlookup_data[[#This Row],[Column8]],2)","v":1},{"$f":"YEAR(vlookup_data[[#This Row],[Column8]])","v":1900},0,{"$f":"CONCATENATE(vlookup_data[[#This Row],[style '#]],\"|\",R183)","v":"0|"}]
[{"$f":"IF(ISNUMBER(U184)=TRUE,VLOOKUP(vlookup_data[[#This Row],[style '#]],[2]Sheet1!$A:$D,4,0)*ABS(U184),0)","v":0},{"$f":"WEEKNUM(vlookup_data[[#This Row],[Column8]],2)","v":1},{"$f":"YEAR(vlookup_data[[#This Row],[Column8]])","v":1900},0,{"$f":"CONCATENATE(vlookup_data[[#This Row],[style '#]],\"|\",R184)","v":"0|"}]
[{"$f":"IF(ISNUMBER(U185)=TRUE,VLOOKUP(vlookup_data[[#This Row],[style '#]],[2]Sheet1!$A:$D,4,0)*ABS(U185),0)","v":0},{"$f":"WEEKNUM(vlookup_data[[#This Row],[Column8]],2)","v":1},{"$f":"YEAR(vlookup_data[[#This Row],[Column8]])","v":1900},0,{"$f":"CONCATENATE(vlookup_data[[#This Row],[style '#]],\"|\",R185)","v":"0|"}]
[{"$f":"IF(ISNUMBER(U186)=TRUE,VLOOKUP(vlookup_data[[#This Row],[style '#]],[2]Sheet1!$A:$D,4,0)*ABS(U186),0)","v":0},{"$f":"WEEKNUM(vlookup_data[[#This Row],[Column8]],2)","v":1},{"$f":"YEAR(vlookup_data[[#This Row],[Column8]])","v":1900},0,{"$f":"CONCATENATE(vlookup_data[[#This Row],[style '#]],\"|\",R186)","v":"0|"}]
[{"$f":"IF(ISNUMBER(U187)=TRUE,VLOOKUP(vlookup_data[[#This Row],[style '#]],[2]Sheet1!$A:$D,4,0)*ABS(U187),0)","v":0},{"$f":"WEEKNUM(vlookup_data[[#This Row],[Column8]],2)","v":1},{"$f":"YEAR(vlookup_data[[#This Row],[Column8]])","v":1900},{"$f":"VALUE(G187)","v":0},{"$f":"CONCATENATE(vlookup_data[[#This Row],[style '#]],\"|\",R187)","v":"0|"}]
[{"$f":"IF(ISNUMBER(U188)=TRUE,VLOOKUP(vlookup_data[[#This Row],[style '#]],[2]Sheet1!$A:$D,4,0)*ABS(U188),0)","v":0},{"$f":"WEEKNUM(vlookup_data[[#This Row],[Column8]],2)","v":1},{"$f":"YEAR(vlookup_data[[#This Row],[Column8]])","v":1900},0,{"$f":"CONCATENATE(vlookup_data[[#This Row],[style '#]],\"|\",R188)","v":"0|"}]
[{"$f":"IF(ISNUMBER(U189)=TRUE,VLOOKUP(vlookup_data[[#This Row],[style '#]],[2]Sheet1!$A:$D,4,0)*ABS(U189),0)","v":0},{"$f":"WEEKNUM(vlookup_data[[#This Row],[Column8]],2)","v":1},{"$f":"YEAR(vlookup_data[[#This Row],[Column8]])","v":1900},0,{"$f":"CONCATENATE(vlookup_data[[#This Row],[style '#]],\"|\",R189)","v":"0|"}]
[{"$f":"IF(ISNUMBER(U190)=TRUE,VLOOKUP(vlookup_data[[#This Row],[style '#]],[2]Sheet1!$A:$D,4,0)*ABS(U190),0)","v":0},{"$f":"WEEKNUM(vlookup_data[[#This Row],[Column8]],2)","v":1},{"$f":"YEAR(vlookup_data[[#This Row],[Column8]])","v":1900},0,{"$f":"CONCATENATE(vlookup_data[[#This Row],[style '#]],\"|\",R190)","v":"0|"}]
[{"$f":"IF(ISNUMBER(U191)=TRUE,VLOOKUP(vlookup_data[[#This Row],[style '#]],[2]Sheet1!$A:$D,4,0)*ABS(U191),0)","v":0},{"$f":"WEEKNUM(vlookup_data[[#This Row],[Column8]],2)","v":1},{"$f":"YEAR(vlookup_data[[#This Row],[Column8]])","v":1900},0,{"$f":"CONCATENATE(vlookup_data[[#This Row],[style '#]],\"|\",R191)","v":"0|"}]
[{"$f":"IF(ISNUMBER(U192)=TRUE,VLOOKUP(vlookup_data[[#This Row],[style '#]],[2]Sheet1!$A:$D,4,0)*ABS(U192),0)","v":0},{"$f":"WEEKNUM(vlookup_data[[#This Row],[Column8]],2)","v":1},{"$f":"YEAR(vlookup_data[[#This Row],[Column8]])","v":1900},0,{"$f":"CONCATENATE(vlookup_data[[#This Row],[style '#]],\"|\",R192)","v":"0|"}]
[{"$f":"IF(ISNUMBER(U193)=TRUE,VLOOKUP(vlookup_data[[#This Row],[style '#]],[2]Sheet1!$A:$D,4,0)*ABS(U193),0)","v":0},{"$f":"WEEKNUM(vlookup_data[[#This Row],[Column8]],2)","v":1},{"$f":"YEAR(vlookup_data[[#This Row],[Column8]])","v":1900},0,{"$f":"CONCATENATE(vlookup_data[[#This Row],[style '#]],\"|\",R193)","v":"0|"}]
[{"$f":"IF(ISNUMBER(U194)=TRUE,VLOOKUP(vlookup_data[[#This Row],[style '#]],[2]Sheet1!$A:$D,4,0)*ABS(U194),0)","v":0},{"$f":"WEEKNUM(vlookup_data[[#This Row],[Column8]],2)","v":1},{"$f":"YEAR(vlookup_data[[#This Row],[Column8]])","v":1900},0,{"$f":"CONCATENATE(vlookup_data[[#This Row],[style '#]],\"|\",R194)","v":"0|"}]
[{"$f":"IF(ISNUMBER(U195)=TRUE,VLOOKUP(vlookup_data[[#This Row],[style '#]],[2]Sheet1!$A:$D,4,0)*ABS(U195),0)","v":0},{"$f":"WEEKNUM(vlookup_data[[#This Row],[Column8]],2)","v":1},{"$f":"YEAR(vlookup_data[[#This Row],[Column8]])","v":1900},0,{"$f":"CONCATENATE(vlookup_data[[#This Row],[style '#]],\"|\",R195)","v":"0|"}]
[{"$f":"IF(ISNUMBER(U196)=TRUE,VLOOKUP(vlookup_data[[#This Row],[style '#]],[2]Sheet1!$A:$D,4,0)*ABS(U196),0)","v":0},{"$f":"WEEKNUM(vlookup_data[[#This Row],[Column8]],2)","v":1},{"$f":"YEAR(vlookup_data[[#This Row],[Column8]])","v":1900},0,{"$f":"CONCATENATE(vlookup_data[[#This Row],[style '#]],\"|\",R196)","v":"0|"}]
[{"$f":"IF(ISNUMBER(U197)=TRUE,VLOOKUP(vlookup_data[[#This Row],[style '#]],[2]Sheet1!$A:$D,4,0)*ABS(U197),0)","v":0},{"$f":"WEEKNUM(vlookup_data[[#This Row],[Column8]],2)","v":1},{"$f":"YEAR(vlookup_data[[#This Row],[Column8]])","v":1900},0,{"$f":"CONCATENATE(vlookup_data[[#This Row],[style '#]],\"|\",R197)","v":"0|"}]
[{"$f":"IF(ISNUMBER(U198)=TRUE,VLOOKUP(vlookup_data[[#This Row],[style '#]],[2]Sheet1!$A:$D,4,0)*ABS(U198),0)","v":0},{"$f":"WEEKNUM(vlookup_data[[#This Row],[Column8]],2)","v":1},{"$f":"YEAR(vlookup_data[[#This Row],[Column8]])","v":1900},0,{"$f":"CONCATENATE(vlookup_data[[#This Row],[style '#]],\"|\",R198)","v":"0|"}]
[{"$f":"IF(ISNUMBER(U199)=TRUE,VLOOKUP(vlookup_data[[#This Row],[style '#]],[2]Sheet1!$A:$D,4,0)*ABS(U199),0)","v":0},{"$f":"WEEKNUM(vlookup_data[[#This Row],[Column8]],2)","v":1},{"$f":"YEAR(vlookup_data[[#This Row],[Column8]])","v":1900},0,{"$f":"CONCATENATE(vlookup_data[[#This Row],[style '#]],\"|\",R199)","v":"0|"}]
[{"$f":"IF(ISNUMBER(U200)=TRUE,VLOOKUP(vlookup_data[[#This Row],[style '#]],[2]Sheet1!$A:$D,4,0)*ABS(U200),0)","v":0},{"$f":"WEEKNUM(vlookup_data[[#This Row],[Column8]],2)","v":1},{"$f":"YEAR(vlookup_data[[#This Row],[Column8]])","v":1900},0,{"$f":"CONCATENATE(vlookup_data[[#This Row],[style '#]],\"|\",R200)","v":"0|"}]
[{"$f":"IF(ISNUMBER(U201)=TRUE,VLOOKUP(vlookup_data[[#This Row],[style '#]],[2]Sheet1!$A:$D,4,0)*ABS(U201),0)","v":0},{"$f":"WEEKNUM(vlookup_data[[#This Row],[Column8]],2)","v":1},{"$f":"YEAR(vlookup_data[[#This Row],[Column8]])","v":1900},{"$f":"VALUE(G201)","v":0},{"$f":"CONCATENATE(vlookup_data[[#This Row],[style '#]],\"|\",R201)","v":"0|"}]
[{"$f":"IF(ISNUMBER(U202)=TRUE,VLOOKUP(vlookup_data[[#This Row],[style '#]],[2]Sheet1!$A:$D,4,0)*ABS(U202),0)","v":0},{"$f":"WEEKNUM(vlookup_data[[#This Row],[Column8]],2)","v":1},{"$f":"YEAR(vlookup_data[[#This Row],[Column8]])","v":1900},0,{"$f":"CONCATENATE(vlookup_data[[#This Row],[style '#]],\"|\",R202)","v":"0|"}]
[{"$f":"IF(ISNUMBER(U203)=TRUE,VLOOKUP(vlookup_data[[#This Row],[style '#]],[2]Sheet1!$A:$D,4,0)*ABS(U203),0)","v":0},{"$f":"WEEKNUM(vlookup_data[[#This Row],[Column8]],2)","v":1},{"$f":"YEAR(vlookup_data[[#This Row],[Column8]])","v":1900},0,{"$f":"CONCATENATE(vlookup_data[[#This Row],[style '#]],\"|\",R203)","v":"0|"}]
[{"$f":"IF(ISNUMBER(U204)=TRUE,VLOOKUP(vlookup_data[[#This Row],[style '#]],[2]Sheet1!$A:$D,4,0)*ABS(U204),0)","v":0},{"$f":"WEEKNUM(vlookup_data[[#This Row],[Column8]],2)","v":1},{"$f":"YEAR(vlookup_data[[#This Row],[Column8]])","v":1900},0,{"$f":"CONCATENATE(vlookup_data[[#This Row],[style '#]],\"|\",R204)","v":"0|"}]
[{"$f":"IF(ISNUMBER(U205)=TRUE,VLOOKUP(vlookup_data[[#This Row],[style '#]],[2]Sheet1!$A:$D,4,0)*ABS(U205),0)","v":0},{"$f":"WEEKNUM(vlookup_data[[#This Row],[Column8]],2)","v":1},{"$f":"YEAR(vlookup_data[[#This Row],[Column8]])","v":1900},0,{"$f":"CONCATENATE(vlookup_data[[#This Row],[style '#]],\"|\",R205)","v":"0|"}]
[{"$f":"IF(ISNUMBER(U206)=TRUE,VLOOKUP(vlookup_data[[#This Row],[style '#]],[2]Sheet1!$A:$D,4,0)*ABS(U206),0)","v":0},{"$f":"WEEKNUM(vlookup_data[[#This Row],[Column8]],2)","v":1},{"$f":"YEAR(vlookup_data[[#This Row],[Column8]])","v":1900},0,{"$f":"CONCATENATE(vlookup_data[[#This Row],[style '#]],\"|\",R206)","v":"0|"}]
[{"$f":"IF(ISNUMBER(U207)=TRUE,VLOOKUP(vlookup_data[[#This Row],[style '#]],[2]Sheet1!$A:$D,4,0)*ABS(U207),0)","v":0},{"$f":"WEEKNUM(vlookup_data[[#This Row],[Column8]],2)","v":1},{"$f":"YEAR(vlookup_data[[#This Row],[Column8]])","v":1900},0,{"$f":"CONCATENATE(vlookup_data[[#This Row],[style '#]],\"|\",R207)","v":"0|"}]
[{"$f":"IF(ISNUMBER(U208)=TRUE,VLOOKUP(vlookup_data[[#This Row],[style '#]],[2]Sheet1!$A:$D,4,0)*ABS(U208),0)","v":0},{"$f":"WEEKNUM(vlookup_data[[#This Row],[Column8]],2)","v":1},{"$f":"YEAR(vlookup_data[[#This Row],[Column8]])","v":1900},0,{"$f":"CONCATENATE(vlookup_data[[#This Row],[style '#]],\"|\",R208)","v":"0|"}]
[{"$f":"IF(ISNUMBER(U209)=TRUE,VLOOKUP(vlookup_data[[#This Row],[style '#]],[2]Sheet1!$A:$D,4,0)*ABS(U209),0)","v":0},{"$f":"WEEKNUM(vlookup_data[[#This Row],[Column8]],2)","v":1},{"$f":"YEAR(vlookup_data[[#This Row],[Column8]])","v":1900},0,{"$f":"CONCATENATE(vlookup_data[[#This Row],[style '#]],\"|\",R209)","v":"0|"}]
[{"$f":"IF(ISNUMBER(U210)=TRUE,VLOOKUP(vlookup_data[[#This Row],[style '#]],[2]Sheet1!$A:$D,4,0)*ABS(U210),0)","v":0},{"$f":"WEEKNUM(vlookup_data[[#This Row],[Column8]],2)","v":1},{"$f":"YEAR(vlookup_data[[#This Row],[Column8]])","v":1900},0,{"$f":"CONCATENATE(vlookup_data[[#This Row],[style '#]],\"|\",R210)","v":"0|"}]
[{"$f":"IF(ISNUMBER(U211)=TRUE,VLOOKUP(vlookup_data[[#This Row],[style '#]],[2]Sheet1!$A:$D,4,0)*ABS(U211),0)","v":0},{"$f":"WEEKNUM(vlookup_data[[#This Row],[Column8]],2)","v":1},{"$f":"YEAR(vlookup_data[[#This Row],[Column8]])","v":1900},0,{"$f":"CONCATENATE(vlookup_data[[#This Row],[style '#]],\"|\",R211)","v":"0|"}]
[{"$f":"IF(ISNUMBER(U212)=TRUE,VLOOKUP(vlookup_data[[#This Row],[style '#]],[2]Sheet1!$A:$D,4,0)*ABS(U212),0)","v":0},{"$f":"WEEKNUM(vlookup_data[[#This Row],[Column8]],2)","v":1},{"$f":"YEAR(vlookup_data[[#This Row],[Column8]])","v":1900},0,{"$f":"CONCATENATE(vlookup_data[[#This Row],[style '#]],\"|\",R212)","v":"0|"}]
[{"$f":"IF(ISNUMBER(U213)=TRUE,VLOOKUP(vlookup_data[[#This Row],[style '#]],[2]Sheet1!$A:$D,4,0)*ABS(U213),0)","v":0},{"$f":"WEEKNUM(vlookup_data[[#This Row],[Column8]],2)","v":1},{"$f":"YEAR(vlookup_data[[#This Row],[Column8]])","v":1900},0,{"$f":"CONCATENATE(vlookup_data[[#This Row],[style '#]],\"|\",R213)","v":"0|"}]
[{"$f":"IF(ISNUMBER(U214)=TRUE,VLOOKUP(vlookup_data[[#This Row],[style '#]],[2]Sheet1!$A:$D,4,0)*ABS(U214),0)","v":0},{"$f":"WEEKNUM(vlookup_data[[#This Row],[Column8]],2)","v":1},{"$f":"YEAR(vlookup_data[[#This Row],[Column8]])","v":1900},0,{"$f":"CONCATENATE(vlookup_data[[#This Row],[style '#]],\"|\",R214)","v":"0|"}]
[{"$f":"IF(ISNUMBER(U215)=TRUE,VLOOKUP(vlookup_data[[#This Row],[style '#]],[2]Sheet1!$A:$D,4,0)*ABS(U215),0)","v":0},{"$f":"WEEKNUM(vlookup_data[[#This Row],[Column8]],2)","v":1},{"$f":"YEAR(vlookup_data[[#This Row],[Column8]])","v":1900},0,{"$f":"CONCATENATE(vlookup_data[[#This Row],[style '#]],\"|\",R215)","v":"0|"}]
[{"$f":"IF(ISNUMBER(U216)=TRUE,VLOOKUP(vlookup_data[[#This Row],[style '#]],[2]Sheet1!$A:$D,4,0)*ABS(U216),0)","v":0},{"$f":"WEEKNUM(vlookup_data[[#This Row],[Column8]],2)","v":1},{"$f":"YEAR(vlookup_data[[#This Row],[Column8]])","v":1900},0,{"$f":"CONCATENATE(vlookup_data[[#This Row],[style '#]],\"|\",R216)","v":"0|"}]
[{"$f":"IF(ISNUMBER(U217)=TRUE,VLOOKUP(vlookup_data[[#This Row],[style '#]],[2]Sheet1!$A:$D,4,0)*ABS(U217),0)","v":0},{"$f":"WEEKNUM(vlookup_data[[#This Row],[Column8]],2)","v":1},{"$f":"YEAR(vlookup_data[[#This Row],[Column8]])","v":1900},0,{"$f":"CONCATENATE(vlookup_data[[#This Row],[style '#]],\"|\",R217)","v":"0|"}]
[{"$f":"IF(ISNUMBER(U218)=TRUE,VLOOKUP(vlookup_data[[#This Row],[style '#]],[2]Sheet1!$A:$D,4,0)*ABS(U218),0)","v":0},{"$f":"WEEKNUM(vlookup_data[[#This Row],[Column8]],2)","v":1},{"$f":"YEAR(vlookup_data[[#This Row],[Column8]])","v":1900},0,{"$f":"CONCATENATE(vlookup_data[[#This Row],[style '#]],\"|\",R218)","v":"0|"}]
[{"$f":"IF(ISNUMBER(U219)=TRUE,VLOOKUP(vlookup_data[[#This Row],[style '#]],[2]Sheet1!$A:$D,4,0)*ABS(U219),0)","v":0},{"$f":"WEEKNUM(vlookup_data[[#This Row],[Column8]],2)","v":1},{"$f":"YEAR(vlookup_data[[#This Row],[Column8]])","v":1900},0,{"$f":"CONCATENATE(vlookup_data[[#This Row],[style '#]],\"|\",R219)","v":"0|"}]
[{"$f":"IF(ISNUMBER(U220)=TRUE,VLOOKUP(vlookup_data[[#This Row],[style '#]],[2]Sheet1!$A:$D,4,0)*ABS(U220),0)","v":0},{"$f":"WEEKNUM(vlookup_data[[#This Row],[Column8]],2)","v":1},{"$f":"YEAR(vlookup_data[[#This Row],[Column8]])","v":1900},0,{"$f":"CONCATENATE(vlookup_data[[#This Row],[style '#]],\"|\",R220)","v":"0|"}]
[{"$f":"IF(ISNUMBER(U221)=TRUE,VLOOKUP(vlookup_data[[#This Row],[style '#]],[2]Sheet1!$A:$D,4,0)*ABS(U221),0)","v":0},{"$f":"WEEKNUM(vlookup_data[[#This Row],[Column8]],2)","v":1},{"$f":"YEAR(vlookup_data[[#This Row],[Column8]])","v":1900},0,{"$f":"CONCATENATE(vlookup_data[[#This Row],[style '#]],\"|\",R221)","v":"0|"}]
[{"$f":"IF(ISNUMBER(U222)=TRUE,VLOOKUP(vlookup_data[[#This Row],[style '#]],[2]Sheet1!$A:$D,4,0)*ABS(U222),0)","v":0},{"$f":"WEEKNUM(vlookup_data[[#This Row],[Column8]],2)","v":1},{"$f":"YEAR(vlookup_data[[#This Row],[Column8]])","v":1900},0,{"$f":"CONCATENATE(vlookup_data[[#This Row],[style '#]],\"|\",R222)","v":"0|"}]
[{"$f":"IF(ISNUMBER(U223)=TRUE,VLOOKUP(vlookup_data[[#This Row],[style '#]],[2]Sheet1!$A:$D,4,0)*ABS(U223),0)","v":0},{"$f":"WEEKNUM(vlookup_data[[#This Row],[Column8]],2)","v":1},{"$f":"YEAR(vlookup_data[[#This Row],[Column8]])","v":1900},0,{"$f":"CONCATENATE(vlookup_data[[#This Row],[style '#]],\"|\",R223)","v":"0|"}]
[{"$f":"IF(ISNUMBER(U224)=TRUE,VLOOKUP(vlookup_data[[#This Row],[style '#]],[2]Sheet1!$A:$D,4,0)*ABS(U224),0)","v":0},{"$f":"WEEKNUM(vlookup_data[[#This Row],[Column8]],2)","v":1},{"$f":"YEAR(vlookup_data[[#This Row],[Column8]])","v":1900},0,{"$f":"CONCATENATE(vlookup_data[[#This Row],[style '#]],\"|\",R224)","v":"0|"}]
[{"$f":"IF(ISNUMBER(U225)=TRUE,VLOOKUP(vlookup_data[[#This Row],[style '#]],[2]Sheet1!$A:$D,4,0)*ABS(U225),0)","v":0},{"$f":"WEEKNUM(vlookup_data[[#This Row],[Column8]],2)","v":1},{"$f":"YEAR(vlookup_data[[#This Row],[Column8]])","v":1900},0,{"$f":"CONCATENATE(vlookup_data[[#This Row],[style '#]],\"|\",R225)","v":"0|"}]
[{"$f":"IF(ISNUMBER(U226)=TRUE,VLOOKUP(vlookup_data[[#This Row],[style '#]],[2]Sheet1!$A:$D,4,0)*ABS(U226),0)","v":0},{"$f":"WEEKNUM(vlookup_data[[#This Row],[Column8]],2)","v":1},{"$f":"YEAR(vlookup_data[[#This Row],[Column8]])","v":1900},0,{"$f":"CONCATENATE(vlookup_data[[#This Row],[style '#]],\"|\",R226)","v":"0|"}]
[{"$f":"IF(ISNUMBER(U227)=TRUE,VLOOKUP(vlookup_data[[#This Row],[style '#]],[2]Sheet1!$A:$D,4,0)*ABS(U227),0)","v":0},{"$f":"WEEKNUM(vlookup_data[[#This Row],[Column8]],2)","v":1},{"$f":"YEAR(vlookup_data[[#This Row],[Column8]])","v":1900},0,{"$f":"CONCATENATE(vlookup_data[[#This Row],[style '#]],\"|\",R227)","v":"0|"}]
[{"$f":"IF(ISNUMBER(U228)=TRUE,VLOOKUP(vlookup_data[[#This Row],[style '#]],[2]Sheet1!$A:$D,4,0)*ABS(U228),0)","v":0},{"$f":"WEEKNUM(vlookup_data[[#This Row],[Column8]],2)","v":1},{"$f":"YEAR(vlookup_data[[#This Row],[Column8]])","v":1900},0,{"$f":"CONCATENATE(vlookup_data[[#This Row],[style '#]],\"|\",R228)","v":"0|"}]
[{"$f":"IF(ISNUMBER(U229)=TRUE,VLOOKUP(vlookup_data[[#This Row],[style '#]],[2]Sheet1!$A:$D,4,0)*ABS(U229),0)","v":0},{"$f":"WEEKNUM(vlookup_data[[#This Row],[Column8]],2)","v":1},{"$f":"YEAR(vlookup_data[[#This Row],[Column8]])","v":1900},0,{"$f":"CONCATENATE(vlookup_data[[#This Row],[style '#]],\"|\",R229)","v":"0|"}]
[{"$f":"IF(ISNUMBER(U230)=TRUE,VLOOKUP(vlookup_data[[#This Row],[style '#]],[2]Sheet1!$A:$D,4,0)*ABS(U230),0)","v":0},{"$f":"WEEKNUM(vlookup_data[[#This Row],[Column8]],2)","v":1},{"$f":"YEAR(vlookup_data[[#This Row],[Column8]])","v":1900},0,{"$f":"CONCATENATE(vlookup_data[[#This Row],[style '#]],\"|\",R230)","v":"0|"}]
[{"$f":"IF(ISNUMBER(U231)=TRUE,VLOOKUP(vlookup_data[[#This Row],[style '#]],[2]Sheet1!$A:$D,4,0)*ABS(U231),0)","v":0},{"$f":"WEEKNUM(vlookup_data[[#This Row],[Column8]],2)","v":1},{"$f":"YEAR(vlookup_data[[#This Row],[Column8]])","v":1900},0,{"$f":"CONCATENATE(vlookup_data[[#This Row],[style '#]],\"|\",R231)","v":"0|"}]
[{"$f":"IF(ISNUMBER(U232)=TRUE,VLOOKUP(vlookup_data[[#This Row],[style '#]],[2]Sheet1!$A:$D,4,0)*ABS(U232),0)","v":0},{"$f":"WEEKNUM(vlookup_data[[#This Row],[Column8]],2)","v":1},{"$f":"YEAR(vlookup_data[[#This Row],[Column8]])","v":1900},0,{"$f":"CONCATENATE(vlookup_data[[#This Row],[style '#]],\"|\",R232)","v":"0|"}]
[{"$f":"IF(ISNUMBER(U233)=TRUE,VLOOKUP(vlookup_data[[#This Row],[style '#]],[2]Sheet1!$A:$D,4,0)*ABS(U233),0)","v":0},{"$f":"WEEKNUM(vlookup_data[[#This Row],[Column8]],2)","v":1},{"$f":"YEAR(vlookup_data[[#This Row],[Column8]])","v":1900},0,{"$f":"CONCATENATE(vlookup_data[[#This Row],[style '#]],\"|\",R233)","v":"0|"}]
[{"$f":"IF(ISNUMBER(U234)=TRUE,VLOOKUP(vlookup_data[[#This Row],[style '#]],[2]Sheet1!$A:$D,4,0)*ABS(U234),0)","v":0},{"$f":"WEEKNUM(vlookup_data[[#This Row],[Column8]],2)","v":1},{"$f":"YEAR(vlookup_data[[#This Row],[Column8]])","v":1900},0,{"$f":"CONCATENATE(vlookup_data[[#This Row],[style '#]],\"|\",R234)","v":"0|"}]
[{"$f":"IF(ISNUMBER(U235)=TRUE,VLOOKUP(vlookup_data[[#This Row],[style '#]],[2]Sheet1!$A:$D,4,0)*ABS(U235),0)","v":0},{"$f":"WEEKNUM(vlookup_data[[#This Row],[Column8]],2)","v":1},{"$f":"YEAR(vlookup_data[[#This Row],[Column8]])","v":1900},0,{"$f":"CONCATENATE(vlookup_data[[#This Row],[style '#]],\"|\",R235)","v":"0|"}]
[{"$f":"IF(ISNUMBER(U236)=TRUE,VLOOKUP(vlookup_data[[#This Row],[style '#]],[2]Sheet1!$A:$D,4,0)*ABS(U236),0)","v":0},{"$f":"WEEKNUM(vlookup_data[[#This Row],[Column8]],2)","v":1},{"$f":"YEAR(vlookup_data[[#This Row],[Column8]])","v":1900},0,{"$f":"CONCATENATE(vlookup_data[[#This Row],[style '#]],\"|\",R236)","v":"0|"}]
[{"$f":"IF(ISNUMBER(U237)=TRUE,VLOOKUP(vlookup_data[[#This Row],[style '#]],[2]Sheet1!$A:$D,4,0)*ABS(U237),0)","v":0},{"$f":"WEEKNUM(vlookup_data[[#This Row],[Column8]],2)","v":1},{"$f":"YEAR(vlookup_data[[#This Row],[Column8]])","v":1900},0,{"$f":"CONCATENATE(vlookup_data[[#This Row],[style '#]],\"|\",R237)","v":"0|"}]
[{"$f":"IF(ISNUMBER(U238)=TRUE,VLOOKUP(vlookup_data[[#This Row],[style '#]],[2]Sheet1!$A:$D,4,0)*ABS(U238),0)","v":0},{"$f":"WEEKNUM(vlookup_data[[#This Row],[Column8]],2)","v":1},{"$f":"YEAR(vlookup_data[[#This Row],[Column8]])","v":1900},0,{"$f":"CONCATENATE(vlookup_data[[#This Row],[style '#]],\"|\",R238)","v":"0|"}]
[{"$f":"IF(ISNUMBER(U239)=TRUE,VLOOKUP(vlookup_data[[#This Row],[style '#]],[2]Sheet1!$A:$D,4,0)*ABS(U239),0)","v":0},{"$f":"WEEKNUM(vlookup_data[[#This Row],[Column8]],2)","v":1},{"$f":"YEAR(vlookup_data[[#This Row],[Column8]])","v":1900},0,{"$f":"CONCATENATE(vlookup_data[[#This Row],[style '#]],\"|\",R239)","v":"0|"}]
[{"$f":"IF(ISNUMBER(U240)=TRUE,VLOOKUP(vlookup_data[[#This Row],[style '#]],[2]Sheet1!$A:$D,4,0)*ABS(U240),0)","v":0},{"$f":"WEEKNUM(vlookup_data[[#This Row],[Column8]],2)","v":1},{"$f":"YEAR(vlookup_data[[#This Row],[Column8]])","v":1900},0,{"$f":"CONCATENATE(vlookup_data[[#This Row],[style '#]],\"|\",R240)","v":"0|"}]
[{"$f":"IF(ISNUMBER(U241)=TRUE,VLOOKUP(vlookup_data[[#This Row],[style '#]],[2]Sheet1!$A:$D,4,0)*ABS(U241),0)","v":0},{"$f":"WEEKNUM(vlookup_data[[#This Row],[Column8]],2)","v":1},{"$f":"YEAR(vlookup_data[[#This Row],[Column8]])","v":1900},0,{"$f":"CONCATENATE(vlookup_data[[#This Row],[style '#]],\"|\",R241)","v":"0|"}]
[{"$f":"IF(ISNUMBER(U242)=TRUE,VLOOKUP(vlookup_data[[#This Row],[style '#]],[2]Sheet1!$A:$D,4,0)*ABS(U242),0)","v":0},{"$f":"WEEKNUM(vlookup_data[[#This Row],[Column8]],2)","v":1},{"$f":"YEAR(vlookup_data[[#This Row],[Column8]])","v":1900},0,{"$f":"CONCATENATE(vlookup_data[[#This Row],[style '#]],\"|\",R242)","v":"0|"}]
[{"$f":"IF(ISNUMBER(U243)=TRUE,VLOOKUP(vlookup_data[[#This Row],[style '#]],[2]Sheet1!$A:$D,4,0)*ABS(U243),0)","v":0},{"$f":"WEEKNUM(vlookup_data[[#This Row],[Column8]],2)","v":1},{"$f":"YEAR(vlookup_data[[#This Row],[Column8]])","v":1900},0,{"$f":"CONCATENATE(vlookup_data[[#This Row],[style '#]],\"|\",R243)","v":"0|"}]
[{"$f":"IF(ISNUMBER(U244)=TRUE,VLOOKUP(vlookup_data[[#This Row],[style '#]],[2]Sheet1!$A:$D,4,0)*ABS(U244),0)","v":0},{"$f":"WEEKNUM(vlookup_data[[#This Row],[Column8]],2)","v":1},{"$f":"YEAR(vlookup_data[[#This Row],[Column8]])","v":1900},0,{"$f":"CONCATENATE(vlookup_data[[#This Row],[style '#]],\"|\",R244)","v":"0|"}]
[{"$f":"IF(ISNUMBER(U245)=TRUE,VLOOKUP(vlookup_data[[#This Row],[style '#]],[2]Sheet1!$A:$D,4,0)*ABS(U245),0)","v":0},{"$f":"WEEKNUM(vlookup_data[[#This Row],[Column8]],2)","v":1},{"$f":"YEAR(vlookup_data[[#This Row],[Column8]])","v":1900},0,{"$f":"CONCATENATE(vlookup_data[[#This Row],[style '#]],\"|\",R245)","v":"0|"}]
[{"$f":"IF(ISNUMBER(U246)=TRUE,VLOOKUP(vlookup_data[[#This Row],[style '#]],[2]Sheet1!$A:$D,4,0)*ABS(U246),0)","v":0},{"$f":"WEEKNUM(vlookup_data[[#This Row],[Column8]],2)","v":1},{"$f":"YEAR(vlookup_data[[#This Row],[Column8]])","v":1900},0,{"$f":"CONCATENATE(vlookup_data[[#This Row],[style '#]],\"|\",R246)","v":"0|"}]
[{"$f":"IF(ISNUMBER(U247)=TRUE,VLOOKUP(vlookup_data[[#This Row],[style '#]],[2]Sheet1!$A:$D,4,0)*ABS(U247),0)","v":0},{"$f":"WEEKNUM(vlookup_data[[#This Row],[Column8]],2)","v":1},{"$f":"YEAR(vlookup_data[[#This Row],[Column8]])","v":1900},0,{"$f":"CONCATENATE(vlookup_data[[#This Row],[style '#]],\"|\",R247)","v":"0|"}]
[{"$f":"IF(ISNUMBER(U248)=TRUE,VLOOKUP(vlookup_data[[#This Row],[style '#]],[2]Sheet1!$A:$D,4,0)*ABS(U248),0)","v":0},{"$f":"WEEKNUM(vlookup_data[[#This Row],[Column8]],2)","v":1},{"$f":"YEAR(vlookup_data[[#This Row],[Column8]])","v":1900},0,{"$f":"CONCATENATE(vlookup_data[[#This Row],[style '#]],\"|\",R248)","v":"0|"}]
[{"$f":"IF(ISNUMBER(U249)=TRUE,VLOOKUP(vlookup_data[[#This Row],[style '#]],[2]Sheet1!$A:$D,4,0)*ABS(U249),0)","v":0},{"$f":"WEEKNUM(vlookup_data[[#This Row],[Column8]],2)","v":1},{"$f":"YEAR(vlookup_data[[#This Row],[Column8]])","v":1900},0,{"$f":"CONCATENATE(vlookup_data[[#This Row],[style '#]],\"|\",R249)","v":"0|"}]
[{"$f":"IF(ISNUMBER(U250)=TRUE,VLOOKUP(vlookup_data[[#This Row],[style '#]],[2]Sheet1!$A:$D,4,0)*ABS(U250),0)","v":0},{"$f":"WEEKNUM(vlookup_data[[#This Row],[Column8]],2)","v":1},{"$f":"YEAR(vlookup_data[[#This Row],[Column8]])","v":1900},0,{"$f":"CONCATENATE(vlookup_data[[#This Row],[style '#]],\"|\",R250)","v":"0|"}]
[{"$f":"IF(ISNUMBER(U251)=TRUE,VLOOKUP(vlookup_data[[#This Row],[style '#]],[2]Sheet1!$A:$D,4,0)*ABS(U251),0)","v":0},{"$f":"WEEKNUM(vlookup_data[[#This Row],[Column8]],2)","v":1},{"$f":"YEAR(vlookup_data[[#This Row],[Column8]])","v":1900},0,{"$f":"CONCATENATE(vlookup_data[[#This Row],[style '#]],\"|\",R251)","v":"0|"}]
[{"$f":"IF(ISNUMBER(U252)=TRUE,VLOOKUP(vlookup_data[[#This Row],[style '#]],[2]Sheet1!$A:$D,4,0)*ABS(U252),0)","v":0},{"$f":"WEEKNUM(vlookup_data[[#This Row],[Column8]],2)","v":1},{"$f":"YEAR(vlookup_data[[#This Row],[Column8]])","v":1900},0,{"$f":"CONCATENATE(vlookup_data[[#This Row],[style '#]],\"|\",R252)","v":"0|"}]
[{"$f":"IF(ISNUMBER(U253)=TRUE,VLOOKUP(vlookup_data[[#This Row],[style '#]],[2]Sheet1!$A:$D,4,0)*ABS(U253),0)","v":0},{"$f":"WEEKNUM(vlookup_data[[#This Row],[Column8]],2)","v":1},{"$f":"YEAR(vlookup_data[[#This Row],[Column8]])","v":1900},0,{"$f":"CONCATENATE(vlookup_data[[#This Row],[style '#]],\"|\",R253)","v":"0|"}]
[{"$f":"IF(ISNUMBER(U254)=TRUE,VLOOKUP(vlookup_data[[#This Row],[style '#]],[2]Sheet1!$A:$D,4,0)*ABS(U254),0)","v":0},{"$f":"WEEKNUM(vlookup_data[[#This Row],[Column8]],2)","v":1},{"$f":"YEAR(vlookup_data[[#This Row],[Column8]])","v":1900},0,{"$f":"CONCATENATE(vlookup_data[[#This Row],[style '#]],\"|\",R254)","v":"0|"}]
[{"$f":"IF(ISNUMBER(U255)=TRUE,VLOOKUP(vlookup_data[[#This Row],[style '#]],[2]Sheet1!$A:$D,4,0)*ABS(U255),0)","v":0},{"$f":"WEEKNUM(vlookup_data[[#This Row],[Column8]],2)","v":1},{"$f":"YEAR(vlookup_data[[#This Row],[Column8]])","v":1900},0,{"$f":"CONCATENATE(vlookup_data[[#This Row],[style '#]],\"|\",R255)","v":"0|"}]
[{"$f":"IF(ISNUMBER(U256)=TRUE,VLOOKUP(vlookup_data[[#This Row],[style '#]],[2]Sheet1!$A:$D,4,0)*ABS(U256),0)","v":0},{"$f":"WEEKNUM(vlookup_data[[#This Row],[Column8]],2)","v":1},{"$f":"YEAR(vlookup_data[[#This Row],[Column8]])","v":1900},0,{"$f":"CONCATENATE(vlookup_data[[#This Row],[style '#]],\"|\",R256)","v":"0|"}]
[{"$f":"IF(ISNUMBER(U257)=TRUE,VLOOKUP(vlookup_data[[#This Row],[style '#]],[2]Sheet1!$A:$D,4,0)*ABS(U257),0)","v":0},{"$f":"WEEKNUM(vlookup_data[[#This Row],[Column8]],2)","v":1},{"$f":"YEAR(vlookup_data[[#This Row],[Column8]])","v":1900},0,{"$f":"CONCATENATE(vlookup_data[[#This Row],[style '#]],\"|\",R257)","v":"0|"}]
[{"$f":"IF(ISNUMBER(U258)=TRUE,VLOOKUP(vlookup_data[[#This Row],[style '#]],[2]Sheet1!$A:$D,4,0)*ABS(U258),0)","v":0},{"$f":"WEEKNUM(vlookup_data[[#This Row],[Column8]],2)","v":1},{"$f":"YEAR(vlookup_data[[#This Row],[Column8]])","v":1900},0,{"$f":"CONCATENATE(vlookup_data[[#This Row],[style '#]],\"|\",R258)","v":"0|"}]
[{"$f":"IF(ISNUMBER(U259)=TRUE,VLOOKUP(vlookup_data[[#This Row],[style '#]],[2]Sheet1!$A:$D,4,0)*ABS(U259),0)","v":0},{"$f":"WEEKNUM(vlookup_data[[#This Row],[Column8]],2)","v":1},{"$f":"YEAR(vlookup_data[[#This Row],[Column8]])","v":1900},0,{"$f":"CONCATENATE(vlookup_data[[#This Row],[style '#]],\"|\",R259)","v":"0|"}]
[{"$f":"IF(ISNUMBER(U260)=TRUE,VLOOKUP(vlookup_data[[#This Row],[style '#]],[2]Sheet1!$A:$D,4,0)*ABS(U260),0)","v":0},{"$f":"WEEKNUM(vlookup_data[[#This Row],[Column8]],2)","v":1},{"$f":"YEAR(vlookup_data[[#This Row],[Column8]])","v":1900},0,{"$f":"CONCATENATE(vlookup_data[[#This Row],[style '#]],\"|\",R260)","v":"0|"}]
[{"$f":"IF(ISNUMBER(U261)=TRUE,VLOOKUP(vlookup_data[[#This Row],[style '#]],[2]Sheet1!$A:$D,4,0)*ABS(U261),0)","v":0},{"$f":"WEEKNUM(vlookup_data[[#This Row],[Column8]],2)","v":1},{"$f":"YEAR(vlookup_data[[#This Row],[Column8]])","v":1900},0,{"$f":"CONCATENATE(vlookup_data[[#This Row],[style '#]],\"|\",R261)","v":"0|"}]
[{"$f":"IF(ISNUMBER(U262)=TRUE,VLOOKUP(vlookup_data[[#This Row],[style '#]],[2]Sheet1!$A:$D,4,0)*ABS(U262),0)","v":0},{"$f":"WEEKNUM(vlookup_data[[#This Row],[Column8]],2)","v":1},{"$f":"YEAR(vlookup_data[[#This Row],[Column8]])","v":1900},0,{"$f":"CONCATENATE(vlookup_data[[#This Row],[style '#]],\"|\",R262)","v":"0|"}]
[{"$f":"IF(ISNUMBER(U263)=TRUE,VLOOKUP(vlookup_data[[#This Row],[style '#]],[2]Sheet1!$A:$D,4,0)*ABS(U263),0)","v":0},{"$f":"WEEKNUM(vlookup_data[[#This Row],[Column8]],2)","v":1},{"$f":"YEAR(vlookup_data[[#This Row],[Column8]])","v":1900},0,{"$f":"CONCATENATE(vlookup_data[[#This Row],[style '#]],\"|\",R263)","v":"0|"}]
[{"$f":"IF(ISNUMBER(U264)=TRUE,VLOOKUP(vlookup_data[[#This Row],[style '#]],[2]Sheet1!$A:$D,4,0)*ABS(U264),0)","v":0},{"$f":"WEEKNUM(vlookup_data[[#This Row],[Column8]],2)","v":1},{"$f":"YEAR(vlookup_data[[#This Row],[Column8]])","v":1900},0,{"$f":"CONCATENATE(vlookup_data[[#This Row],[style '#]],\"|\",R264)","v":"0|"}]
[{"$f":"IF(ISNUMBER(U265)=TRUE,VLOOKUP(vlookup_data[[#This Row],[style '#]],[2]Sheet1!$A:$D,4,0)*ABS(U265),0)","v":0},{"$f":"WEEKNUM(vlookup_data[[#This Row],[Column8]],2)","v":1},{"$f":"YEAR(vlookup_data[[#This Row],[Column8]])","v":1900},{"$f":"VALUE(G265)","v":0},{"$f":"CONCATENATE(vlookup_data[[#This Row],[style '#]],\"|\",R265)","v":"0|"}]
[{"$f":"IF(ISNUMBER(U266)=TRUE,VLOOKUP(vlookup_data[[#This Row],[style '#]],[2]Sheet1!$A:$D,4,0)*ABS(U266),0)","v":0},{"$f":"WEEKNUM(vlookup_data[[#This Row],[Column8]],2)","v":1},{"$f":"YEAR(vlookup_data[[#This Row],[Column8]])","v":1900},0,{"$f":"CONCATENATE(vlookup_data[[#This Row],[style '#]],\"|\",R266)","v":"0|"}]
[{"$f":"IF(ISNUMBER(U267)=TRUE,VLOOKUP(vlookup_data[[#This Row],[style '#]],[2]Sheet1!$A:$D,4,0)*ABS(U267),0)","v":0},{"$f":"WEEKNUM(vlookup_data[[#This Row],[Column8]],2)","v":1},{"$f":"YEAR(vlookup_data[[#This Row],[Column8]])","v":1900},0,{"$f":"CONCATENATE(vlookup_data[[#This Row],[style '#]],\"|\",R267)","v":"0|"}]
[{"$f":"IF(ISNUMBER(U268)=TRUE,VLOOKUP(vlookup_data[[#This Row],[style '#]],[2]Sheet1!$A:$D,4,0)*ABS(U268),0)","v":0},{"$f":"WEEKNUM(vlookup_data[[#This Row],[Column8]],2)","v":1},{"$f":"YEAR(vlookup_data[[#This Row],[Column8]])","v":1900},0,{"$f":"CONCATENATE(vlookup_data[[#This Row],[style '#]],\"|\",R268)","v":"0|"}]
[{"$f":"IF(ISNUMBER(U269)=TRUE,VLOOKUP(vlookup_data[[#This Row],[style '#]],[2]Sheet1!$A:$D,4,0)*ABS(U269),0)","v":0},{"$f":"WEEKNUM(vlookup_data[[#This Row],[Column8]],2)","v":1},{"$f":"YEAR(vlookup_data[[#This Row],[Column8]])","v":1900},0,{"$f":"CONCATENATE(vlookup_data[[#This Row],[style '#]],\"|\",R269)","v":"0|"}]
[{"$f":"IF(ISNUMBER(U270)=TRUE,VLOOKUP(vlookup_data[[#This Row],[style '#]],[2]Sheet1!$A:$D,4,0)*ABS(U270),0)","v":0},{"$f":"WEEKNUM(vlookup_data[[#This Row],[Column8]],2)","v":1},{"$f":"YEAR(vlookup_data[[#This Row],[Column8]])","v":1900},0,{"$f":"CONCATENATE(vlookup_data[[#This Row],[style '#]],\"|\",R270)","v":"0|"}]
[{"$f":"IF(ISNUMBER(U271)=TRUE,VLOOKUP(vlookup_data[[#This Row],[style '#]],[2]Sheet1!$A:$D,4,0)*ABS(U271),0)","v":0},{"$f":"WEEKNUM(vlookup_data[[#This Row],[Column8]],2)","v":1},{"$f":"YEAR(vlookup_data[[#This Row],[Column8]])","v":1900},0,{"$f":"CONCATENATE(vlookup_data[[#This Row],[style '#]],\"|\",R271)","v":"0|"}]
[{"$f":"IF(ISNUMBER(U272)=TRUE,VLOOKUP(vlookup_data[[#This Row],[style '#]],[2]Sheet1!$A:$D,4,0)*ABS(U272),0)","v":0},{"$f":"WEEKNUM(vlookup_data[[#This Row],[Column8]],2)","v":1},{"$f":"YEAR(vlookup_data[[#This Row],[Column8]])","v":1900},0,{"$f":"CONCATENATE(vlookup_data[[#This Row],[style '#]],\"|\",R272)","v":"0|"}]
[{"$f":"IF(ISNUMBER(U273)=TRUE,VLOOKUP(vlookup_data[[#This Row],[style '#]],[2]Sheet1!$A:$D,4,0)*ABS(U273),0)","v":0},{"$f":"WEEKNUM(vlookup_data[[#This Row],[Column8]],2)","v":1},{"$f":"YEAR(vlookup_data[[#This Row],[Column8]])","v":1900},0,{"$f":"CONCATENATE(vlookup_data[[#This Row],[style '#]],\"|\",R273)","v":"0|"}]
[{"$f":"IF(ISNUMBER(U274)=TRUE,VLOOKUP(vlookup_data[[#This Row],[style '#]],[2]Sheet1!$A:$D,4,0)*ABS(U274),0)","v":0},{"$f":"WEEKNUM(vlookup_data[[#This Row],[Column8]],2)","v":1},{"$f":"YEAR(vlookup_data[[#This Row],[Column8]])","v":1900},0,{"$f":"CONCATENATE(vlookup_data[[#This Row],[style '#]],\"|\",R274)","v":"0|"}]
[{"$f":"IF(ISNUMBER(U275)=TRUE,VLOOKUP(vlookup_data[[#This Row],[style '#]],[2]Sheet1!$A:$D,4,0)*ABS(U275),0)","v":0},{"$f":"WEEKNUM(vlookup_data[[#This Row],[Column8]],2)","v":1},{"$f":"YEAR(vlookup_data[[#This Row],[Column8]])","v":1900},0,{"$f":"CONCATENATE(vlookup_data[[#This Row],[style '#]],\"|\",R275)","v":"0|"}]
[{"$f":"IF(ISNUMBER(U276)=TRUE,VLOOKUP(vlookup_data[[#This Row],[style '#]],[2]Sheet1!$A:$D,4,0)*ABS(U276),0)","v":0},{"$f":"WEEKNUM(vlookup_data[[#This Row],[Column8]],2)","v":1},{"$f":"YEAR(vlookup_data[[#This Row],[Column8]])","v":1900},0,{"$f":"CONCATENATE(vlookup_data[[#This Row],[style '#]],\"|\",R276)","v":"0|"}]
[{"$f":"IF(ISNUMBER(U277)=TRUE,VLOOKUP(vlookup_data[[#This Row],[style '#]],[2]Sheet1!$A:$D,4,0)*ABS(U277),0)","v":0},{"$f":"WEEKNUM(vlookup_data[[#This Row],[Column8]],2)","v":1},{"$f":"YEAR(vlookup_data[[#This Row],[Column8]])","v":1900},0,{"$f":"CONCATENATE(vlookup_data[[#This Row],[style '#]],\"|\",R277)","v":"0|"}]
[{"$f":"IF(ISNUMBER(U278)=TRUE,VLOOKUP(vlookup_data[[#This Row],[style '#]],[2]Sheet1!$A:$D,4,0)*ABS(U278),0)","v":0},{"$f":"WEEKNUM(vlookup_data[[#This Row],[Column8]],2)","v":1},{"$f":"YEAR(vlookup_data[[#This Row],[Column8]])","v":1900},0,{"$f":"CONCATENATE(vlookup_data[[#This Row],[style '#]],\"|\",R278)","v":"0|"}]
[{"$f":"IF(ISNUMBER(U279)=TRUE,VLOOKUP(vlookup_data[[#This Row],[style '#]],[2]Sheet1!$A:$D,4,0)*ABS(U279),0)","v":0},{"$f":"WEEKNUM(vlookup_data[[#This Row],[Column8]],2)","v":1},{"$f":"YEAR(vlookup_data[[#This Row],[Column8]])","v":1900},0,{"$f":"CONCATENATE(vlookup_data[[#This Row],[style '#]],\"|\",R279)","v":"0|"}]
[{"$f":"IF(ISNUMBER(U280)=TRUE,VLOOKUP(vlookup_data[[#This Row],[style '#]],[2]Sheet1!$A:$D,4,0)*ABS(U280),0)","v":0},{"$f":"WEEKNUM(vlookup_data[[#This Row],[Column8]],2)","v":1},{"$f":"YEAR(vlookup_data[[#This Row],[Column8]])","v":1900},0,{"$f":"CONCATENATE(vlookup_data[[#This Row],[style '#]],\"|\",R280)","v":"0|"}]
[{"$f":"IF(ISNUMBER(U281)=TRUE,VLOOKUP(vlookup_data[[#This Row],[style '#]],[2]Sheet1!$A:$D,4,0)*ABS(U281),0)","v":0},{"$f":"WEEKNUM(vlookup_data[[#This Row],[Column8]],2)","v":1},{"$f":"YEAR(vlookup_data[[#This Row],[Column8]])","v":1900},0,{"$f":"CONCATENATE(vlookup_data[[#This Row],[style '#]],\"|\",R281)","v":"0|"}]
[{"$f":"IF(ISNUMBER(U282)=TRUE,VLOOKUP(vlookup_data[[#This Row],[style '#]],[2]Sheet1!$A:$D,4,0)*ABS(U282),0)","v":0},{"$f":"WEEKNUM(vlookup_data[[#This Row],[Column8]],2)","v":1},{"$f":"YEAR(vlookup_data[[#This Row],[Column8]])","v":1900},0,{"$f":"CONCATENATE(vlookup_data[[#This Row],[style '#]],\"|\",R282)","v":"0|"}]
[{"$f":"IF(ISNUMBER(U283)=TRUE,VLOOKUP(vlookup_data[[#This Row],[style '#]],[2]Sheet1!$A:$D,4,0)*ABS(U283),0)","v":0},{"$f":"WEEKNUM(vlookup_data[[#This Row],[Column8]],2)","v":1},{"$f":"YEAR(vlookup_data[[#This Row],[Column8]])","v":1900},0,{"$f":"CONCATENATE(vlookup_data[[#This Row],[style '#]],\"|\",R283)","v":"0|"}]
[{"$f":"IF(ISNUMBER(U284)=TRUE,VLOOKUP(vlookup_data[[#This Row],[style '#]],[2]Sheet1!$A:$D,4,0)*ABS(U284),0)","v":0},{"$f":"WEEKNUM(vlookup_data[[#This Row],[Column8]],2)","v":1},{"$f":"YEAR(vlookup_data[[#This Row],[Column8]])","v":1900},0,{"$f":"CONCATENATE(vlookup_data[[#This Row],[style '#]],\"|\",R284)","v":"0|"}]
[{"$f":"IF(ISNUMBER(U285)=TRUE,VLOOKUP(vlookup_data[[#This Row],[style '#]],[2]Sheet1!$A:$D,4,0)*ABS(U285),0)","v":0},{"$f":"WEEKNUM(vlookup_data[[#This Row],[Column8]],2)","v":1},{"$f":"YEAR(vlookup_data[[#This Row],[Column8]])","v":1900},0,{"$f":"CONCATENATE(vlookup_data[[#This Row],[style '#]],\"|\",R285)","v":"0|"}]
[{"$f":"IF(ISNUMBER(U286)=TRUE,VLOOKUP(vlookup_data[[#This Row],[style '#]],[2]Sheet1!$A:$D,4,0)*ABS(U286),0)","v":0},{"$f":"WEEKNUM(vlookup_data[[#This Row],[Column8]],2)","v":1},{"$f":"YEAR(vlookup_data[[#This Row],[Column8]])","v":1900},0,{"$f":"CONCATENATE(vlookup_data[[#This Row],[style '#]],\"|\",R286)","v":"0|"}]
[{"$f":"IF(ISNUMBER(U287)=TRUE,VLOOKUP(vlookup_data[[#This Row],[style '#]],[2]Sheet1!$A:$D,4,0)*ABS(U287),0)","v":0},{"$f":"WEEKNUM(vlookup_data[[#This Row],[Column8]],2)","v":1},{"$f":"YEAR(vlookup_data[[#This Row],[Column8]])","v":1900},0,{"$f":"CONCATENATE(vlookup_data[[#This Row],[style '#]],\"|\",R287)","v":"0|"}]
[{"$f":"IF(ISNUMBER(U288)=TRUE,VLOOKUP(vlookup_data[[#This Row],[style '#]],[2]Sheet1!$A:$D,4,0)*ABS(U288),0)","v":0},{"$f":"WEEKNUM(vlookup_data[[#This Row],[Column8]],2)","v":1},{"$f":"YEAR(vlookup_data[[#This Row],[Column8]])","v":1900},0,{"$f":"CONCATENATE(vlookup_data[[#This Row],[style '#]],\"|\",R288)","v":"0|"}]
[{"$f":"IF(ISNUMBER(U289)=TRUE,VLOOKUP(vlookup_data[[#This Row],[style '#]],[2]Sheet1!$A:$D,4,0)*ABS(U289),0)","v":0},{"$f":"WEEKNUM(vlookup_data[[#This Row],[Column8]],2)","v":1},{"$f":"YEAR(vlookup_data[[#This Row],[Column8]])","v":1900},0,{"$f":"CONCATENATE(vlookup_data[[#This Row],[style '#]],\"|\",R289)","v":"0|"}]
[{"$f":"IF(ISNUMBER(U290)=TRUE,VLOOKUP(vlookup_data[[#This Row],[style '#]],[2]Sheet1!$A:$D,4,0)*ABS(U290),0)","v":0},{"$f":"WEEKNUM(vlookup_data[[#This Row],[Column8]],2)","v":1},{"$f":"YEAR(vlookup_data[[#This Row],[Column8]])","v":1900},0,{"$f":"CONCATENATE(vlookup_data[[#This Row],[style '#]],\"|\",R290)","v":"0|"}]
[{"$f":"IF(ISNUMBER(U291)=TRUE,VLOOKUP(vlookup_data[[#This Row],[style '#]],[2]Sheet1!$A:$D,4,0)*ABS(U291),0)","v":0},{"$f":"WEEKNUM(vlookup_data[[#This Row],[Column8]],2)","v":1},{"$f":"YEAR(vlookup_data[[#This Row],[Column8]])","v":1900},0,{"$f":"CONCATENATE(vlookup_data[[#This Row],[style '#]],\"|\",R291)","v":"0|"}]
[{"$f":"IF(ISNUMBER(U292)=TRUE,VLOOKUP(vlookup_data[[#This Row],[style '#]],[2]Sheet1!$A:$D,4,0)*ABS(U292),0)","v":0},{"$f":"WEEKNUM(vlookup_data[[#This Row],[Column8]],2)","v":1},{"$f":"YEAR(vlookup_data[[#This Row],[Column8]])","v":1900},0,{"$f":"CONCATENATE(vlookup_data[[#This Row],[style '#]],\"|\",R292)","v":"0|"}]
[{"$f":"IF(ISNUMBER(U293)=TRUE,VLOOKUP(vlookup_data[[#This Row],[style '#]],[2]Sheet1!$A:$D,4,0)*ABS(U293),0)","v":0},{"$f":"WEEKNUM(vlookup_data[[#This Row],[Column8]],2)","v":1},{"$f":"YEAR(vlookup_data[[#This Row],[Column8]])","v":1900},0,{"$f":"CONCATENATE(vlookup_data[[#This Row],[style '#]],\"|\",R293)","v":"0|"}]
[{"$f":"IF(ISNUMBER(U294)=TRUE,VLOOKUP(vlookup_data[[#This Row],[style '#]],[2]Sheet1!$A:$D,4,0)*ABS(U294),0)","v":0},{"$f":"WEEKNUM(vlookup_data[[#This Row],[Column8]],2)","v":1},{"$f":"YEAR(vlookup_data[[#This Row],[Column8]])","v":1900},0,{"$f":"CONCATENATE(vlookup_data[[#This Row],[style '#]],\"|\",R294)","v":"0|"}]
[{"$f":"IF(ISNUMBER(U295)=TRUE,VLOOKUP(vlookup_data[[#This Row],[style '#]],[2]Sheet1!$A:$D,4,0)*ABS(U295),0)","v":0},{"$f":"WEEKNUM(vlookup_data[[#This Row],[Column8]],2)","v":1},{"$f":"YEAR(vlookup_data[[#This Row],[Column8]])","v":1900},0,{"$f":"CONCATENATE(vlookup_data[[#This Row],[style '#]],\"|\",R295)","v":"0|"}]
[{"$f":"IF(ISNUMBER(U296)=TRUE,VLOOKUP(vlookup_data[[#This Row],[style '#]],[2]Sheet1!$A:$D,4,0)*ABS(U296),0)","v":0},{"$f":"WEEKNUM(vlookup_data[[#This Row],[Column8]],2)","v":1},{"$f":"YEAR(vlookup_data[[#This Row],[Column8]])","v":1900},0,{"$f":"CONCATENATE(vlookup_data[[#This Row],[style '#]],\"|\",R296)","v":"0|"}]
[{"$f":"IF(ISNUMBER(U297)=TRUE,VLOOKUP(vlookup_data[[#This Row],[style '#]],[2]Sheet1!$A:$D,4,0)*ABS(U297),0)","v":0},{"$f":"WEEKNUM(vlookup_data[[#This Row],[Column8]],2)","v":1},{"$f":"YEAR(vlookup_data[[#This Row],[Column8]])","v":1900},0,{"$f":"CONCATENATE(vlookup_data[[#This Row],[style '#]],\"|\",R297)","v":"0|"}]
[{"$f":"IF(ISNUMBER(U298)=TRUE,VLOOKUP(vlookup_data[[#This Row],[style '#]],[2]Sheet1!$A:$D,4,0)*ABS(U298),0)","v":0},{"$f":"WEEKNUM(vlookup_data[[#This Row],[Column8]],2)","v":1},{"$f":"YEAR(vlookup_data[[#This Row],[Column8]])","v":1900},0,{"$f":"CONCATENATE(vlookup_data[[#This Row],[style '#]],\"|\",R298)","v":"0|"}]
[{"$f":"IF(ISNUMBER(U299)=TRUE,VLOOKUP(vlookup_data[[#This Row],[style '#]],[2]Sheet1!$A:$D,4,0)*ABS(U299),0)","v":0},{"$f":"WEEKNUM(vlookup_data[[#This Row],[Column8]],2)","v":1},{"$f":"YEAR(vlookup_data[[#This Row],[Column8]])","v":1900},0,{"$f":"CONCATENATE(vlookup_data[[#This Row],[style '#]],\"|\",R299)","v":"0|"}]
[{"$f":"IF(ISNUMBER(U300)=TRUE,VLOOKUP(vlookup_data[[#This Row],[style '#]],[2]Sheet1!$A:$D,4,0)*ABS(U300),0)","v":0},{"$f":"WEEKNUM(vlookup_data[[#This Row],[Column8]],2)","v":1},{"$f":"YEAR(vlookup_data[[#This Row],[Column8]])","v":1900},0,{"$f":"CONCATENATE(vlookup_data[[#This Row],[style '#]],\"|\",R300)","v":"0|"}]
[{"$f":"IF(ISNUMBER(U301)=TRUE,VLOOKUP(vlookup_data[[#This Row],[style '#]],[2]Sheet1!$A:$D,4,0)*ABS(U301),0)","v":0},{"$f":"WEEKNUM(vlookup_data[[#This Row],[Column8]],2)","v":1},{"$f":"YEAR(vlookup_data[[#This Row],[Column8]])","v":1900},0,{"$f":"CONCATENATE(vlookup_data[[#This Row],[style '#]],\"|\",R301)","v":"0|"}]
[{"$f":"IF(ISNUMBER(U302)=TRUE,VLOOKUP(vlookup_data[[#This Row],[style '#]],[2]Sheet1!$A:$D,4,0)*ABS(U302),0)","v":0},{"$f":"WEEKNUM(vlookup_data[[#This Row],[Column8]],2)","v":1},{"$f":"YEAR(vlookup_data[[#This Row],[Column8]])","v":1900},0,{"$f":"CONCATENATE(vlookup_data[[#This Row],[style '#]],\"|\",R302)","v":"0|"}]
[{"$f":"IF(ISNUMBER(U303)=TRUE,VLOOKUP(vlookup_data[[#This Row],[style '#]],[2]Sheet1!$A:$D,4,0)*ABS(U303),0)","v":0},{"$f":"WEEKNUM(vlookup_data[[#This Row],[Column8]],2)","v":1},{"$f":"YEAR(vlookup_data[[#This Row],[Column8]])","v":1900},0,{"$f":"CONCATENATE(vlookup_data[[#This Row],[style '#]],\"|\",R303)","v":"0|"}]
[{"$f":"IF(ISNUMBER(U304)=TRUE,VLOOKUP(vlookup_data[[#This Row],[style '#]],[2]Sheet1!$A:$D,4,0)*ABS(U304),0)","v":0},{"$f":"WEEKNUM(vlookup_data[[#This Row],[Column8]],2)","v":1},{"$f":"YEAR(vlookup_data[[#This Row],[Column8]])","v":1900},0,{"$f":"CONCATENATE(vlookup_data[[#This Row],[style '#]],\"|\",R304)","v":"0|"}]
[{"$f":"IF(ISNUMBER(U305)=TRUE,VLOOKUP(vlookup_data[[#This Row],[style '#]],[2]Sheet1!$A:$D,4,0)*ABS(U305),0)","v":0},{"$f":"WEEKNUM(vlookup_data[[#This Row],[Column8]],2)","v":1},{"$f":"YEAR(vlookup_data[[#This Row],[Column8]])","v":1900},0,{"$f":"CONCATENATE(vlookup_data[[#This Row],[style '#]],\"|\",R305)","v":"0|"}]
[{"$f":"IF(ISNUMBER(U306)=TRUE,VLOOKUP(vlookup_data[[#This Row],[style '#]],[2]Sheet1!$A:$D,4,0)*ABS(U306),0)","v":0},{"$f":"WEEKNUM(vlookup_data[[#This Row],[Column8]],2)","v":1},{"$f":"YEAR(vlookup_data[[#This Row],[Column8]])","v":1900},0,{"$f":"CONCATENATE(vlookup_data[[#This Row],[style '#]],\"|\",R306)","v":"0|"}]
[{"$f":"IF(ISNUMBER(U307)=TRUE,VLOOKUP(vlookup_data[[#This Row],[style '#]],[2]Sheet1!$A:$D,4,0)*ABS(U307),0)","v":0},{"$f":"WEEKNUM(vlookup_data[[#This Row],[Column8]],2)","v":1},{"$f":"YEAR(vlookup_data[[#This Row],[Column8]])","v":1900},0,{"$f":"CONCATENATE(vlookup_data[[#This Row],[style '#]],\"|\",R307)","v":"0|"}]
[{"$f":"IF(ISNUMBER(U308)=TRUE,VLOOKUP(vlookup_data[[#This Row],[style '#]],[2]Sheet1!$A:$D,4,0)*ABS(U308),0)","v":0},{"$f":"WEEKNUM(vlookup_data[[#This Row],[Column8]],2)","v":1},{"$f":"YEAR(vlookup_data[[#This Row],[Column8]])","v":1900},0,{"$f":"CONCATENATE(vlookup_data[[#This Row],[style '#]],\"|\",R308)","v":"0|"}]
[{"$f":"IF(ISNUMBER(U309)=TRUE,VLOOKUP(vlookup_data[[#This Row],[style '#]],[2]Sheet1!$A:$D,4,0)*ABS(U309),0)","v":0},{"$f":"WEEKNUM(vlookup_data[[#This Row],[Column8]],2)","v":1},{"$f":"YEAR(vlookup_data[[#This Row],[Column8]])","v":1900},0,{"$f":"CONCATENATE(vlookup_data[[#This Row],[style '#]],\"|\",R309)","v":"0|"}]
[{"$f":"IF(ISNUMBER(U310)=TRUE,VLOOKUP(vlookup_data[[#This Row],[style '#]],[2]Sheet1!$A:$D,4,0)*ABS(U310),0)","v":0},{"$f":"WEEKNUM(vlookup_data[[#This Row],[Column8]],2)","v":1},{"$f":"YEAR(vlookup_data[[#This Row],[Column8]])","v":1900},0,{"$f":"CONCATENATE(vlookup_data[[#This Row],[style '#]],\"|\",R310)","v":"0|"}]
[{"$f":"IF(ISNUMBER(U311)=TRUE,VLOOKUP(vlookup_data[[#This Row],[style '#]],[2]Sheet1!$A:$D,4,0)*ABS(U311),0)","v":0},{"$f":"WEEKNUM(vlookup_data[[#This Row],[Column8]],2)","v":1},{"$f":"YEAR(vlookup_data[[#This Row],[Column8]])","v":1900},0,{"$f":"CONCATENATE(vlookup_data[[#This Row],[style '#]],\"|\",R311)","v":"0|"}]
[{"$f":"IF(ISNUMBER(U312)=TRUE,VLOOKUP(vlookup_data[[#This Row],[style '#]],[2]Sheet1!$A:$D,4,0)*ABS(U312),0)","v":0},{"$f":"WEEKNUM(vlookup_data[[#This Row],[Column8]],2)","v":1},{"$f":"YEAR(vlookup_data[[#This Row],[Column8]])","v":1900},0,{"$f":"CONCATENATE(vlookup_data[[#This Row],[style '#]],\"|\",R312)","v":"0|"}]
[{"$f":"IF(ISNUMBER(U313)=TRUE,VLOOKUP(vlookup_data[[#This Row],[style '#]],[2]Sheet1!$A:$D,4,0)*ABS(U313),0)","v":0},{"$f":"WEEKNUM(vlookup_data[[#This Row],[Column8]],2)","v":1},{"$f":"YEAR(vlookup_data[[#This Row],[Column8]])","v":1900},0,{"$f":"CONCATENATE(vlookup_data[[#This Row],[style '#]],\"|\",R313)","v":"0|"}]
[{"$f":"IF(ISNUMBER(U314)=TRUE,VLOOKUP(vlookup_data[[#This Row],[style '#]],[2]Sheet1!$A:$D,4,0)*ABS(U314),0)","v":0},{"$f":"WEEKNUM(vlookup_data[[#This Row],[Column8]],2)","v":1},{"$f":"YEAR(vlookup_data[[#This Row],[Column8]])","v":1900},0,{"$f":"CONCATENATE(vlookup_data[[#This Row],[style '#]],\"|\",R314)","v":"0|"}]
[{"$f":"IF(ISNUMBER(U315)=TRUE,VLOOKUP(vlookup_data[[#This Row],[style '#]],[2]Sheet1!$A:$D,4,0)*ABS(U315),0)","v":0},{"$f":"WEEKNUM(vlookup_data[[#This Row],[Column8]],2)","v":1},{"$f":"YEAR(vlookup_data[[#This Row],[Column8]])","v":1900},0,{"$f":"CONCATENATE(vlookup_data[[#This Row],[style '#]],\"|\",R315)","v":"0|"}]
[{"$f":"IF(ISNUMBER(U316)=TRUE,VLOOKUP(vlookup_data[[#This Row],[style '#]],[2]Sheet1!$A:$D,4,0)*ABS(U316),0)","v":0},{"$f":"WEEKNUM(vlookup_data[[#This Row],[Column8]],2)","v":1},{"$f":"YEAR(vlookup_data[[#This Row],[Column8]])","v":1900},0,{"$f":"CONCATENATE(vlookup_data[[#This Row],[style '#]],\"|\",R316)","v":"0|"}]
[{"$f":"IF(ISNUMBER(U317)=TRUE,VLOOKUP(vlookup_data[[#This Row],[style '#]],[2]Sheet1!$A:$D,4,0)*ABS(U317),0)","v":0},{"$f":"WEEKNUM(vlookup_data[[#This Row],[Column8]],2)","v":1},{"$f":"YEAR(vlookup_data[[#This Row],[Column8]])","v":1900},0,{"$f":"CONCATENATE(vlookup_data[[#This Row],[style '#]],\"|\",R317)","v":"0|"}]
[{"$f":"IF(ISNUMBER(U318)=TRUE,VLOOKUP(vlookup_data[[#This Row],[style '#]],[2]Sheet1!$A:$D,4,0)*ABS(U318),0)","v":0},{"$f":"WEEKNUM(vlookup_data[[#This Row],[Column8]],2)","v":1},{"$f":"YEAR(vlookup_data[[#This Row],[Column8]])","v":1900},0,{"$f":"CONCATENATE(vlookup_data[[#This Row],[style '#]],\"|\",R318)","v":"0|"}]
[{"$f":"IF(ISNUMBER(U319)=TRUE,VLOOKUP(vlookup_data[[#This Row],[style '#]],[2]Sheet1!$A:$D,4,0)*ABS(U319),0)","v":0},{"$f":"WEEKNUM(vlookup_data[[#This Row],[Column8]],2)","v":1},{"$f":"YEAR(vlookup_data[[#This Row],[Column8]])","v":1900},0,{"$f":"CONCATENATE(vlookup_data[[#This Row],[style '#]],\"|\",R319)","v":"0|"}]
[{"$f":"IF(ISNUMBER(U320)=TRUE,VLOOKUP(vlookup_data[[#This Row],[style '#]],[2]Sheet1!$A:$D,4,0)*ABS(U320),0)","v":0},{"$f":"WEEKNUM(vlookup_data[[#This Row],[Column8]],2)","v":1},{"$f":"YEAR(vlookup_data[[#This Row],[Column8]])","v":1900},0,{"$f":"CONCATENATE(vlookup_data[[#This Row],[style '#]],\"|\",R320)","v":"0|"}]
[{"$f":"IF(ISNUMBER(U321)=TRUE,VLOOKUP(vlookup_data[[#This Row],[style '#]],[2]Sheet1!$A:$D,4,0)*ABS(U321),0)","v":0},{"$f":"WEEKNUM(vlookup_data[[#This Row],[Column8]],2)","v":1},{"$f":"YEAR(vlookup_data[[#This Row],[Column8]])","v":1900},0,{"$f":"CONCATENATE(vlookup_data[[#This Row],[style '#]],\"|\",R321)","v":"0|"}]
[{"$f":"IF(ISNUMBER(U322)=TRUE,VLOOKUP(vlookup_data[[#This Row],[style '#]],[2]Sheet1!$A:$D,4,0)*ABS(U322),0)","v":0},{"$f":"WEEKNUM(vlookup_data[[#This Row],[Column8]],2)","v":1},{"$f":"YEAR(vlookup_data[[#This Row],[Column8]])","v":1900},0,{"$f":"CONCATENATE(vlookup_data[[#This Row],[style '#]],\"|\",R322)","v":"0|"}]
[{"$f":"IF(ISNUMBER(U323)=TRUE,VLOOKUP(vlookup_data[[#This Row],[style '#]],[2]Sheet1!$A:$D,4,0)*ABS(U323),0)","v":0},{"$f":"WEEKNUM(vlookup_data[[#This Row],[Column8]],2)","v":1},{"$f":"YEAR(vlookup_data[[#This Row],[Column8]])","v":1900},0,{"$f":"CONCATENATE(vlookup_data[[#This Row],[style '#]],\"|\",R323)","v":"0|"}]
[{"$f":"IF(ISNUMBER(U324)=TRUE,VLOOKUP(vlookup_data[[#This Row],[style '#]],[2]Sheet1!$A:$D,4,0)*ABS(U324),0)","v":0},{"$f":"WEEKNUM(vlookup_data[[#This Row],[Column8]],2)","v":1},{"$f":"YEAR(vlookup_data[[#This Row],[Column8]])","v":1900},0,{"$f":"CONCATENATE(vlookup_data[[#This Row],[style '#]],\"|\",R324)","v":"0|"}]
[{"$f":"IF(ISNUMBER(U325)=TRUE,VLOOKUP(vlookup_data[[#This Row],[style '#]],[2]Sheet1!$A:$D,4,0)*ABS(U325),0)","v":0},{"$f":"WEEKNUM(vlookup_data[[#This Row],[Column8]],2)","v":1},{"$f":"YEAR(vlookup_data[[#This Row],[Column8]])","v":1900},0,{"$f":"CONCATENATE(vlookup_data[[#This Row],[style '#]],\"|\",R325)","v":"0|"}]
[{"$f":"IF(ISNUMBER(U326)=TRUE,VLOOKUP(vlookup_data[[#This Row],[style '#]],[2]Sheet1!$A:$D,4,0)*ABS(U326),0)","v":0},{"$f":"WEEKNUM(vlookup_data[[#This Row],[Column8]],2)","v":1},{"$f":"YEAR(vlookup_data[[#This Row],[Column8]])","v":1900},0,{"$f":"CONCATENATE(vlookup_data[[#This Row],[style '#]],\"|\",R326)","v":"0|"}]
[{"$f":"IF(ISNUMBER(U327)=TRUE,VLOOKUP(vlookup_data[[#This Row],[style '#]],[2]Sheet1!$A:$D,4,0)*ABS(U327),0)","v":0},{"$f":"WEEKNUM(vlookup_data[[#This Row],[Column8]],2)","v":1},{"$f":"YEAR(vlookup_data[[#This Row],[Column8]])","v":1900},0,{"$f":"CONCATENATE(vlookup_data[[#This Row],[style '#]],\"|\",R327)","v":"0|"}]
[{"$f":"IF(ISNUMBER(U328)=TRUE,VLOOKUP(vlookup_data[[#This Row],[style '#]],[2]Sheet1!$A:$D,4,0)*ABS(U328),0)","v":0},{"$f":"WEEKNUM(vlookup_data[[#This Row],[Column8]],2)","v":1},{"$f":"YEAR(vlookup_data[[#This Row],[Column8]])","v":1900},0,{"$f":"CONCATENATE(vlookup_data[[#This Row],[style '#]],\"|\",R328)","v":"0|"}]
[{"$f":"IF(ISNUMBER(U329)=TRUE,VLOOKUP(vlookup_data[[#This Row],[style '#]],[2]Sheet1!$A:$D,4,0)*ABS(U329),0)","v":0},{"$f":"WEEKNUM(vlookup_data[[#This Row],[Column8]],2)","v":1},{"$f":"YEAR(vlookup_data[[#This Row],[Column8]])","v":1900},{"$f":"VALUE(G329)","v":0},{"$f":"CONCATENATE(vlookup_data[[#This Row],[style '#]],\"|\",R329)","v":"0|"}]
[{"$f":"IF(ISNUMBER(U330)=TRUE,VLOOKUP(vlookup_data[[#This Row],[style '#]],[2]Sheet1!$A:$D,4,0)*ABS(U330),0)","v":0},{"$f":"WEEKNUM(vlookup_data[[#This Row],[Column8]],2)","v":1},{"$f":"YEAR(vlookup_data[[#This Row],[Column8]])","v":1900},0,{"$f":"CONCATENATE(vlookup_data[[#This Row],[style '#]],\"|\",R330)","v":"0|"}]
[{"$f":"IF(ISNUMBER(U331)=TRUE,VLOOKUP(vlookup_data[[#This Row],[style '#]],[2]Sheet1!$A:$D,4,0)*ABS(U331),0)","v":0},{"$f":"WEEKNUM(vlookup_data[[#This Row],[Column8]],2)","v":1},{"$f":"YEAR(vlookup_data[[#This Row],[Column8]])","v":1900},0,{"$f":"CONCATENATE(vlookup_data[[#This Row],[style '#]],\"|\",R331)","v":"0|"}]
[{"$f":"IF(ISNUMBER(U332)=TRUE,VLOOKUP(vlookup_data[[#This Row],[style '#]],[2]Sheet1!$A:$D,4,0)*ABS(U332),0)","v":0},{"$f":"WEEKNUM(vlookup_data[[#This Row],[Column8]],2)","v":1},{"$f":"YEAR(vlookup_data[[#This Row],[Column8]])","v":1900},0,{"$f":"CONCATENATE(vlookup_data[[#This Row],[style '#]],\"|\",R332)","v":"0|"}]
[{"$f":"IF(ISNUMBER(U333)=TRUE,VLOOKUP(vlookup_data[[#This Row],[style '#]],[2]Sheet1!$A:$D,4,0)*ABS(U333),0)","v":0},{"$f":"WEEKNUM(vlookup_data[[#This Row],[Column8]],2)","v":1},{"$f":"YEAR(vlookup_data[[#This Row],[Column8]])","v":1900},0,{"$f":"CONCATENATE(vlookup_data[[#This Row],[style '#]],\"|\",R333)","v":"0|"}]
[{"$f":"IF(ISNUMBER(U334)=TRUE,VLOOKUP(vlookup_data[[#This Row],[style '#]],[2]Sheet1!$A:$D,4,0)*ABS(U334),0)","v":0},{"$f":"WEEKNUM(vlookup_data[[#This Row],[Column8]],2)","v":1},{"$f":"YEAR(vlookup_data[[#This Row],[Column8]])","v":1900},0,{"$f":"CONCATENATE(vlookup_data[[#This Row],[style '#]],\"|\",R334)","v":"0|"}]
[{"$f":"IF(ISNUMBER(U335)=TRUE,VLOOKUP(vlookup_data[[#This Row],[style '#]],[2]Sheet1!$A:$D,4,0)*ABS(U335),0)","v":0},{"$f":"WEEKNUM(vlookup_data[[#This Row],[Column8]],2)","v":1},{"$f":"YEAR(vlookup_data[[#This Row],[Column8]])","v":1900},0,{"$f":"CONCATENATE(vlookup_data[[#This Row],[style '#]],\"|\",R335)","v":"0|"}]
[{"$f":"IF(ISNUMBER(U336)=TRUE,VLOOKUP(vlookup_data[[#This Row],[style '#]],[2]Sheet1!$A:$D,4,0)*ABS(U336),0)","v":0},{"$f":"WEEKNUM(vlookup_data[[#This Row],[Column8]],2)","v":1},{"$f":"YEAR(vlookup_data[[#This Row],[Column8]])","v":1900},0,{"$f":"CONCATENATE(vlookup_data[[#This Row],[style '#]],\"|\",R336)","v":"0|"}]
[{"$f":"IF(ISNUMBER(U337)=TRUE,VLOOKUP(vlookup_data[[#This Row],[style '#]],[2]Sheet1!$A:$D,4,0)*ABS(U337),0)","v":0},{"$f":"WEEKNUM(vlookup_data[[#This Row],[Column8]],2)","v":1},{"$f":"YEAR(vlookup_data[[#This Row],[Column8]])","v":1900},0,{"$f":"CONCATENATE(vlookup_data[[#This Row],[style '#]],\"|\",R337)","v":"0|"}]
[{"$f":"IF(ISNUMBER(U338)=TRUE,VLOOKUP(vlookup_data[[#This Row],[style '#]],[2]Sheet1!$A:$D,4,0)*ABS(U338),0)","v":0},{"$f":"WEEKNUM(vlookup_data[[#This Row],[Column8]],2)","v":1},{"$f":"YEAR(vlookup_data[[#This Row],[Column8]])","v":1900},0,{"$f":"CONCATENATE(vlookup_data[[#This Row],[style '#]],\"|\",R338)","v":"0|"}]
[{"$f":"IF(ISNUMBER(U339)=TRUE,VLOOKUP(vlookup_data[[#This Row],[style '#]],[2]Sheet1!$A:$D,4,0)*ABS(U339),0)","v":0},{"$f":"WEEKNUM(vlookup_data[[#This Row],[Column8]],2)","v":1},{"$f":"YEAR(vlookup_data[[#This Row],[Column8]])","v":1900},0,{"$f":"CONCATENATE(vlookup_data[[#This Row],[style '#]],\"|\",R339)","v":"0|"}]
[{"$f":"IF(ISNUMBER(U340)=TRUE,VLOOKUP(vlookup_data[[#This Row],[style '#]],[2]Sheet1!$A:$D,4,0)*ABS(U340),0)","v":0},{"$f":"WEEKNUM(vlookup_data[[#This Row],[Column8]],2)","v":1},{"$f":"YEAR(vlookup_data[[#This Row],[Column8]])","v":1900},0,{"$f":"CONCATENATE(vlookup_data[[#This Row],[style '#]],\"|\",R340)","v":"0|"}]
[{"$f":"IF(ISNUMBER(U341)=TRUE,VLOOKUP(vlookup_data[[#This Row],[style '#]],[2]Sheet1!$A:$D,4,0)*ABS(U341),0)","v":0},{"$f":"WEEKNUM(vlookup_data[[#This Row],[Column8]],2)","v":1},{"$f":"YEAR(vlookup_data[[#This Row],[Column8]])","v":1900},0,{"$f":"CONCATENATE(vlookup_data[[#This Row],[style '#]],\"|\",R341)","v":"0|"}]
[{"$f":"IF(ISNUMBER(U342)=TRUE,VLOOKUP(vlookup_data[[#This Row],[style '#]],[2]Sheet1!$A:$D,4,0)*ABS(U342),0)","v":0},{"$f":"WEEKNUM(vlookup_data[[#This Row],[Column8]],2)","v":1},{"$f":"YEAR(vlookup_data[[#This Row],[Column8]])","v":1900},0,{"$f":"CONCATENATE(vlookup_data[[#This Row],[style '#]],\"|\",R342)","v":"0|"}]
[{"$f":"IF(ISNUMBER(U343)=TRUE,VLOOKUP(vlookup_data[[#This Row],[style '#]],[2]Sheet1!$A:$D,4,0)*ABS(U343),0)","v":0},{"$f":"WEEKNUM(vlookup_data[[#This Row],[Column8]],2)","v":1},{"$f":"YEAR(vlookup_data[[#This Row],[Column8]])","v":1900},0,{"$f":"CONCATENATE(vlookup_data[[#This Row],[style '#]],\"|\",R343)","v":"0|"}]
[{"$f":"IF(ISNUMBER(U344)=TRUE,VLOOKUP(vlookup_data[[#This Row],[style '#]],[2]Sheet1!$A:$D,4,0)*ABS(U344),0)","v":0},{"$f":"WEEKNUM(vlookup_data[[#This Row],[Column8]],2)","v":1},{"$f":"YEAR(vlookup_data[[#This Row],[Column8]])","v":1900},0,{"$f":"CONCATENATE(vlookup_data[[#This Row],[style '#]],\"|\",R344)","v":"0|"}]
[{"$f":"IF(ISNUMBER(U345)=TRUE,VLOOKUP(vlookup_data[[#This Row],[style '#]],[2]Sheet1!$A:$D,4,0)*ABS(U345),0)","v":0},{"$f":"WEEKNUM(vlookup_data[[#This Row],[Column8]],2)","v":1},{"$f":"YEAR(vlookup_data[[#This Row],[Column8]])","v":1900},0,{"$f":"CONCATENATE(vlookup_data[[#This Row],[style '#]],\"|\",R345)","v":"0|"}]
[{"$f":"IF(ISNUMBER(U346)=TRUE,VLOOKUP(vlookup_data[[#This Row],[style '#]],[2]Sheet1!$A:$D,4,0)*ABS(U346),0)","v":0},{"$f":"WEEKNUM(vlookup_data[[#This Row],[Column8]],2)","v":1},{"$f":"YEAR(vlookup_data[[#This Row],[Column8]])","v":1900},0,{"$f":"CONCATENATE(vlookup_data[[#This Row],[style '#]],\"|\",R346)","v":"0|"}]
[{"$f":"IF(ISNUMBER(U347)=TRUE,VLOOKUP(vlookup_data[[#This Row],[style '#]],[2]Sheet1!$A:$D,4,0)*ABS(U347),0)","v":0},{"$f":"WEEKNUM(vlookup_data[[#This Row],[Column8]],2)","v":1},{"$f":"YEAR(vlookup_data[[#This Row],[Column8]])","v":1900},0,{"$f":"CONCATENATE(vlookup_data[[#This Row],[style '#]],\"|\",R347)","v":"0|"}]
[{"$f":"IF(ISNUMBER(U348)=TRUE,VLOOKUP(vlookup_data[[#This Row],[style '#]],[2]Sheet1!$A:$D,4,0)*ABS(U348),0)","v":0},{"$f":"WEEKNUM(vlookup_data[[#This Row],[Column8]],2)","v":1},{"$f":"YEAR(vlookup_data[[#This Row],[Column8]])","v":1900},0,{"$f":"CONCATENATE(vlookup_data[[#This Row],[style '#]],\"|\",R348)","v":"0|"}]
[{"$f":"IF(ISNUMBER(U349)=TRUE,VLOOKUP(vlookup_data[[#This Row],[style '#]],[2]Sheet1!$A:$D,4,0)*ABS(U349),0)","v":0},{"$f":"WEEKNUM(vlookup_data[[#This Row],[Column8]],2)","v":1},{"$f":"YEAR(vlookup_data[[#This Row],[Column8]])","v":1900},0,{"$f":"CONCATENATE(vlookup_data[[#This Row],[style '#]],\"|\",R349)","v":"0|"}]
[{"$f":"IF(ISNUMBER(U350)=TRUE,VLOOKUP(vlookup_data[[#This Row],[style '#]],[2]Sheet1!$A:$D,4,0)*ABS(U350),0)","v":0},{"$f":"WEEKNUM(vlookup_data[[#This Row],[Column8]],2)","v":1},{"$f":"YEAR(vlookup_data[[#This Row],[Column8]])","v":1900},0,{"$f":"CONCATENATE(vlookup_data[[#This Row],[style '#]],\"|\",R350)","v":"0|"}]
[{"$f":"IF(ISNUMBER(U351)=TRUE,VLOOKUP(vlookup_data[[#This Row],[style '#]],[2]Sheet1!$A:$D,4,0)*ABS(U351),0)","v":0},{"$f":"WEEKNUM(vlookup_data[[#This Row],[Column8]],2)","v":1},{"$f":"YEAR(vlookup_data[[#This Row],[Column8]])","v":1900},0,{"$f":"CONCATENATE(vlookup_data[[#This Row],[style '#]],\"|\",R351)","v":"0|"}]
[{"$f":"IF(ISNUMBER(U352)=TRUE,VLOOKUP(vlookup_data[[#This Row],[style '#]],[2]Sheet1!$A:$D,4,0)*ABS(U352),0)","v":0},{"$f":"WEEKNUM(vlookup_data[[#This Row],[Column8]],2)","v":1},{"$f":"YEAR(vlookup_data[[#This Row],[Column8]])","v":1900},0,{"$f":"CONCATENATE(vlookup_data[[#This Row],[style '#]],\"|\",R352)","v":"0|"}]
[{"$f":"IF(ISNUMBER(U353)=TRUE,VLOOKUP(vlookup_data[[#This Row],[style '#]],[2]Sheet1!$A:$D,4,0)*ABS(U353),0)","v":0},{"$f":"WEEKNUM(vlookup_data[[#This Row],[Column8]],2)","v":1},{"$f":"YEAR(vlookup_data[[#This Row],[Column8]])","v":1900},0,{"$f":"CONCATENATE(vlookup_data[[#This Row],[style '#]],\"|\",R353)","v":"0|"}]
[{"$f":"IF(ISNUMBER(U354)=TRUE,VLOOKUP(vlookup_data[[#This Row],[style '#]],[2]Sheet1!$A:$D,4,0)*ABS(U354),0)","v":0},{"$f":"WEEKNUM(vlookup_data[[#This Row],[Column8]],2)","v":1},{"$f":"YEAR(vlookup_data[[#This Row],[Column8]])","v":1900},0,{"$f":"CONCATENATE(vlookup_data[[#This Row],[style '#]],\"|\",R354)","v":"0|"}]
[{"$f":"IF(ISNUMBER(U355)=TRUE,VLOOKUP(vlookup_data[[#This Row],[style '#]],[2]Sheet1!$A:$D,4,0)*ABS(U355),0)","v":0},{"$f":"WEEKNUM(vlookup_data[[#This Row],[Column8]],2)","v":1},{"$f":"YEAR(vlookup_data[[#This Row],[Column8]])","v":1900},0,{"$f":"CONCATENATE(vlookup_data[[#This Row],[style '#]],\"|\",R355)","v":"0|"}]
[{"$f":"IF(ISNUMBER(U356)=TRUE,VLOOKUP(vlookup_data[[#This Row],[style '#]],[2]Sheet1!$A:$D,4,0)*ABS(U356),0)","v":0},{"$f":"WEEKNUM(vlookup_data[[#This Row],[Column8]],2)","v":1},{"$f":"YEAR(vlookup_data[[#This Row],[Column8]])","v":1900},0,{"$f":"CONCATENATE(vlookup_data[[#This Row],[style '#]],\"|\",R356)","v":"0|"}]
[{"$f":"IF(ISNUMBER(U357)=TRUE,VLOOKUP(vlookup_data[[#This Row],[style '#]],[2]Sheet1!$A:$D,4,0)*ABS(U357),0)","v":0},{"$f":"WEEKNUM(vlookup_data[[#This Row],[Column8]],2)","v":1},{"$f":"YEAR(vlookup_data[[#This Row],[Column8]])","v":1900},0,{"$f":"CONCATENATE(vlookup_data[[#This Row],[style '#]],\"|\",R357)","v":"0|"}]
[{"$f":"IF(ISNUMBER(U358)=TRUE,VLOOKUP(vlookup_data[[#This Row],[style '#]],[2]Sheet1!$A:$D,4,0)*ABS(U358),0)","v":0},{"$f":"WEEKNUM(vlookup_data[[#This Row],[Column8]],2)","v":1},{"$f":"YEAR(vlookup_data[[#This Row],[Column8]])","v":1900},0,{"$f":"CONCATENATE(vlookup_data[[#This Row],[style '#]],\"|\",R358)","v":"0|"}]
[{"$f":"IF(ISNUMBER(U359)=TRUE,VLOOKUP(vlookup_data[[#This Row],[style '#]],[2]Sheet1!$A:$D,4,0)*ABS(U359),0)","v":0},{"$f":"WEEKNUM(vlookup_data[[#This Row],[Column8]],2)","v":1},{"$f":"YEAR(vlookup_data[[#This Row],[Column8]])","v":1900},0,{"$f":"CONCATENATE(vlookup_data[[#This Row],[style '#]],\"|\",R359)","v":"0|"}]
[{"$f":"IF(ISNUMBER(U360)=TRUE,VLOOKUP(vlookup_data[[#This Row],[style '#]],[2]Sheet1!$A:$D,4,0)*ABS(U360),0)","v":0},{"$f":"WEEKNUM(vlookup_data[[#This Row],[Column8]],2)","v":1},{"$f":"YEAR(vlookup_data[[#This Row],[Column8]])","v":1900},0,{"$f":"CONCATENATE(vlookup_data[[#This Row],[style '#]],\"|\",R360)","v":"0|"}]
[{"$f":"IF(ISNUMBER(U361)=TRUE,VLOOKUP(vlookup_data[[#This Row],[style '#]],[2]Sheet1!$A:$D,4,0)*ABS(U361),0)","v":0},{"$f":"WEEKNUM(vlookup_data[[#This Row],[Column8]],2)","v":1},{"$f":"YEAR(vlookup_data[[#This Row],[Column8]])","v":1900},0,{"$f":"CONCATENATE(vlookup_data[[#This Row],[style '#]],\"|\",R361)","v":"0|"}]
[{"$f":"IF(ISNUMBER(U362)=TRUE,VLOOKUP(vlookup_data[[#This Row],[style '#]],[2]Sheet1!$A:$D,4,0)*ABS(U362),0)","v":0},{"$f":"WEEKNUM(vlookup_data[[#This Row],[Column8]],2)","v":1},{"$f":"YEAR(vlookup_data[[#This Row],[Column8]])","v":1900},0,{"$f":"CONCATENATE(vlookup_data[[#This Row],[style '#]],\"|\",R362)","v":"0|"}]
[{"$f":"IF(ISNUMBER(U363)=TRUE,VLOOKUP(vlookup_data[[#This Row],[style '#]],[2]Sheet1!$A:$D,4,0)*ABS(U363),0)","v":0},{"$f":"WEEKNUM(vlookup_data[[#This Row],[Column8]],2)","v":1},{"$f":"YEAR(vlookup_data[[#This Row],[Column8]])","v":1900},0,{"$f":"CONCATENATE(vlookup_data[[#This Row],[style '#]],\"|\",R363)","v":"0|"}]
[{"$f":"IF(ISNUMBER(U364)=TRUE,VLOOKUP(vlookup_data[[#This Row],[style '#]],[2]Sheet1!$A:$D,4,0)*ABS(U364),0)","v":0},{"$f":"WEEKNUM(vlookup_data[[#This Row],[Column8]],2)","v":1},{"$f":"YEAR(vlookup_data[[#This Row],[Column8]])","v":1900},0,{"$f":"CONCATENATE(vlookup_data[[#This Row],[style '#]],\"|\",R364)","v":"0|"}]
[{"$f":"IF(ISNUMBER(U365)=TRUE,VLOOKUP(vlookup_data[[#This Row],[style '#]],[2]Sheet1!$A:$D,4,0)*ABS(U365),0)","v":0},{"$f":"WEEKNUM(vlookup_data[[#This Row],[Column8]],2)","v":1},{"$f":"YEAR(vlookup_data[[#This Row],[Column8]])","v":1900},0,{"$f":"CONCATENATE(vlookup_data[[#This Row],[style '#]],\"|\",R365)","v":"0|"}]
[{"$f":"IF(ISNUMBER(U366)=TRUE,VLOOKUP(vlookup_data[[#This Row],[style '#]],[2]Sheet1!$A:$D,4,0)*ABS(U366),0)","v":0},{"$f":"WEEKNUM(vlookup_data[[#This Row],[Column8]],2)","v":1},{"$f":"YEAR(vlookup_data[[#This Row],[Column8]])","v":1900},0,{"$f":"CONCATENATE(vlookup_data[[#This Row],[style '#]],\"|\",R366)","v":"0|"}]
[{"$f":"IF(ISNUMBER(U367)=TRUE,VLOOKUP(vlookup_data[[#This Row],[style '#]],[2]Sheet1!$A:$D,4,0)*ABS(U367),0)","v":0},{"$f":"WEEKNUM(vlookup_data[[#This Row],[Column8]],2)","v":1},{"$f":"YEAR(vlookup_data[[#This Row],[Column8]])","v":1900},0,{"$f":"CONCATENATE(vlookup_data[[#This Row],[style '#]],\"|\",R367)","v":"0|"}]
[{"$f":"IF(ISNUMBER(U368)=TRUE,VLOOKUP(vlookup_data[[#This Row],[style '#]],[2]Sheet1!$A:$D,4,0)*ABS(U368),0)","v":0},{"$f":"WEEKNUM(vlookup_data[[#This Row],[Column8]],2)","v":1},{"$f":"YEAR(vlookup_data[[#This Row],[Column8]])","v":1900},0,{"$f":"CONCATENATE(vlookup_data[[#This Row],[style '#]],\"|\",R368)","v":"0|"}]
[{"$f":"IF(ISNUMBER(U369)=TRUE,VLOOKUP(vlookup_data[[#This Row],[style '#]],[2]Sheet1!$A:$D,4,0)*ABS(U369),0)","v":0},{"$f":"WEEKNUM(vlookup_data[[#This Row],[Column8]],2)","v":1},{"$f":"YEAR(vlookup_data[[#This Row],[Column8]])","v":1900},0,{"$f":"CONCATENATE(vlookup_data[[#This Row],[style '#]],\"|\",R369)","v":"0|"}]
[{"$f":"IF(ISNUMBER(U370)=TRUE,VLOOKUP(vlookup_data[[#This Row],[style '#]],[2]Sheet1!$A:$D,4,0)*ABS(U370),0)","v":0},{"$f":"WEEKNUM(vlookup_data[[#This Row],[Column8]],2)","v":1},{"$f":"YEAR(vlookup_data[[#This Row],[Column8]])","v":1900},0,{"$f":"CONCATENATE(vlookup_data[[#This Row],[style '#]],\"|\",R370)","v":"0|"}]
[{"$f":"IF(ISNUMBER(U371)=TRUE,VLOOKUP(vlookup_data[[#This Row],[style '#]],[2]Sheet1!$A:$D,4,0)*ABS(U371),0)","v":0},{"$f":"WEEKNUM(vlookup_data[[#This Row],[Column8]],2)","v":1},{"$f":"YEAR(vlookup_data[[#This Row],[Column8]])","v":1900},0,{"$f":"CONCATENATE(vlookup_data[[#This Row],[style '#]],\"|\",R371)","v":"0|"}]
[{"$f":"IF(ISNUMBER(U372)=TRUE,VLOOKUP(vlookup_data[[#This Row],[style '#]],[2]Sheet1!$A:$D,4,0)*ABS(U372),0)","v":0},{"$f":"WEEKNUM(vlookup_data[[#This Row],[Column8]],2)","v":1},{"$f":"YEAR(vlookup_data[[#This Row],[Column8]])","v":1900},0,{"$f":"CONCATENATE(vlookup_data[[#This Row],[style '#]],\"|\",R372)","v":"0|"}]
[{"$f":"IF(ISNUMBER(U373)=TRUE,VLOOKUP(vlookup_data[[#This Row],[style '#]],[2]Sheet1!$A:$D,4,0)*ABS(U373),0)","v":0},{"$f":"WEEKNUM(vlookup_data[[#This Row],[Column8]],2)","v":1},{"$f":"YEAR(vlookup_data[[#This Row],[Column8]])","v":1900},0,{"$f":"CONCATENATE(vlookup_data[[#This Row],[style '#]],\"|\",R373)","v":"0|"}]
[{"$f":"IF(ISNUMBER(U374)=TRUE,VLOOKUP(vlookup_data[[#This Row],[style '#]],[2]Sheet1!$A:$D,4,0)*ABS(U374),0)","v":0},{"$f":"WEEKNUM(vlookup_data[[#This Row],[Column8]],2)","v":1},{"$f":"YEAR(vlookup_data[[#This Row],[Column8]])","v":1900},0,{"$f":"CONCATENATE(vlookup_data[[#This Row],[style '#]],\"|\",R374)","v":"0|"}]
[{"$f":"IF(ISNUMBER(U375)=TRUE,VLOOKUP(vlookup_data[[#This Row],[style '#]],[2]Sheet1!$A:$D,4,0)*ABS(U375),0)","v":0},{"$f":"WEEKNUM(vlookup_data[[#This Row],[Column8]],2)","v":1},{"$f":"YEAR(vlookup_data[[#This Row],[Column8]])","v":1900},0,{"$f":"CONCATENATE(vlookup_data[[#This Row],[style '#]],\"|\",R375)","v":"0|"}]
[{"$f":"IF(ISNUMBER(U376)=TRUE,VLOOKUP(vlookup_data[[#This Row],[style '#]],[2]Sheet1!$A:$D,4,0)*ABS(U376),0)","v":0},{"$f":"WEEKNUM(vlookup_data[[#This Row],[Column8]],2)","v":1},{"$f":"YEAR(vlookup_data[[#This Row],[Column8]])","v":1900},0,{"$f":"CONCATENATE(vlookup_data[[#This Row],[style '#]],\"|\",R376)","v":"0|"}]
[{"$f":"IF(ISNUMBER(U377)=TRUE,VLOOKUP(vlookup_data[[#This Row],[style '#]],[2]Sheet1!$A:$D,4,0)*ABS(U377),0)","v":0},{"$f":"WEEKNUM(vlookup_data[[#This Row],[Column8]],2)","v":1},{"$f":"YEAR(vlookup_data[[#This Row],[Column8]])","v":1900},0,{"$f":"CONCATENATE(vlookup_data[[#This Row],[style '#]],\"|\",R377)","v":"0|"}]
[{"$f":"IF(ISNUMBER(U378)=TRUE,VLOOKUP(vlookup_data[[#This Row],[style '#]],[2]Sheet1!$A:$D,4,0)*ABS(U378),0)","v":0},{"$f":"WEEKNUM(vlookup_data[[#This Row],[Column8]],2)","v":1},{"$f":"YEAR(vlookup_data[[#This Row],[Column8]])","v":1900},0,{"$f":"CONCATENATE(vlookup_data[[#This Row],[style '#]],\"|\",R378)","v":"0|"}]
[{"$f":"IF(ISNUMBER(U379)=TRUE,VLOOKUP(vlookup_data[[#This Row],[style '#]],[2]Sheet1!$A:$D,4,0)*ABS(U379),0)","v":0},{"$f":"WEEKNUM(vlookup_data[[#This Row],[Column8]],2)","v":1},{"$f":"YEAR(vlookup_data[[#This Row],[Column8]])","v":1900},0,{"$f":"CONCATENATE(vlookup_data[[#This Row],[style '#]],\"|\",R379)","v":"0|"}]
[{"$f":"IF(ISNUMBER(U380)=TRUE,VLOOKUP(vlookup_data[[#This Row],[style '#]],[2]Sheet1!$A:$D,4,0)*ABS(U380),0)","v":0},{"$f":"WEEKNUM(vlookup_data[[#This Row],[Column8]],2)","v":1},{"$f":"YEAR(vlookup_data[[#This Row],[Column8]])","v":1900},0,{"$f":"CONCATENATE(vlookup_data[[#This Row],[style '#]],\"|\",R380)","v":"0|"}]
[{"$f":"IF(ISNUMBER(U381)=TRUE,VLOOKUP(vlookup_data[[#This Row],[style '#]],[2]Sheet1!$A:$D,4,0)*ABS(U381),0)","v":0},{"$f":"WEEKNUM(vlookup_data[[#This Row],[Column8]],2)","v":1},{"$f":"YEAR(vlookup_data[[#This Row],[Column8]])","v":1900},0,{"$f":"CONCATENATE(vlookup_data[[#This Row],[style '#]],\"|\",R381)","v":"0|"}]
[{"$f":"IF(ISNUMBER(U382)=TRUE,VLOOKUP(vlookup_data[[#This Row],[style '#]],[2]Sheet1!$A:$D,4,0)*ABS(U382),0)","v":0},{"$f":"WEEKNUM(vlookup_data[[#This Row],[Column8]],2)","v":1},{"$f":"YEAR(vlookup_data[[#This Row],[Column8]])","v":1900},0,{"$f":"CONCATENATE(vlookup_data[[#This Row],[style '#]],\"|\",R382)","v":"0|"}]
[{"$f":"IF(ISNUMBER(U383)=TRUE,VLOOKUP(vlookup_data[[#This Row],[style '#]],[2]Sheet1!$A:$D,4,0)*ABS(U383),0)","v":0},{"$f":"WEEKNUM(vlookup_data[[#This Row],[Column8]],2)","v":1},{"$f":"YEAR(vlookup_data[[#This Row],[Column8]])","v":1900},0,{"$f":"CONCATENATE(vlookup_data[[#This Row],[style '#]],\"|\",R383)","v":"0|"}]
[{"$f":"IF(ISNUMBER(U384)=TRUE,VLOOKUP(vlookup_data[[#This Row],[style '#]],[2]Sheet1!$A:$D,4,0)*ABS(U384),0)","v":0},{"$f":"WEEKNUM(vlookup_data[[#This Row],[Column8]],2)","v":1},{"$f":"YEAR(vlookup_data[[#This Row],[Column8]])","v":1900},0,{"$f":"CONCATENATE(vlookup_data[[#This Row],[style '#]],\"|\",R384)","v":"0|"}]
[{"$f":"IF(ISNUMBER(U385)=TRUE,VLOOKUP(vlookup_data[[#This Row],[style '#]],[2]Sheet1!$A:$D,4,0)*ABS(U385),0)","v":0},{"$f":"WEEKNUM(vlookup_data[[#This Row],[Column8]],2)","v":1},{"$f":"YEAR(vlookup_data[[#This Row],[Column8]])","v":1900},0,{"$f":"CONCATENATE(vlookup_data[[#This Row],[style '#]],\"|\",R385)","v":"0|"}]
[{"$f":"IF(ISNUMBER(U386)=TRUE,VLOOKUP(vlookup_data[[#This Row],[style '#]],[2]Sheet1!$A:$D,4,0)*ABS(U386),0)","v":0},{"$f":"WEEKNUM(vlookup_data[[#This Row],[Column8]],2)","v":1},{"$f":"YEAR(vlookup_data[[#This Row],[Column8]])","v":1900},0,{"$f":"CONCATENATE(vlookup_data[[#This Row],[style '#]],\"|\",R386)","v":"0|"}]
[{"$f":"IF(ISNUMBER(U387)=TRUE,VLOOKUP(vlookup_data[[#This Row],[style '#]],[2]Sheet1!$A:$D,4,0)*ABS(U387),0)","v":0},{"$f":"WEEKNUM(vlookup_data[[#This Row],[Column8]],2)","v":1},{"$f":"YEAR(vlookup_data[[#This Row],[Column8]])","v":1900},0,{"$f":"CONCATENATE(vlookup_data[[#This Row],[style '#]],\"|\",R387)","v":"0|"}]
[{"$f":"IF(ISNUMBER(U388)=TRUE,VLOOKUP(vlookup_data[[#This Row],[style '#]],[2]Sheet1!$A:$D,4,0)*ABS(U388),0)","v":0},{"$f":"WEEKNUM(vlookup_data[[#This Row],[Column8]],2)","v":1},{"$f":"YEAR(vlookup_data[[#This Row],[Column8]])","v":1900},0,{"$f":"CONCATENATE(vlookup_data[[#This Row],[style '#]],\"|\",R388)","v":"0|"}]
[{"$f":"IF(ISNUMBER(U389)=TRUE,VLOOKUP(vlookup_data[[#This Row],[style '#]],[2]Sheet1!$A:$D,4,0)*ABS(U389),0)","v":0},{"$f":"WEEKNUM(vlookup_data[[#This Row],[Column8]],2)","v":1},{"$f":"YEAR(vlookup_data[[#This Row],[Column8]])","v":1900},0,{"$f":"CONCATENATE(vlookup_data[[#This Row],[style '#]],\"|\",R389)","v":"0|"}]
[{"$f":"IF(ISNUMBER(U390)=TRUE,VLOOKUP(vlookup_data[[#This Row],[style '#]],[2]Sheet1!$A:$D,4,0)*ABS(U390),0)","v":0},{"$f":"WEEKNUM(vlookup_data[[#This Row],[Column8]],2)","v":1},{"$f":"YEAR(vlookup_data[[#This Row],[Column8]])","v":1900},0,{"$f":"CONCATENATE(vlookup_data[[#This Row],[style '#]],\"|\",R390)","v":"0|"}]
[{"$f":"IF(ISNUMBER(U391)=TRUE,VLOOKUP(vlookup_data[[#This Row],[style '#]],[2]Sheet1!$A:$D,4,0)*ABS(U391),0)","v":0},{"$f":"WEEKNUM(vlookup_data[[#This Row],[Column8]],2)","v":1},{"$f":"YEAR(vlookup_data[[#This Row],[Column8]])","v":1900},0,{"$f":"CONCATENATE(vlookup_data[[#This Row],[style '#]],\"|\",R391)","v":"0|"}]
[{"$f":"IF(ISNUMBER(U392)=TRUE,VLOOKUP(vlookup_data[[#This Row],[style '#]],[2]Sheet1!$A:$D,4,0)*ABS(U392),0)","v":0},{"$f":"WEEKNUM(vlookup_data[[#This Row],[Column8]],2)","v":1},{"$f":"YEAR(vlookup_data[[#This Row],[Column8]])","v":1900},0,{"$f":"CONCATENATE(vlookup_data[[#This Row],[style '#]],\"|\",R392)","v":"0|"}]
[{"$f":"IF(ISNUMBER(U393)=TRUE,VLOOKUP(vlookup_data[[#This Row],[style '#]],[2]Sheet1!$A:$D,4,0)*ABS(U393),0)","v":0},{"$f":"WEEKNUM(vlookup_data[[#This Row],[Column8]],2)","v":1},{"$f":"YEAR(vlookup_data[[#This Row],[Column8]])","v":1900},{"$f":"VALUE(G393)","v":0},{"$f":"CONCATENATE(vlookup_data[[#This Row],[style '#]],\"|\",R393)","v":"0|"}]
[{"$f":"IF(ISNUMBER(U394)=TRUE,VLOOKUP(vlookup_data[[#This Row],[style '#]],[2]Sheet1!$A:$D,4,0)*ABS(U394),0)","v":0},{"$f":"WEEKNUM(vlookup_data[[#This Row],[Column8]],2)","v":1},{"$f":"YEAR(vlookup_data[[#This Row],[Column8]])","v":1900},0,{"$f":"CONCATENATE(vlookup_data[[#This Row],[style '#]],\"|\",R394)","v":"0|"}]
[{"$f":"IF(ISNUMBER(U395)=TRUE,VLOOKUP(vlookup_data[[#This Row],[style '#]],[2]Sheet1!$A:$D,4,0)*ABS(U395),0)","v":0},{"$f":"WEEKNUM(vlookup_data[[#This Row],[Column8]],2)","v":1},{"$f":"YEAR(vlookup_data[[#This Row],[Column8]])","v":1900},0,{"$f":"CONCATENATE(vlookup_data[[#This Row],[style '#]],\"|\",R395)","v":"0|"}]
[{"$f":"IF(ISNUMBER(U396)=TRUE,VLOOKUP(vlookup_data[[#This Row],[style '#]],[2]Sheet1!$A:$D,4,0)*ABS(U396),0)","v":0},{"$f":"WEEKNUM(vlookup_data[[#This Row],[Column8]],2)","v":1},{"$f":"YEAR(vlookup_data[[#This Row],[Column8]])","v":1900},0,{"$f":"CONCATENATE(vlookup_data[[#This Row],[style '#]],\"|\",R396)","v":"0|"}]
[{"$f":"IF(ISNUMBER(U397)=TRUE,VLOOKUP(vlookup_data[[#This Row],[style '#]],[2]Sheet1!$A:$D,4,0)*ABS(U397),0)","v":0},{"$f":"WEEKNUM(vlookup_data[[#This Row],[Column8]],2)","v":1},{"$f":"YEAR(vlookup_data[[#This Row],[Column8]])","v":1900},0,{"$f":"CONCATENATE(vlookup_data[[#This Row],[style '#]],\"|\",R397)","v":"0|"}]
[{"$f":"IF(ISNUMBER(U398)=TRUE,VLOOKUP(vlookup_data[[#This Row],[style '#]],[2]Sheet1!$A:$D,4,0)*ABS(U398),0)","v":0},{"$f":"WEEKNUM(vlookup_data[[#This Row],[Column8]],2)","v":1},{"$f":"YEAR(vlookup_data[[#This Row],[Column8]])","v":1900},0,{"$f":"CONCATENATE(vlookup_data[[#This Row],[style '#]],\"|\",R398)","v":"0|"}]
[{"$f":"IF(ISNUMBER(U399)=TRUE,VLOOKUP(vlookup_data[[#This Row],[style '#]],[2]Sheet1!$A:$D,4,0)*ABS(U399),0)","v":0},{"$f":"WEEKNUM(vlookup_data[[#This Row],[Column8]],2)","v":1},{"$f":"YEAR(vlookup_data[[#This Row],[Column8]])","v":1900},0,{"$f":"CONCATENATE(vlookup_data[[#This Row],[style '#]],\"|\",R399)","v":"0|"}]
[{"$f":"IF(ISNUMBER(U400)=TRUE,VLOOKUP(vlookup_data[[#This Row],[style '#]],[2]Sheet1!$A:$D,4,0)*ABS(U400),0)","v":0},{"$f":"WEEKNUM(vlookup_data[[#This Row],[Column8]],2)","v":1},{"$f":"YEAR(vlookup_data[[#This Row],[Column8]])","v":1900},0,{"$f":"CONCATENATE(vlookup_data[[#This Row],[style '#]],\"|\",R400)","v":"0|"}]
[{"$f":"IF(ISNUMBER(U401)=TRUE,VLOOKUP(vlookup_data[[#This Row],[style '#]],[2]Sheet1!$A:$D,4,0)*ABS(U401),0)","v":0},{"$f":"WEEKNUM(vlookup_data[[#This Row],[Column8]],2)","v":1},{"$f":"YEAR(vlookup_data[[#This Row],[Column8]])","v":1900},0,{"$f":"CONCATENATE(vlookup_data[[#This Row],[style '#]],\"|\",R401)","v":"0|"}]
[{"$f":"IF(ISNUMBER(U402)=TRUE,VLOOKUP(vlookup_data[[#This Row],[style '#]],[2]Sheet1!$A:$D,4,0)*ABS(U402),0)","v":0},{"$f":"WEEKNUM(vlookup_data[[#This Row],[Column8]],2)","v":1},{"$f":"YEAR(vlookup_data[[#This Row],[Column8]])","v":1900},0,{"$f":"CONCATENATE(vlookup_data[[#This Row],[style '#]],\"|\",R402)","v":"0|"}]
[{"$f":"IF(ISNUMBER(U403)=TRUE,VLOOKUP(vlookup_data[[#This Row],[style '#]],[2]Sheet1!$A:$D,4,0)*ABS(U403),0)","v":0},{"$f":"WEEKNUM(vlookup_data[[#This Row],[Column8]],2)","v":1},{"$f":"YEAR(vlookup_data[[#This Row],[Column8]])","v":1900},0,{"$f":"CONCATENATE(vlookup_data[[#This Row],[style '#]],\"|\",R403)","v":"0|"}]
[{"$f":"IF(ISNUMBER(U404)=TRUE,VLOOKUP(vlookup_data[[#This Row],[style '#]],[2]Sheet1!$A:$D,4,0)*ABS(U404),0)","v":0},{"$f":"WEEKNUM(vlookup_data[[#This Row],[Column8]],2)","v":1},{"$f":"YEAR(vlookup_data[[#This Row],[Column8]])","v":1900},0,{"$f":"CONCATENATE(vlookup_data[[#This Row],[style '#]],\"|\",R404)","v":"0|"}]
[{"$f":"IF(ISNUMBER(U405)=TRUE,VLOOKUP(vlookup_data[[#This Row],[style '#]],[2]Sheet1!$A:$D,4,0)*ABS(U405),0)","v":0},{"$f":"WEEKNUM(vlookup_data[[#This Row],[Column8]],2)","v":1},{"$f":"YEAR(vlookup_data[[#This Row],[Column8]])","v":1900},0,{"$f":"CONCATENATE(vlookup_data[[#This Row],[style '#]],\"|\",R405)","v":"0|"}]
[{"$f":"IF(ISNUMBER(U406)=TRUE,VLOOKUP(vlookup_data[[#This Row],[style '#]],[2]Sheet1!$A:$D,4,0)*ABS(U406),0)","v":0},{"$f":"WEEKNUM(vlookup_data[[#This Row],[Column8]],2)","v":1},{"$f":"YEAR(vlookup_data[[#This Row],[Column8]])","v":1900},0,{"$f":"CONCATENATE(vlookup_data[[#This Row],[style '#]],\"|\",R406)","v":"0|"}]
[{"$f":"IF(ISNUMBER(U407)=TRUE,VLOOKUP(vlookup_data[[#This Row],[style '#]],[2]Sheet1!$A:$D,4,0)*ABS(U407),0)","v":0},{"$f":"WEEKNUM(vlookup_data[[#This Row],[Column8]],2)","v":1},{"$f":"YEAR(vlookup_data[[#This Row],[Column8]])","v":1900},0,{"$f":"CONCATENATE(vlookup_data[[#This Row],[style '#]],\"|\",R407)","v":"0|"}]
[{"$f":"IF(ISNUMBER(U408)=TRUE,VLOOKUP(vlookup_data[[#This Row],[style '#]],[2]Sheet1!$A:$D,4,0)*ABS(U408),0)","v":0},{"$f":"WEEKNUM(vlookup_data[[#This Row],[Column8]],2)","v":1},{"$f":"YEAR(vlookup_data[[#This Row],[Column8]])","v":1900},0,{"$f":"CONCATENATE(vlookup_data[[#This Row],[style '#]],\"|\",R408)","v":"0|"}]
[{"$f":"IF(ISNUMBER(U409)=TRUE,VLOOKUP(vlookup_data[[#This Row],[style '#]],[2]Sheet1!$A:$D,4,0)*ABS(U409),0)","v":0},{"$f":"WEEKNUM(vlookup_data[[#This Row],[Column8]],2)","v":1},{"$f":"YEAR(vlookup_data[[#This Row],[Column8]])","v":1900},0,{"$f":"CONCATENATE(vlookup_data[[#This Row],[style '#]],\"|\",R409)","v":"0|"}]
[{"$f":"IF(ISNUMBER(U410)=TRUE,VLOOKUP(vlookup_data[[#This Row],[style '#]],[2]Sheet1!$A:$D,4,0)*ABS(U410),0)","v":0},{"$f":"WEEKNUM(vlookup_data[[#This Row],[Column8]],2)","v":1},{"$f":"YEAR(vlookup_data[[#This Row],[Column8]])","v":1900},0,{"$f":"CONCATENATE(vlookup_data[[#This Row],[style '#]],\"|\",R410)","v":"0|"}]
[{"$f":"IF(ISNUMBER(U411)=TRUE,VLOOKUP(vlookup_data[[#This Row],[style '#]],[2]Sheet1!$A:$D,4,0)*ABS(U411),0)","v":0},{"$f":"WEEKNUM(vlookup_data[[#This Row],[Column8]],2)","v":1},{"$f":"YEAR(vlookup_data[[#This Row],[Column8]])","v":1900},0,{"$f":"CONCATENATE(vlookup_data[[#This Row],[style '#]],\"|\",R411)","v":"0|"}]
[{"$f":"IF(ISNUMBER(U412)=TRUE,VLOOKUP(vlookup_data[[#This Row],[style '#]],[2]Sheet1!$A:$D,4,0)*ABS(U412),0)","v":0},{"$f":"WEEKNUM(vlookup_data[[#This Row],[Column8]],2)","v":1},{"$f":"YEAR(vlookup_data[[#This Row],[Column8]])","v":1900},0,{"$f":"CONCATENATE(vlookup_data[[#This Row],[style '#]],\"|\",R412)","v":"0|"}]
[{"$f":"IF(ISNUMBER(U413)=TRUE,VLOOKUP(vlookup_data[[#This Row],[style '#]],[2]Sheet1!$A:$D,4,0)*ABS(U413),0)","v":0},{"$f":"WEEKNUM(vlookup_data[[#This Row],[Column8]],2)","v":1},{"$f":"YEAR(vlookup_data[[#This Row],[Column8]])","v":1900},0,{"$f":"CONCATENATE(vlookup_data[[#This Row],[style '#]],\"|\",R413)","v":"0|"}]
[{"$f":"IF(ISNUMBER(U414)=TRUE,VLOOKUP(vlookup_data[[#This Row],[style '#]],[2]Sheet1!$A:$D,4,0)*ABS(U414),0)","v":0},{"$f":"WEEKNUM(vlookup_data[[#This Row],[Column8]],2)","v":1},{"$f":"YEAR(vlookup_data[[#This Row],[Column8]])","v":1900},0,{"$f":"CONCATENATE(vlookup_data[[#This Row],[style '#]],\"|\",R414)","v":"0|"}]
[{"$f":"IF(ISNUMBER(U415)=TRUE,VLOOKUP(vlookup_data[[#This Row],[style '#]],[2]Sheet1!$A:$D,4,0)*ABS(U415),0)","v":0},{"$f":"WEEKNUM(vlookup_data[[#This Row],[Column8]],2)","v":1},{"$f":"YEAR(vlookup_data[[#This Row],[Column8]])","v":1900},0,{"$f":"CONCATENATE(vlookup_data[[#This Row],[style '#]],\"|\",R415)","v":"0|"}]
[{"$f":"IF(ISNUMBER(U416)=TRUE,VLOOKUP(vlookup_data[[#This Row],[style '#]],[2]Sheet1!$A:$D,4,0)*ABS(U416),0)","v":0},{"$f":"WEEKNUM(vlookup_data[[#This Row],[Column8]],2)","v":1},{"$f":"YEAR(vlookup_data[[#This Row],[Column8]])","v":1900},0,{"$f":"CONCATENATE(vlookup_data[[#This Row],[style '#]],\"|\",R416)","v":"0|"}]
[{"$f":"IF(ISNUMBER(U417)=TRUE,VLOOKUP(vlookup_data[[#This Row],[style '#]],[2]Sheet1!$A:$D,4,0)*ABS(U417),0)","v":0},{"$f":"WEEKNUM(vlookup_data[[#This Row],[Column8]],2)","v":1},{"$f":"YEAR(vlookup_data[[#This Row],[Column8]])","v":1900},0,{"$f":"CONCATENATE(vlookup_data[[#This Row],[style '#]],\"|\",R417)","v":"0|"}]
[{"$f":"IF(ISNUMBER(U418)=TRUE,VLOOKUP(vlookup_data[[#This Row],[style '#]],[2]Sheet1!$A:$D,4,0)*ABS(U418),0)","v":0},{"$f":"WEEKNUM(vlookup_data[[#This Row],[Column8]],2)","v":1},{"$f":"YEAR(vlookup_data[[#This Row],[Column8]])","v":1900},0,{"$f":"CONCATENATE(vlookup_data[[#This Row],[style '#]],\"|\",R418)","v":"0|"}]
[{"$f":"IF(ISNUMBER(U419)=TRUE,VLOOKUP(vlookup_data[[#This Row],[style '#]],[2]Sheet1!$A:$D,4,0)*ABS(U419),0)","v":0},{"$f":"WEEKNUM(vlookup_data[[#This Row],[Column8]],2)","v":1},{"$f":"YEAR(vlookup_data[[#This Row],[Column8]])","v":1900},0,{"$f":"CONCATENATE(vlookup_data[[#This Row],[style '#]],\"|\",R419)","v":"0|"}]
[{"$f":"IF(ISNUMBER(U420)=TRUE,VLOOKUP(vlookup_data[[#This Row],[style '#]],[2]Sheet1!$A:$D,4,0)*ABS(U420),0)","v":0},{"$f":"WEEKNUM(vlookup_data[[#This Row],[Column8]],2)","v":1},{"$f":"YEAR(vlookup_data[[#This Row],[Column8]])","v":1900},0,{"$f":"CONCATENATE(vlookup_data[[#This Row],[style '#]],\"|\",R420)","v":"0|"}]
[{"$f":"IF(ISNUMBER(U421)=TRUE,VLOOKUP(vlookup_data[[#This Row],[style '#]],[2]Sheet1!$A:$D,4,0)*ABS(U421),0)","v":0},{"$f":"WEEKNUM(vlookup_data[[#This Row],[Column8]],2)","v":1},{"$f":"YEAR(vlookup_data[[#This Row],[Column8]])","v":1900},0,{"$f":"CONCATENATE(vlookup_data[[#This Row],[style '#]],\"|\",R421)","v":"0|"}]
[{"$f":"IF(ISNUMBER(U422)=TRUE,VLOOKUP(vlookup_data[[#This Row],[style '#]],[2]Sheet1!$A:$D,4,0)*ABS(U422),0)","v":0},{"$f":"WEEKNUM(vlookup_data[[#This Row],[Column8]],2)","v":1},{"$f":"YEAR(vlookup_data[[#This Row],[Column8]])","v":1900},0,{"$f":"CONCATENATE(vlookup_data[[#This Row],[style '#]],\"|\",R422)","v":"0|"}]
[{"$f":"IF(ISNUMBER(U423)=TRUE,VLOOKUP(vlookup_data[[#This Row],[style '#]],[2]Sheet1!$A:$D,4,0)*ABS(U423),0)","v":0},{"$f":"WEEKNUM(vlookup_data[[#This Row],[Column8]],2)","v":1},{"$f":"YEAR(vlookup_data[[#This Row],[Column8]])","v":1900},0,{"$f":"CONCATENATE(vlookup_data[[#This Row],[style '#]],\"|\",R423)","v":"0|"}]
[{"$f":"IF(ISNUMBER(U424)=TRUE,VLOOKUP(vlookup_data[[#This Row],[style '#]],[2]Sheet1!$A:$D,4,0)*ABS(U424),0)","v":0},{"$f":"WEEKNUM(vlookup_data[[#This Row],[Column8]],2)","v":1},{"$f":"YEAR(vlookup_data[[#This Row],[Column8]])","v":1900},0,{"$f":"CONCATENATE(vlookup_data[[#This Row],[style '#]],\"|\",R424)","v":"0|"}]
[{"$f":"IF(ISNUMBER(U425)=TRUE,VLOOKUP(vlookup_data[[#This Row],[style '#]],[2]Sheet1!$A:$D,4,0)*ABS(U425),0)","v":0},{"$f":"WEEKNUM(vlookup_data[[#This Row],[Column8]],2)","v":1},{"$f":"YEAR(vlookup_data[[#This Row],[Column8]])","v":1900},0,{"$f":"CONCATENATE(vlookup_data[[#This Row],[style '#]],\"|\",R425)","v":"0|"}]
[{"$f":"IF(ISNUMBER(U426)=TRUE,VLOOKUP(vlookup_data[[#This Row],[style '#]],[2]Sheet1!$A:$D,4,0)*ABS(U426),0)","v":0},{"$f":"WEEKNUM(vlookup_data[[#This Row],[Column8]],2)","v":1},{"$f":"YEAR(vlookup_data[[#This Row],[Column8]])","v":1900},0,{"$f":"CONCATENATE(vlookup_data[[#This Row],[style '#]],\"|\",R426)","v":"0|"}]
[{"$f":"IF(ISNUMBER(U427)=TRUE,VLOOKUP(vlookup_data[[#This Row],[style '#]],[2]Sheet1!$A:$D,4,0)*ABS(U427),0)","v":0},{"$f":"WEEKNUM(vlookup_data[[#This Row],[Column8]],2)","v":1},{"$f":"YEAR(vlookup_data[[#This Row],[Column8]])","v":1900},0,{"$f":"CONCATENATE(vlookup_data[[#This Row],[style '#]],\"|\",R427)","v":"0|"}]
[{"$f":"IF(ISNUMBER(U428)=TRUE,VLOOKUP(vlookup_data[[#This Row],[style '#]],[2]Sheet1!$A:$D,4,0)*ABS(U428),0)","v":0},{"$f":"WEEKNUM(vlookup_data[[#This Row],[Column8]],2)","v":1},{"$f":"YEAR(vlookup_data[[#This Row],[Column8]])","v":1900},0,{"$f":"CONCATENATE(vlookup_data[[#This Row],[style '#]],\"|\",R428)","v":"0|"}]
[{"$f":"IF(ISNUMBER(U429)=TRUE,VLOOKUP(vlookup_data[[#This Row],[style '#]],[2]Sheet1!$A:$D,4,0)*ABS(U429),0)","v":0},{"$f":"WEEKNUM(vlookup_data[[#This Row],[Column8]],2)","v":1},{"$f":"YEAR(vlookup_data[[#This Row],[Column8]])","v":1900},0,{"$f":"CONCATENATE(vlookup_data[[#This Row],[style '#]],\"|\",R429)","v":"0|"}]
[{"$f":"IF(ISNUMBER(U430)=TRUE,VLOOKUP(vlookup_data[[#This Row],[style '#]],[2]Sheet1!$A:$D,4,0)*ABS(U430),0)","v":0},{"$f":"WEEKNUM(vlookup_data[[#This Row],[Column8]],2)","v":1},{"$f":"YEAR(vlookup_data[[#This Row],[Column8]])","v":1900},0,{"$f":"CONCATENATE(vlookup_data[[#This Row],[style '#]],\"|\",R430)","v":"0|"}]
[{"$f":"IF(ISNUMBER(U431)=TRUE,VLOOKUP(vlookup_data[[#This Row],[style '#]],[2]Sheet1!$A:$D,4,0)*ABS(U431),0)","v":0},{"$f":"WEEKNUM(vlookup_data[[#This Row],[Column8]],2)","v":1},{"$f":"YEAR(vlookup_data[[#This Row],[Column8]])","v":1900},0,{"$f":"CONCATENATE(vlookup_data[[#This Row],[style '#]],\"|\",R431)","v":"0|"}]
[{"$f":"IF(ISNUMBER(U432)=TRUE,VLOOKUP(vlookup_data[[#This Row],[style '#]],[2]Sheet1!$A:$D,4,0)*ABS(U432),0)","v":0},{"$f":"WEEKNUM(vlookup_data[[#This Row],[Column8]],2)","v":1},{"$f":"YEAR(vlookup_data[[#This Row],[Column8]])","v":1900},0,{"$f":"CONCATENATE(vlookup_data[[#This Row],[style '#]],\"|\",R432)","v":"0|"}]
[{"$f":"IF(ISNUMBER(U433)=TRUE,VLOOKUP(vlookup_data[[#This Row],[style '#]],[2]Sheet1!$A:$D,4,0)*ABS(U433),0)","v":0},{"$f":"WEEKNUM(vlookup_data[[#This Row],[Column8]],2)","v":1},{"$f":"YEAR(vlookup_data[[#This Row],[Column8]])","v":1900},0,{"$f":"CONCATENATE(vlookup_data[[#This Row],[style '#]],\"|\",R433)","v":"0|"}]
[{"$f":"IF(ISNUMBER(U434)=TRUE,VLOOKUP(vlookup_data[[#This Row],[style '#]],[2]Sheet1!$A:$D,4,0)*ABS(U434),0)","v":0},{"$f":"WEEKNUM(vlookup_data[[#This Row],[Column8]],2)","v":1},{"$f":"YEAR(vlookup_data[[#This Row],[Column8]])","v":1900},0,{"$f":"CONCATENATE(vlookup_data[[#This Row],[style '#]],\"|\",R434)","v":"0|"}]
[{"$f":"IF(ISNUMBER(U435)=TRUE,VLOOKUP(vlookup_data[[#This Row],[style '#]],[2]Sheet1!$A:$D,4,0)*ABS(U435),0)","v":0},{"$f":"WEEKNUM(vlookup_data[[#This Row],[Column8]],2)","v":1},{"$f":"YEAR(vlookup_data[[#This Row],[Column8]])","v":1900},0,{"$f":"CONCATENATE(vlookup_data[[#This Row],[style '#]],\"|\",R435)","v":"0|"}]
[{"$f":"IF(ISNUMBER(U436)=TRUE,VLOOKUP(vlookup_data[[#This Row],[style '#]],[2]Sheet1!$A:$D,4,0)*ABS(U436),0)","v":0},{"$f":"WEEKNUM(vlookup_data[[#This Row],[Column8]],2)","v":1},{"$f":"YEAR(vlookup_data[[#This Row],[Column8]])","v":1900},0,{"$f":"CONCATENATE(vlookup_data[[#This Row],[style '#]],\"|\",R436)","v":"0|"}]
[{"$f":"IF(ISNUMBER(U437)=TRUE,VLOOKUP(vlookup_data[[#This Row],[style '#]],[2]Sheet1!$A:$D,4,0)*ABS(U437),0)","v":0},{"$f":"WEEKNUM(vlookup_data[[#This Row],[Column8]],2)","v":1},{"$f":"YEAR(vlookup_data[[#This Row],[Column8]])","v":1900},0,{"$f":"CONCATENATE(vlookup_data[[#This Row],[style '#]],\"|\",R437)","v":"0|"}]
[{"$f":"IF(ISNUMBER(U438)=TRUE,VLOOKUP(vlookup_data[[#This Row],[style '#]],[2]Sheet1!$A:$D,4,0)*ABS(U438),0)","v":0},{"$f":"WEEKNUM(vlookup_data[[#This Row],[Column8]],2)","v":1},{"$f":"YEAR(vlookup_data[[#This Row],[Column8]])","v":1900},0,{"$f":"CONCATENATE(vlookup_data[[#This Row],[style '#]],\"|\",R438)","v":"0|"}]
[{"$f":"IF(ISNUMBER(U439)=TRUE,VLOOKUP(vlookup_data[[#This Row],[style '#]],[2]Sheet1!$A:$D,4,0)*ABS(U439),0)","v":0},{"$f":"WEEKNUM(vlookup_data[[#This Row],[Column8]],2)","v":1},{"$f":"YEAR(vlookup_data[[#This Row],[Column8]])","v":1900},0,{"$f":"CONCATENATE(vlookup_data[[#This Row],[style '#]],\"|\",R439)","v":"0|"}]
[{"$f":"IF(ISNUMBER(U440)=TRUE,VLOOKUP(vlookup_data[[#This Row],[style '#]],[2]Sheet1!$A:$D,4,0)*ABS(U440),0)","v":0},{"$f":"WEEKNUM(vlookup_data[[#This Row],[Column8]],2)","v":1},{"$f":"YEAR(vlookup_data[[#This Row],[Column8]])","v":1900},0,{"$f":"CONCATENATE(vlookup_data[[#This Row],[style '#]],\"|\",R440)","v":"0|"}]
[{"$f":"IF(ISNUMBER(U441)=TRUE,VLOOKUP(vlookup_data[[#This Row],[style '#]],[2]Sheet1!$A:$D,4,0)*ABS(U441),0)","v":0},{"$f":"WEEKNUM(vlookup_data[[#This Row],[Column8]],2)","v":1},{"$f":"YEAR(vlookup_data[[#This Row],[Column8]])","v":1900},0,{"$f":"CONCATENATE(vlookup_data[[#This Row],[style '#]],\"|\",R441)","v":"0|"}]
[{"$f":"IF(ISNUMBER(U442)=TRUE,VLOOKUP(vlookup_data[[#This Row],[style '#]],[2]Sheet1!$A:$D,4,0)*ABS(U442),0)","v":0},{"$f":"WEEKNUM(vlookup_data[[#This Row],[Column8]],2)","v":1},{"$f":"YEAR(vlookup_data[[#This Row],[Column8]])","v":1900},0,{"$f":"CONCATENATE(vlookup_data[[#This Row],[style '#]],\"|\",R442)","v":"0|"}]
[{"$f":"IF(ISNUMBER(U443)=TRUE,VLOOKUP(vlookup_data[[#This Row],[style '#]],[2]Sheet1!$A:$D,4,0)*ABS(U443),0)","v":0},{"$f":"WEEKNUM(vlookup_data[[#This Row],[Column8]],2)","v":1},{"$f":"YEAR(vlookup_data[[#This Row],[Column8]])","v":1900},0,{"$f":"CONCATENATE(vlookup_data[[#This Row],[style '#]],\"|\",R443)","v":"0|"}]
[{"$f":"IF(ISNUMBER(U444)=TRUE,VLOOKUP(vlookup_data[[#This Row],[style '#]],[2]Sheet1!$A:$D,4,0)*ABS(U444),0)","v":0},{"$f":"WEEKNUM(vlookup_data[[#This Row],[Column8]],2)","v":1},{"$f":"YEAR(vlookup_data[[#This Row],[Column8]])","v":1900},0,{"$f":"CONCATENATE(vlookup_data[[#This Row],[style '#]],\"|\",R444)","v":"0|"}]
[{"$f":"IF(ISNUMBER(U445)=TRUE,VLOOKUP(vlookup_data[[#This Row],[style '#]],[2]Sheet1!$A:$D,4,0)*ABS(U445),0)","v":0},{"$f":"WEEKNUM(vlookup_data[[#This Row],[Column8]],2)","v":1},{"$f":"YEAR(vlookup_data[[#This Row],[Column8]])","v":1900},0,{"$f":"CONCATENATE(vlookup_data[[#This Row],[style '#]],\"|\",R445)","v":"0|"}]
[{"$f":"IF(ISNUMBER(U446)=TRUE,VLOOKUP(vlookup_data[[#This Row],[style '#]],[2]Sheet1!$A:$D,4,0)*ABS(U446),0)","v":0},{"$f":"WEEKNUM(vlookup_data[[#This Row],[Column8]],2)","v":1},{"$f":"YEAR(vlookup_data[[#This Row],[Column8]])","v":1900},0,{"$f":"CONCATENATE(vlookup_data[[#This Row],[style '#]],\"|\",R446)","v":"0|"}]
[{"$f":"IF(ISNUMBER(U447)=TRUE,VLOOKUP(vlookup_data[[#This Row],[style '#]],[2]Sheet1!$A:$D,4,0)*ABS(U447),0)","v":0},{"$f":"WEEKNUM(vlookup_data[[#This Row],[Column8]],2)","v":1},{"$f":"YEAR(vlookup_data[[#This Row],[Column8]])","v":1900},0,{"$f":"CONCATENATE(vlookup_data[[#This Row],[style '#]],\"|\",R447)","v":"0|"}]
[{"$f":"IF(ISNUMBER(U448)=TRUE,VLOOKUP(vlookup_data[[#This Row],[style '#]],[2]Sheet1!$A:$D,4,0)*ABS(U448),0)","v":0},{"$f":"WEEKNUM(vlookup_data[[#This Row],[Column8]],2)","v":1},{"$f":"YEAR(vlookup_data[[#This Row],[Column8]])","v":1900},0,{"$f":"CONCATENATE(vlookup_data[[#This Row],[style '#]],\"|\",R448)","v":"0|"}]
[{"$f":"IF(ISNUMBER(U449)=TRUE,VLOOKUP(vlookup_data[[#This Row],[style '#]],[2]Sheet1!$A:$D,4,0)*ABS(U449),0)","v":0},{"$f":"WEEKNUM(vlookup_data[[#This Row],[Column8]],2)","v":1},{"$f":"YEAR(vlookup_data[[#This Row],[Column8]])","v":1900},0,{"$f":"CONCATENATE(vlookup_data[[#This Row],[style '#]],\"|\",R449)","v":"0|"}]
[{"$f":"IF(ISNUMBER(U450)=TRUE,VLOOKUP(vlookup_data[[#This Row],[style '#]],[2]Sheet1!$A:$D,4,0)*ABS(U450),0)","v":0},{"$f":"WEEKNUM(vlookup_data[[#This Row],[Column8]],2)","v":1},{"$f":"YEAR(vlookup_data[[#This Row],[Column8]])","v":1900},0,{"$f":"CONCATENATE(vlookup_data[[#This Row],[style '#]],\"|\",R450)","v":"0|"}]
[{"$f":"IF(ISNUMBER(U451)=TRUE,VLOOKUP(vlookup_data[[#This Row],[style '#]],[2]Sheet1!$A:$D,4,0)*ABS(U451),0)","v":0},{"$f":"WEEKNUM(vlookup_data[[#This Row],[Column8]],2)","v":1},{"$f":"YEAR(vlookup_data[[#This Row],[Column8]])","v":1900},0,{"$f":"CONCATENATE(vlookup_data[[#This Row],[style '#]],\"|\",R451)","v":"0|"}]
[{"$f":"IF(ISNUMBER(U452)=TRUE,VLOOKUP(vlookup_data[[#This Row],[style '#]],[2]Sheet1!$A:$D,4,0)*ABS(U452),0)","v":0},{"$f":"WEEKNUM(vlookup_data[[#This Row],[Column8]],2)","v":1},{"$f":"YEAR(vlookup_data[[#This Row],[Column8]])","v":1900},0,{"$f":"CONCATENATE(vlookup_data[[#This Row],[style '#]],\"|\",R452)","v":"0|"}]
[{"$f":"IF(ISNUMBER(U453)=TRUE,VLOOKUP(vlookup_data[[#This Row],[style '#]],[2]Sheet1!$A:$D,4,0)*ABS(U453),0)","v":0},{"$f":"WEEKNUM(vlookup_data[[#This Row],[Column8]],2)","v":1},{"$f":"YEAR(vlookup_data[[#This Row],[Column8]])","v":1900},0,{"$f":"CONCATENATE(vlookup_data[[#This Row],[style '#]],\"|\",R453)","v":"0|"}]
[{"$f":"IF(ISNUMBER(U454)=TRUE,VLOOKUP(vlookup_data[[#This Row],[style '#]],[2]Sheet1!$A:$D,4,0)*ABS(U454),0)","v":0},{"$f":"WEEKNUM(vlookup_data[[#This Row],[Column8]],2)","v":1},{"$f":"YEAR(vlookup_data[[#This Row],[Column8]])","v":1900},0,{"$f":"CONCATENATE(vlookup_data[[#This Row],[style '#]],\"|\",R454)","v":"0|"}]
[{"$f":"IF(ISNUMBER(U455)=TRUE,VLOOKUP(vlookup_data[[#This Row],[style '#]],[2]Sheet1!$A:$D,4,0)*ABS(U455),0)","v":0},{"$f":"WEEKNUM(vlookup_data[[#This Row],[Column8]],2)","v":1},{"$f":"YEAR(vlookup_data[[#This Row],[Column8]])","v":1900},0,{"$f":"CONCATENATE(vlookup_data[[#This Row],[style '#]],\"|\",R455)","v":"0|"}]
[{"$f":"IF(ISNUMBER(U456)=TRUE,VLOOKUP(vlookup_data[[#This Row],[style '#]],[2]Sheet1!$A:$D,4,0)*ABS(U456),0)","v":0},{"$f":"WEEKNUM(vlookup_data[[#This Row],[Column8]],2)","v":1},{"$f":"YEAR(vlookup_data[[#This Row],[Column8]])","v":1900},0,{"$f":"CONCATENATE(vlookup_data[[#This Row],[style '#]],\"|\",R456)","v":"0|"}]
[{"$f":"IF(ISNUMBER(U457)=TRUE,VLOOKUP(vlookup_data[[#This Row],[style '#]],[2]Sheet1!$A:$D,4,0)*ABS(U457),0)","v":0},{"$f":"WEEKNUM(vlookup_data[[#This Row],[Column8]],2)","v":1},{"$f":"YEAR(vlookup_data[[#This Row],[Column8]])","v":1900},{"$f":"VALUE(G457)","v":0},{"$f":"CONCATENATE(vlookup_data[[#This Row],[style '#]],\"|\",R457)","v":"0|"}]
[{"$f":"IF(ISNUMBER(U458)=TRUE,VLOOKUP(vlookup_data[[#This Row],[style '#]],[2]Sheet1!$A:$D,4,0)*ABS(U458),0)","v":0},{"$f":"WEEKNUM(vlookup_data[[#This Row],[Column8]],2)","v":1},{"$f":"YEAR(vlookup_data[[#This Row],[Column8]])","v":1900},0,{"$f":"CONCATENATE(vlookup_data[[#This Row],[style '#]],\"|\",R458)","v":"0|"}]
[{"$f":"IF(ISNUMBER(U459)=TRUE,VLOOKUP(vlookup_data[[#This Row],[style '#]],[2]Sheet1!$A:$D,4,0)*ABS(U459),0)","v":0},{"$f":"WEEKNUM(vlookup_data[[#This Row],[Column8]],2)","v":1},{"$f":"YEAR(vlookup_data[[#This Row],[Column8]])","v":1900},0,{"$f":"CONCATENATE(vlookup_data[[#This Row],[style '#]],\"|\",R459)","v":"0|"}]
[{"$f":"IF(ISNUMBER(U460)=TRUE,VLOOKUP(vlookup_data[[#This Row],[style '#]],[2]Sheet1!$A:$D,4,0)*ABS(U460),0)","v":0},{"$f":"WEEKNUM(vlookup_data[[#This Row],[Column8]],2)","v":1},{"$f":"YEAR(vlookup_data[[#This Row],[Column8]])","v":1900},0,{"$f":"CONCATENATE(vlookup_data[[#This Row],[style '#]],\"|\",R460)","v":"0|"}]
[{"$f":"IF(ISNUMBER(U461)=TRUE,VLOOKUP(vlookup_data[[#This Row],[style '#]],[2]Sheet1!$A:$D,4,0)*ABS(U461),0)","v":0},{"$f":"WEEKNUM(vlookup_data[[#This Row],[Column8]],2)","v":1},{"$f":"YEAR(vlookup_data[[#This Row],[Column8]])","v":1900},0,{"$f":"CONCATENATE(vlookup_data[[#This Row],[style '#]],\"|\",R461)","v":"0|"}]
[{"$f":"IF(ISNUMBER(U462)=TRUE,VLOOKUP(vlookup_data[[#This Row],[style '#]],[2]Sheet1!$A:$D,4,0)*ABS(U462),0)","v":0},{"$f":"WEEKNUM(vlookup_data[[#This Row],[Column8]],2)","v":1},{"$f":"YEAR(vlookup_data[[#This Row],[Column8]])","v":1900},0,{"$f":"CONCATENATE(vlookup_data[[#This Row],[style '#]],\"|\",R462)","v":"0|"}]
[{"$f":"IF(ISNUMBER(U463)=TRUE,VLOOKUP(vlookup_data[[#This Row],[style '#]],[2]Sheet1!$A:$D,4,0)*ABS(U463),0)","v":0},{"$f":"WEEKNUM(vlookup_data[[#This Row],[Column8]],2)","v":1},{"$f":"YEAR(vlookup_data[[#This Row],[Column8]])","v":1900},0,{"$f":"CONCATENATE(vlookup_data[[#This Row],[style '#]],\"|\",R463)","v":"0|"}]
[{"$f":"IF(ISNUMBER(U464)=TRUE,VLOOKUP(vlookup_data[[#This Row],[style '#]],[2]Sheet1!$A:$D,4,0)*ABS(U464),0)","v":0},{"$f":"WEEKNUM(vlookup_data[[#This Row],[Column8]],2)","v":1},{"$f":"YEAR(vlookup_data[[#This Row],[Column8]])","v":1900},0,{"$f":"CONCATENATE(vlookup_data[[#This Row],[style '#]],\"|\",R464)","v":"0|"}]
[{"$f":"IF(ISNUMBER(U465)=TRUE,VLOOKUP(vlookup_data[[#This Row],[style '#]],[2]Sheet1!$A:$D,4,0)*ABS(U465),0)","v":0},{"$f":"WEEKNUM(vlookup_data[[#This Row],[Column8]],2)","v":1},{"$f":"YEAR(vlookup_data[[#This Row],[Column8]])","v":1900},0,{"$f":"CONCATENATE(vlookup_data[[#This Row],[style '#]],\"|\",R465)","v":"0|"}]
[{"$f":"IF(ISNUMBER(U466)=TRUE,VLOOKUP(vlookup_data[[#This Row],[style '#]],[2]Sheet1!$A:$D,4,0)*ABS(U466),0)","v":0},{"$f":"WEEKNUM(vlookup_data[[#This Row],[Column8]],2)","v":1},{"$f":"YEAR(vlookup_data[[#This Row],[Column8]])","v":1900},0,{"$f":"CONCATENATE(vlookup_data[[#This Row],[style '#]],\"|\",R466)","v":"0|"}]
[{"$f":"IF(ISNUMBER(U467)=TRUE,VLOOKUP(vlookup_data[[#This Row],[style '#]],[2]Sheet1!$A:$D,4,0)*ABS(U467),0)","v":0},{"$f":"WEEKNUM(vlookup_data[[#This Row],[Column8]],2)","v":1},{"$f":"YEAR(vlookup_data[[#This Row],[Column8]])","v":1900},0,{"$f":"CONCATENATE(vlookup_data[[#This Row],[style '#]],\"|\",R467)","v":"0|"}]
[{"$f":"IF(ISNUMBER(U468)=TRUE,VLOOKUP(vlookup_data[[#This Row],[style '#]],[2]Sheet1!$A:$D,4,0)*ABS(U468),0)","v":0},{"$f":"WEEKNUM(vlookup_data[[#This Row],[Column8]],2)","v":1},{"$f":"YEAR(vlookup_data[[#This Row],[Column8]])","v":1900},0,{"$f":"CONCATENATE(vlookup_data[[#This Row],[style '#]],\"|\",R468)","v":"0|"}]
[{"$f":"IF(ISNUMBER(U469)=TRUE,VLOOKUP(vlookup_data[[#This Row],[style '#]],[2]Sheet1!$A:$D,4,0)*ABS(U469),0)","v":0},{"$f":"WEEKNUM(vlookup_data[[#This Row],[Column8]],2)","v":1},{"$f":"YEAR(vlookup_data[[#This Row],[Column8]])","v":1900},0,{"$f":"CONCATENATE(vlookup_data[[#This Row],[style '#]],\"|\",R469)","v":"0|"}]
[{"$f":"IF(ISNUMBER(U470)=TRUE,VLOOKUP(vlookup_data[[#This Row],[style '#]],[2]Sheet1!$A:$D,4,0)*ABS(U470),0)","v":0},{"$f":"WEEKNUM(vlookup_data[[#This Row],[Column8]],2)","v":1},{"$f":"YEAR(vlookup_data[[#This Row],[Column8]])","v":1900},0,{"$f":"CONCATENATE(vlookup_data[[#This Row],[style '#]],\"|\",R470)","v":"0|"}]
[{"$f":"IF(ISNUMBER(U471)=TRUE,VLOOKUP(vlookup_data[[#This Row],[style '#]],[2]Sheet1!$A:$D,4,0)*ABS(U471),0)","v":0},{"$f":"WEEKNUM(vlookup_data[[#This Row],[Column8]],2)","v":1},{"$f":"YEAR(vlookup_data[[#This Row],[Column8]])","v":1900},0,{"$f":"CONCATENATE(vlookup_data[[#This Row],[style '#]],\"|\",R471)","v":"0|"}]
[{"$f":"IF(ISNUMBER(U472)=TRUE,VLOOKUP(vlookup_data[[#This Row],[style '#]],[2]Sheet1!$A:$D,4,0)*ABS(U472),0)","v":0},{"$f":"WEEKNUM(vlookup_data[[#This Row],[Column8]],2)","v":1},{"$f":"YEAR(vlookup_data[[#This Row],[Column8]])","v":1900},0,{"$f":"CONCATENATE(vlookup_data[[#This Row],[style '#]],\"|\",R472)","v":"0|"}]
[{"$f":"IF(ISNUMBER(U473)=TRUE,VLOOKUP(vlookup_data[[#This Row],[style '#]],[2]Sheet1!$A:$D,4,0)*ABS(U473),0)","v":0},{"$f":"WEEKNUM(vlookup_data[[#This Row],[Column8]],2)","v":1},{"$f":"YEAR(vlookup_data[[#This Row],[Column8]])","v":1900},0,{"$f":"CONCATENATE(vlookup_data[[#This Row],[style '#]],\"|\",R473)","v":"0|"}]
[{"$f":"IF(ISNUMBER(U474)=TRUE,VLOOKUP(vlookup_data[[#This Row],[style '#]],[2]Sheet1!$A:$D,4,0)*ABS(U474),0)","v":0},{"$f":"WEEKNUM(vlookup_data[[#This Row],[Column8]],2)","v":1},{"$f":"YEAR(vlookup_data[[#This Row],[Column8]])","v":1900},0,{"$f":"CONCATENATE(vlookup_data[[#This Row],[style '#]],\"|\",R474)","v":"0|"}]
[{"$f":"IF(ISNUMBER(U475)=TRUE,VLOOKUP(vlookup_data[[#This Row],[style '#]],[2]Sheet1!$A:$D,4,0)*ABS(U475),0)","v":0},{"$f":"WEEKNUM(vlookup_data[[#This Row],[Column8]],2)","v":1},{"$f":"YEAR(vlookup_data[[#This Row],[Column8]])","v":1900},0,{"$f":"CONCATENATE(vlookup_data[[#This Row],[style '#]],\"|\",R475)","v":"0|"}]
[{"$f":"IF(ISNUMBER(U476)=TRUE,VLOOKUP(vlookup_data[[#This Row],[style '#]],[2]Sheet1!$A:$D,4,0)*ABS(U476),0)","v":0},{"$f":"WEEKNUM(vlookup_data[[#This Row],[Column8]],2)","v":1},{"$f":"YEAR(vlookup_data[[#This Row],[Column8]])","v":1900},0,{"$f":"CONCATENATE(vlookup_data[[#This Row],[style '#]],\"|\",R476)","v":"0|"}]
[{"$f":"IF(ISNUMBER(U477)=TRUE,VLOOKUP(vlookup_data[[#This Row],[style '#]],[2]Sheet1!$A:$D,4,0)*ABS(U477),0)","v":0},{"$f":"WEEKNUM(vlookup_data[[#This Row],[Column8]],2)","v":1},{"$f":"YEAR(vlookup_data[[#This Row],[Column8]])","v":1900},0,{"$f":"CONCATENATE(vlookup_data[[#This Row],[style '#]],\"|\",R477)","v":"0|"}]
[{"$f":"IF(ISNUMBER(U478)=TRUE,VLOOKUP(vlookup_data[[#This Row],[style '#]],[2]Sheet1!$A:$D,4,0)*ABS(U478),0)","v":0},{"$f":"WEEKNUM(vlookup_data[[#This Row],[Column8]],2)","v":1},{"$f":"YEAR(vlookup_data[[#This Row],[Column8]])","v":1900},0,{"$f":"CONCATENATE(vlookup_data[[#This Row],[style '#]],\"|\",R478)","v":"0|"}]
[{"$f":"IF(ISNUMBER(U479)=TRUE,VLOOKUP(vlookup_data[[#This Row],[style '#]],[2]Sheet1!$A:$D,4,0)*ABS(U479),0)","v":0},{"$f":"WEEKNUM(vlookup_data[[#This Row],[Column8]],2)","v":1},{"$f":"YEAR(vlookup_data[[#This Row],[Column8]])","v":1900},0,{"$f":"CONCATENATE(vlookup_data[[#This Row],[style '#]],\"|\",R479)","v":"0|"}]
[{"$f":"IF(ISNUMBER(U480)=TRUE,VLOOKUP(vlookup_data[[#This Row],[style '#]],[2]Sheet1!$A:$D,4,0)*ABS(U480),0)","v":0},{"$f":"WEEKNUM(vlookup_data[[#This Row],[Column8]],2)","v":1},{"$f":"YEAR(vlookup_data[[#This Row],[Column8]])","v":1900},0,{"$f":"CONCATENATE(vlookup_data[[#This Row],[style '#]],\"|\",R480)","v":"0|"}]
[{"$f":"IF(ISNUMBER(U481)=TRUE,VLOOKUP(vlookup_data[[#This Row],[style '#]],[2]Sheet1!$A:$D,4,0)*ABS(U481),0)","v":0},{"$f":"WEEKNUM(vlookup_data[[#This Row],[Column8]],2)","v":1},{"$f":"YEAR(vlookup_data[[#This Row],[Column8]])","v":1900},0,{"$f":"CONCATENATE(vlookup_data[[#This Row],[style '#]],\"|\",R481)","v":"0|"}]
[{"$f":"IF(ISNUMBER(U482)=TRUE,VLOOKUP(vlookup_data[[#This Row],[style '#]],[2]Sheet1!$A:$D,4,0)*ABS(U482),0)","v":0},{"$f":"WEEKNUM(vlookup_data[[#This Row],[Column8]],2)","v":1},{"$f":"YEAR(vlookup_data[[#This Row],[Column8]])","v":1900},0,{"$f":"CONCATENATE(vlookup_data[[#This Row],[style '#]],\"|\",R482)","v":"0|"}]
[{"$f":"IF(ISNUMBER(U483)=TRUE,VLOOKUP(vlookup_data[[#This Row],[style '#]],[2]Sheet1!$A:$D,4,0)*ABS(U483),0)","v":0},{"$f":"WEEKNUM(vlookup_data[[#This Row],[Column8]],2)","v":1},{"$f":"YEAR(vlookup_data[[#This Row],[Column8]])","v":1900},0,{"$f":"CONCATENATE(vlookup_data[[#This Row],[style '#]],\"|\",R483)","v":"0|"}]
[{"$f":"IF(ISNUMBER(U484)=TRUE,VLOOKUP(vlookup_data[[#This Row],[style '#]],[2]Sheet1!$A:$D,4,0)*ABS(U484),0)","v":0},{"$f":"WEEKNUM(vlookup_data[[#This Row],[Column8]],2)","v":1},{"$f":"YEAR(vlookup_data[[#This Row],[Column8]])","v":1900},0,{"$f":"CONCATENATE(vlookup_data[[#This Row],[style '#]],\"|\",R484)","v":"0|"}]
[{"$f":"IF(ISNUMBER(U485)=TRUE,VLOOKUP(vlookup_data[[#This Row],[style '#]],[2]Sheet1!$A:$D,4,0)*ABS(U485),0)","v":0},{"$f":"WEEKNUM(vlookup_data[[#This Row],[Column8]],2)","v":1},{"$f":"YEAR(vlookup_data[[#This Row],[Column8]])","v":1900},0,{"$f":"CONCATENATE(vlookup_data[[#This Row],[style '#]],\"|\",R485)","v":"0|"}]
[{"$f":"IF(ISNUMBER(U486)=TRUE,VLOOKUP(vlookup_data[[#This Row],[style '#]],[2]Sheet1!$A:$D,4,0)*ABS(U486),0)","v":0},{"$f":"WEEKNUM(vlookup_data[[#This Row],[Column8]],2)","v":1},{"$f":"YEAR(vlookup_data[[#This Row],[Column8]])","v":1900},0,{"$f":"CONCATENATE(vlookup_data[[#This Row],[style '#]],\"|\",R486)","v":"0|"}]
[{"$f":"IF(ISNUMBER(U487)=TRUE,VLOOKUP(vlookup_data[[#This Row],[style '#]],[2]Sheet1!$A:$D,4,0)*ABS(U487),0)","v":0},{"$f":"WEEKNUM(vlookup_data[[#This Row],[Column8]],2)","v":1},{"$f":"YEAR(vlookup_data[[#This Row],[Column8]])","v":1900},0,{"$f":"CONCATENATE(vlookup_data[[#This Row],[style '#]],\"|\",R487)","v":"0|"}]
[{"$f":"IF(ISNUMBER(U488)=TRUE,VLOOKUP(vlookup_data[[#This Row],[style '#]],[2]Sheet1!$A:$D,4,0)*ABS(U488),0)","v":0},{"$f":"WEEKNUM(vlookup_data[[#This Row],[Column8]],2)","v":1},{"$f":"YEAR(vlookup_data[[#This Row],[Column8]])","v":1900},0,{"$f":"CONCATENATE(vlookup_data[[#This Row],[style '#]],\"|\",R488)","v":"0|"}]
[{"$f":"IF(ISNUMBER(U489)=TRUE,VLOOKUP(vlookup_data[[#This Row],[style '#]],[2]Sheet1!$A:$D,4,0)*ABS(U489),0)","v":0},{"$f":"WEEKNUM(vlookup_data[[#This Row],[Column8]],2)","v":1},{"$f":"YEAR(vlookup_data[[#This Row],[Column8]])","v":1900},0,{"$f":"CONCATENATE(vlookup_data[[#This Row],[style '#]],\"|\",R489)","v":"0|"}]
[{"$f":"IF(ISNUMBER(U490)=TRUE,VLOOKUP(vlookup_data[[#This Row],[style '#]],[2]Sheet1!$A:$D,4,0)*ABS(U490),0)","v":0},{"$f":"WEEKNUM(vlookup_data[[#This Row],[Column8]],2)","v":1},{"$f":"YEAR(vlookup_data[[#This Row],[Column8]])","v":1900},0,{"$f":"CONCATENATE(vlookup_data[[#This Row],[style '#]],\"|\",R490)","v":"0|"}]
[{"$f":"IF(ISNUMBER(U491)=TRUE,VLOOKUP(vlookup_data[[#This Row],[style '#]],[2]Sheet1!$A:$D,4,0)*ABS(U491),0)","v":0},{"$f":"WEEKNUM(vlookup_data[[#This Row],[Column8]],2)","v":1},{"$f":"YEAR(vlookup_data[[#This Row],[Column8]])","v":1900},0,{"$f":"CONCATENATE(vlookup_data[[#This Row],[style '#]],\"|\",R491)","v":"0|"}]
[{"$f":"IF(ISNUMBER(U492)=TRUE,VLOOKUP(vlookup_data[[#This Row],[style '#]],[2]Sheet1!$A:$D,4,0)*ABS(U492),0)","v":0},{"$f":"WEEKNUM(vlookup_data[[#This Row],[Column8]],2)","v":1},{"$f":"YEAR(vlookup_data[[#This Row],[Column8]])","v":1900},0,{"$f":"CONCATENATE(vlookup_data[[#This Row],[style '#]],\"|\",R492)","v":"0|"}]
[{"$f":"IF(ISNUMBER(U493)=TRUE,VLOOKUP(vlookup_data[[#This Row],[style '#]],[2]Sheet1!$A:$D,4,0)*ABS(U493),0)","v":0},{"$f":"WEEKNUM(vlookup_data[[#This Row],[Column8]],2)","v":1},{"$f":"YEAR(vlookup_data[[#This Row],[Column8]])","v":1900},0,{"$f":"CONCATENATE(vlookup_data[[#This Row],[style '#]],\"|\",R493)","v":"0|"}]
[{"$f":"IF(ISNUMBER(U494)=TRUE,VLOOKUP(vlookup_data[[#This Row],[style '#]],[2]Sheet1!$A:$D,4,0)*ABS(U494),0)","v":0},{"$f":"WEEKNUM(vlookup_data[[#This Row],[Column8]],2)","v":1},{"$f":"YEAR(vlookup_data[[#This Row],[Column8]])","v":1900},0,{"$f":"CONCATENATE(vlookup_data[[#This Row],[style '#]],\"|\",R494)","v":"0|"}]
[{"$f":"IF(ISNUMBER(U495)=TRUE,VLOOKUP(vlookup_data[[#This Row],[style '#]],[2]Sheet1!$A:$D,4,0)*ABS(U495),0)","v":0},{"$f":"WEEKNUM(vlookup_data[[#This Row],[Column8]],2)","v":1},{"$f":"YEAR(vlookup_data[[#This Row],[Column8]])","v":1900},0,{"$f":"CONCATENATE(vlookup_data[[#This Row],[style '#]],\"|\",R495)","v":"0|"}]
[{"$f":"IF(ISNUMBER(U496)=TRUE,VLOOKUP(vlookup_data[[#This Row],[style '#]],[2]Sheet1!$A:$D,4,0)*ABS(U496),0)","v":0},{"$f":"WEEKNUM(vlookup_data[[#This Row],[Column8]],2)","v":1},{"$f":"YEAR(vlookup_data[[#This Row],[Column8]])","v":1900},0,{"$f":"CONCATENATE(vlookup_data[[#This Row],[style '#]],\"|\",R496)","v":"0|"}]
[{"$f":"IF(ISNUMBER(U497)=TRUE,VLOOKUP(vlookup_data[[#This Row],[style '#]],[2]Sheet1!$A:$D,4,0)*ABS(U497),0)","v":0},{"$f":"WEEKNUM(vlookup_data[[#This Row],[Column8]],2)","v":1},{"$f":"YEAR(vlookup_data[[#This Row],[Column8]])","v":1900},0,{"$f":"CONCATENATE(vlookup_data[[#This Row],[style '#]],\"|\",R497)","v":"0|"}]
[{"$f":"IF(ISNUMBER(U498)=TRUE,VLOOKUP(vlookup_data[[#This Row],[style '#]],[2]Sheet1!$A:$D,4,0)*ABS(U498),0)","v":0},{"$f":"WEEKNUM(vlookup_data[[#This Row],[Column8]],2)","v":1},{"$f":"YEAR(vlookup_data[[#This Row],[Column8]])","v":1900},0,{"$f":"CONCATENATE(vlookup_data[[#This Row],[style '#]],\"|\",R498)","v":"0|"}]
[{"$f":"IF(ISNUMBER(U499)=TRUE,VLOOKUP(vlookup_data[[#This Row],[style '#]],[2]Sheet1!$A:$D,4,0)*ABS(U499),0)","v":0},{"$f":"WEEKNUM(vlookup_data[[#This Row],[Column8]],2)","v":1},{"$f":"YEAR(vlookup_data[[#This Row],[Column8]])","v":1900},0,{"$f":"CONCATENATE(vlookup_data[[#This Row],[style '#]],\"|\",R499)","v":"0|"}]
[{"$f":"IF(ISNUMBER(U500)=TRUE,VLOOKUP(vlookup_data[[#This Row],[style '#]],[2]Sheet1!$A:$D,4,0)*ABS(U500),0)","v":0},{"$f":"WEEKNUM(vlookup_data[[#This Row],[Column8]],2)","v":1},{"$f":"YEAR(vlookup_data[[#This Row],[Column8]])","v":1900},0,{"$f":"CONCATENATE(vlookup_data[[#This Row],[style '#]],\"|\",R500)","v":"0|"}]
[{"$f":"IF(ISNUMBER(U501)=TRUE,VLOOKUP(vlookup_data[[#This Row],[style '#]],[2]Sheet1!$A:$D,4,0)*ABS(U501),0)","v":0},{"$f":"WEEKNUM(vlookup_data[[#This Row],[Column8]],2)","v":1},{"$f":"YEAR(vlookup_data[[#This Row],[Column8]])","v":1900},0,{"$f":"CONCATENATE(vlookup_data[[#This Row],[style '#]],\"|\",R501)","v":"0|"}]
[{"$f":"IF(ISNUMBER(U502)=TRUE,VLOOKUP(vlookup_data[[#This Row],[style '#]],[2]Sheet1!$A:$D,4,0)*ABS(U502),0)","v":0},{"$f":"WEEKNUM(vlookup_data[[#This Row],[Column8]],2)","v":1},{"$f":"YEAR(vlookup_data[[#This Row],[Column8]])","v":1900},0,{"$f":"CONCATENATE(vlookup_data[[#This Row],[style '#]],\"|\",R502)","v":"0|"}]
[{"$f":"IF(ISNUMBER(U503)=TRUE,VLOOKUP(vlookup_data[[#This Row],[style '#]],[2]Sheet1!$A:$D,4,0)*ABS(U503),0)","v":0},{"$f":"WEEKNUM(vlookup_data[[#This Row],[Column8]],2)","v":1},{"$f":"YEAR(vlookup_data[[#This Row],[Column8]])","v":1900},0,{"$f":"CONCATENATE(vlookup_data[[#This Row],[style '#]],\"|\",R503)","v":"0|"}]
[{"$f":"IF(ISNUMBER(U504)=TRUE,VLOOKUP(vlookup_data[[#This Row],[style '#]],[2]Sheet1!$A:$D,4,0)*ABS(U504),0)","v":0},{"$f":"WEEKNUM(vlookup_data[[#This Row],[Column8]],2)","v":1},{"$f":"YEAR(vlookup_data[[#This Row],[Column8]])","v":1900},0,{"$f":"CONCATENATE(vlookup_data[[#This Row],[style '#]],\"|\",R504)","v":"0|"}]
[{"$f":"IF(ISNUMBER(U505)=TRUE,VLOOKUP(vlookup_data[[#This Row],[style '#]],[2]Sheet1!$A:$D,4,0)*ABS(U505),0)","v":0},{"$f":"WEEKNUM(vlookup_data[[#This Row],[Column8]],2)","v":1},{"$f":"YEAR(vlookup_data[[#This Row],[Column8]])","v":1900},0,{"$f":"CONCATENATE(vlookup_data[[#This Row],[style '#]],\"|\",R505)","v":"0|"}]
[{"$f":"IF(ISNUMBER(U506)=TRUE,VLOOKUP(vlookup_data[[#This Row],[style '#]],[2]Sheet1!$A:$D,4,0)*ABS(U506),0)","v":0},{"$f":"WEEKNUM(vlookup_data[[#This Row],[Column8]],2)","v":1},{"$f":"YEAR(vlookup_data[[#This Row],[Column8]])","v":1900},0,{"$f":"CONCATENATE(vlookup_data[[#This Row],[style '#]],\"|\",R506)","v":"0|"}]
[{"$f":"IF(ISNUMBER(U507)=TRUE,VLOOKUP(vlookup_data[[#This Row],[style '#]],[2]Sheet1!$A:$D,4,0)*ABS(U507),0)","v":0},{"$f":"WEEKNUM(vlookup_data[[#This Row],[Column8]],2)","v":1},{"$f":"YEAR(vlookup_data[[#This Row],[Column8]])","v":1900},0,{"$f":"CONCATENATE(vlookup_data[[#This Row],[style '#]],\"|\",R507)","v":"0|"}]
[{"$f":"IF(ISNUMBER(U508)=TRUE,VLOOKUP(vlookup_data[[#This Row],[style '#]],[2]Sheet1!$A:$D,4,0)*ABS(U508),0)","v":0},{"$f":"WEEKNUM(vlookup_data[[#This Row],[Column8]],2)","v":1},{"$f":"YEAR(vlookup_data[[#This Row],[Column8]])","v":1900},0,{"$f":"CONCATENATE(vlookup_data[[#This Row],[style '#]],\"|\",R508)","v":"0|"}]
[{"$f":"IF(ISNUMBER(U509)=TRUE,VLOOKUP(vlookup_data[[#This Row],[style '#]],[2]Sheet1!$A:$D,4,0)*ABS(U509),0)","v":0},{"$f":"WEEKNUM(vlookup_data[[#This Row],[Column8]],2)","v":1},{"$f":"YEAR(vlookup_data[[#This Row],[Column8]])","v":1900},0,{"$f":"CONCATENATE(vlookup_data[[#This Row],[style '#]],\"|\",R509)","v":"0|"}]
[{"$f":"IF(ISNUMBER(U510)=TRUE,VLOOKUP(vlookup_data[[#This Row],[style '#]],[2]Sheet1!$A:$D,4,0)*ABS(U510),0)","v":0},{"$f":"WEEKNUM(vlookup_data[[#This Row],[Column8]],2)","v":1},{"$f":"YEAR(vlookup_data[[#This Row],[Column8]])","v":1900},0,{"$f":"CONCATENATE(vlookup_data[[#This Row],[style '#]],\"|\",R510)","v":"0|"}]
[{"$f":"IF(ISNUMBER(U511)=TRUE,VLOOKUP(vlookup_data[[#This Row],[style '#]],[2]Sheet1!$A:$D,4,0)*ABS(U511),0)","v":0},{"$f":"WEEKNUM(vlookup_data[[#This Row],[Column8]],2)","v":1},{"$f":"YEAR(vlookup_data[[#This Row],[Column8]])","v":1900},0,{"$f":"CONCATENATE(vlookup_data[[#This Row],[style '#]],\"|\",R511)","v":"0|"}]
[{"$f":"IF(ISNUMBER(U512)=TRUE,VLOOKUP(vlookup_data[[#This Row],[style '#]],[2]Sheet1!$A:$D,4,0)*ABS(U512),0)","v":0},{"$f":"WEEKNUM(vlookup_data[[#This Row],[Column8]],2)","v":1},{"$f":"YEAR(vlookup_data[[#This Row],[Column8]])","v":1900},0,{"$f":"CONCATENATE(vlookup_data[[#This Row],[style '#]],\"|\",R512)","v":"0|"}]
[{"$f":"IF(ISNUMBER(U513)=TRUE,VLOOKUP(vlookup_data[[#This Row],[style '#]],[2]Sheet1!$A:$D,4,0)*ABS(U513),0)","v":0},{"$f":"WEEKNUM(vlookup_data[[#This Row],[Column8]],2)","v":1},{"$f":"YEAR(vlookup_data[[#This Row],[Column8]])","v":1900},0,{"$f":"CONCATENATE(vlookup_data[[#This Row],[style '#]],\"|\",R513)","v":"0|"}]
[{"$f":"IF(ISNUMBER(U514)=TRUE,VLOOKUP(vlookup_data[[#This Row],[style '#]],[2]Sheet1!$A:$D,4,0)*ABS(U514),0)","v":0},{"$f":"WEEKNUM(vlookup_data[[#This Row],[Column8]],2)","v":1},{"$f":"YEAR(vlookup_data[[#This Row],[Column8]])","v":1900},0,{"$f":"CONCATENATE(vlookup_data[[#This Row],[style '#]],\"|\",R514)","v":"0|"}]
[{"$f":"IF(ISNUMBER(U515)=TRUE,VLOOKUP(vlookup_data[[#This Row],[style '#]],[2]Sheet1!$A:$D,4,0)*ABS(U515),0)","v":0},{"$f":"WEEKNUM(vlookup_data[[#This Row],[Column8]],2)","v":1},{"$f":"YEAR(vlookup_data[[#This Row],[Column8]])","v":1900},0,{"$f":"CONCATENATE(vlookup_data[[#This Row],[style '#]],\"|\",R515)","v":"0|"}]
[{"$f":"IF(ISNUMBER(U516)=TRUE,VLOOKUP(vlookup_data[[#This Row],[style '#]],[2]Sheet1!$A:$D,4,0)*ABS(U516),0)","v":0},{"$f":"WEEKNUM(vlookup_data[[#This Row],[Column8]],2)","v":1},{"$f":"YEAR(vlookup_data[[#This Row],[Column8]])","v":1900},0,{"$f":"CONCATENATE(vlookup_data[[#This Row],[style '#]],\"|\",R516)","v":"0|"}]
[{"$f":"IF(ISNUMBER(U517)=TRUE,VLOOKUP(vlookup_data[[#This Row],[style '#]],[2]Sheet1!$A:$D,4,0)*ABS(U517),0)","v":0},{"$f":"WEEKNUM(vlookup_data[[#This Row],[Column8]],2)","v":1},{"$f":"YEAR(vlookup_data[[#This Row],[Column8]])","v":1900},0,{"$f":"CONCATENATE(vlookup_data[[#This Row],[style '#]],\"|\",R517)","v":"0|"}]
[{"$f":"IF(ISNUMBER(U518)=TRUE,VLOOKUP(vlookup_data[[#This Row],[style '#]],[2]Sheet1!$A:$D,4,0)*ABS(U518),0)","v":0},{"$f":"WEEKNUM(vlookup_data[[#This Row],[Column8]],2)","v":1},{"$f":"YEAR(vlookup_data[[#This Row],[Column8]])","v":1900},0,{"$f":"CONCATENATE(vlookup_data[[#This Row],[style '#]],\"|\",R518)","v":"0|"}]
[{"$f":"IF(ISNUMBER(U519)=TRUE,VLOOKUP(vlookup_data[[#This Row],[style '#]],[2]Sheet1!$A:$D,4,0)*ABS(U519),0)","v":0},{"$f":"WEEKNUM(vlookup_data[[#This Row],[Column8]],2)","v":1},{"$f":"YEAR(vlookup_data[[#This Row],[Column8]])","v":1900},0,{"$f":"CONCATENATE(vlookup_data[[#This Row],[style '#]],\"|\",R519)","v":"0|"}]
[{"$f":"IF(ISNUMBER(U520)=TRUE,VLOOKUP(vlookup_data[[#This Row],[style '#]],[2]Sheet1!$A:$D,4,0)*ABS(U520),0)","v":0},{"$f":"WEEKNUM(vlookup_data[[#This Row],[Column8]],2)","v":1},{"$f":"YEAR(vlookup_data[[#This Row],[Column8]])","v":1900},0,{"$f":"CONCATENATE(vlookup_data[[#This Row],[style '#]],\"|\",R520)","v":"0|"}]
[{"$f":"IF(ISNUMBER(U521)=TRUE,VLOOKUP(vlookup_data[[#This Row],[style '#]],[2]Sheet1!$A:$D,4,0)*ABS(U521),0)","v":0},{"$f":"WEEKNUM(vlookup_data[[#This Row],[Column8]],2)","v":1},{"$f":"YEAR(vlookup_data[[#This Row],[Column8]])","v":1900},{"$f":"VALUE(G521)","v":0},{"$f":"CONCATENATE(vlookup_data[[#This Row],[style '#]],\"|\",R521)","v":"0|"}]
[{"$f":"IF(ISNUMBER(U522)=TRUE,VLOOKUP(vlookup_data[[#This Row],[style '#]],[2]Sheet1!$A:$D,4,0)*ABS(U522),0)","v":0},{"$f":"WEEKNUM(vlookup_data[[#This Row],[Column8]],2)","v":1},{"$f":"YEAR(vlookup_data[[#This Row],[Column8]])","v":1900},0,{"$f":"CONCATENATE(vlookup_data[[#This Row],[style '#]],\"|\",R522)","v":"0|"}]
[{"$f":"IF(ISNUMBER(U523)=TRUE,VLOOKUP(vlookup_data[[#This Row],[style '#]],[2]Sheet1!$A:$D,4,0)*ABS(U523),0)","v":0},{"$f":"WEEKNUM(vlookup_data[[#This Row],[Column8]],2)","v":1},{"$f":"YEAR(vlookup_data[[#This Row],[Column8]])","v":1900},0,{"$f":"CONCATENATE(vlookup_data[[#This Row],[style '#]],\"|\",R523)","v":"0|"}]
[{"$f":"IF(ISNUMBER(U524)=TRUE,VLOOKUP(vlookup_data[[#This Row],[style '#]],[2]Sheet1!$A:$D,4,0)*ABS(U524),0)","v":0},{"$f":"WEEKNUM(vlookup_data[[#This Row],[Column8]],2)","v":1},{"$f":"YEAR(vlookup_data[[#This Row],[Column8]])","v":1900},0,{"$f":"CONCATENATE(vlookup_data[[#This Row],[style '#]],\"|\",R524)","v":"0|"}]
[{"$f":"IF(ISNUMBER(U525)=TRUE,VLOOKUP(vlookup_data[[#This Row],[style '#]],[2]Sheet1!$A:$D,4,0)*ABS(U525),0)","v":0},{"$f":"WEEKNUM(vlookup_data[[#This Row],[Column8]],2)","v":1},{"$f":"YEAR(vlookup_data[[#This Row],[Column8]])","v":1900},0,{"$f":"CONCATENATE(vlookup_data[[#This Row],[style '#]],\"|\",R525)","v":"0|"}]
[{"$f":"IF(ISNUMBER(U526)=TRUE,VLOOKUP(vlookup_data[[#This Row],[style '#]],[2]Sheet1!$A:$D,4,0)*ABS(U526),0)","v":0},{"$f":"WEEKNUM(vlookup_data[[#This Row],[Column8]],2)","v":1},{"$f":"YEAR(vlookup_data[[#This Row],[Column8]])","v":1900},0,{"$f":"CONCATENATE(vlookup_data[[#This Row],[style '#]],\"|\",R526)","v":"0|"}]
[{"$f":"IF(ISNUMBER(U527)=TRUE,VLOOKUP(vlookup_data[[#This Row],[style '#]],[2]Sheet1!$A:$D,4,0)*ABS(U527),0)","v":0},{"$f":"WEEKNUM(vlookup_data[[#This Row],[Column8]],2)","v":1},{"$f":"YEAR(vlookup_data[[#This Row],[Column8]])","v":1900},0,{"$f":"CONCATENATE(vlookup_data[[#This Row],[style '#]],\"|\",R527)","v":"0|"}]
[{"$f":"IF(ISNUMBER(U528)=TRUE,VLOOKUP(vlookup_data[[#This Row],[style '#]],[2]Sheet1!$A:$D,4,0)*ABS(U528),0)","v":0},{"$f":"WEEKNUM(vlookup_data[[#This Row],[Column8]],2)","v":1},{"$f":"YEAR(vlookup_data[[#This Row],[Column8]])","v":1900},0,{"$f":"CONCATENATE(vlookup_data[[#This Row],[style '#]],\"|\",R528)","v":"0|"}]
[{"$f":"IF(ISNUMBER(U529)=TRUE,VLOOKUP(vlookup_data[[#This Row],[style '#]],[2]Sheet1!$A:$D,4,0)*ABS(U529),0)","v":0},{"$f":"WEEKNUM(vlookup_data[[#This Row],[Column8]],2)","v":1},{"$f":"YEAR(vlookup_data[[#This Row],[Column8]])","v":1900},0,{"$f":"CONCATENATE(vlookup_data[[#This Row],[style '#]],\"|\",R529)","v":"0|"}]
[{"$f":"IF(ISNUMBER(U530)=TRUE,VLOOKUP(vlookup_data[[#This Row],[style '#]],[2]Sheet1!$A:$D,4,0)*ABS(U530),0)","v":0},{"$f":"WEEKNUM(vlookup_data[[#This Row],[Column8]],2)","v":1},{"$f":"YEAR(vlookup_data[[#This Row],[Column8]])","v":1900},0,{"$f":"CONCATENATE(vlookup_data[[#This Row],[style '#]],\"|\",R530)","v":"0|"}]
[{"$f":"IF(ISNUMBER(U531)=TRUE,VLOOKUP(vlookup_data[[#This Row],[style '#]],[2]Sheet1!$A:$D,4,0)*ABS(U531),0)","v":0},{"$f":"WEEKNUM(vlookup_data[[#This Row],[Column8]],2)","v":1},{"$f":"YEAR(vlookup_data[[#This Row],[Column8]])","v":1900},0,{"$f":"CONCATENATE(vlookup_data[[#This Row],[style '#]],\"|\",R531)","v":"0|"}]
[{"$f":"IF(ISNUMBER(U532)=TRUE,VLOOKUP(vlookup_data[[#This Row],[style '#]],[2]Sheet1!$A:$D,4,0)*ABS(U532),0)","v":0},{"$f":"WEEKNUM(vlookup_data[[#This Row],[Column8]],2)","v":1},{"$f":"YEAR(vlookup_data[[#This Row],[Column8]])","v":1900},0,{"$f":"CONCATENATE(vlookup_data[[#This Row],[style '#]],\"|\",R532)","v":"0|"}]
[{"$f":"IF(ISNUMBER(U533)=TRUE,VLOOKUP(vlookup_data[[#This Row],[style '#]],[2]Sheet1!$A:$D,4,0)*ABS(U533),0)","v":0},{"$f":"WEEKNUM(vlookup_data[[#This Row],[Column8]],2)","v":1},{"$f":"YEAR(vlookup_data[[#This Row],[Column8]])","v":1900},0,{"$f":"CONCATENATE(vlookup_data[[#This Row],[style '#]],\"|\",R533)","v":"0|"}]
[{"$f":"IF(ISNUMBER(U534)=TRUE,VLOOKUP(vlookup_data[[#This Row],[style '#]],[2]Sheet1!$A:$D,4,0)*ABS(U534),0)","v":0},{"$f":"WEEKNUM(vlookup_data[[#This Row],[Column8]],2)","v":1},{"$f":"YEAR(vlookup_data[[#This Row],[Column8]])","v":1900},0,{"$f":"CONCATENATE(vlookup_data[[#This Row],[style '#]],\"|\",R534)","v":"0|"}]
[{"$f":"IF(ISNUMBER(U535)=TRUE,VLOOKUP(vlookup_data[[#This Row],[style '#]],[2]Sheet1!$A:$D,4,0)*ABS(U535),0)","v":0},{"$f":"WEEKNUM(vlookup_data[[#This Row],[Column8]],2)","v":1},{"$f":"YEAR(vlookup_data[[#This Row],[Column8]])","v":1900},0,{"$f":"CONCATENATE(vlookup_data[[#This Row],[style '#]],\"|\",R535)","v":"0|"}]
[{"$f":"IF(ISNUMBER(U536)=TRUE,VLOOKUP(vlookup_data[[#This Row],[style '#]],[2]Sheet1!$A:$D,4,0)*ABS(U536),0)","v":0},{"$f":"WEEKNUM(vlookup_data[[#This Row],[Column8]],2)","v":1},{"$f":"YEAR(vlookup_data[[#This Row],[Column8]])","v":1900},0,{"$f":"CONCATENATE(vlookup_data[[#This Row],[style '#]],\"|\",R536)","v":"0|"}]
[{"$f":"IF(ISNUMBER(U537)=TRUE,VLOOKUP(vlookup_data[[#This Row],[style '#]],[2]Sheet1!$A:$D,4,0)*ABS(U537),0)","v":0},{"$f":"WEEKNUM(vlookup_data[[#This Row],[Column8]],2)","v":1},{"$f":"YEAR(vlookup_data[[#This Row],[Column8]])","v":1900},0,{"$f":"CONCATENATE(vlookup_data[[#This Row],[style '#]],\"|\",R537)","v":"0|"}]
[{"$f":"IF(ISNUMBER(U538)=TRUE,VLOOKUP(vlookup_data[[#This Row],[style '#]],[2]Sheet1!$A:$D,4,0)*ABS(U538),0)","v":0},{"$f":"WEEKNUM(vlookup_data[[#This Row],[Column8]],2)","v":1},{"$f":"YEAR(vlookup_data[[#This Row],[Column8]])","v":1900},0,{"$f":"CONCATENATE(vlookup_data[[#This Row],[style '#]],\"|\",R538)","v":"0|"}]
[{"$f":"IF(ISNUMBER(U539)=TRUE,VLOOKUP(vlookup_data[[#This Row],[style '#]],[2]Sheet1!$A:$D,4,0)*ABS(U539),0)","v":0},{"$f":"WEEKNUM(vlookup_data[[#This Row],[Column8]],2)","v":1},{"$f":"YEAR(vlookup_data[[#This Row],[Column8]])","v":1900},0,{"$f":"CONCATENATE(vlookup_data[[#This Row],[style '#]],\"|\",R539)","v":"0|"}]
[{"$f":"IF(ISNUMBER(U540)=TRUE,VLOOKUP(vlookup_data[[#This Row],[style '#]],[2]Sheet1!$A:$D,4,0)*ABS(U540),0)","v":0},{"$f":"WEEKNUM(vlookup_data[[#This Row],[Column8]],2)","v":1},{"$f":"YEAR(vlookup_data[[#This Row],[Column8]])","v":1900},0,{"$f":"CONCATENATE(vlookup_data[[#This Row],[style '#]],\"|\",R540)","v":"0|"}]
[{"$f":"IF(ISNUMBER(U541)=TRUE,VLOOKUP(vlookup_data[[#This Row],[style '#]],[2]Sheet1!$A:$D,4,0)*ABS(U541),0)","v":0},{"$f":"WEEKNUM(vlookup_data[[#This Row],[Column8]],2)","v":1},{"$f":"YEAR(vlookup_data[[#This Row],[Column8]])","v":1900},0,{"$f":"CONCATENATE(vlookup_data[[#This Row],[style '#]],\"|\",R541)","v":"0|"}]
[{"$f":"IF(ISNUMBER(U542)=TRUE,VLOOKUP(vlookup_data[[#This Row],[style '#]],[2]Sheet1!$A:$D,4,0)*ABS(U542),0)","v":0},{"$f":"WEEKNUM(vlookup_data[[#This Row],[Column8]],2)","v":1},{"$f":"YEAR(vlookup_data[[#This Row],[Column8]])","v":1900},0,{"$f":"CONCATENATE(vlookup_data[[#This Row],[style '#]],\"|\",R542)","v":"0|"}]
[{"$f":"IF(ISNUMBER(U543)=TRUE,VLOOKUP(vlookup_data[[#This Row],[style '#]],[2]Sheet1!$A:$D,4,0)*ABS(U543),0)","v":0},{"$f":"WEEKNUM(vlookup_data[[#This Row],[Column8]],2)","v":1},{"$f":"YEAR(vlookup_data[[#This Row],[Column8]])","v":1900},0,{"$f":"CONCATENATE(vlookup_data[[#This Row],[style '#]],\"|\",R543)","v":"0|"}]
[{"$f":"IF(ISNUMBER(U544)=TRUE,VLOOKUP(vlookup_data[[#This Row],[style '#]],[2]Sheet1!$A:$D,4,0)*ABS(U544),0)","v":0},{"$f":"WEEKNUM(vlookup_data[[#This Row],[Column8]],2)","v":1},{"$f":"YEAR(vlookup_data[[#This Row],[Column8]])","v":1900},0,{"$f":"CONCATENATE(vlookup_data[[#This Row],[style '#]],\"|\",R544)","v":"0|"}]
[{"$f":"IF(ISNUMBER(U545)=TRUE,VLOOKUP(vlookup_data[[#This Row],[style '#]],[2]Sheet1!$A:$D,4,0)*ABS(U545),0)","v":0},{"$f":"WEEKNUM(vlookup_data[[#This Row],[Column8]],2)","v":1},{"$f":"YEAR(vlookup_data[[#This Row],[Column8]])","v":1900},0,{"$f":"CONCATENATE(vlookup_data[[#This Row],[style '#]],\"|\",R545)","v":"0|"}]
[{"$f":"IF(ISNUMBER(U546)=TRUE,VLOOKUP(vlookup_data[[#This Row],[style '#]],[2]Sheet1!$A:$D,4,0)*ABS(U546),0)","v":0},{"$f":"WEEKNUM(vlookup_data[[#This Row],[Column8]],2)","v":1},{"$f":"YEAR(vlookup_data[[#This Row],[Column8]])","v":1900},0,{"$f":"CONCATENATE(vlookup_data[[#This Row],[style '#]],\"|\",R546)","v":"0|"}]
[{"$f":"IF(ISNUMBER(U547)=TRUE,VLOOKUP(vlookup_data[[#This Row],[style '#]],[2]Sheet1!$A:$D,4,0)*ABS(U547),0)","v":0},{"$f":"WEEKNUM(vlookup_data[[#This Row],[Column8]],2)","v":1},{"$f":"YEAR(vlookup_data[[#This Row],[Column8]])","v":1900},0,{"$f":"CONCATENATE(vlookup_data[[#This Row],[style '#]],\"|\",R547)","v":"0|"}]
[{"$f":"IF(ISNUMBER(U548)=TRUE,VLOOKUP(vlookup_data[[#This Row],[style '#]],[2]Sheet1!$A:$D,4,0)*ABS(U548),0)","v":0},{"$f":"WEEKNUM(vlookup_data[[#This Row],[Column8]],2)","v":1},{"$f":"YEAR(vlookup_data[[#This Row],[Column8]])","v":1900},0,{"$f":"CONCATENATE(vlookup_data[[#This Row],[style '#]],\"|\",R548)","v":"0|"}]
[{"$f":"IF(ISNUMBER(U549)=TRUE,VLOOKUP(vlookup_data[[#This Row],[style '#]],[2]Sheet1!$A:$D,4,0)*ABS(U549),0)","v":0},{"$f":"WEEKNUM(vlookup_data[[#This Row],[Column8]],2)","v":1},{"$f":"YEAR(vlookup_data[[#This Row],[Column8]])","v":1900},0,{"$f":"CONCATENATE(vlookup_data[[#This Row],[style '#]],\"|\",R549)","v":"0|"}]
[{"$f":"IF(ISNUMBER(U550)=TRUE,VLOOKUP(vlookup_data[[#This Row],[style '#]],[2]Sheet1!$A:$D,4,0)*ABS(U550),0)","v":0},{"$f":"WEEKNUM(vlookup_data[[#This Row],[Column8]],2)","v":1},{"$f":"YEAR(vlookup_data[[#This Row],[Column8]])","v":1900},0,{"$f":"CONCATENATE(vlookup_data[[#This Row],[style '#]],\"|\",R550)","v":"0|"}]
[{"$f":"IF(ISNUMBER(U551)=TRUE,VLOOKUP(vlookup_data[[#This Row],[style '#]],[2]Sheet1!$A:$D,4,0)*ABS(U551),0)","v":0},{"$f":"WEEKNUM(vlookup_data[[#This Row],[Column8]],2)","v":1},{"$f":"YEAR(vlookup_data[[#This Row],[Column8]])","v":1900},0,{"$f":"CONCATENATE(vlookup_data[[#This Row],[style '#]],\"|\",R551)","v":"0|"}]
[{"$f":"IF(ISNUMBER(U552)=TRUE,VLOOKUP(vlookup_data[[#This Row],[style '#]],[2]Sheet1!$A:$D,4,0)*ABS(U552),0)","v":0},{"$f":"WEEKNUM(vlookup_data[[#This Row],[Column8]],2)","v":1},{"$f":"YEAR(vlookup_data[[#This Row],[Column8]])","v":1900},0,{"$f":"CONCATENATE(vlookup_data[[#This Row],[style '#]],\"|\",R552)","v":"0|"}]
[{"$f":"IF(ISNUMBER(U553)=TRUE,VLOOKUP(vlookup_data[[#This Row],[style '#]],[2]Sheet1!$A:$D,4,0)*ABS(U553),0)","v":0},{"$f":"WEEKNUM(vlookup_data[[#This Row],[Column8]],2)","v":1},{"$f":"YEAR(vlookup_data[[#This Row],[Column8]])","v":1900},0,{"$f":"CONCATENATE(vlookup_data[[#This Row],[style '#]],\"|\",R553)","v":"0|"}]
[{"$f":"IF(ISNUMBER(U554)=TRUE,VLOOKUP(vlookup_data[[#This Row],[style '#]],[2]Sheet1!$A:$D,4,0)*ABS(U554),0)","v":0},{"$f":"WEEKNUM(vlookup_data[[#This Row],[Column8]],2)","v":1},{"$f":"YEAR(vlookup_data[[#This Row],[Column8]])","v":1900},0,{"$f":"CONCATENATE(vlookup_data[[#This Row],[style '#]],\"|\",R554)","v":"0|"}]
[{"$f":"IF(ISNUMBER(U555)=TRUE,VLOOKUP(vlookup_data[[#This Row],[style '#]],[2]Sheet1!$A:$D,4,0)*ABS(U555),0)","v":0},{"$f":"WEEKNUM(vlookup_data[[#This Row],[Column8]],2)","v":1},{"$f":"YEAR(vlookup_data[[#This Row],[Column8]])","v":1900},0,{"$f":"CONCATENATE(vlookup_data[[#This Row],[style '#]],\"|\",R555)","v":"0|"}]
[{"$f":"IF(ISNUMBER(U556)=TRUE,VLOOKUP(vlookup_data[[#This Row],[style '#]],[2]Sheet1!$A:$D,4,0)*ABS(U556),0)","v":0},{"$f":"WEEKNUM(vlookup_data[[#This Row],[Column8]],2)","v":1},{"$f":"YEAR(vlookup_data[[#This Row],[Column8]])","v":1900},0,{"$f":"CONCATENATE(vlookup_data[[#This Row],[style '#]],\"|\",R556)","v":"0|"}]
[{"$f":"IF(ISNUMBER(U557)=TRUE,VLOOKUP(vlookup_data[[#This Row],[style '#]],[2]Sheet1!$A:$D,4,0)*ABS(U557),0)","v":0},{"$f":"WEEKNUM(vlookup_data[[#This Row],[Column8]],2)","v":1},{"$f":"YEAR(vlookup_data[[#This Row],[Column8]])","v":1900},0,{"$f":"CONCATENATE(vlookup_data[[#This Row],[style '#]],\"|\",R557)","v":"0|"}]
[{"$f":"IF(ISNUMBER(U558)=TRUE,VLOOKUP(vlookup_data[[#This Row],[style '#]],[2]Sheet1!$A:$D,4,0)*ABS(U558),0)","v":0},{"$f":"WEEKNUM(vlookup_data[[#This Row],[Column8]],2)","v":1},{"$f":"YEAR(vlookup_data[[#This Row],[Column8]])","v":1900},0,{"$f":"CONCATENATE(vlookup_data[[#This Row],[style '#]],\"|\",R558)","v":"0|"}]
[{"$f":"IF(ISNUMBER(U559)=TRUE,VLOOKUP(vlookup_data[[#This Row],[style '#]],[2]Sheet1!$A:$D,4,0)*ABS(U559),0)","v":0},{"$f":"WEEKNUM(vlookup_data[[#This Row],[Column8]],2)","v":1},{"$f":"YEAR(vlookup_data[[#This Row],[Column8]])","v":1900},0,{"$f":"CONCATENATE(vlookup_data[[#This Row],[style '#]],\"|\",R559)","v":"0|"}]
[{"$f":"IF(ISNUMBER(U560)=TRUE,VLOOKUP(vlookup_data[[#This Row],[style '#]],[2]Sheet1!$A:$D,4,0)*ABS(U560),0)","v":0},{"$f":"WEEKNUM(vlookup_data[[#This Row],[Column8]],2)","v":1},{"$f":"YEAR(vlookup_data[[#This Row],[Column8]])","v":1900},0,{"$f":"CONCATENATE(vlookup_data[[#This Row],[style '#]],\"|\",R560)","v":"0|"}]
[{"$f":"IF(ISNUMBER(U561)=TRUE,VLOOKUP(vlookup_data[[#This Row],[style '#]],[2]Sheet1!$A:$D,4,0)*ABS(U561),0)","v":0},{"$f":"WEEKNUM(vlookup_data[[#This Row],[Column8]],2)","v":1},{"$f":"YEAR(vlookup_data[[#This Row],[Column8]])","v":1900},0,{"$f":"CONCATENATE(vlookup_data[[#This Row],[style '#]],\"|\",R561)","v":"0|"}]
[{"$f":"IF(ISNUMBER(U562)=TRUE,VLOOKUP(vlookup_data[[#This Row],[style '#]],[2]Sheet1!$A:$D,4,0)*ABS(U562),0)","v":0},{"$f":"WEEKNUM(vlookup_data[[#This Row],[Column8]],2)","v":1},{"$f":"YEAR(vlookup_data[[#This Row],[Column8]])","v":1900},0,{"$f":"CONCATENATE(vlookup_data[[#This Row],[style '#]],\"|\",R562)","v":"0|"}]
[{"$f":"IF(ISNUMBER(U563)=TRUE,VLOOKUP(vlookup_data[[#This Row],[style '#]],[2]Sheet1!$A:$D,4,0)*ABS(U563),0)","v":0},{"$f":"WEEKNUM(vlookup_data[[#This Row],[Column8]],2)","v":1},{"$f":"YEAR(vlookup_data[[#This Row],[Column8]])","v":1900},0,{"$f":"CONCATENATE(vlookup_data[[#This Row],[style '#]],\"|\",R563)","v":"0|"}]
[{"$f":"IF(ISNUMBER(U564)=TRUE,VLOOKUP(vlookup_data[[#This Row],[style '#]],[2]Sheet1!$A:$D,4,0)*ABS(U564),0)","v":0},{"$f":"WEEKNUM(vlookup_data[[#This Row],[Column8]],2)","v":1},{"$f":"YEAR(vlookup_data[[#This Row],[Column8]])","v":1900},0,{"$f":"CONCATENATE(vlookup_data[[#This Row],[style '#]],\"|\",R564)","v":"0|"}]
[{"$f":"IF(ISNUMBER(U565)=TRUE,VLOOKUP(vlookup_data[[#This Row],[style '#]],[2]Sheet1!$A:$D,4,0)*ABS(U565),0)","v":0},{"$f":"WEEKNUM(vlookup_data[[#This Row],[Column8]],2)","v":1},{"$f":"YEAR(vlookup_data[[#This Row],[Column8]])","v":1900},0,{"$f":"CONCATENATE(vlookup_data[[#This Row],[style '#]],\"|\",R565)","v":"0|"}]
[{"$f":"IF(ISNUMBER(U566)=TRUE,VLOOKUP(vlookup_data[[#This Row],[style '#]],[2]Sheet1!$A:$D,4,0)*ABS(U566),0)","v":0},{"$f":"WEEKNUM(vlookup_data[[#This Row],[Column8]],2)","v":1},{"$f":"YEAR(vlookup_data[[#This Row],[Column8]])","v":1900},0,{"$f":"CONCATENATE(vlookup_data[[#This Row],[style '#]],\"|\",R566)","v":"0|"}]
[{"$f":"IF(ISNUMBER(U567)=TRUE,VLOOKUP(vlookup_data[[#This Row],[style '#]],[2]Sheet1!$A:$D,4,0)*ABS(U567),0)","v":0},{"$f":"WEEKNUM(vlookup_data[[#This Row],[Column8]],2)","v":1},{"$f":"YEAR(vlookup_data[[#This Row],[Column8]])","v":1900},0,{"$f":"CONCATENATE(vlookup_data[[#This Row],[style '#]],\"|\",R567)","v":"0|"}]
[{"$f":"IF(ISNUMBER(U568)=TRUE,VLOOKUP(vlookup_data[[#This Row],[style '#]],[2]Sheet1!$A:$D,4,0)*ABS(U568),0)","v":0},{"$f":"WEEKNUM(vlookup_data[[#This Row],[Column8]],2)","v":1},{"$f":"YEAR(vlookup_data[[#This Row],[Column8]])","v":1900},0,{"$f":"CONCATENATE(vlookup_data[[#This Row],[style '#]],\"|\",R568)","v":"0|"}]
[{"$f":"IF(ISNUMBER(U569)=TRUE,VLOOKUP(vlookup_data[[#This Row],[style '#]],[2]Sheet1!$A:$D,4,0)*ABS(U569),0)","v":0},{"$f":"WEEKNUM(vlookup_data[[#This Row],[Column8]],2)","v":1},{"$f":"YEAR(vlookup_data[[#This Row],[Column8]])","v":1900},0,{"$f":"CONCATENATE(vlookup_data[[#This Row],[style '#]],\"|\",R569)","v":"0|"}]
[{"$f":"IF(ISNUMBER(U570)=TRUE,VLOOKUP(vlookup_data[[#This Row],[style '#]],[2]Sheet1!$A:$D,4,0)*ABS(U570),0)","v":0},{"$f":"WEEKNUM(vlookup_data[[#This Row],[Column8]],2)","v":1},{"$f":"YEAR(vlookup_data[[#This Row],[Column8]])","v":1900},0,{"$f":"CONCATENATE(vlookup_data[[#This Row],[style '#]],\"|\",R570)","v":"0|"}]
[{"$f":"IF(ISNUMBER(U571)=TRUE,VLOOKUP(vlookup_data[[#This Row],[style '#]],[2]Sheet1!$A:$D,4,0)*ABS(U571),0)","v":0},{"$f":"WEEKNUM(vlookup_data[[#This Row],[Column8]],2)","v":1},{"$f":"YEAR(vlookup_data[[#This Row],[Column8]])","v":1900},0,{"$f":"CONCATENATE(vlookup_data[[#This Row],[style '#]],\"|\",R571)","v":"0|"}]
[{"$f":"IF(ISNUMBER(U572)=TRUE,VLOOKUP(vlookup_data[[#This Row],[style '#]],[2]Sheet1!$A:$D,4,0)*ABS(U572),0)","v":0},{"$f":"WEEKNUM(vlookup_data[[#This Row],[Column8]],2)","v":1},{"$f":"YEAR(vlookup_data[[#This Row],[Column8]])","v":1900},0,{"$f":"CONCATENATE(vlookup_data[[#This Row],[style '#]],\"|\",R572)","v":"0|"}]
[{"$f":"IF(ISNUMBER(U573)=TRUE,VLOOKUP(vlookup_data[[#This Row],[style '#]],[2]Sheet1!$A:$D,4,0)*ABS(U573),0)","v":0},{"$f":"WEEKNUM(vlookup_data[[#This Row],[Column8]],2)","v":1},{"$f":"YEAR(vlookup_data[[#This Row],[Column8]])","v":1900},0,{"$f":"CONCATENATE(vlookup_data[[#This Row],[style '#]],\"|\",R573)","v":"0|"}]
[{"$f":"IF(ISNUMBER(U574)=TRUE,VLOOKUP(vlookup_data[[#This Row],[style '#]],[2]Sheet1!$A:$D,4,0)*ABS(U574),0)","v":0},{"$f":"WEEKNUM(vlookup_data[[#This Row],[Column8]],2)","v":1},{"$f":"YEAR(vlookup_data[[#This Row],[Column8]])","v":1900},0,{"$f":"CONCATENATE(vlookup_data[[#This Row],[style '#]],\"|\",R574)","v":"0|"}]
[{"$f":"IF(ISNUMBER(U575)=TRUE,VLOOKUP(vlookup_data[[#This Row],[style '#]],[2]Sheet1!$A:$D,4,0)*ABS(U575),0)","v":0},{"$f":"WEEKNUM(vlookup_data[[#This Row],[Column8]],2)","v":1},{"$f":"YEAR(vlookup_data[[#This Row],[Column8]])","v":1900},0,{"$f":"CONCATENATE(vlookup_data[[#This Row],[style '#]],\"|\",R575)","v":"0|"}]
[{"$f":"IF(ISNUMBER(U576)=TRUE,VLOOKUP(vlookup_data[[#This Row],[style '#]],[2]Sheet1!$A:$D,4,0)*ABS(U576),0)","v":0},{"$f":"WEEKNUM(vlookup_data[[#This Row],[Column8]],2)","v":1},{"$f":"YEAR(vlookup_data[[#This Row],[Column8]])","v":1900},0,{"$f":"CONCATENATE(vlookup_data[[#This Row],[style '#]],\"|\",R576)","v":"0|"}]
[{"$f":"IF(ISNUMBER(U577)=TRUE,VLOOKUP(vlookup_data[[#This Row],[style '#]],[2]Sheet1!$A:$D,4,0)*ABS(U577),0)","v":0},{"$f":"WEEKNUM(vlookup_data[[#This Row],[Column8]],2)","v":1},{"$f":"YEAR(vlookup_data[[#This Row],[Column8]])","v":1900},0,{"$f":"CONCATENATE(vlookup_data[[#This Row],[style '#]],\"|\",R577)","v":"0|"}]
[{"$f":"IF(ISNUMBER(U578)=TRUE,VLOOKUP(vlookup_data[[#This Row],[style '#]],[2]Sheet1!$A:$D,4,0)*ABS(U578),0)","v":0},{"$f":"WEEKNUM(vlookup_data[[#This Row],[Column8]],2)","v":1},{"$f":"YEAR(vlookup_data[[#This Row],[Column8]])","v":1900},0,{"$f":"CONCATENATE(vlookup_data[[#This Row],[style '#]],\"|\",R578)","v":"0|"}]
[{"$f":"IF(ISNUMBER(U579)=TRUE,VLOOKUP(vlookup_data[[#This Row],[style '#]],[2]Sheet1!$A:$D,4,0)*ABS(U579),0)","v":0},{"$f":"WEEKNUM(vlookup_data[[#This Row],[Column8]],2)","v":1},{"$f":"YEAR(vlookup_data[[#This Row],[Column8]])","v":1900},0,{"$f":"CONCATENATE(vlookup_data[[#This Row],[style '#]],\"|\",R579)","v":"0|"}]
[{"$f":"IF(ISNUMBER(U580)=TRUE,VLOOKUP(vlookup_data[[#This Row],[style '#]],[2]Sheet1!$A:$D,4,0)*ABS(U580),0)","v":0},{"$f":"WEEKNUM(vlookup_data[[#This Row],[Column8]],2)","v":1},{"$f":"YEAR(vlookup_data[[#This Row],[Column8]])","v":1900},0,{"$f":"CONCATENATE(vlookup_data[[#This Row],[style '#]],\"|\",R580)","v":"0|"}]
[{"$f":"IF(ISNUMBER(U581)=TRUE,VLOOKUP(vlookup_data[[#This Row],[style '#]],[2]Sheet1!$A:$D,4,0)*ABS(U581),0)","v":0},{"$f":"WEEKNUM(vlookup_data[[#This Row],[Column8]],2)","v":1},{"$f":"YEAR(vlookup_data[[#This Row],[Column8]])","v":1900},0,{"$f":"CONCATENATE(vlookup_data[[#This Row],[style '#]],\"|\",R581)","v":"0|"}]
[{"$f":"IF(ISNUMBER(U582)=TRUE,VLOOKUP(vlookup_data[[#This Row],[style '#]],[2]Sheet1!$A:$D,4,0)*ABS(U582),0)","v":0},{"$f":"WEEKNUM(vlookup_data[[#This Row],[Column8]],2)","v":1},{"$f":"YEAR(vlookup_data[[#This Row],[Column8]])","v":1900},0,{"$f":"CONCATENATE(vlookup_data[[#This Row],[style '#]],\"|\",R582)","v":"0|"}]
[{"$f":"IF(ISNUMBER(U583)=TRUE,VLOOKUP(vlookup_data[[#This Row],[style '#]],[2]Sheet1!$A:$D,4,0)*ABS(U583),0)","v":0},{"$f":"WEEKNUM(vlookup_data[[#This Row],[Column8]],2)","v":1},{"$f":"YEAR(vlookup_data[[#This Row],[Column8]])","v":1900},0,{"$f":"CONCATENATE(vlookup_data[[#This Row],[style '#]],\"|\",R583)","v":"0|"}]
[{"$f":"IF(ISNUMBER(U584)=TRUE,VLOOKUP(vlookup_data[[#This Row],[style '#]],[2]Sheet1!$A:$D,4,0)*ABS(U584),0)","v":0},{"$f":"WEEKNUM(vlookup_data[[#This Row],[Column8]],2)","v":1},{"$f":"YEAR(vlookup_data[[#This Row],[Column8]])","v":1900},0,{"$f":"CONCATENATE(vlookup_data[[#This Row],[style '#]],\"|\",R584)","v":"0|"}]
[{"$f":"IF(ISNUMBER(U585)=TRUE,VLOOKUP(vlookup_data[[#This Row],[style '#]],[2]Sheet1!$A:$D,4,0)*ABS(U585),0)","v":0},{"$f":"WEEKNUM(vlookup_data[[#This Row],[Column8]],2)","v":1},{"$f":"YEAR(vlookup_data[[#This Row],[Column8]])","v":1900},{"$f":"VALUE(G585)","v":0},{"$f":"CONCATENATE(vlookup_data[[#This Row],[style '#]],\"|\",R585)","v":"0|"}]
[{"$f":"IF(ISNUMBER(U586)=TRUE,VLOOKUP(vlookup_data[[#This Row],[style '#]],[2]Sheet1!$A:$D,4,0)*ABS(U586),0)","v":0},{"$f":"WEEKNUM(vlookup_data[[#This Row],[Column8]],2)","v":1},{"$f":"YEAR(vlookup_data[[#This Row],[Column8]])","v":1900},0,{"$f":"CONCATENATE(vlookup_data[[#This Row],[style '#]],\"|\",R586)","v":"0|"}]
[{"$f":"IF(ISNUMBER(U587)=TRUE,VLOOKUP(vlookup_data[[#This Row],[style '#]],[2]Sheet1!$A:$D,4,0)*ABS(U587),0)","v":0},{"$f":"WEEKNUM(vlookup_data[[#This Row],[Column8]],2)","v":1},{"$f":"YEAR(vlookup_data[[#This Row],[Column8]])","v":1900},0,{"$f":"CONCATENATE(vlookup_data[[#This Row],[style '#]],\"|\",R587)","v":"0|"}]
[{"$f":"IF(ISNUMBER(U588)=TRUE,VLOOKUP(vlookup_data[[#This Row],[style '#]],[2]Sheet1!$A:$D,4,0)*ABS(U588),0)","v":0},{"$f":"WEEKNUM(vlookup_data[[#This Row],[Column8]],2)","v":1},{"$f":"YEAR(vlookup_data[[#This Row],[Column8]])","v":1900},0,{"$f":"CONCATENATE(vlookup_data[[#This Row],[style '#]],\"|\",R588)","v":"0|"}]
[{"$f":"IF(ISNUMBER(U589)=TRUE,VLOOKUP(vlookup_data[[#This Row],[style '#]],[2]Sheet1!$A:$D,4,0)*ABS(U589),0)","v":0},{"$f":"WEEKNUM(vlookup_data[[#This Row],[Column8]],2)","v":1},{"$f":"YEAR(vlookup_data[[#This Row],[Column8]])","v":1900},0,{"$f":"CONCATENATE(vlookup_data[[#This Row],[style '#]],\"|\",R589)","v":"0|"}]
[{"$f":"IF(ISNUMBER(U590)=TRUE,VLOOKUP(vlookup_data[[#This Row],[style '#]],[2]Sheet1!$A:$D,4,0)*ABS(U590),0)","v":0},{"$f":"WEEKNUM(vlookup_data[[#This Row],[Column8]],2)","v":1},{"$f":"YEAR(vlookup_data[[#This Row],[Column8]])","v":1900},0,{"$f":"CONCATENATE(vlookup_data[[#This Row],[style '#]],\"|\",R590)","v":"0|"}]
[{"$f":"IF(ISNUMBER(U591)=TRUE,VLOOKUP(vlookup_data[[#This Row],[style '#]],[2]Sheet1!$A:$D,4,0)*ABS(U591),0)","v":0},{"$f":"WEEKNUM(vlookup_data[[#This Row],[Column8]],2)","v":1},{"$f":"YEAR(vlookup_data[[#This Row],[Column8]])","v":1900},0,{"$f":"CONCATENATE(vlookup_data[[#This Row],[style '#]],\"|\",R591)","v":"0|"}]
[{"$f":"IF(ISNUMBER(U592)=TRUE,VLOOKUP(vlookup_data[[#This Row],[style '#]],[2]Sheet1!$A:$D,4,0)*ABS(U592),0)","v":0},{"$f":"WEEKNUM(vlookup_data[[#This Row],[Column8]],2)","v":1},{"$f":"YEAR(vlookup_data[[#This Row],[Column8]])","v":1900},0,{"$f":"CONCATENATE(vlookup_data[[#This Row],[style '#]],\"|\",R592)","v":"0|"}]
[{"$f":"IF(ISNUMBER(U593)=TRUE,VLOOKUP(vlookup_data[[#This Row],[style '#]],[2]Sheet1!$A:$D,4,0)*ABS(U593),0)","v":0},{"$f":"WEEKNUM(vlookup_data[[#This Row],[Column8]],2)","v":1},{"$f":"YEAR(vlookup_data[[#This Row],[Column8]])","v":1900},0,{"$f":"CONCATENATE(vlookup_data[[#This Row],[style '#]],\"|\",R593)","v":"0|"}]
[{"$f":"IF(ISNUMBER(U594)=TRUE,VLOOKUP(vlookup_data[[#This Row],[style '#]],[2]Sheet1!$A:$D,4,0)*ABS(U594),0)","v":0},{"$f":"WEEKNUM(vlookup_data[[#This Row],[Column8]],2)","v":1},{"$f":"YEAR(vlookup_data[[#This Row],[Column8]])","v":1900},0,{"$f":"CONCATENATE(vlookup_data[[#This Row],[style '#]],\"|\",R594)","v":"0|"}]
[{"$f":"IF(ISNUMBER(U595)=TRUE,VLOOKUP(vlookup_data[[#This Row],[style '#]],[2]Sheet1!$A:$D,4,0)*ABS(U595),0)","v":0},{"$f":"WEEKNUM(vlookup_data[[#This Row],[Column8]],2)","v":1},{"$f":"YEAR(vlookup_data[[#This Row],[Column8]])","v":1900},0,{"$f":"CONCATENATE(vlookup_data[[#This Row],[style '#]],\"|\",R595)","v":"0|"}]
[{"$f":"IF(ISNUMBER(U596)=TRUE,VLOOKUP(vlookup_data[[#This Row],[style '#]],[2]Sheet1!$A:$D,4,0)*ABS(U596),0)","v":0},{"$f":"WEEKNUM(vlookup_data[[#This Row],[Column8]],2)","v":1},{"$f":"YEAR(vlookup_data[[#This Row],[Column8]])","v":1900},0,{"$f":"CONCATENATE(vlookup_data[[#This Row],[style '#]],\"|\",R596)","v":"0|"}]
[{"$f":"IF(ISNUMBER(U597)=TRUE,VLOOKUP(vlookup_data[[#This Row],[style '#]],[2]Sheet1!$A:$D,4,0)*ABS(U597),0)","v":0},{"$f":"WEEKNUM(vlookup_data[[#This Row],[Column8]],2)","v":1},{"$f":"YEAR(vlookup_data[[#This Row],[Column8]])","v":1900},0,{"$f":"CONCATENATE(vlookup_data[[#This Row],[style '#]],\"|\",R597)","v":"0|"}]
[{"$f":"IF(ISNUMBER(U598)=TRUE,VLOOKUP(vlookup_data[[#This Row],[style '#]],[2]Sheet1!$A:$D,4,0)*ABS(U598),0)","v":0},{"$f":"WEEKNUM(vlookup_data[[#This Row],[Column8]],2)","v":1},{"$f":"YEAR(vlookup_data[[#This Row],[Column8]])","v":1900},0,{"$f":"CONCATENATE(vlookup_data[[#This Row],[style '#]],\"|\",R598)","v":"0|"}]
[{"$f":"IF(ISNUMBER(U599)=TRUE,VLOOKUP(vlookup_data[[#This Row],[style '#]],[2]Sheet1!$A:$D,4,0)*ABS(U599),0)","v":0},{"$f":"WEEKNUM(vlookup_data[[#This Row],[Column8]],2)","v":1},{"$f":"YEAR(vlookup_data[[#This Row],[Column8]])","v":1900},0,{"$f":"CONCATENATE(vlookup_data[[#This Row],[style '#]],\"|\",R599)","v":"0|"}]
[{"$f":"IF(ISNUMBER(U600)=TRUE,VLOOKUP(vlookup_data[[#This Row],[style '#]],[2]Sheet1!$A:$D,4,0)*ABS(U600),0)","v":0},{"$f":"WEEKNUM(vlookup_data[[#This Row],[Column8]],2)","v":1},{"$f":"YEAR(vlookup_data[[#This Row],[Column8]])","v":1900},0,{"$f":"CONCATENATE(vlookup_data[[#This Row],[style '#]],\"|\",R600)","v":"0|"}]
[{"$f":"IF(ISNUMBER(U601)=TRUE,VLOOKUP(vlookup_data[[#This Row],[style '#]],[2]Sheet1!$A:$D,4,0)*ABS(U601),0)","v":0},{"$f":"WEEKNUM(vlookup_data[[#This Row],[Column8]],2)","v":1},{"$f":"YEAR(vlookup_data[[#This Row],[Column8]])","v":1900},0,{"$f":"CONCATENATE(vlookup_data[[#This Row],[style '#]],\"|\",R601)","v":"0|"}]
[{"$f":"IF(ISNUMBER(U602)=TRUE,VLOOKUP(vlookup_data[[#This Row],[style '#]],[2]Sheet1!$A:$D,4,0)*ABS(U602),0)","v":0},{"$f":"WEEKNUM(vlookup_data[[#This Row],[Column8]],2)","v":1},{"$f":"YEAR(vlookup_data[[#This Row],[Column8]])","v":1900},0,{"$f":"CONCATENATE(vlookup_data[[#This Row],[style '#]],\"|\",R602)","v":"0|"}]
[{"$f":"IF(ISNUMBER(U603)=TRUE,VLOOKUP(vlookup_data[[#This Row],[style '#]],[2]Sheet1!$A:$D,4,0)*ABS(U603),0)","v":0},{"$f":"WEEKNUM(vlookup_data[[#This Row],[Column8]],2)","v":1},{"$f":"YEAR(vlookup_data[[#This Row],[Column8]])","v":1900},0,{"$f":"CONCATENATE(vlookup_data[[#This Row],[style '#]],\"|\",R603)","v":"0|"}]
[{"$f":"IF(ISNUMBER(U604)=TRUE,VLOOKUP(vlookup_data[[#This Row],[style '#]],[2]Sheet1!$A:$D,4,0)*ABS(U604),0)","v":0},{"$f":"WEEKNUM(vlookup_data[[#This Row],[Column8]],2)","v":1},{"$f":"YEAR(vlookup_data[[#This Row],[Column8]])","v":1900},0,{"$f":"CONCATENATE(vlookup_data[[#This Row],[style '#]],\"|\",R604)","v":"0|"}]
[{"$f":"IF(ISNUMBER(U605)=TRUE,VLOOKUP(vlookup_data[[#This Row],[style '#]],[2]Sheet1!$A:$D,4,0)*ABS(U605),0)","v":0},{"$f":"WEEKNUM(vlookup_data[[#This Row],[Column8]],2)","v":1},{"$f":"YEAR(vlookup_data[[#This Row],[Column8]])","v":1900},0,{"$f":"CONCATENATE(vlookup_data[[#This Row],[style '#]],\"|\",R605)","v":"0|"}]
[{"$f":"IF(ISNUMBER(U606)=TRUE,VLOOKUP(vlookup_data[[#This Row],[style '#]],[2]Sheet1!$A:$D,4,0)*ABS(U606),0)","v":0},{"$f":"WEEKNUM(vlookup_data[[#This Row],[Column8]],2)","v":1},{"$f":"YEAR(vlookup_data[[#This Row],[Column8]])","v":1900},0,{"$f":"CONCATENATE(vlookup_data[[#This Row],[style '#]],\"|\",R606)","v":"0|"}]
[{"$f":"IF(ISNUMBER(U607)=TRUE,VLOOKUP(vlookup_data[[#This Row],[style '#]],[2]Sheet1!$A:$D,4,0)*ABS(U607),0)","v":0},{"$f":"WEEKNUM(vlookup_data[[#This Row],[Column8]],2)","v":1},{"$f":"YEAR(vlookup_data[[#This Row],[Column8]])","v":1900},0,{"$f":"CONCATENATE(vlookup_data[[#This Row],[style '#]],\"|\",R607)","v":"0|"}]
[{"$f":"IF(ISNUMBER(U608)=TRUE,VLOOKUP(vlookup_data[[#This Row],[style '#]],[2]Sheet1!$A:$D,4,0)*ABS(U608),0)","v":0},{"$f":"WEEKNUM(vlookup_data[[#This Row],[Column8]],2)","v":1},{"$f":"YEAR(vlookup_data[[#This Row],[Column8]])","v":1900},0,{"$f":"CONCATENATE(vlookup_data[[#This Row],[style '#]],\"|\",R608)","v":"0|"}]
[{"$f":"IF(ISNUMBER(U609)=TRUE,VLOOKUP(vlookup_data[[#This Row],[style '#]],[2]Sheet1!$A:$D,4,0)*ABS(U609),0)","v":0},{"$f":"WEEKNUM(vlookup_data[[#This Row],[Column8]],2)","v":1},{"$f":"YEAR(vlookup_data[[#This Row],[Column8]])","v":1900},0,{"$f":"CONCATENATE(vlookup_data[[#This Row],[style '#]],\"|\",R609)","v":"0|"}]
[{"$f":"IF(ISNUMBER(U610)=TRUE,VLOOKUP(vlookup_data[[#This Row],[style '#]],[2]Sheet1!$A:$D,4,0)*ABS(U610),0)","v":0},{"$f":"WEEKNUM(vlookup_data[[#This Row],[Column8]],2)","v":1},{"$f":"YEAR(vlookup_data[[#This Row],[Column8]])","v":1900},0,{"$f":"CONCATENATE(vlookup_data[[#This Row],[style '#]],\"|\",R610)","v":"0|"}]
[{"$f":"IF(ISNUMBER(U611)=TRUE,VLOOKUP(vlookup_data[[#This Row],[style '#]],[2]Sheet1!$A:$D,4,0)*ABS(U611),0)","v":0},{"$f":"WEEKNUM(vlookup_data[[#This Row],[Column8]],2)","v":1},{"$f":"YEAR(vlookup_data[[#This Row],[Column8]])","v":1900},0,{"$f":"CONCATENATE(vlookup_data[[#This Row],[style '#]],\"|\",R611)","v":"0|"}]
[{"$f":"IF(ISNUMBER(U612)=TRUE,VLOOKUP(vlookup_data[[#This Row],[style '#]],[2]Sheet1!$A:$D,4,0)*ABS(U612),0)","v":0},{"$f":"WEEKNUM(vlookup_data[[#This Row],[Column8]],2)","v":1},{"$f":"YEAR(vlookup_data[[#This Row],[Column8]])","v":1900},0,{"$f":"CONCATENATE(vlookup_data[[#This Row],[style '#]],\"|\",R612)","v":"0|"}]
[{"$f":"IF(ISNUMBER(U613)=TRUE,VLOOKUP(vlookup_data[[#This Row],[style '#]],[2]Sheet1!$A:$D,4,0)*ABS(U613),0)","v":0},{"$f":"WEEKNUM(vlookup_data[[#This Row],[Column8]],2)","v":1},{"$f":"YEAR(vlookup_data[[#This Row],[Column8]])","v":1900},0,{"$f":"CONCATENATE(vlookup_data[[#This Row],[style '#]],\"|\",R613)","v":"0|"}]
[{"$f":"IF(ISNUMBER(U614)=TRUE,VLOOKUP(vlookup_data[[#This Row],[style '#]],[2]Sheet1!$A:$D,4,0)*ABS(U614),0)","v":0},{"$f":"WEEKNUM(vlookup_data[[#This Row],[Column8]],2)","v":1},{"$f":"YEAR(vlookup_data[[#This Row],[Column8]])","v":1900},0,{"$f":"CONCATENATE(vlookup_data[[#This Row],[style '#]],\"|\",R614)","v":"0|"}]
[{"$f":"IF(ISNUMBER(U615)=TRUE,VLOOKUP(vlookup_data[[#This Row],[style '#]],[2]Sheet1!$A:$D,4,0)*ABS(U615),0)","v":0},{"$f":"WEEKNUM(vlookup_data[[#This Row],[Column8]],2)","v":1},{"$f":"YEAR(vlookup_data[[#This Row],[Column8]])","v":1900},0,{"$f":"CONCATENATE(vlookup_data[[#This Row],[style '#]],\"|\",R615)","v":"0|"}]
[{"$f":"IF(ISNUMBER(U616)=TRUE,VLOOKUP(vlookup_data[[#This Row],[style '#]],[2]Sheet1!$A:$D,4,0)*ABS(U616),0)","v":0},{"$f":"WEEKNUM(vlookup_data[[#This Row],[Column8]],2)","v":1},{"$f":"YEAR(vlookup_data[[#This Row],[Column8]])","v":1900},0,{"$f":"CONCATENATE(vlookup_data[[#This Row],[style '#]],\"|\",R616)","v":"0|"}]
[{"$f":"IF(ISNUMBER(U617)=TRUE,VLOOKUP(vlookup_data[[#This Row],[style '#]],[2]Sheet1!$A:$D,4,0)*ABS(U617),0)","v":0},{"$f":"WEEKNUM(vlookup_data[[#This Row],[Column8]],2)","v":1},{"$f":"YEAR(vlookup_data[[#This Row],[Column8]])","v":1900},0,{"$f":"CONCATENATE(vlookup_data[[#This Row],[style '#]],\"|\",R617)","v":"0|"}]
[{"$f":"IF(ISNUMBER(U618)=TRUE,VLOOKUP(vlookup_data[[#This Row],[style '#]],[2]Sheet1!$A:$D,4,0)*ABS(U618),0)","v":0},{"$f":"WEEKNUM(vlookup_data[[#This Row],[Column8]],2)","v":1},{"$f":"YEAR(vlookup_data[[#This Row],[Column8]])","v":1900},0,{"$f":"CONCATENATE(vlookup_data[[#This Row],[style '#]],\"|\",R618)","v":"0|"}]
[{"$f":"IF(ISNUMBER(U619)=TRUE,VLOOKUP(vlookup_data[[#This Row],[style '#]],[2]Sheet1!$A:$D,4,0)*ABS(U619),0)","v":0},{"$f":"WEEKNUM(vlookup_data[[#This Row],[Column8]],2)","v":1},{"$f":"YEAR(vlookup_data[[#This Row],[Column8]])","v":1900},0,{"$f":"CONCATENATE(vlookup_data[[#This Row],[style '#]],\"|\",R619)","v":"0|"}]
[{"$f":"IF(ISNUMBER(U620)=TRUE,VLOOKUP(vlookup_data[[#This Row],[style '#]],[2]Sheet1!$A:$D,4,0)*ABS(U620),0)","v":0},{"$f":"WEEKNUM(vlookup_data[[#This Row],[Column8]],2)","v":1},{"$f":"YEAR(vlookup_data[[#This Row],[Column8]])","v":1900},0,{"$f":"CONCATENATE(vlookup_data[[#This Row],[style '#]],\"|\",R620)","v":"0|"}]
[{"$f":"IF(ISNUMBER(U621)=TRUE,VLOOKUP(vlookup_data[[#This Row],[style '#]],[2]Sheet1!$A:$D,4,0)*ABS(U621),0)","v":0},{"$f":"WEEKNUM(vlookup_data[[#This Row],[Column8]],2)","v":1},{"$f":"YEAR(vlookup_data[[#This Row],[Column8]])","v":1900},0,{"$f":"CONCATENATE(vlookup_data[[#This Row],[style '#]],\"|\",R621)","v":"0|"}]
[{"$f":"IF(ISNUMBER(U622)=TRUE,VLOOKUP(vlookup_data[[#This Row],[style '#]],[2]Sheet1!$A:$D,4,0)*ABS(U622),0)","v":0},{"$f":"WEEKNUM(vlookup_data[[#This Row],[Column8]],2)","v":1},{"$f":"YEAR(vlookup_data[[#This Row],[Column8]])","v":1900},0,{"$f":"CONCATENATE(vlookup_data[[#This Row],[style '#]],\"|\",R622)","v":"0|"}]
[{"$f":"IF(ISNUMBER(U623)=TRUE,VLOOKUP(vlookup_data[[#This Row],[style '#]],[2]Sheet1!$A:$D,4,0)*ABS(U623),0)","v":0},{"$f":"WEEKNUM(vlookup_data[[#This Row],[Column8]],2)","v":1},{"$f":"YEAR(vlookup_data[[#This Row],[Column8]])","v":1900},0,{"$f":"CONCATENATE(vlookup_data[[#This Row],[style '#]],\"|\",R623)","v":"0|"}]
[{"$f":"IF(ISNUMBER(U624)=TRUE,VLOOKUP(vlookup_data[[#This Row],[style '#]],[2]Sheet1!$A:$D,4,0)*ABS(U624),0)","v":0},{"$f":"WEEKNUM(vlookup_data[[#This Row],[Column8]],2)","v":1},{"$f":"YEAR(vlookup_data[[#This Row],[Column8]])","v":1900},0,{"$f":"CONCATENATE(vlookup_data[[#This Row],[style '#]],\"|\",R624)","v":"0|"}]
[{"$f":"IF(ISNUMBER(U625)=TRUE,VLOOKUP(vlookup_data[[#This Row],[style '#]],[2]Sheet1!$A:$D,4,0)*ABS(U625),0)","v":0},{"$f":"WEEKNUM(vlookup_data[[#This Row],[Column8]],2)","v":1},{"$f":"YEAR(vlookup_data[[#This Row],[Column8]])","v":1900},0,{"$f":"CONCATENATE(vlookup_data[[#This Row],[style '#]],\"|\",R625)","v":"0|"}]
[{"$f":"IF(ISNUMBER(U626)=TRUE,VLOOKUP(vlookup_data[[#This Row],[style '#]],[2]Sheet1!$A:$D,4,0)*ABS(U626),0)","v":0},{"$f":"WEEKNUM(vlookup_data[[#This Row],[Column8]],2)","v":1},{"$f":"YEAR(vlookup_data[[#This Row],[Column8]])","v":1900},0,{"$f":"CONCATENATE(vlookup_data[[#This Row],[style '#]],\"|\",R626)","v":"0|"}]
[{"$f":"IF(ISNUMBER(U627)=TRUE,VLOOKUP(vlookup_data[[#This Row],[style '#]],[2]Sheet1!$A:$D,4,0)*ABS(U627),0)","v":0},{"$f":"WEEKNUM(vlookup_data[[#This Row],[Column8]],2)","v":1},{"$f":"YEAR(vlookup_data[[#This Row],[Column8]])","v":1900},0,{"$f":"CONCATENATE(vlookup_data[[#This Row],[style '#]],\"|\",R627)","v":"0|"}]
[{"$f":"IF(ISNUMBER(U628)=TRUE,VLOOKUP(vlookup_data[[#This Row],[style '#]],[2]Sheet1!$A:$D,4,0)*ABS(U628),0)","v":0},{"$f":"WEEKNUM(vlookup_data[[#This Row],[Column8]],2)","v":1},{"$f":"YEAR(vlookup_data[[#This Row],[Column8]])","v":1900},0,{"$f":"CONCATENATE(vlookup_data[[#This Row],[style '#]],\"|\",R628)","v":"0|"}]
[{"$f":"IF(ISNUMBER(U629)=TRUE,VLOOKUP(vlookup_data[[#This Row],[style '#]],[2]Sheet1!$A:$D,4,0)*ABS(U629),0)","v":0},{"$f":"WEEKNUM(vlookup_data[[#This Row],[Column8]],2)","v":1},{"$f":"YEAR(vlookup_data[[#This Row],[Column8]])","v":1900},0,{"$f":"CONCATENATE(vlookup_data[[#This Row],[style '#]],\"|\",R629)","v":"0|"}]
[{"$f":"IF(ISNUMBER(U630)=TRUE,VLOOKUP(vlookup_data[[#This Row],[style '#]],[2]Sheet1!$A:$D,4,0)*ABS(U630),0)","v":0},{"$f":"WEEKNUM(vlookup_data[[#This Row],[Column8]],2)","v":1},{"$f":"YEAR(vlookup_data[[#This Row],[Column8]])","v":1900},0,{"$f":"CONCATENATE(vlookup_data[[#This Row],[style '#]],\"|\",R630)","v":"0|"}]
[{"$f":"IF(ISNUMBER(U631)=TRUE,VLOOKUP(vlookup_data[[#This Row],[style '#]],[2]Sheet1!$A:$D,4,0)*ABS(U631),0)","v":0},{"$f":"WEEKNUM(vlookup_data[[#This Row],[Column8]],2)","v":1},{"$f":"YEAR(vlookup_data[[#This Row],[Column8]])","v":1900},0,{"$f":"CONCATENATE(vlookup_data[[#This Row],[style '#]],\"|\",R631)","v":"0|"}]
[{"$f":"IF(ISNUMBER(U632)=TRUE,VLOOKUP(vlookup_data[[#This Row],[style '#]],[2]Sheet1!$A:$D,4,0)*ABS(U632),0)","v":0},{"$f":"WEEKNUM(vlookup_data[[#This Row],[Column8]],2)","v":1},{"$f":"YEAR(vlookup_data[[#This Row],[Column8]])","v":1900},0,{"$f":"CONCATENATE(vlookup_data[[#This Row],[style '#]],\"|\",R632)","v":"0|"}]
[{"$f":"IF(ISNUMBER(U633)=TRUE,VLOOKUP(vlookup_data[[#This Row],[style '#]],[2]Sheet1!$A:$D,4,0)*ABS(U633),0)","v":0},{"$f":"WEEKNUM(vlookup_data[[#This Row],[Column8]],2)","v":1},{"$f":"YEAR(vlookup_data[[#This Row],[Column8]])","v":1900},0,{"$f":"CONCATENATE(vlookup_data[[#This Row],[style '#]],\"|\",R633)","v":"0|"}]
[{"$f":"IF(ISNUMBER(U634)=TRUE,VLOOKUP(vlookup_data[[#This Row],[style '#]],[2]Sheet1!$A:$D,4,0)*ABS(U634),0)","v":0},{"$f":"WEEKNUM(vlookup_data[[#This Row],[Column8]],2)","v":1},{"$f":"YEAR(vlookup_data[[#This Row],[Column8]])","v":1900},0,{"$f":"CONCATENATE(vlookup_data[[#This Row],[style '#]],\"|\",R634)","v":"0|"}]
[{"$f":"IF(ISNUMBER(U635)=TRUE,VLOOKUP(vlookup_data[[#This Row],[style '#]],[2]Sheet1!$A:$D,4,0)*ABS(U635),0)","v":0},{"$f":"WEEKNUM(vlookup_data[[#This Row],[Column8]],2)","v":1},{"$f":"YEAR(vlookup_data[[#This Row],[Column8]])","v":1900},0,{"$f":"CONCATENATE(vlookup_data[[#This Row],[style '#]],\"|\",R635)","v":"0|"}]
[{"$f":"IF(ISNUMBER(U636)=TRUE,VLOOKUP(vlookup_data[[#This Row],[style '#]],[2]Sheet1!$A:$D,4,0)*ABS(U636),0)","v":0},{"$f":"WEEKNUM(vlookup_data[[#This Row],[Column8]],2)","v":1},{"$f":"YEAR(vlookup_data[[#This Row],[Column8]])","v":1900},0,{"$f":"CONCATENATE(vlookup_data[[#This Row],[style '#]],\"|\",R636)","v":"0|"}]
[{"$f":"IF(ISNUMBER(U637)=TRUE,VLOOKUP(vlookup_data[[#This Row],[style '#]],[2]Sheet1!$A:$D,4,0)*ABS(U637),0)","v":0},{"$f":"WEEKNUM(vlookup_data[[#This Row],[Column8]],2)","v":1},{"$f":"YEAR(vlookup_data[[#This Row],[Column8]])","v":1900},0,{"$f":"CONCATENATE(vlookup_data[[#This Row],[style '#]],\"|\",R637)","v":"0|"}]
[{"$f":"IF(ISNUMBER(U638)=TRUE,VLOOKUP(vlookup_data[[#This Row],[style '#]],[2]Sheet1!$A:$D,4,0)*ABS(U638),0)","v":0},{"$f":"WEEKNUM(vlookup_data[[#This Row],[Column8]],2)","v":1},{"$f":"YEAR(vlookup_data[[#This Row],[Column8]])","v":1900},0,{"$f":"CONCATENATE(vlookup_data[[#This Row],[style '#]],\"|\",R638)","v":"0|"}]
[{"$f":"IF(ISNUMBER(U639)=TRUE,VLOOKUP(vlookup_data[[#This Row],[style '#]],[2]Sheet1!$A:$D,4,0)*ABS(U639),0)","v":0},{"$f":"WEEKNUM(vlookup_data[[#This Row],[Column8]],2)","v":1},{"$f":"YEAR(vlookup_data[[#This Row],[Column8]])","v":1900},0,{"$f":"CONCATENATE(vlookup_data[[#This Row],[style '#]],\"|\",R639)","v":"0|"}]
[{"$f":"IF(ISNUMBER(U640)=TRUE,VLOOKUP(vlookup_data[[#This Row],[style '#]],[2]Sheet1!$A:$D,4,0)*ABS(U640),0)","v":0},{"$f":"WEEKNUM(vlookup_data[[#This Row],[Column8]],2)","v":1},{"$f":"YEAR(vlookup_data[[#This Row],[Column8]])","v":1900},0,{"$f":"CONCATENATE(vlookup_data[[#This Row],[style '#]],\"|\",R640)","v":"0|"}]
[{"$f":"IF(ISNUMBER(U641)=TRUE,VLOOKUP(vlookup_data[[#This Row],[style '#]],[2]Sheet1!$A:$D,4,0)*ABS(U641),0)","v":0},{"$f":"WEEKNUM(vlookup_data[[#This Row],[Column8]],2)","v":1},{"$f":"YEAR(vlookup_data[[#This Row],[Column8]])","v":1900},0,{"$f":"CONCATENATE(vlookup_data[[#This Row],[style '#]],\"|\",R641)","v":"0|"}]
[{"$f":"IF(ISNUMBER(U642)=TRUE,VLOOKUP(vlookup_data[[#This Row],[style '#]],[2]Sheet1!$A:$D,4,0)*ABS(U642),0)","v":0},{"$f":"WEEKNUM(vlookup_data[[#This Row],[Column8]],2)","v":1},{"$f":"YEAR(vlookup_data[[#This Row],[Column8]])","v":1900},0,{"$f":"CONCATENATE(vlookup_data[[#This Row],[style '#]],\"|\",R642)","v":"0|"}]
[{"$f":"IF(ISNUMBER(U643)=TRUE,VLOOKUP(vlookup_data[[#This Row],[style '#]],[2]Sheet1!$A:$D,4,0)*ABS(U643),0)","v":0},{"$f":"WEEKNUM(vlookup_data[[#This Row],[Column8]],2)","v":1},{"$f":"YEAR(vlookup_data[[#This Row],[Column8]])","v":1900},0,{"$f":"CONCATENATE(vlookup_data[[#This Row],[style '#]],\"|\",R643)","v":"0|"}]
[{"$f":"IF(ISNUMBER(U644)=TRUE,VLOOKUP(vlookup_data[[#This Row],[style '#]],[2]Sheet1!$A:$D,4,0)*ABS(U644),0)","v":0},{"$f":"WEEKNUM(vlookup_data[[#This Row],[Column8]],2)","v":1},{"$f":"YEAR(vlookup_data[[#This Row],[Column8]])","v":1900},0,{"$f":"CONCATENATE(vlookup_data[[#This Row],[style '#]],\"|\",R644)","v":"0|"}]
[{"$f":"IF(ISNUMBER(U645)=TRUE,VLOOKUP(vlookup_data[[#This Row],[style '#]],[2]Sheet1!$A:$D,4,0)*ABS(U645),0)","v":0},{"$f":"WEEKNUM(vlookup_data[[#This Row],[Column8]],2)","v":1},{"$f":"YEAR(vlookup_data[[#This Row],[Column8]])","v":1900},0,{"$f":"CONCATENATE(vlookup_data[[#This Row],[style '#]],\"|\",R645)","v":"0|"}]
[{"$f":"IF(ISNUMBER(U646)=TRUE,VLOOKUP(vlookup_data[[#This Row],[style '#]],[2]Sheet1!$A:$D,4,0)*ABS(U646),0)","v":0},{"$f":"WEEKNUM(vlookup_data[[#This Row],[Column8]],2)","v":1},{"$f":"YEAR(vlookup_data[[#This Row],[Column8]])","v":1900},0,{"$f":"CONCATENATE(vlookup_data[[#This Row],[style '#]],\"|\",R646)","v":"0|"}]
[{"$f":"IF(ISNUMBER(U647)=TRUE,VLOOKUP(vlookup_data[[#This Row],[style '#]],[2]Sheet1!$A:$D,4,0)*ABS(U647),0)","v":0},{"$f":"WEEKNUM(vlookup_data[[#This Row],[Column8]],2)","v":1},{"$f":"YEAR(vlookup_data[[#This Row],[Column8]])","v":1900},0,{"$f":"CONCATENATE(vlookup_data[[#This Row],[style '#]],\"|\",R647)","v":"0|"}]
[{"$f":"IF(ISNUMBER(U648)=TRUE,VLOOKUP(vlookup_data[[#This Row],[style '#]],[2]Sheet1!$A:$D,4,0)*ABS(U648),0)","v":0},{"$f":"WEEKNUM(vlookup_data[[#This Row],[Column8]],2)","v":1},{"$f":"YEAR(vlookup_data[[#This Row],[Column8]])","v":1900},0,{"$f":"CONCATENATE(vlookup_data[[#This Row],[style '#]],\"|\",R648)","v":"0|"}]
[{"$f":"IF(ISNUMBER(U649)=TRUE,VLOOKUP(vlookup_data[[#This Row],[style '#]],[2]Sheet1!$A:$D,4,0)*ABS(U649),0)","v":0},{"$f":"WEEKNUM(vlookup_data[[#This Row],[Column8]],2)","v":1},{"$f":"YEAR(vlookup_data[[#This Row],[Column8]])","v":1900},{"$f":"VALUE(G649)","v":0},{"$f":"CONCATENATE(vlookup_data[[#This Row],[style '#]],\"|\",R649)","v":"0|"}]
[{"$f":"IF(ISNUMBER(U650)=TRUE,VLOOKUP(vlookup_data[[#This Row],[style '#]],[2]Sheet1!$A:$D,4,0)*ABS(U650),0)","v":0},{"$f":"WEEKNUM(vlookup_data[[#This Row],[Column8]],2)","v":1},{"$f":"YEAR(vlookup_data[[#This Row],[Column8]])","v":1900},0,{"$f":"CONCATENATE(vlookup_data[[#This Row],[style '#]],\"|\",R650)","v":"0|"}]
[{"$f":"IF(ISNUMBER(U651)=TRUE,VLOOKUP(vlookup_data[[#This Row],[style '#]],[2]Sheet1!$A:$D,4,0)*ABS(U651),0)","v":0},{"$f":"WEEKNUM(vlookup_data[[#This Row],[Column8]],2)","v":1},{"$f":"YEAR(vlookup_data[[#This Row],[Column8]])","v":1900},0,{"$f":"CONCATENATE(vlookup_data[[#This Row],[style '#]],\"|\",R651)","v":"0|"}]
[{"$f":"IF(ISNUMBER(U652)=TRUE,VLOOKUP(vlookup_data[[#This Row],[style '#]],[2]Sheet1!$A:$D,4,0)*ABS(U652),0)","v":0},{"$f":"WEEKNUM(vlookup_data[[#This Row],[Column8]],2)","v":1},{"$f":"YEAR(vlookup_data[[#This Row],[Column8]])","v":1900},0,{"$f":"CONCATENATE(vlookup_data[[#This Row],[style '#]],\"|\",R652)","v":"0|"}]
[{"$f":"IF(ISNUMBER(U653)=TRUE,VLOOKUP(vlookup_data[[#This Row],[style '#]],[2]Sheet1!$A:$D,4,0)*ABS(U653),0)","v":0},{"$f":"WEEKNUM(vlookup_data[[#This Row],[Column8]],2)","v":1},{"$f":"YEAR(vlookup_data[[#This Row],[Column8]])","v":1900},0,{"$f":"CONCATENATE(vlookup_data[[#This Row],[style '#]],\"|\",R653)","v":"0|"}]
[{"$f":"IF(ISNUMBER(U654)=TRUE,VLOOKUP(vlookup_data[[#This Row],[style '#]],[2]Sheet1!$A:$D,4,0)*ABS(U654),0)","v":0},{"$f":"WEEKNUM(vlookup_data[[#This Row],[Column8]],2)","v":1},{"$f":"YEAR(vlookup_data[[#This Row],[Column8]])","v":1900},0,{"$f":"CONCATENATE(vlookup_data[[#This Row],[style '#]],\"|\",R654)","v":"0|"}]
[{"$f":"IF(ISNUMBER(U655)=TRUE,VLOOKUP(vlookup_data[[#This Row],[style '#]],[2]Sheet1!$A:$D,4,0)*ABS(U655),0)","v":0},{"$f":"WEEKNUM(vlookup_data[[#This Row],[Column8]],2)","v":1},{"$f":"YEAR(vlookup_data[[#This Row],[Column8]])","v":1900},0,{"$f":"CONCATENATE(vlookup_data[[#This Row],[style '#]],\"|\",R655)","v":"0|"}]
[{"$f":"IF(ISNUMBER(U656)=TRUE,VLOOKUP(vlookup_data[[#This Row],[style '#]],[2]Sheet1!$A:$D,4,0)*ABS(U656),0)","v":0},{"$f":"WEEKNUM(vlookup_data[[#This Row],[Column8]],2)","v":1},{"$f":"YEAR(vlookup_data[[#This Row],[Column8]])","v":1900},0,{"$f":"CONCATENATE(vlookup_data[[#This Row],[style '#]],\"|\",R656)","v":"0|"}]
[{"$f":"IF(ISNUMBER(U657)=TRUE,VLOOKUP(vlookup_data[[#This Row],[style '#]],[2]Sheet1!$A:$D,4,0)*ABS(U657),0)","v":0},{"$f":"WEEKNUM(vlookup_data[[#This Row],[Column8]],2)","v":1},{"$f":"YEAR(vlookup_data[[#This Row],[Column8]])","v":1900},0,{"$f":"CONCATENATE(vlookup_data[[#This Row],[style '#]],\"|\",R657)","v":"0|"}]
[{"$f":"IF(ISNUMBER(U658)=TRUE,VLOOKUP(vlookup_data[[#This Row],[style '#]],[2]Sheet1!$A:$D,4,0)*ABS(U658),0)","v":0},{"$f":"WEEKNUM(vlookup_data[[#This Row],[Column8]],2)","v":1},{"$f":"YEAR(vlookup_data[[#This Row],[Column8]])","v":1900},0,{"$f":"CONCATENATE(vlookup_data[[#This Row],[style '#]],\"|\",R658)","v":"0|"}]
[{"$f":"IF(ISNUMBER(U659)=TRUE,VLOOKUP(vlookup_data[[#This Row],[style '#]],[2]Sheet1!$A:$D,4,0)*ABS(U659),0)","v":0},{"$f":"WEEKNUM(vlookup_data[[#This Row],[Column8]],2)","v":1},{"$f":"YEAR(vlookup_data[[#This Row],[Column8]])","v":1900},0,{"$f":"CONCATENATE(vlookup_data[[#This Row],[style '#]],\"|\",R659)","v":"0|"}]
[{"$f":"IF(ISNUMBER(U660)=TRUE,VLOOKUP(vlookup_data[[#This Row],[style '#]],[2]Sheet1!$A:$D,4,0)*ABS(U660),0)","v":0},{"$f":"WEEKNUM(vlookup_data[[#This Row],[Column8]],2)","v":1},{"$f":"YEAR(vlookup_data[[#This Row],[Column8]])","v":1900},0,{"$f":"CONCATENATE(vlookup_data[[#This Row],[style '#]],\"|\",R660)","v":"0|"}]
[{"$f":"IF(ISNUMBER(U661)=TRUE,VLOOKUP(vlookup_data[[#This Row],[style '#]],[2]Sheet1!$A:$D,4,0)*ABS(U661),0)","v":0},{"$f":"WEEKNUM(vlookup_data[[#This Row],[Column8]],2)","v":1},{"$f":"YEAR(vlookup_data[[#This Row],[Column8]])","v":1900},0,{"$f":"CONCATENATE(vlookup_data[[#This Row],[style '#]],\"|\",R661)","v":"0|"}]
[{"$f":"IF(ISNUMBER(U662)=TRUE,VLOOKUP(vlookup_data[[#This Row],[style '#]],[2]Sheet1!$A:$D,4,0)*ABS(U662),0)","v":0},{"$f":"WEEKNUM(vlookup_data[[#This Row],[Column8]],2)","v":1},{"$f":"YEAR(vlookup_data[[#This Row],[Column8]])","v":1900},0,{"$f":"CONCATENATE(vlookup_data[[#This Row],[style '#]],\"|\",R662)","v":"0|"}]
[{"$f":"IF(ISNUMBER(U663)=TRUE,VLOOKUP(vlookup_data[[#This Row],[style '#]],[2]Sheet1!$A:$D,4,0)*ABS(U663),0)","v":0},{"$f":"WEEKNUM(vlookup_data[[#This Row],[Column8]],2)","v":1},{"$f":"YEAR(vlookup_data[[#This Row],[Column8]])","v":1900},0,{"$f":"CONCATENATE(vlookup_data[[#This Row],[style '#]],\"|\",R663)","v":"0|"}]
[{"$f":"IF(ISNUMBER(U664)=TRUE,VLOOKUP(vlookup_data[[#This Row],[style '#]],[2]Sheet1!$A:$D,4,0)*ABS(U664),0)","v":0},{"$f":"WEEKNUM(vlookup_data[[#This Row],[Column8]],2)","v":1},{"$f":"YEAR(vlookup_data[[#This Row],[Column8]])","v":1900},0,{"$f":"CONCATENATE(vlookup_data[[#This Row],[style '#]],\"|\",R664)","v":"0|"}]
[{"$f":"IF(ISNUMBER(U665)=TRUE,VLOOKUP(vlookup_data[[#This Row],[style '#]],[2]Sheet1!$A:$D,4,0)*ABS(U665),0)","v":0},{"$f":"WEEKNUM(vlookup_data[[#This Row],[Column8]],2)","v":1},{"$f":"YEAR(vlookup_data[[#This Row],[Column8]])","v":1900},0,{"$f":"CONCATENATE(vlookup_data[[#This Row],[style '#]],\"|\",R665)","v":"0|"}]
[{"$f":"IF(ISNUMBER(U666)=TRUE,VLOOKUP(vlookup_data[[#This Row],[style '#]],[2]Sheet1!$A:$D,4,0)*ABS(U666),0)","v":0},{"$f":"WEEKNUM(vlookup_data[[#This Row],[Column8]],2)","v":1},{"$f":"YEAR(vlookup_data[[#This Row],[Column8]])","v":1900},0,{"$f":"CONCATENATE(vlookup_data[[#This Row],[style '#]],\"|\",R666)","v":"0|"}]
[{"$f":"IF(ISNUMBER(U667)=TRUE,VLOOKUP(vlookup_data[[#This Row],[style '#]],[2]Sheet1!$A:$D,4,0)*ABS(U667),0)","v":0},{"$f":"WEEKNUM(vlookup_data[[#This Row],[Column8]],2)","v":1},{"$f":"YEAR(vlookup_data[[#This Row],[Column8]])","v":1900},0,{"$f":"CONCATENATE(vlookup_data[[#This Row],[style '#]],\"|\",R667)","v":"0|"}]
[{"$f":"IF(ISNUMBER(U668)=TRUE,VLOOKUP(vlookup_data[[#This Row],[style '#]],[2]Sheet1!$A:$D,4,0)*ABS(U668),0)","v":0},{"$f":"WEEKNUM(vlookup_data[[#This Row],[Column8]],2)","v":1},{"$f":"YEAR(vlookup_data[[#This Row],[Column8]])","v":1900},0,{"$f":"CONCATENATE(vlookup_data[[#This Row],[style '#]],\"|\",R668)","v":"0|"}]
[{"$f":"IF(ISNUMBER(U669)=TRUE,VLOOKUP(vlookup_data[[#This Row],[style '#]],[2]Sheet1!$A:$D,4,0)*ABS(U669),0)","v":0},{"$f":"WEEKNUM(vlookup_data[[#This Row],[Column8]],2)","v":1},{"$f":"YEAR(vlookup_data[[#This Row],[Column8]])","v":1900},0,{"$f":"CONCATENATE(vlookup_data[[#This Row],[style '#]],\"|\",R669)","v":"0|"}]
[{"$f":"IF(ISNUMBER(U670)=TRUE,VLOOKUP(vlookup_data[[#This Row],[style '#]],[2]Sheet1!$A:$D,4,0)*ABS(U670),0)","v":0},{"$f":"WEEKNUM(vlookup_data[[#This Row],[Column8]],2)","v":1},{"$f":"YEAR(vlookup_data[[#This Row],[Column8]])","v":1900},0,{"$f":"CONCATENATE(vlookup_data[[#This Row],[style '#]],\"|\",R670)","v":"0|"}]
[{"$f":"IF(ISNUMBER(U671)=TRUE,VLOOKUP(vlookup_data[[#This Row],[style '#]],[2]Sheet1!$A:$D,4,0)*ABS(U671),0)","v":0},{"$f":"WEEKNUM(vlookup_data[[#This Row],[Column8]],2)","v":1},{"$f":"YEAR(vlookup_data[[#This Row],[Column8]])","v":1900},0,{"$f":"CONCATENATE(vlookup_data[[#This Row],[style '#]],\"|\",R671)","v":"0|"}]
[{"$f":"IF(ISNUMBER(U672)=TRUE,VLOOKUP(vlookup_data[[#This Row],[style '#]],[2]Sheet1!$A:$D,4,0)*ABS(U672),0)","v":0},{"$f":"WEEKNUM(vlookup_data[[#This Row],[Column8]],2)","v":1},{"$f":"YEAR(vlookup_data[[#This Row],[Column8]])","v":1900},0,{"$f":"CONCATENATE(vlookup_data[[#This Row],[style '#]],\"|\",R672)","v":"0|"}]
[{"$f":"IF(ISNUMBER(U673)=TRUE,VLOOKUP(vlookup_data[[#This Row],[style '#]],[2]Sheet1!$A:$D,4,0)*ABS(U673),0)","v":0},{"$f":"WEEKNUM(vlookup_data[[#This Row],[Column8]],2)","v":1},{"$f":"YEAR(vlookup_data[[#This Row],[Column8]])","v":1900},0,{"$f":"CONCATENATE(vlookup_data[[#This Row],[style '#]],\"|\",R673)","v":"0|"}]
[{"$f":"IF(ISNUMBER(U674)=TRUE,VLOOKUP(vlookup_data[[#This Row],[style '#]],[2]Sheet1!$A:$D,4,0)*ABS(U674),0)","v":0},{"$f":"WEEKNUM(vlookup_data[[#This Row],[Column8]],2)","v":1},{"$f":"YEAR(vlookup_data[[#This Row],[Column8]])","v":1900},0,{"$f":"CONCATENATE(vlookup_data[[#This Row],[style '#]],\"|\",R674)","v":"0|"}]
[{"$f":"IF(ISNUMBER(U675)=TRUE,VLOOKUP(vlookup_data[[#This Row],[style '#]],[2]Sheet1!$A:$D,4,0)*ABS(U675),0)","v":0},{"$f":"WEEKNUM(vlookup_data[[#This Row],[Column8]],2)","v":1},{"$f":"YEAR(vlookup_data[[#This Row],[Column8]])","v":1900},0,{"$f":"CONCATENATE(vlookup_data[[#This Row],[style '#]],\"|\",R675)","v":"0|"}]
[{"$f":"IF(ISNUMBER(U676)=TRUE,VLOOKUP(vlookup_data[[#This Row],[style '#]],[2]Sheet1!$A:$D,4,0)*ABS(U676),0)","v":0},{"$f":"WEEKNUM(vlookup_data[[#This Row],[Column8]],2)","v":1},{"$f":"YEAR(vlookup_data[[#This Row],[Column8]])","v":1900},0,{"$f":"CONCATENATE(vlookup_data[[#This Row],[style '#]],\"|\",R676)","v":"0|"}]
[{"$f":"IF(ISNUMBER(U677)=TRUE,VLOOKUP(vlookup_data[[#This Row],[style '#]],[2]Sheet1!$A:$D,4,0)*ABS(U677),0)","v":0},{"$f":"WEEKNUM(vlookup_data[[#This Row],[Column8]],2)","v":1},{"$f":"YEAR(vlookup_data[[#This Row],[Column8]])","v":1900},0,{"$f":"CONCATENATE(vlookup_data[[#This Row],[style '#]],\"|\",R677)","v":"0|"}]
[{"$f":"IF(ISNUMBER(U678)=TRUE,VLOOKUP(vlookup_data[[#This Row],[style '#]],[2]Sheet1!$A:$D,4,0)*ABS(U678),0)","v":0},{"$f":"WEEKNUM(vlookup_data[[#This Row],[Column8]],2)","v":1},{"$f":"YEAR(vlookup_data[[#This Row],[Column8]])","v":1900},0,{"$f":"CONCATENATE(vlookup_data[[#This Row],[style '#]],\"|\",R678)","v":"0|"}]
[{"$f":"IF(ISNUMBER(U679)=TRUE,VLOOKUP(vlookup_data[[#This Row],[style '#]],[2]Sheet1!$A:$D,4,0)*ABS(U679),0)","v":0},{"$f":"WEEKNUM(vlookup_data[[#This Row],[Column8]],2)","v":1},{"$f":"YEAR(vlookup_data[[#This Row],[Column8]])","v":1900},0,{"$f":"CONCATENATE(vlookup_data[[#This Row],[style '#]],\"|\",R679)","v":"0|"}]
[{"$f":"IF(ISNUMBER(U680)=TRUE,VLOOKUP(vlookup_data[[#This Row],[style '#]],[2]Sheet1!$A:$D,4,0)*ABS(U680),0)","v":0},{"$f":"WEEKNUM(vlookup_data[[#This Row],[Column8]],2)","v":1},{"$f":"YEAR(vlookup_data[[#This Row],[Column8]])","v":1900},0,{"$f":"CONCATENATE(vlookup_data[[#This Row],[style '#]],\"|\",R680)","v":"0|"}]
[{"$f":"IF(ISNUMBER(U681)=TRUE,VLOOKUP(vlookup_data[[#This Row],[style '#]],[2]Sheet1!$A:$D,4,0)*ABS(U681),0)","v":0},{"$f":"WEEKNUM(vlookup_data[[#This Row],[Column8]],2)","v":1},{"$f":"YEAR(vlookup_data[[#This Row],[Column8]])","v":1900},0,{"$f":"CONCATENATE(vlookup_data[[#This Row],[style '#]],\"|\",R681)","v":"0|"}]
[{"$f":"IF(ISNUMBER(U682)=TRUE,VLOOKUP(vlookup_data[[#This Row],[style '#]],[2]Sheet1!$A:$D,4,0)*ABS(U682),0)","v":0},{"$f":"WEEKNUM(vlookup_data[[#This Row],[Column8]],2)","v":1},{"$f":"YEAR(vlookup_data[[#This Row],[Column8]])","v":1900},0,{"$f":"CONCATENATE(vlookup_data[[#This Row],[style '#]],\"|\",R682)","v":"0|"}]
[{"$f":"IF(ISNUMBER(U683)=TRUE,VLOOKUP(vlookup_data[[#This Row],[style '#]],[2]Sheet1!$A:$D,4,0)*ABS(U683),0)","v":0},{"$f":"WEEKNUM(vlookup_data[[#This Row],[Column8]],2)","v":1},{"$f":"YEAR(vlookup_data[[#This Row],[Column8]])","v":1900},0,{"$f":"CONCATENATE(vlookup_data[[#This Row],[style '#]],\"|\",R683)","v":"0|"}]
[{"$f":"IF(ISNUMBER(U684)=TRUE,VLOOKUP(vlookup_data[[#This Row],[style '#]],[2]Sheet1!$A:$D,4,0)*ABS(U684),0)","v":0},{"$f":"WEEKNUM(vlookup_data[[#This Row],[Column8]],2)","v":1},{"$f":"YEAR(vlookup_data[[#This Row],[Column8]])","v":1900},0,{"$f":"CONCATENATE(vlookup_data[[#This Row],[style '#]],\"|\",R684)","v":"0|"}]
[{"$f":"IF(ISNUMBER(U685)=TRUE,VLOOKUP(vlookup_data[[#This Row],[style '#]],[2]Sheet1!$A:$D,4,0)*ABS(U685),0)","v":0},{"$f":"WEEKNUM(vlookup_data[[#This Row],[Column8]],2)","v":1},{"$f":"YEAR(vlookup_data[[#This Row],[Column8]])","v":1900},0,{"$f":"CONCATENATE(vlookup_data[[#This Row],[style '#]],\"|\",R685)","v":"0|"}]
[{"$f":"IF(ISNUMBER(U686)=TRUE,VLOOKUP(vlookup_data[[#This Row],[style '#]],[2]Sheet1!$A:$D,4,0)*ABS(U686),0)","v":0},{"$f":"WEEKNUM(vlookup_data[[#This Row],[Column8]],2)","v":1},{"$f":"YEAR(vlookup_data[[#This Row],[Column8]])","v":1900},0,{"$f":"CONCATENATE(vlookup_data[[#This Row],[style '#]],\"|\",R686)","v":"0|"}]
[{"$f":"IF(ISNUMBER(U687)=TRUE,VLOOKUP(vlookup_data[[#This Row],[style '#]],[2]Sheet1!$A:$D,4,0)*ABS(U687),0)","v":0},{"$f":"WEEKNUM(vlookup_data[[#This Row],[Column8]],2)","v":1},{"$f":"YEAR(vlookup_data[[#This Row],[Column8]])","v":1900},0,{"$f":"CONCATENATE(vlookup_data[[#This Row],[style '#]],\"|\",R687)","v":"0|"}]
[{"$f":"IF(ISNUMBER(U688)=TRUE,VLOOKUP(vlookup_data[[#This Row],[style '#]],[2]Sheet1!$A:$D,4,0)*ABS(U688),0)","v":0},{"$f":"WEEKNUM(vlookup_data[[#This Row],[Column8]],2)","v":1},{"$f":"YEAR(vlookup_data[[#This Row],[Column8]])","v":1900},0,{"$f":"CONCATENATE(vlookup_data[[#This Row],[style '#]],\"|\",R688)","v":"0|"}]
[{"$f":"IF(ISNUMBER(U689)=TRUE,VLOOKUP(vlookup_data[[#This Row],[style '#]],[2]Sheet1!$A:$D,4,0)*ABS(U689),0)","v":0},{"$f":"WEEKNUM(vlookup_data[[#This Row],[Column8]],2)","v":1},{"$f":"YEAR(vlookup_data[[#This Row],[Column8]])","v":1900},0,{"$f":"CONCATENATE(vlookup_data[[#This Row],[style '#]],\"|\",R689)","v":"0|"}]
[{"$f":"IF(ISNUMBER(U690)=TRUE,VLOOKUP(vlookup_data[[#This Row],[style '#]],[2]Sheet1!$A:$D,4,0)*ABS(U690),0)","v":0},{"$f":"WEEKNUM(vlookup_data[[#This Row],[Column8]],2)","v":1},{"$f":"YEAR(vlookup_data[[#This Row],[Column8]])","v":1900},0,{"$f":"CONCATENATE(vlookup_data[[#This Row],[style '#]],\"|\",R690)","v":"0|"}]
[{"$f":"IF(ISNUMBER(U691)=TRUE,VLOOKUP(vlookup_data[[#This Row],[style '#]],[2]Sheet1!$A:$D,4,0)*ABS(U691),0)","v":0},{"$f":"WEEKNUM(vlookup_data[[#This Row],[Column8]],2)","v":1},{"$f":"YEAR(vlookup_data[[#This Row],[Column8]])","v":1900},0,{"$f":"CONCATENATE(vlookup_data[[#This Row],[style '#]],\"|\",R691)","v":"0|"}]
[{"$f":"IF(ISNUMBER(U692)=TRUE,VLOOKUP(vlookup_data[[#This Row],[style '#]],[2]Sheet1!$A:$D,4,0)*ABS(U692),0)","v":0},{"$f":"WEEKNUM(vlookup_data[[#This Row],[Column8]],2)","v":1},{"$f":"YEAR(vlookup_data[[#This Row],[Column8]])","v":1900},0,{"$f":"CONCATENATE(vlookup_data[[#This Row],[style '#]],\"|\",R692)","v":"0|"}]
[{"$f":"IF(ISNUMBER(U693)=TRUE,VLOOKUP(vlookup_data[[#This Row],[style '#]],[2]Sheet1!$A:$D,4,0)*ABS(U693),0)","v":0},{"$f":"WEEKNUM(vlookup_data[[#This Row],[Column8]],2)","v":1},{"$f":"YEAR(vlookup_data[[#This Row],[Column8]])","v":1900},0,{"$f":"CONCATENATE(vlookup_data[[#This Row],[style '#]],\"|\",R693)","v":"0|"}]
[{"$f":"IF(ISNUMBER(U694)=TRUE,VLOOKUP(vlookup_data[[#This Row],[style '#]],[2]Sheet1!$A:$D,4,0)*ABS(U694),0)","v":0},{"$f":"WEEKNUM(vlookup_data[[#This Row],[Column8]],2)","v":1},{"$f":"YEAR(vlookup_data[[#This Row],[Column8]])","v":1900},0,{"$f":"CONCATENATE(vlookup_data[[#This Row],[style '#]],\"|\",R694)","v":"0|"}]
[{"$f":"IF(ISNUMBER(U695)=TRUE,VLOOKUP(vlookup_data[[#This Row],[style '#]],[2]Sheet1!$A:$D,4,0)*ABS(U695),0)","v":0},{"$f":"WEEKNUM(vlookup_data[[#This Row],[Column8]],2)","v":1},{"$f":"YEAR(vlookup_data[[#This Row],[Column8]])","v":1900},0,{"$f":"CONCATENATE(vlookup_data[[#This Row],[style '#]],\"|\",R695)","v":"0|"}]
[{"$f":"IF(ISNUMBER(U696)=TRUE,VLOOKUP(vlookup_data[[#This Row],[style '#]],[2]Sheet1!$A:$D,4,0)*ABS(U696),0)","v":0},{"$f":"WEEKNUM(vlookup_data[[#This Row],[Column8]],2)","v":1},{"$f":"YEAR(vlookup_data[[#This Row],[Column8]])","v":1900},0,{"$f":"CONCATENATE(vlookup_data[[#This Row],[style '#]],\"|\",R696)","v":"0|"}]
[{"$f":"IF(ISNUMBER(U697)=TRUE,VLOOKUP(vlookup_data[[#This Row],[style '#]],[2]Sheet1!$A:$D,4,0)*ABS(U697),0)","v":0},{"$f":"WEEKNUM(vlookup_data[[#This Row],[Column8]],2)","v":1},{"$f":"YEAR(vlookup_data[[#This Row],[Column8]])","v":1900},0,{"$f":"CONCATENATE(vlookup_data[[#This Row],[style '#]],\"|\",R697)","v":"0|"}]
[{"$f":"IF(ISNUMBER(U698)=TRUE,VLOOKUP(vlookup_data[[#This Row],[style '#]],[2]Sheet1!$A:$D,4,0)*ABS(U698),0)","v":0},{"$f":"WEEKNUM(vlookup_data[[#This Row],[Column8]],2)","v":1},{"$f":"YEAR(vlookup_data[[#This Row],[Column8]])","v":1900},0,{"$f":"CONCATENATE(vlookup_data[[#This Row],[style '#]],\"|\",R698)","v":"0|"}]
[{"$f":"IF(ISNUMBER(U699)=TRUE,VLOOKUP(vlookup_data[[#This Row],[style '#]],[2]Sheet1!$A:$D,4,0)*ABS(U699),0)","v":0},{"$f":"WEEKNUM(vlookup_data[[#This Row],[Column8]],2)","v":1},{"$f":"YEAR(vlookup_data[[#This Row],[Column8]])","v":1900},0,{"$f":"CONCATENATE(vlookup_data[[#This Row],[style '#]],\"|\",R699)","v":"0|"}]
[{"$f":"IF(ISNUMBER(U700)=TRUE,VLOOKUP(vlookup_data[[#This Row],[style '#]],[2]Sheet1!$A:$D,4,0)*ABS(U700),0)","v":0},{"$f":"WEEKNUM(vlookup_data[[#This Row],[Column8]],2)","v":1},{"$f":"YEAR(vlookup_data[[#This Row],[Column8]])","v":1900},0,{"$f":"CONCATENATE(vlookup_data[[#This Row],[style '#]],\"|\",R700)","v":"0|"}]
[{"$f":"IF(ISNUMBER(U701)=TRUE,VLOOKUP(vlookup_data[[#This Row],[style '#]],[2]Sheet1!$A:$D,4,0)*ABS(U701),0)","v":0},{"$f":"WEEKNUM(vlookup_data[[#This Row],[Column8]],2)","v":1},{"$f":"YEAR(vlookup_data[[#This Row],[Column8]])","v":1900},0,{"$f":"CONCATENATE(vlookup_data[[#This Row],[style '#]],\"|\",R701)","v":"0|"}]
[{"$f":"IF(ISNUMBER(U702)=TRUE,VLOOKUP(vlookup_data[[#This Row],[style '#]],[2]Sheet1!$A:$D,4,0)*ABS(U702),0)","v":0},{"$f":"WEEKNUM(vlookup_data[[#This Row],[Column8]],2)","v":1},{"$f":"YEAR(vlookup_data[[#This Row],[Column8]])","v":1900},0,{"$f":"CONCATENATE(vlookup_data[[#This Row],[style '#]],\"|\",R702)","v":"0|"}]
[{"$f":"IF(ISNUMBER(U703)=TRUE,VLOOKUP(vlookup_data[[#This Row],[style '#]],[2]Sheet1!$A:$D,4,0)*ABS(U703),0)","v":0},{"$f":"WEEKNUM(vlookup_data[[#This Row],[Column8]],2)","v":1},{"$f":"YEAR(vlookup_data[[#This Row],[Column8]])","v":1900},0,{"$f":"CONCATENATE(vlookup_data[[#This Row],[style '#]],\"|\",R703)","v":"0|"}]
[{"$f":"IF(ISNUMBER(U704)=TRUE,VLOOKUP(vlookup_data[[#This Row],[style '#]],[2]Sheet1!$A:$D,4,0)*ABS(U704),0)","v":0},{"$f":"WEEKNUM(vlookup_data[[#This Row],[Column8]],2)","v":1},{"$f":"YEAR(vlookup_data[[#This Row],[Column8]])","v":1900},0,{"$f":"CONCATENATE(vlookup_data[[#This Row],[style '#]],\"|\",R704)","v":"0|"}]
[{"$f":"IF(ISNUMBER(U705)=TRUE,VLOOKUP(vlookup_data[[#This Row],[style '#]],[2]Sheet1!$A:$D,4,0)*ABS(U705),0)","v":0},{"$f":"WEEKNUM(vlookup_data[[#This Row],[Column8]],2)","v":1},{"$f":"YEAR(vlookup_data[[#This Row],[Column8]])","v":1900},0,{"$f":"CONCATENATE(vlookup_data[[#This Row],[style '#]],\"|\",R705)","v":"0|"}]
[{"$f":"IF(ISNUMBER(U706)=TRUE,VLOOKUP(vlookup_data[[#This Row],[style '#]],[2]Sheet1!$A:$D,4,0)*ABS(U706),0)","v":0},{"$f":"WEEKNUM(vlookup_data[[#This Row],[Column8]],2)","v":1},{"$f":"YEAR(vlookup_data[[#This Row],[Column8]])","v":1900},0,{"$f":"CONCATENATE(vlookup_data[[#This Row],[style '#]],\"|\",R706)","v":"0|"}]
[{"$f":"IF(ISNUMBER(U707)=TRUE,VLOOKUP(vlookup_data[[#This Row],[style '#]],[2]Sheet1!$A:$D,4,0)*ABS(U707),0)","v":0},{"$f":"WEEKNUM(vlookup_data[[#This Row],[Column8]],2)","v":1},{"$f":"YEAR(vlookup_data[[#This Row],[Column8]])","v":1900},0,{"$f":"CONCATENATE(vlookup_data[[#This Row],[style '#]],\"|\",R707)","v":"0|"}]
[{"$f":"IF(ISNUMBER(U708)=TRUE,VLOOKUP(vlookup_data[[#This Row],[style '#]],[2]Sheet1!$A:$D,4,0)*ABS(U708),0)","v":0},{"$f":"WEEKNUM(vlookup_data[[#This Row],[Column8]],2)","v":1},{"$f":"YEAR(vlookup_data[[#This Row],[Column8]])","v":1900},0,{"$f":"CONCATENATE(vlookup_data[[#This Row],[style '#]],\"|\",R708)","v":"0|"}]
[{"$f":"IF(ISNUMBER(U709)=TRUE,VLOOKUP(vlookup_data[[#This Row],[style '#]],[2]Sheet1!$A:$D,4,0)*ABS(U709),0)","v":0},{"$f":"WEEKNUM(vlookup_data[[#This Row],[Column8]],2)","v":1},{"$f":"YEAR(vlookup_data[[#This Row],[Column8]])","v":1900},0,{"$f":"CONCATENATE(vlookup_data[[#This Row],[style '#]],\"|\",R709)","v":"0|"}]
[{"$f":"IF(ISNUMBER(U710)=TRUE,VLOOKUP(vlookup_data[[#This Row],[style '#]],[2]Sheet1!$A:$D,4,0)*ABS(U710),0)","v":0},{"$f":"WEEKNUM(vlookup_data[[#This Row],[Column8]],2)","v":1},{"$f":"YEAR(vlookup_data[[#This Row],[Column8]])","v":1900},0,{"$f":"CONCATENATE(vlookup_data[[#This Row],[style '#]],\"|\",R710)","v":"0|"}]
[{"$f":"IF(ISNUMBER(U711)=TRUE,VLOOKUP(vlookup_data[[#This Row],[style '#]],[2]Sheet1!$A:$D,4,0)*ABS(U711),0)","v":0},{"$f":"WEEKNUM(vlookup_data[[#This Row],[Column8]],2)","v":1},{"$f":"YEAR(vlookup_data[[#This Row],[Column8]])","v":1900},0,{"$f":"CONCATENATE(vlookup_data[[#This Row],[style '#]],\"|\",R711)","v":"0|"}]
[{"$f":"IF(ISNUMBER(U712)=TRUE,VLOOKUP(vlookup_data[[#This Row],[style '#]],[2]Sheet1!$A:$D,4,0)*ABS(U712),0)","v":0},{"$f":"WEEKNUM(vlookup_data[[#This Row],[Column8]],2)","v":1},{"$f":"YEAR(vlookup_data[[#This Row],[Column8]])","v":1900},0,{"$f":"CONCATENATE(vlookup_data[[#This Row],[style '#]],\"|\",R712)","v":"0|"}]
[{"$f":"IF(ISNUMBER(U713)=TRUE,VLOOKUP(vlookup_data[[#This Row],[style '#]],[2]Sheet1!$A:$D,4,0)*ABS(U713),0)","v":0},{"$f":"WEEKNUM(vlookup_data[[#This Row],[Column8]],2)","v":1},{"$f":"YEAR(vlookup_data[[#This Row],[Column8]])","v":1900},{"$f":"VALUE(G713)","v":0},{"$f":"CONCATENATE(vlookup_data[[#This Row],[style '#]],\"|\",R713)","v":"0|"}]
[{"$f":"IF(ISNUMBER(U714)=TRUE,VLOOKUP(vlookup_data[[#This Row],[style '#]],[2]Sheet1!$A:$D,4,0)*ABS(U714),0)","v":0},{"$f":"WEEKNUM(vlookup_data[[#This Row],[Column8]],2)","v":1},{"$f":"YEAR(vlookup_data[[#This Row],[Column8]])","v":1900},0,{"$f":"CONCATENATE(vlookup_data[[#This Row],[style '#]],\"|\",R714)","v":"0|"}]
[{"$f":"IF(ISNUMBER(U715)=TRUE,VLOOKUP(vlookup_data[[#This Row],[style '#]],[2]Sheet1!$A:$D,4,0)*ABS(U715),0)","v":0},{"$f":"WEEKNUM(vlookup_data[[#This Row],[Column8]],2)","v":1},{"$f":"YEAR(vlookup_data[[#This Row],[Column8]])","v":1900},0,{"$f":"CONCATENATE(vlookup_data[[#This Row],[style '#]],\"|\",R715)","v":"0|"}]
[{"$f":"IF(ISNUMBER(U716)=TRUE,VLOOKUP(vlookup_data[[#This Row],[style '#]],[2]Sheet1!$A:$D,4,0)*ABS(U716),0)","v":0},{"$f":"WEEKNUM(vlookup_data[[#This Row],[Column8]],2)","v":1},{"$f":"YEAR(vlookup_data[[#This Row],[Column8]])","v":1900},0,{"$f":"CONCATENATE(vlookup_data[[#This Row],[style '#]],\"|\",R716)","v":"0|"}]
[{"$f":"IF(ISNUMBER(U717)=TRUE,VLOOKUP(vlookup_data[[#This Row],[style '#]],[2]Sheet1!$A:$D,4,0)*ABS(U717),0)","v":0},{"$f":"WEEKNUM(vlookup_data[[#This Row],[Column8]],2)","v":1},{"$f":"YEAR(vlookup_data[[#This Row],[Column8]])","v":1900},0,{"$f":"CONCATENATE(vlookup_data[[#This Row],[style '#]],\"|\",R717)","v":"0|"}]
[{"$f":"IF(ISNUMBER(U718)=TRUE,VLOOKUP(vlookup_data[[#This Row],[style '#]],[2]Sheet1!$A:$D,4,0)*ABS(U718),0)","v":0},{"$f":"WEEKNUM(vlookup_data[[#This Row],[Column8]],2)","v":1},{"$f":"YEAR(vlookup_data[[#This Row],[Column8]])","v":1900},0,{"$f":"CONCATENATE(vlookup_data[[#This Row],[style '#]],\"|\",R718)","v":"0|"}]
[{"$f":"IF(ISNUMBER(U719)=TRUE,VLOOKUP(vlookup_data[[#This Row],[style '#]],[2]Sheet1!$A:$D,4,0)*ABS(U719),0)","v":0},{"$f":"WEEKNUM(vlookup_data[[#This Row],[Column8]],2)","v":1},{"$f":"YEAR(vlookup_data[[#This Row],[Column8]])","v":1900},0,{"$f":"CONCATENATE(vlookup_data[[#This Row],[style '#]],\"|\",R719)","v":"0|"}]
[{"$f":"IF(ISNUMBER(U720)=TRUE,VLOOKUP(vlookup_data[[#This Row],[style '#]],[2]Sheet1!$A:$D,4,0)*ABS(U720),0)","v":0},{"$f":"WEEKNUM(vlookup_data[[#This Row],[Column8]],2)","v":1},{"$f":"YEAR(vlookup_data[[#This Row],[Column8]])","v":1900},0,{"$f":"CONCATENATE(vlookup_data[[#This Row],[style '#]],\"|\",R720)","v":"0|"}]
[{"$f":"IF(ISNUMBER(U721)=TRUE,VLOOKUP(vlookup_data[[#This Row],[style '#]],[2]Sheet1!$A:$D,4,0)*ABS(U721),0)","v":0},{"$f":"WEEKNUM(vlookup_data[[#This Row],[Column8]],2)","v":1},{"$f":"YEAR(vlookup_data[[#This Row],[Column8]])","v":1900},0,{"$f":"CONCATENATE(vlookup_data[[#This Row],[style '#]],\"|\",R721)","v":"0|"}]
[{"$f":"IF(ISNUMBER(U722)=TRUE,VLOOKUP(vlookup_data[[#This Row],[style '#]],[2]Sheet1!$A:$D,4,0)*ABS(U722),0)","v":0},{"$f":"WEEKNUM(vlookup_data[[#This Row],[Column8]],2)","v":1},{"$f":"YEAR(vlookup_data[[#This Row],[Column8]])","v":1900},0,{"$f":"CONCATENATE(vlookup_data[[#This Row],[style '#]],\"|\",R722)","v":"0|"}]
[{"$f":"IF(ISNUMBER(U723)=TRUE,VLOOKUP(vlookup_data[[#This Row],[style '#]],[2]Sheet1!$A:$D,4,0)*ABS(U723),0)","v":0},{"$f":"WEEKNUM(vlookup_data[[#This Row],[Column8]],2)","v":1},{"$f":"YEAR(vlookup_data[[#This Row],[Column8]])","v":1900},0,{"$f":"CONCATENATE(vlookup_data[[#This Row],[style '#]],\"|\",R723)","v":"0|"}]
[{"$f":"IF(ISNUMBER(U724)=TRUE,VLOOKUP(vlookup_data[[#This Row],[style '#]],[2]Sheet1!$A:$D,4,0)*ABS(U724),0)","v":0},{"$f":"WEEKNUM(vlookup_data[[#This Row],[Column8]],2)","v":1},{"$f":"YEAR(vlookup_data[[#This Row],[Column8]])","v":1900},0,{"$f":"CONCATENATE(vlookup_data[[#This Row],[style '#]],\"|\",R724)","v":"0|"}]
[{"$f":"IF(ISNUMBER(U725)=TRUE,VLOOKUP(vlookup_data[[#This Row],[style '#]],[2]Sheet1!$A:$D,4,0)*ABS(U725),0)","v":0},{"$f":"WEEKNUM(vlookup_data[[#This Row],[Column8]],2)","v":1},{"$f":"YEAR(vlookup_data[[#This Row],[Column8]])","v":1900},0,{"$f":"CONCATENATE(vlookup_data[[#This Row],[style '#]],\"|\",R725)","v":"0|"}]
[{"$f":"IF(ISNUMBER(U726)=TRUE,VLOOKUP(vlookup_data[[#This Row],[style '#]],[2]Sheet1!$A:$D,4,0)*ABS(U726),0)","v":0},{"$f":"WEEKNUM(vlookup_data[[#This Row],[Column8]],2)","v":1},{"$f":"YEAR(vlookup_data[[#This Row],[Column8]])","v":1900},0,{"$f":"CONCATENATE(vlookup_data[[#This Row],[style '#]],\"|\",R726)","v":"0|"}]
[{"$f":"IF(ISNUMBER(U727)=TRUE,VLOOKUP(vlookup_data[[#This Row],[style '#]],[2]Sheet1!$A:$D,4,0)*ABS(U727),0)","v":0},{"$f":"WEEKNUM(vlookup_data[[#This Row],[Column8]],2)","v":1},{"$f":"YEAR(vlookup_data[[#This Row],[Column8]])","v":1900},0,{"$f":"CONCATENATE(vlookup_data[[#This Row],[style '#]],\"|\",R727)","v":"0|"}]
[{"$f":"IF(ISNUMBER(U728)=TRUE,VLOOKUP(vlookup_data[[#This Row],[style '#]],[2]Sheet1!$A:$D,4,0)*ABS(U728),0)","v":0},{"$f":"WEEKNUM(vlookup_data[[#This Row],[Column8]],2)","v":1},{"$f":"YEAR(vlookup_data[[#This Row],[Column8]])","v":1900},0,{"$f":"CONCATENATE(vlookup_data[[#This Row],[style '#]],\"|\",R728)","v":"0|"}]
[{"$f":"IF(ISNUMBER(U729)=TRUE,VLOOKUP(vlookup_data[[#This Row],[style '#]],[2]Sheet1!$A:$D,4,0)*ABS(U729),0)","v":0},{"$f":"WEEKNUM(vlookup_data[[#This Row],[Column8]],2)","v":1},{"$f":"YEAR(vlookup_data[[#This Row],[Column8]])","v":1900},0,{"$f":"CONCATENATE(vlookup_data[[#This Row],[style '#]],\"|\",R729)","v":"0|"}]
[{"$f":"IF(ISNUMBER(U730)=TRUE,VLOOKUP(vlookup_data[[#This Row],[style '#]],[2]Sheet1!$A:$D,4,0)*ABS(U730),0)","v":0},{"$f":"WEEKNUM(vlookup_data[[#This Row],[Column8]],2)","v":1},{"$f":"YEAR(vlookup_data[[#This Row],[Column8]])","v":1900},0,{"$f":"CONCATENATE(vlookup_data[[#This Row],[style '#]],\"|\",R730)","v":"0|"}]
[{"$f":"IF(ISNUMBER(U731)=TRUE,VLOOKUP(vlookup_data[[#This Row],[style '#]],[2]Sheet1!$A:$D,4,0)*ABS(U731),0)","v":0},{"$f":"WEEKNUM(vlookup_data[[#This Row],[Column8]],2)","v":1},{"$f":"YEAR(vlookup_data[[#This Row],[Column8]])","v":1900},0,{"$f":"CONCATENATE(vlookup_data[[#This Row],[style '#]],\"|\",R731)","v":"0|"}]
[{"$f":"IF(ISNUMBER(U732)=TRUE,VLOOKUP(vlookup_data[[#This Row],[style '#]],[2]Sheet1!$A:$D,4,0)*ABS(U732),0)","v":0},{"$f":"WEEKNUM(vlookup_data[[#This Row],[Column8]],2)","v":1},{"$f":"YEAR(vlookup_data[[#This Row],[Column8]])","v":1900},0,{"$f":"CONCATENATE(vlookup_data[[#This Row],[style '#]],\"|\",R732)","v":"0|"}]
[{"$f":"IF(ISNUMBER(U733)=TRUE,VLOOKUP(vlookup_data[[#This Row],[style '#]],[2]Sheet1!$A:$D,4,0)*ABS(U733),0)","v":0},{"$f":"WEEKNUM(vlookup_data[[#This Row],[Column8]],2)","v":1},{"$f":"YEAR(vlookup_data[[#This Row],[Column8]])","v":1900},0,{"$f":"CONCATENATE(vlookup_data[[#This Row],[style '#]],\"|\",R733)","v":"0|"}]
[{"$f":"IF(ISNUMBER(U734)=TRUE,VLOOKUP(vlookup_data[[#This Row],[style '#]],[2]Sheet1!$A:$D,4,0)*ABS(U734),0)","v":0},{"$f":"WEEKNUM(vlookup_data[[#This Row],[Column8]],2)","v":1},{"$f":"YEAR(vlookup_data[[#This Row],[Column8]])","v":1900},0,{"$f":"CONCATENATE(vlookup_data[[#This Row],[style '#]],\"|\",R734)","v":"0|"}]
[{"$f":"IF(ISNUMBER(U735)=TRUE,VLOOKUP(vlookup_data[[#This Row],[style '#]],[2]Sheet1!$A:$D,4,0)*ABS(U735),0)","v":0},{"$f":"WEEKNUM(vlookup_data[[#This Row],[Column8]],2)","v":1},{"$f":"YEAR(vlookup_data[[#This Row],[Column8]])","v":1900},0,{"$f":"CONCATENATE(vlookup_data[[#This Row],[style '#]],\"|\",R735)","v":"0|"}]
[{"$f":"IF(ISNUMBER(U736)=TRUE,VLOOKUP(vlookup_data[[#This Row],[style '#]],[2]Sheet1!$A:$D,4,0)*ABS(U736),0)","v":0},{"$f":"WEEKNUM(vlookup_data[[#This Row],[Column8]],2)","v":1},{"$f":"YEAR(vlookup_data[[#This Row],[Column8]])","v":1900},0,{"$f":"CONCATENATE(vlookup_data[[#This Row],[style '#]],\"|\",R736)","v":"0|"}]
[{"$f":"IF(ISNUMBER(U737)=TRUE,VLOOKUP(vlookup_data[[#This Row],[style '#]],[2]Sheet1!$A:$D,4,0)*ABS(U737),0)","v":0},{"$f":"WEEKNUM(vlookup_data[[#This Row],[Column8]],2)","v":1},{"$f":"YEAR(vlookup_data[[#This Row],[Column8]])","v":1900},0,{"$f":"CONCATENATE(vlookup_data[[#This Row],[style '#]],\"|\",R737)","v":"0|"}]
[{"$f":"IF(ISNUMBER(U738)=TRUE,VLOOKUP(vlookup_data[[#This Row],[style '#]],[2]Sheet1!$A:$D,4,0)*ABS(U738),0)","v":0},{"$f":"WEEKNUM(vlookup_data[[#This Row],[Column8]],2)","v":1},{"$f":"YEAR(vlookup_data[[#This Row],[Column8]])","v":1900},0,{"$f":"CONCATENATE(vlookup_data[[#This Row],[style '#]],\"|\",R738)","v":"0|"}]
[{"$f":"IF(ISNUMBER(U739)=TRUE,VLOOKUP(vlookup_data[[#This Row],[style '#]],[2]Sheet1!$A:$D,4,0)*ABS(U739),0)","v":0},{"$f":"WEEKNUM(vlookup_data[[#This Row],[Column8]],2)","v":1},{"$f":"YEAR(vlookup_data[[#This Row],[Column8]])","v":1900},0,{"$f":"CONCATENATE(vlookup_data[[#This Row],[style '#]],\"|\",R739)","v":"0|"}]
[{"$f":"IF(ISNUMBER(U740)=TRUE,VLOOKUP(vlookup_data[[#This Row],[style '#]],[2]Sheet1!$A:$D,4,0)*ABS(U740),0)","v":0},{"$f":"WEEKNUM(vlookup_data[[#This Row],[Column8]],2)","v":1},{"$f":"YEAR(vlookup_data[[#This Row],[Column8]])","v":1900},0,{"$f":"CONCATENATE(vlookup_data[[#This Row],[style '#]],\"|\",R740)","v":"0|"}]
[{"$f":"IF(ISNUMBER(U741)=TRUE,VLOOKUP(vlookup_data[[#This Row],[style '#]],[2]Sheet1!$A:$D,4,0)*ABS(U741),0)","v":0},{"$f":"WEEKNUM(vlookup_data[[#This Row],[Column8]],2)","v":1},{"$f":"YEAR(vlookup_data[[#This Row],[Column8]])","v":1900},0,{"$f":"CONCATENATE(vlookup_data[[#This Row],[style '#]],\"|\",R741)","v":"0|"}]
[{"$f":"IF(ISNUMBER(U742)=TRUE,VLOOKUP(vlookup_data[[#This Row],[style '#]],[2]Sheet1!$A:$D,4,0)*ABS(U742),0)","v":0},{"$f":"WEEKNUM(vlookup_data[[#This Row],[Column8]],2)","v":1},{"$f":"YEAR(vlookup_data[[#This Row],[Column8]])","v":1900},0,{"$f":"CONCATENATE(vlookup_data[[#This Row],[style '#]],\"|\",R742)","v":"0|"}]
[{"$f":"IF(ISNUMBER(U743)=TRUE,VLOOKUP(vlookup_data[[#This Row],[style '#]],[2]Sheet1!$A:$D,4,0)*ABS(U743),0)","v":0},{"$f":"WEEKNUM(vlookup_data[[#This Row],[Column8]],2)","v":1},{"$f":"YEAR(vlookup_data[[#This Row],[Column8]])","v":1900},0,{"$f":"CONCATENATE(vlookup_data[[#This Row],[style '#]],\"|\",R743)","v":"0|"}]
[{"$f":"IF(ISNUMBER(U744)=TRUE,VLOOKUP(vlookup_data[[#This Row],[style '#]],[2]Sheet1!$A:$D,4,0)*ABS(U744),0)","v":0},{"$f":"WEEKNUM(vlookup_data[[#This Row],[Column8]],2)","v":1},{"$f":"YEAR(vlookup_data[[#This Row],[Column8]])","v":1900},0,{"$f":"CONCATENATE(vlookup_data[[#This Row],[style '#]],\"|\",R744)","v":"0|"}]
[{"$f":"IF(ISNUMBER(U745)=TRUE,VLOOKUP(vlookup_data[[#This Row],[style '#]],[2]Sheet1!$A:$D,4,0)*ABS(U745),0)","v":0},{"$f":"WEEKNUM(vlookup_data[[#This Row],[Column8]],2)","v":1},{"$f":"YEAR(vlookup_data[[#This Row],[Column8]])","v":1900},0,{"$f":"CONCATENATE(vlookup_data[[#This Row],[style '#]],\"|\",R745)","v":"0|"}]
[{"$f":"IF(ISNUMBER(U746)=TRUE,VLOOKUP(vlookup_data[[#This Row],[style '#]],[2]Sheet1!$A:$D,4,0)*ABS(U746),0)","v":0},{"$f":"WEEKNUM(vlookup_data[[#This Row],[Column8]],2)","v":1},{"$f":"YEAR(vlookup_data[[#This Row],[Column8]])","v":1900},0,{"$f":"CONCATENATE(vlookup_data[[#This Row],[style '#]],\"|\",R746)","v":"0|"}]
[{"$f":"IF(ISNUMBER(U747)=TRUE,VLOOKUP(vlookup_data[[#This Row],[style '#]],[2]Sheet1!$A:$D,4,0)*ABS(U747),0)","v":0},{"$f":"WEEKNUM(vlookup_data[[#This Row],[Column8]],2)","v":1},{"$f":"YEAR(vlookup_data[[#This Row],[Column8]])","v":1900},0,{"$f":"CONCATENATE(vlookup_data[[#This Row],[style '#]],\"|\",R747)","v":"0|"}]
[{"$f":"IF(ISNUMBER(U748)=TRUE,VLOOKUP(vlookup_data[[#This Row],[style '#]],[2]Sheet1!$A:$D,4,0)*ABS(U748),0)","v":0},{"$f":"WEEKNUM(vlookup_data[[#This Row],[Column8]],2)","v":1},{"$f":"YEAR(vlookup_data[[#This Row],[Column8]])","v":1900},0,{"$f":"CONCATENATE(vlookup_data[[#This Row],[style '#]],\"|\",R748)","v":"0|"}]
[{"$f":"IF(ISNUMBER(U749)=TRUE,VLOOKUP(vlookup_data[[#This Row],[style '#]],[2]Sheet1!$A:$D,4,0)*ABS(U749),0)","v":0},{"$f":"WEEKNUM(vlookup_data[[#This Row],[Column8]],2)","v":1},{"$f":"YEAR(vlookup_data[[#This Row],[Column8]])","v":1900},0,{"$f":"CONCATENATE(vlookup_data[[#This Row],[style '#]],\"|\",R749)","v":"0|"}]
[{"$f":"IF(ISNUMBER(U750)=TRUE,VLOOKUP(vlookup_data[[#This Row],[style '#]],[2]Sheet1!$A:$D,4,0)*ABS(U750),0)","v":0},{"$f":"WEEKNUM(vlookup_data[[#This Row],[Column8]],2)","v":1},{"$f":"YEAR(vlookup_data[[#This Row],[Column8]])","v":1900},0,{"$f":"CONCATENATE(vlookup_data[[#This Row],[style '#]],\"|\",R750)","v":"0|"}]
[{"$f":"IF(ISNUMBER(U751)=TRUE,VLOOKUP(vlookup_data[[#This Row],[style '#]],[2]Sheet1!$A:$D,4,0)*ABS(U751),0)","v":0},{"$f":"WEEKNUM(vlookup_data[[#This Row],[Column8]],2)","v":1},{"$f":"YEAR(vlookup_data[[#This Row],[Column8]])","v":1900},0,{"$f":"CONCATENATE(vlookup_data[[#This Row],[style '#]],\"|\",R751)","v":"0|"}]
[{"$f":"IF(ISNUMBER(U752)=TRUE,VLOOKUP(vlookup_data[[#This Row],[style '#]],[2]Sheet1!$A:$D,4,0)*ABS(U752),0)","v":0},{"$f":"WEEKNUM(vlookup_data[[#This Row],[Column8]],2)","v":1},{"$f":"YEAR(vlookup_data[[#This Row],[Column8]])","v":1900},0,{"$f":"CONCATENATE(vlookup_data[[#This Row],[style '#]],\"|\",R752)","v":"0|"}]
[{"$f":"IF(ISNUMBER(U753)=TRUE,VLOOKUP(vlookup_data[[#This Row],[style '#]],[2]Sheet1!$A:$D,4,0)*ABS(U753),0)","v":0},{"$f":"WEEKNUM(vlookup_data[[#This Row],[Column8]],2)","v":1},{"$f":"YEAR(vlookup_data[[#This Row],[Column8]])","v":1900},0,{"$f":"CONCATENATE(vlookup_data[[#This Row],[style '#]],\"|\",R753)","v":"0|"}]
[{"$f":"IF(ISNUMBER(U754)=TRUE,VLOOKUP(vlookup_data[[#This Row],[style '#]],[2]Sheet1!$A:$D,4,0)*ABS(U754),0)","v":0},{"$f":"WEEKNUM(vlookup_data[[#This Row],[Column8]],2)","v":1},{"$f":"YEAR(vlookup_data[[#This Row],[Column8]])","v":1900},0,{"$f":"CONCATENATE(vlookup_data[[#This Row],[style '#]],\"|\",R754)","v":"0|"}]
[{"$f":"IF(ISNUMBER(U755)=TRUE,VLOOKUP(vlookup_data[[#This Row],[style '#]],[2]Sheet1!$A:$D,4,0)*ABS(U755),0)","v":0},{"$f":"WEEKNUM(vlookup_data[[#This Row],[Column8]],2)","v":1},{"$f":"YEAR(vlookup_data[[#This Row],[Column8]])","v":1900},0,{"$f":"CONCATENATE(vlookup_data[[#This Row],[style '#]],\"|\",R755)","v":"0|"}]
[{"$f":"IF(ISNUMBER(U756)=TRUE,VLOOKUP(vlookup_data[[#This Row],[style '#]],[2]Sheet1!$A:$D,4,0)*ABS(U756),0)","v":0},{"$f":"WEEKNUM(vlookup_data[[#This Row],[Column8]],2)","v":1},{"$f":"YEAR(vlookup_data[[#This Row],[Column8]])","v":1900},0,{"$f":"CONCATENATE(vlookup_data[[#This Row],[style '#]],\"|\",R756)","v":"0|"}]
[{"$f":"IF(ISNUMBER(U757)=TRUE,VLOOKUP(vlookup_data[[#This Row],[style '#]],[2]Sheet1!$A:$D,4,0)*ABS(U757),0)","v":0},{"$f":"WEEKNUM(vlookup_data[[#This Row],[Column8]],2)","v":1},{"$f":"YEAR(vlookup_data[[#This Row],[Column8]])","v":1900},0,{"$f":"CONCATENATE(vlookup_data[[#This Row],[style '#]],\"|\",R757)","v":"0|"}]
[{"$f":"IF(ISNUMBER(U758)=TRUE,VLOOKUP(vlookup_data[[#This Row],[style '#]],[2]Sheet1!$A:$D,4,0)*ABS(U758),0)","v":0},{"$f":"WEEKNUM(vlookup_data[[#This Row],[Column8]],2)","v":1},{"$f":"YEAR(vlookup_data[[#This Row],[Column8]])","v":1900},0,{"$f":"CONCATENATE(vlookup_data[[#This Row],[style '#]],\"|\",R758)","v":"0|"}]
[{"$f":"IF(ISNUMBER(U759)=TRUE,VLOOKUP(vlookup_data[[#This Row],[style '#]],[2]Sheet1!$A:$D,4,0)*ABS(U759),0)","v":0},{"$f":"WEEKNUM(vlookup_data[[#This Row],[Column8]],2)","v":1},{"$f":"YEAR(vlookup_data[[#This Row],[Column8]])","v":1900},0,{"$f":"CONCATENATE(vlookup_data[[#This Row],[style '#]],\"|\",R759)","v":"0|"}]
[{"$f":"IF(ISNUMBER(U760)=TRUE,VLOOKUP(vlookup_data[[#This Row],[style '#]],[2]Sheet1!$A:$D,4,0)*ABS(U760),0)","v":0},{"$f":"WEEKNUM(vlookup_data[[#This Row],[Column8]],2)","v":1},{"$f":"YEAR(vlookup_data[[#This Row],[Column8]])","v":1900},0,{"$f":"CONCATENATE(vlookup_data[[#This Row],[style '#]],\"|\",R760)","v":"0|"}]
[{"$f":"IF(ISNUMBER(U761)=TRUE,VLOOKUP(vlookup_data[[#This Row],[style '#]],[2]Sheet1!$A:$D,4,0)*ABS(U761),0)","v":0},{"$f":"WEEKNUM(vlookup_data[[#This Row],[Column8]],2)","v":1},{"$f":"YEAR(vlookup_data[[#This Row],[Column8]])","v":1900},0,{"$f":"CONCATENATE(vlookup_data[[#This Row],[style '#]],\"|\",R761)","v":"0|"}]
[{"$f":"IF(ISNUMBER(U762)=TRUE,VLOOKUP(vlookup_data[[#This Row],[style '#]],[2]Sheet1!$A:$D,4,0)*ABS(U762),0)","v":0},{"$f":"WEEKNUM(vlookup_data[[#This Row],[Column8]],2)","v":1},{"$f":"YEAR(vlookup_data[[#This Row],[Column8]])","v":1900},0,{"$f":"CONCATENATE(vlookup_data[[#This Row],[style '#]],\"|\",R762)","v":"0|"}]
[{"$f":"IF(ISNUMBER(U763)=TRUE,VLOOKUP(vlookup_data[[#This Row],[style '#]],[2]Sheet1!$A:$D,4,0)*ABS(U763),0)","v":0},{"$f":"WEEKNUM(vlookup_data[[#This Row],[Column8]],2)","v":1},{"$f":"YEAR(vlookup_data[[#This Row],[Column8]])","v":1900},0,{"$f":"CONCATENATE(vlookup_data[[#This Row],[style '#]],\"|\",R763)","v":"0|"}]
[{"$f":"IF(ISNUMBER(U764)=TRUE,VLOOKUP(vlookup_data[[#This Row],[style '#]],[2]Sheet1!$A:$D,4,0)*ABS(U764),0)","v":0},{"$f":"WEEKNUM(vlookup_data[[#This Row],[Column8]],2)","v":1},{"$f":"YEAR(vlookup_data[[#This Row],[Column8]])","v":1900},0,{"$f":"CONCATENATE(vlookup_data[[#This Row],[style '#]],\"|\",R764)","v":"0|"}]
[{"$f":"IF(ISNUMBER(U765)=TRUE,VLOOKUP(vlookup_data[[#This Row],[style '#]],[2]Sheet1!$A:$D,4,0)*ABS(U765),0)","v":0},{"$f":"WEEKNUM(vlookup_data[[#This Row],[Column8]],2)","v":1},{"$f":"YEAR(vlookup_data[[#This Row],[Column8]])","v":1900},0,{"$f":"CONCATENATE(vlookup_data[[#This Row],[style '#]],\"|\",R765)","v":"0|"}]
[{"$f":"IF(ISNUMBER(U766)=TRUE,VLOOKUP(vlookup_data[[#This Row],[style '#]],[2]Sheet1!$A:$D,4,0)*ABS(U766),0)","v":0},{"$f":"WEEKNUM(vlookup_data[[#This Row],[Column8]],2)","v":1},{"$f":"YEAR(vlookup_data[[#This Row],[Column8]])","v":1900},0,{"$f":"CONCATENATE(vlookup_data[[#This Row],[style '#]],\"|\",R766)","v":"0|"}]
[{"$f":"IF(ISNUMBER(U767)=TRUE,VLOOKUP(vlookup_data[[#This Row],[style '#]],[2]Sheet1!$A:$D,4,0)*ABS(U767),0)","v":0},{"$f":"WEEKNUM(vlookup_data[[#This Row],[Column8]],2)","v":1},{"$f":"YEAR(vlookup_data[[#This Row],[Column8]])","v":1900},0,{"$f":"CONCATENATE(vlookup_data[[#This Row],[style '#]],\"|\",R767)","v":"0|"}]
[{"$f":"IF(ISNUMBER(U768)=TRUE,VLOOKUP(vlookup_data[[#This Row],[style '#]],[2]Sheet1!$A:$D,4,0)*ABS(U768),0)","v":0},{"$f":"WEEKNUM(vlookup_data[[#This Row],[Column8]],2)","v":1},{"$f":"YEAR(vlookup_data[[#This Row],[Column8]])","v":1900},0,{"$f":"CONCATENATE(vlookup_data[[#This Row],[style '#]],\"|\",R768)","v":"0|"}]
[{"$f":"IF(ISNUMBER(U769)=TRUE,VLOOKUP(vlookup_data[[#This Row],[style '#]],[2]Sheet1!$A:$D,4,0)*ABS(U769),0)","v":0},{"$f":"WEEKNUM(vlookup_data[[#This Row],[Column8]],2)","v":1},{"$f":"YEAR(vlookup_data[[#This Row],[Column8]])","v":1900},0,{"$f":"CONCATENATE(vlookup_data[[#This Row],[style '#]],\"|\",R769)","v":"0|"}]
[{"$f":"IF(ISNUMBER(U770)=TRUE,VLOOKUP(vlookup_data[[#This Row],[style '#]],[2]Sheet1!$A:$D,4,0)*ABS(U770),0)","v":0},{"$f":"WEEKNUM(vlookup_data[[#This Row],[Column8]],2)","v":1},{"$f":"YEAR(vlookup_data[[#This Row],[Column8]])","v":1900},0,{"$f":"CONCATENATE(vlookup_data[[#This Row],[style '#]],\"|\",R770)","v":"0|"}]
[{"$f":"IF(ISNUMBER(U771)=TRUE,VLOOKUP(vlookup_data[[#This Row],[style '#]],[2]Sheet1!$A:$D,4,0)*ABS(U771),0)","v":0},{"$f":"WEEKNUM(vlookup_data[[#This Row],[Column8]],2)","v":1},{"$f":"YEAR(vlookup_data[[#This Row],[Column8]])","v":1900},0,{"$f":"CONCATENATE(vlookup_data[[#This Row],[style '#]],\"|\",R771)","v":"0|"}]
[{"$f":"IF(ISNUMBER(U772)=TRUE,VLOOKUP(vlookup_data[[#This Row],[style '#]],[2]Sheet1!$A:$D,4,0)*ABS(U772),0)","v":0},{"$f":"WEEKNUM(vlookup_data[[#This Row],[Column8]],2)","v":1},{"$f":"YEAR(vlookup_data[[#This Row],[Column8]])","v":1900},0,{"$f":"CONCATENATE(vlookup_data[[#This Row],[style '#]],\"|\",R772)","v":"0|"}]
[{"$f":"IF(ISNUMBER(U773)=TRUE,VLOOKUP(vlookup_data[[#This Row],[style '#]],[2]Sheet1!$A:$D,4,0)*ABS(U773),0)","v":0},{"$f":"WEEKNUM(vlookup_data[[#This Row],[Column8]],2)","v":1},{"$f":"YEAR(vlookup_data[[#This Row],[Column8]])","v":1900},0,{"$f":"CONCATENATE(vlookup_data[[#This Row],[style '#]],\"|\",R773)","v":"0|"}]
[{"$f":"IF(ISNUMBER(U774)=TRUE,VLOOKUP(vlookup_data[[#This Row],[style '#]],[2]Sheet1!$A:$D,4,0)*ABS(U774),0)","v":0},{"$f":"WEEKNUM(vlookup_data[[#This Row],[Column8]],2)","v":1},{"$f":"YEAR(vlookup_data[[#This Row],[Column8]])","v":1900},0,{"$f":"CONCATENATE(vlookup_data[[#This Row],[style '#]],\"|\",R774)","v":"0|"}]
[{"$f":"IF(ISNUMBER(U775)=TRUE,VLOOKUP(vlookup_data[[#This Row],[style '#]],[2]Sheet1!$A:$D,4,0)*ABS(U775),0)","v":0},{"$f":"WEEKNUM(vlookup_data[[#This Row],[Column8]],2)","v":1},{"$f":"YEAR(vlookup_data[[#This Row],[Column8]])","v":1900},0,{"$f":"CONCATENATE(vlookup_data[[#This Row],[style '#]],\"|\",R775)","v":"0|"}]
[{"$f":"IF(ISNUMBER(U776)=TRUE,VLOOKUP(vlookup_data[[#This Row],[style '#]],[2]Sheet1!$A:$D,4,0)*ABS(U776),0)","v":0},{"$f":"WEEKNUM(vlookup_data[[#This Row],[Column8]],2)","v":1},{"$f":"YEAR(vlookup_data[[#This Row],[Column8]])","v":1900},0,{"$f":"CONCATENATE(vlookup_data[[#This Row],[style '#]],\"|\",R776)","v":"0|"}]
[{"$f":"IF(ISNUMBER(U777)=TRUE,VLOOKUP(vlookup_data[[#This Row],[style '#]],[2]Sheet1!$A:$D,4,0)*ABS(U777),0)","v":0},{"$f":"WEEKNUM(vlookup_data[[#This Row],[Column8]],2)","v":1},{"$f":"YEAR(vlookup_data[[#This Row],[Column8]])","v":1900},{"$f":"VALUE(G777)","v":0},{"$f":"CONCATENATE(vlookup_data[[#This Row],[style '#]],\"|\",R777)","v":"0|"}]
[{"$f":"IF(ISNUMBER(U778)=TRUE,VLOOKUP(vlookup_data[[#This Row],[style '#]],[2]Sheet1!$A:$D,4,0)*ABS(U778),0)","v":0},{"$f":"WEEKNUM(vlookup_data[[#This Row],[Column8]],2)","v":1},{"$f":"YEAR(vlookup_data[[#This Row],[Column8]])","v":1900},0,{"$f":"CONCATENATE(vlookup_data[[#This Row],[style '#]],\"|\",R778)","v":"0|"}]
[{"$f":"IF(ISNUMBER(U779)=TRUE,VLOOKUP(vlookup_data[[#This Row],[style '#]],[2]Sheet1!$A:$D,4,0)*ABS(U779),0)","v":0},{"$f":"WEEKNUM(vlookup_data[[#This Row],[Column8]],2)","v":1},{"$f":"YEAR(vlookup_data[[#This Row],[Column8]])","v":1900},0,{"$f":"CONCATENATE(vlookup_data[[#This Row],[style '#]],\"|\",R779)","v":"0|"}]
[{"$f":"IF(ISNUMBER(U780)=TRUE,VLOOKUP(vlookup_data[[#This Row],[style '#]],[2]Sheet1!$A:$D,4,0)*ABS(U780),0)","v":0},{"$f":"WEEKNUM(vlookup_data[[#This Row],[Column8]],2)","v":1},{"$f":"YEAR(vlookup_data[[#This Row],[Column8]])","v":1900},0,{"$f":"CONCATENATE(vlookup_data[[#This Row],[style '#]],\"|\",R780)","v":"0|"}]
[{"$f":"IF(ISNUMBER(U781)=TRUE,VLOOKUP(vlookup_data[[#This Row],[style '#]],[2]Sheet1!$A:$D,4,0)*ABS(U781),0)","v":0},{"$f":"WEEKNUM(vlookup_data[[#This Row],[Column8]],2)","v":1},{"$f":"YEAR(vlookup_data[[#This Row],[Column8]])","v":1900},0,{"$f":"CONCATENATE(vlookup_data[[#This Row],[style '#]],\"|\",R781)","v":"0|"}]
[{"$f":"IF(ISNUMBER(U782)=TRUE,VLOOKUP(vlookup_data[[#This Row],[style '#]],[2]Sheet1!$A:$D,4,0)*ABS(U782),0)","v":0},{"$f":"WEEKNUM(vlookup_data[[#This Row],[Column8]],2)","v":1},{"$f":"YEAR(vlookup_data[[#This Row],[Column8]])","v":1900},0,{"$f":"CONCATENATE(vlookup_data[[#This Row],[style '#]],\"|\",R782)","v":"0|"}]
[{"$f":"IF(ISNUMBER(U783)=TRUE,VLOOKUP(vlookup_data[[#This Row],[style '#]],[2]Sheet1!$A:$D,4,0)*ABS(U783),0)","v":0},{"$f":"WEEKNUM(vlookup_data[[#This Row],[Column8]],2)","v":1},{"$f":"YEAR(vlookup_data[[#This Row],[Column8]])","v":1900},0,{"$f":"CONCATENATE(vlookup_data[[#This Row],[style '#]],\"|\",R783)","v":"0|"}]
[{"$f":"IF(ISNUMBER(U784)=TRUE,VLOOKUP(vlookup_data[[#This Row],[style '#]],[2]Sheet1!$A:$D,4,0)*ABS(U784),0)","v":0},{"$f":"WEEKNUM(vlookup_data[[#This Row],[Column8]],2)","v":1},{"$f":"YEAR(vlookup_data[[#This Row],[Column8]])","v":1900},0,{"$f":"CONCATENATE(vlookup_data[[#This Row],[style '#]],\"|\",R784)","v":"0|"}]
[{"$f":"IF(ISNUMBER(U785)=TRUE,VLOOKUP(vlookup_data[[#This Row],[style '#]],[2]Sheet1!$A:$D,4,0)*ABS(U785),0)","v":0},{"$f":"WEEKNUM(vlookup_data[[#This Row],[Column8]],2)","v":1},{"$f":"YEAR(vlookup_data[[#This Row],[Column8]])","v":1900},0,{"$f":"CONCATENATE(vlookup_data[[#This Row],[style '#]],\"|\",R785)","v":"0|"}]
[{"$f":"IF(ISNUMBER(U786)=TRUE,VLOOKUP(vlookup_data[[#This Row],[style '#]],[2]Sheet1!$A:$D,4,0)*ABS(U786),0)","v":0},{"$f":"WEEKNUM(vlookup_data[[#This Row],[Column8]],2)","v":1},{"$f":"YEAR(vlookup_data[[#This Row],[Column8]])","v":1900},0,{"$f":"CONCATENATE(vlookup_data[[#This Row],[style '#]],\"|\",R786)","v":"0|"}]
[{"$f":"IF(ISNUMBER(U787)=TRUE,VLOOKUP(vlookup_data[[#This Row],[style '#]],[2]Sheet1!$A:$D,4,0)*ABS(U787),0)","v":0},{"$f":"WEEKNUM(vlookup_data[[#This Row],[Column8]],2)","v":1},{"$f":"YEAR(vlookup_data[[#This Row],[Column8]])","v":1900},0,{"$f":"CONCATENATE(vlookup_data[[#This Row],[style '#]],\"|\",R787)","v":"0|"}]
[{"$f":"IF(ISNUMBER(U788)=TRUE,VLOOKUP(vlookup_data[[#This Row],[style '#]],[2]Sheet1!$A:$D,4,0)*ABS(U788),0)","v":0},{"$f":"WEEKNUM(vlookup_data[[#This Row],[Column8]],2)","v":1},{"$f":"YEAR(vlookup_data[[#This Row],[Column8]])","v":1900},0,{"$f":"CONCATENATE(vlookup_data[[#This Row],[style '#]],\"|\",R788)","v":"0|"}]
[{"$f":"IF(ISNUMBER(U789)=TRUE,VLOOKUP(vlookup_data[[#This Row],[style '#]],[2]Sheet1!$A:$D,4,0)*ABS(U789),0)","v":0},{"$f":"WEEKNUM(vlookup_data[[#This Row],[Column8]],2)","v":1},{"$f":"YEAR(vlookup_data[[#This Row],[Column8]])","v":1900},0,{"$f":"CONCATENATE(vlookup_data[[#This Row],[style '#]],\"|\",R789)","v":"0|"}]
[{"$f":"IF(ISNUMBER(U790)=TRUE,VLOOKUP(vlookup_data[[#This Row],[style '#]],[2]Sheet1!$A:$D,4,0)*ABS(U790),0)","v":0},{"$f":"WEEKNUM(vlookup_data[[#This Row],[Column8]],2)","v":1},{"$f":"YEAR(vlookup_data[[#This Row],[Column8]])","v":1900},0,{"$f":"CONCATENATE(vlookup_data[[#This Row],[style '#]],\"|\",R790)","v":"0|"}]
[{"$f":"IF(ISNUMBER(U791)=TRUE,VLOOKUP(vlookup_data[[#This Row],[style '#]],[2]Sheet1!$A:$D,4,0)*ABS(U791),0)","v":0},{"$f":"WEEKNUM(vlookup_data[[#This Row],[Column8]],2)","v":1},{"$f":"YEAR(vlookup_data[[#This Row],[Column8]])","v":1900},0,{"$f":"CONCATENATE(vlookup_data[[#This Row],[style '#]],\"|\",R791)","v":"0|"}]
[{"$f":"IF(ISNUMBER(U792)=TRUE,VLOOKUP(vlookup_data[[#This Row],[style '#]],[2]Sheet1!$A:$D,4,0)*ABS(U792),0)","v":0},{"$f":"WEEKNUM(vlookup_data[[#This Row],[Column8]],2)","v":1},{"$f":"YEAR(vlookup_data[[#This Row],[Column8]])","v":1900},0,{"$f":"CONCATENATE(vlookup_data[[#This Row],[style '#]],\"|\",R792)","v":"0|"}]
[{"$f":"IF(ISNUMBER(U793)=TRUE,VLOOKUP(vlookup_data[[#This Row],[style '#]],[2]Sheet1!$A:$D,4,0)*ABS(U793),0)","v":0},{"$f":"WEEKNUM(vlookup_data[[#This Row],[Column8]],2)","v":1},{"$f":"YEAR(vlookup_data[[#This Row],[Column8]])","v":1900},0,{"$f":"CONCATENATE(vlookup_data[[#This Row],[style '#]],\"|\",R793)","v":"0|"}]
[{"$f":"IF(ISNUMBER(U794)=TRUE,VLOOKUP(vlookup_data[[#This Row],[style '#]],[2]Sheet1!$A:$D,4,0)*ABS(U794),0)","v":0},{"$f":"WEEKNUM(vlookup_data[[#This Row],[Column8]],2)","v":1},{"$f":"YEAR(vlookup_data[[#This Row],[Column8]])","v":1900},0,{"$f":"CONCATENATE(vlookup_data[[#This Row],[style '#]],\"|\",R794)","v":"0|"}]
[{"$f":"IF(ISNUMBER(U795)=TRUE,VLOOKUP(vlookup_data[[#This Row],[style '#]],[2]Sheet1!$A:$D,4,0)*ABS(U795),0)","v":0},{"$f":"WEEKNUM(vlookup_data[[#This Row],[Column8]],2)","v":1},{"$f":"YEAR(vlookup_data[[#This Row],[Column8]])","v":1900},0,{"$f":"CONCATENATE(vlookup_data[[#This Row],[style '#]],\"|\",R795)","v":"0|"}]
[{"$f":"IF(ISNUMBER(U796)=TRUE,VLOOKUP(vlookup_data[[#This Row],[style '#]],[2]Sheet1!$A:$D,4,0)*ABS(U796),0)","v":0},{"$f":"WEEKNUM(vlookup_data[[#This Row],[Column8]],2)","v":1},{"$f":"YEAR(vlookup_data[[#This Row],[Column8]])","v":1900},0,{"$f":"CONCATENATE(vlookup_data[[#This Row],[style '#]],\"|\",R796)","v":"0|"}]
[{"$f":"IF(ISNUMBER(U797)=TRUE,VLOOKUP(vlookup_data[[#This Row],[style '#]],[2]Sheet1!$A:$D,4,0)*ABS(U797),0)","v":0},{"$f":"WEEKNUM(vlookup_data[[#This Row],[Column8]],2)","v":1},{"$f":"YEAR(vlookup_data[[#This Row],[Column8]])","v":1900},0,{"$f":"CONCATENATE(vlookup_data[[#This Row],[style '#]],\"|\",R797)","v":"0|"}]
[{"$f":"IF(ISNUMBER(U798)=TRUE,VLOOKUP(vlookup_data[[#This Row],[style '#]],[2]Sheet1!$A:$D,4,0)*ABS(U798),0)","v":0},{"$f":"WEEKNUM(vlookup_data[[#This Row],[Column8]],2)","v":1},{"$f":"YEAR(vlookup_data[[#This Row],[Column8]])","v":1900},0,{"$f":"CONCATENATE(vlookup_data[[#This Row],[style '#]],\"|\",R798)","v":"0|"}]
[{"$f":"IF(ISNUMBER(U799)=TRUE,VLOOKUP(vlookup_data[[#This Row],[style '#]],[2]Sheet1!$A:$D,4,0)*ABS(U799),0)","v":0},{"$f":"WEEKNUM(vlookup_data[[#This Row],[Column8]],2)","v":1},{"$f":"YEAR(vlookup_data[[#This Row],[Column8]])","v":1900},0,{"$f":"CONCATENATE(vlookup_data[[#This Row],[style '#]],\"|\",R799)","v":"0|"}]
[{"$f":"IF(ISNUMBER(U800)=TRUE,VLOOKUP(vlookup_data[[#This Row],[style '#]],[2]Sheet1!$A:$D,4,0)*ABS(U800),0)","v":0},{"$f":"WEEKNUM(vlookup_data[[#This Row],[Column8]],2)","v":1},{"$f":"YEAR(vlookup_data[[#This Row],[Column8]])","v":1900},0,{"$f":"CONCATENATE(vlookup_data[[#This Row],[style '#]],\"|\",R800)","v":"0|"}]
[{"$f":"IF(ISNUMBER(U801)=TRUE,VLOOKUP(vlookup_data[[#This Row],[style '#]],[2]Sheet1!$A:$D,4,0)*ABS(U801),0)","v":0},{"$f":"WEEKNUM(vlookup_data[[#This Row],[Column8]],2)","v":1},{"$f":"YEAR(vlookup_data[[#This Row],[Column8]])","v":1900},0,{"$f":"CONCATENATE(vlookup_data[[#This Row],[style '#]],\"|\",R801)","v":"0|"}]
[{"$f":"IF(ISNUMBER(U802)=TRUE,VLOOKUP(vlookup_data[[#This Row],[style '#]],[2]Sheet1!$A:$D,4,0)*ABS(U802),0)","v":0},{"$f":"WEEKNUM(vlookup_data[[#This Row],[Column8]],2)","v":1},{"$f":"YEAR(vlookup_data[[#This Row],[Column8]])","v":1900},0,{"$f":"CONCATENATE(vlookup_data[[#This Row],[style '#]],\"|\",R802)","v":"0|"}]
[{"$f":"IF(ISNUMBER(U803)=TRUE,VLOOKUP(vlookup_data[[#This Row],[style '#]],[2]Sheet1!$A:$D,4,0)*ABS(U803),0)","v":0},{"$f":"WEEKNUM(vlookup_data[[#This Row],[Column8]],2)","v":1},{"$f":"YEAR(vlookup_data[[#This Row],[Column8]])","v":1900},0,{"$f":"CONCATENATE(vlookup_data[[#This Row],[style '#]],\"|\",R803)","v":"0|"}]
[{"$f":"IF(ISNUMBER(U804)=TRUE,VLOOKUP(vlookup_data[[#This Row],[style '#]],[2]Sheet1!$A:$D,4,0)*ABS(U804),0)","v":0},{"$f":"WEEKNUM(vlookup_data[[#This Row],[Column8]],2)","v":1},{"$f":"YEAR(vlookup_data[[#This Row],[Column8]])","v":1900},0,{"$f":"CONCATENATE(vlookup_data[[#This Row],[style '#]],\"|\",R804)","v":"0|"}]
[{"$f":"IF(ISNUMBER(U805)=TRUE,VLOOKUP(vlookup_data[[#This Row],[style '#]],[2]Sheet1!$A:$D,4,0)*ABS(U805),0)","v":0},{"$f":"WEEKNUM(vlookup_data[[#This Row],[Column8]],2)","v":1},{"$f":"YEAR(vlookup_data[[#This Row],[Column8]])","v":1900},0,{"$f":"CONCATENATE(vlookup_data[[#This Row],[style '#]],\"|\",R805)","v":"0|"}]
[{"$f":"IF(ISNUMBER(U806)=TRUE,VLOOKUP(vlookup_data[[#This Row],[style '#]],[2]Sheet1!$A:$D,4,0)*ABS(U806),0)","v":0},{"$f":"WEEKNUM(vlookup_data[[#This Row],[Column8]],2)","v":1},{"$f":"YEAR(vlookup_data[[#This Row],[Column8]])","v":1900},0,{"$f":"CONCATENATE(vlookup_data[[#This Row],[style '#]],\"|\",R806)","v":"0|"}]
[{"$f":"IF(ISNUMBER(U807)=TRUE,VLOOKUP(vlookup_data[[#This Row],[style '#]],[2]Sheet1!$A:$D,4,0)*ABS(U807),0)","v":0},{"$f":"WEEKNUM(vlookup_data[[#This Row],[Column8]],2)","v":1},{"$f":"YEAR(vlookup_data[[#This Row],[Column8]])","v":1900},0,{"$f":"CONCATENATE(vlookup_data[[#This Row],[style '#]],\"|\",R807)","v":"0|"}]
[{"$f":"IF(ISNUMBER(U808)=TRUE,VLOOKUP(vlookup_data[[#This Row],[style '#]],[2]Sheet1!$A:$D,4,0)*ABS(U808),0)","v":0},{"$f":"WEEKNUM(vlookup_data[[#This Row],[Column8]],2)","v":1},{"$f":"YEAR(vlookup_data[[#This Row],[Column8]])","v":1900},0,{"$f":"CONCATENATE(vlookup_data[[#This Row],[style '#]],\"|\",R808)","v":"0|"}]
[{"$f":"IF(ISNUMBER(U809)=TRUE,VLOOKUP(vlookup_data[[#This Row],[style '#]],[2]Sheet1!$A:$D,4,0)*ABS(U809),0)","v":0},{"$f":"WEEKNUM(vlookup_data[[#This Row],[Column8]],2)","v":1},{"$f":"YEAR(vlookup_data[[#This Row],[Column8]])","v":1900},0,{"$f":"CONCATENATE(vlookup_data[[#This Row],[style '#]],\"|\",R809)","v":"0|"}]
[{"$f":"IF(ISNUMBER(U810)=TRUE,VLOOKUP(vlookup_data[[#This Row],[style '#]],[2]Sheet1!$A:$D,4,0)*ABS(U810),0)","v":0},{"$f":"WEEKNUM(vlookup_data[[#This Row],[Column8]],2)","v":1},{"$f":"YEAR(vlookup_data[[#This Row],[Column8]])","v":1900},0,{"$f":"CONCATENATE(vlookup_data[[#This Row],[style '#]],\"|\",R810)","v":"0|"}]
[{"$f":"IF(ISNUMBER(U811)=TRUE,VLOOKUP(vlookup_data[[#This Row],[style '#]],[2]Sheet1!$A:$D,4,0)*ABS(U811),0)","v":0},{"$f":"WEEKNUM(vlookup_data[[#This Row],[Column8]],2)","v":1},{"$f":"YEAR(vlookup_data[[#This Row],[Column8]])","v":1900},0,{"$f":"CONCATENATE(vlookup_data[[#This Row],[style '#]],\"|\",R811)","v":"0|"}]
[{"$f":"IF(ISNUMBER(U812)=TRUE,VLOOKUP(vlookup_data[[#This Row],[style '#]],[2]Sheet1!$A:$D,4,0)*ABS(U812),0)","v":0},{"$f":"WEEKNUM(vlookup_data[[#This Row],[Column8]],2)","v":1},{"$f":"YEAR(vlookup_data[[#This Row],[Column8]])","v":1900},0,{"$f":"CONCATENATE(vlookup_data[[#This Row],[style '#]],\"|\",R812)","v":"0|"}]
[{"$f":"IF(ISNUMBER(U813)=TRUE,VLOOKUP(vlookup_data[[#This Row],[style '#]],[2]Sheet1!$A:$D,4,0)*ABS(U813),0)","v":0},{"$f":"WEEKNUM(vlookup_data[[#This Row],[Column8]],2)","v":1},{"$f":"YEAR(vlookup_data[[#This Row],[Column8]])","v":1900},0,{"$f":"CONCATENATE(vlookup_data[[#This Row],[style '#]],\"|\",R813)","v":"0|"}]
[{"$f":"IF(ISNUMBER(U814)=TRUE,VLOOKUP(vlookup_data[[#This Row],[style '#]],[2]Sheet1!$A:$D,4,0)*ABS(U814),0)","v":0},{"$f":"WEEKNUM(vlookup_data[[#This Row],[Column8]],2)","v":1},{"$f":"YEAR(vlookup_data[[#This Row],[Column8]])","v":1900},0,{"$f":"CONCATENATE(vlookup_data[[#This Row],[style '#]],\"|\",R814)","v":"0|"}]
[{"$f":"IF(ISNUMBER(U815)=TRUE,VLOOKUP(vlookup_data[[#This Row],[style '#]],[2]Sheet1!$A:$D,4,0)*ABS(U815),0)","v":0},{"$f":"WEEKNUM(vlookup_data[[#This Row],[Column8]],2)","v":1},{"$f":"YEAR(vlookup_data[[#This Row],[Column8]])","v":1900},0,{"$f":"CONCATENATE(vlookup_data[[#This Row],[style '#]],\"|\",R815)","v":"0|"}]
[{"$f":"IF(ISNUMBER(U816)=TRUE,VLOOKUP(vlookup_data[[#This Row],[style '#]],[2]Sheet1!$A:$D,4,0)*ABS(U816),0)","v":0},{"$f":"WEEKNUM(vlookup_data[[#This Row],[Column8]],2)","v":1},{"$f":"YEAR(vlookup_data[[#This Row],[Column8]])","v":1900},0,{"$f":"CONCATENATE(vlookup_data[[#This Row],[style '#]],\"|\",R816)","v":"0|"}]
[{"$f":"IF(ISNUMBER(U817)=TRUE,VLOOKUP(vlookup_data[[#This Row],[style '#]],[2]Sheet1!$A:$D,4,0)*ABS(U817),0)","v":0},{"$f":"WEEKNUM(vlookup_data[[#This Row],[Column8]],2)","v":1},{"$f":"YEAR(vlookup_data[[#This Row],[Column8]])","v":1900},0,{"$f":"CONCATENATE(vlookup_data[[#This Row],[style '#]],\"|\",R817)","v":"0|"}]
[{"$f":"IF(ISNUMBER(U818)=TRUE,VLOOKUP(vlookup_data[[#This Row],[style '#]],[2]Sheet1!$A:$D,4,0)*ABS(U818),0)","v":0},{"$f":"WEEKNUM(vlookup_data[[#This Row],[Column8]],2)","v":1},{"$f":"YEAR(vlookup_data[[#This Row],[Column8]])","v":1900},0,{"$f":"CONCATENATE(vlookup_data[[#This Row],[style '#]],\"|\",R818)","v":"0|"}]
[{"$f":"IF(ISNUMBER(U819)=TRUE,VLOOKUP(vlookup_data[[#This Row],[style '#]],[2]Sheet1!$A:$D,4,0)*ABS(U819),0)","v":0},{"$f":"WEEKNUM(vlookup_data[[#This Row],[Column8]],2)","v":1},{"$f":"YEAR(vlookup_data[[#This Row],[Column8]])","v":1900},0,{"$f":"CONCATENATE(vlookup_data[[#This Row],[style '#]],\"|\",R819)","v":"0|"}]
[{"$f":"IF(ISNUMBER(U820)=TRUE,VLOOKUP(vlookup_data[[#This Row],[style '#]],[2]Sheet1!$A:$D,4,0)*ABS(U820),0)","v":0},{"$f":"WEEKNUM(vlookup_data[[#This Row],[Column8]],2)","v":1},{"$f":"YEAR(vlookup_data[[#This Row],[Column8]])","v":1900},0,{"$f":"CONCATENATE(vlookup_data[[#This Row],[style '#]],\"|\",R820)","v":"0|"}]
[{"$f":"IF(ISNUMBER(U821)=TRUE,VLOOKUP(vlookup_data[[#This Row],[style '#]],[2]Sheet1!$A:$D,4,0)*ABS(U821),0)","v":0},{"$f":"WEEKNUM(vlookup_data[[#This Row],[Column8]],2)","v":1},{"$f":"YEAR(vlookup_data[[#This Row],[Column8]])","v":1900},0,{"$f":"CONCATENATE(vlookup_data[[#This Row],[style '#]],\"|\",R821)","v":"0|"}]
[{"$f":"IF(ISNUMBER(U822)=TRUE,VLOOKUP(vlookup_data[[#This Row],[style '#]],[2]Sheet1!$A:$D,4,0)*ABS(U822),0)","v":0},{"$f":"WEEKNUM(vlookup_data[[#This Row],[Column8]],2)","v":1},{"$f":"YEAR(vlookup_data[[#This Row],[Column8]])","v":1900},0,{"$f":"CONCATENATE(vlookup_data[[#This Row],[style '#]],\"|\",R822)","v":"0|"}]
[{"$f":"IF(ISNUMBER(U823)=TRUE,VLOOKUP(vlookup_data[[#This Row],[style '#]],[2]Sheet1!$A:$D,4,0)*ABS(U823),0)","v":0},{"$f":"WEEKNUM(vlookup_data[[#This Row],[Column8]],2)","v":1},{"$f":"YEAR(vlookup_data[[#This Row],[Column8]])","v":1900},0,{"$f":"CONCATENATE(vlookup_data[[#This Row],[style '#]],\"|\",R823)","v":"0|"}]
[{"$f":"IF(ISNUMBER(U824)=TRUE,VLOOKUP(vlookup_data[[#This Row],[style '#]],[2]Sheet1!$A:$D,4,0)*ABS(U824),0)","v":0},{"$f":"WEEKNUM(vlookup_data[[#This Row],[Column8]],2)","v":1},{"$f":"YEAR(vlookup_data[[#This Row],[Column8]])","v":1900},0,{"$f":"CONCATENATE(vlookup_data[[#This Row],[style '#]],\"|\",R824)","v":"0|"}]
[{"$f":"IF(ISNUMBER(U825)=TRUE,VLOOKUP(vlookup_data[[#This Row],[style '#]],[2]Sheet1!$A:$D,4,0)*ABS(U825),0)","v":0},{"$f":"WEEKNUM(vlookup_data[[#This Row],[Column8]],2)","v":1},{"$f":"YEAR(vlookup_data[[#This Row],[Column8]])","v":1900},0,{"$f":"CONCATENATE(vlookup_data[[#This Row],[style '#]],\"|\",R825)","v":"0|"}]
[{"$f":"IF(ISNUMBER(U826)=TRUE,VLOOKUP(vlookup_data[[#This Row],[style '#]],[2]Sheet1!$A:$D,4,0)*ABS(U826),0)","v":0},{"$f":"WEEKNUM(vlookup_data[[#This Row],[Column8]],2)","v":1},{"$f":"YEAR(vlookup_data[[#This Row],[Column8]])","v":1900},0,{"$f":"CONCATENATE(vlookup_data[[#This Row],[style '#]],\"|\",R826)","v":"0|"}]
[{"$f":"IF(ISNUMBER(U827)=TRUE,VLOOKUP(vlookup_data[[#This Row],[style '#]],[2]Sheet1!$A:$D,4,0)*ABS(U827),0)","v":0},{"$f":"WEEKNUM(vlookup_data[[#This Row],[Column8]],2)","v":1},{"$f":"YEAR(vlookup_data[[#This Row],[Column8]])","v":1900},0,{"$f":"CONCATENATE(vlookup_data[[#This Row],[style '#]],\"|\",R827)","v":"0|"}]
[{"$f":"IF(ISNUMBER(U828)=TRUE,VLOOKUP(vlookup_data[[#This Row],[style '#]],[2]Sheet1!$A:$D,4,0)*ABS(U828),0)","v":0},{"$f":"WEEKNUM(vlookup_data[[#This Row],[Column8]],2)","v":1},{"$f":"YEAR(vlookup_data[[#This Row],[Column8]])","v":1900},0,{"$f":"CONCATENATE(vlookup_data[[#This Row],[style '#]],\"|\",R828)","v":"0|"}]
[{"$f":"IF(ISNUMBER(U829)=TRUE,VLOOKUP(vlookup_data[[#This Row],[style '#]],[2]Sheet1!$A:$D,4,0)*ABS(U829),0)","v":0},{"$f":"WEEKNUM(vlookup_data[[#This Row],[Column8]],2)","v":1},{"$f":"YEAR(vlookup_data[[#This Row],[Column8]])","v":1900},0,{"$f":"CONCATENATE(vlookup_data[[#This Row],[style '#]],\"|\",R829)","v":"0|"}]
[{"$f":"IF(ISNUMBER(U830)=TRUE,VLOOKUP(vlookup_data[[#This Row],[style '#]],[2]Sheet1!$A:$D,4,0)*ABS(U830),0)","v":0},{"$f":"WEEKNUM(vlookup_data[[#This Row],[Column8]],2)","v":1},{"$f":"YEAR(vlookup_data[[#This Row],[Column8]])","v":1900},0,{"$f":"CONCATENATE(vlookup_data[[#This Row],[style '#]],\"|\",R830)","v":"0|"}]
[{"$f":"IF(ISNUMBER(U831)=TRUE,VLOOKUP(vlookup_data[[#This Row],[style '#]],[2]Sheet1!$A:$D,4,0)*ABS(U831),0)","v":0},{"$f":"WEEKNUM(vlookup_data[[#This Row],[Column8]],2)","v":1},{"$f":"YEAR(vlookup_data[[#This Row],[Column8]])","v":1900},0,{"$f":"CONCATENATE(vlookup_data[[#This Row],[style '#]],\"|\",R831)","v":"0|"}]
[{"$f":"IF(ISNUMBER(U832)=TRUE,VLOOKUP(vlookup_data[[#This Row],[style '#]],[2]Sheet1!$A:$D,4,0)*ABS(U832),0)","v":0},{"$f":"WEEKNUM(vlookup_data[[#This Row],[Column8]],2)","v":1},{"$f":"YEAR(vlookup_data[[#This Row],[Column8]])","v":1900},0,{"$f":"CONCATENATE(vlookup_data[[#This Row],[style '#]],\"|\",R832)","v":"0|"}]
[{"$f":"IF(ISNUMBER(U833)=TRUE,VLOOKUP(vlookup_data[[#This Row],[style '#]],[2]Sheet1!$A:$D,4,0)*ABS(U833),0)","v":0},{"$f":"WEEKNUM(vlookup_data[[#This Row],[Column8]],2)","v":1},{"$f":"YEAR(vlookup_data[[#This Row],[Column8]])","v":1900},0,{"$f":"CONCATENATE(vlookup_data[[#This Row],[style '#]],\"|\",R833)","v":"0|"}]
[{"$f":"IF(ISNUMBER(U834)=TRUE,VLOOKUP(vlookup_data[[#This Row],[style '#]],[2]Sheet1!$A:$D,4,0)*ABS(U834),0)","v":0},{"$f":"WEEKNUM(vlookup_data[[#This Row],[Column8]],2)","v":1},{"$f":"YEAR(vlookup_data[[#This Row],[Column8]])","v":1900},0,{"$f":"CONCATENATE(vlookup_data[[#This Row],[style '#]],\"|\",R834)","v":"0|"}]
[{"$f":"IF(ISNUMBER(U835)=TRUE,VLOOKUP(vlookup_data[[#This Row],[style '#]],[2]Sheet1!$A:$D,4,0)*ABS(U835),0)","v":0},{"$f":"WEEKNUM(vlookup_data[[#This Row],[Column8]],2)","v":1},{"$f":"YEAR(vlookup_data[[#This Row],[Column8]])","v":1900},0,{"$f":"CONCATENATE(vlookup_data[[#This Row],[style '#]],\"|\",R835)","v":"0|"}]
[{"$f":"IF(ISNUMBER(U836)=TRUE,VLOOKUP(vlookup_data[[#This Row],[style '#]],[2]Sheet1!$A:$D,4,0)*ABS(U836),0)","v":0},{"$f":"WEEKNUM(vlookup_data[[#This Row],[Column8]],2)","v":1},{"$f":"YEAR(vlookup_data[[#This Row],[Column8]])","v":1900},0,{"$f":"CONCATENATE(vlookup_data[[#This Row],[style '#]],\"|\",R836)","v":"0|"}]
[{"$f":"IF(ISNUMBER(U837)=TRUE,VLOOKUP(vlookup_data[[#This Row],[style '#]],[2]Sheet1!$A:$D,4,0)*ABS(U837),0)","v":0},{"$f":"WEEKNUM(vlookup_data[[#This Row],[Column8]],2)","v":1},{"$f":"YEAR(vlookup_data[[#This Row],[Column8]])","v":1900},0,{"$f":"CONCATENATE(vlookup_data[[#This Row],[style '#]],\"|\",R837)","v":"0|"}]
[{"$f":"IF(ISNUMBER(U838)=TRUE,VLOOKUP(vlookup_data[[#This Row],[style '#]],[2]Sheet1!$A:$D,4,0)*ABS(U838),0)","v":0},{"$f":"WEEKNUM(vlookup_data[[#This Row],[Column8]],2)","v":1},{"$f":"YEAR(vlookup_data[[#This Row],[Column8]])","v":1900},0,{"$f":"CONCATENATE(vlookup_data[[#This Row],[style '#]],\"|\",R838)","v":"0|"}]
[{"$f":"IF(ISNUMBER(U839)=TRUE,VLOOKUP(vlookup_data[[#This Row],[style '#]],[2]Sheet1!$A:$D,4,0)*ABS(U839),0)","v":0},{"$f":"WEEKNUM(vlookup_data[[#This Row],[Column8]],2)","v":1},{"$f":"YEAR(vlookup_data[[#This Row],[Column8]])","v":1900},0,{"$f":"CONCATENATE(vlookup_data[[#This Row],[style '#]],\"|\",R839)","v":"0|"}]
[{"$f":"IF(ISNUMBER(U840)=TRUE,VLOOKUP(vlookup_data[[#This Row],[style '#]],[2]Sheet1!$A:$D,4,0)*ABS(U840),0)","v":0},{"$f":"WEEKNUM(vlookup_data[[#This Row],[Column8]],2)","v":1},{"$f":"YEAR(vlookup_data[[#This Row],[Column8]])","v":1900},0,{"$f":"CONCATENATE(vlookup_data[[#This Row],[style '#]],\"|\",R840)","v":"0|"}]
[{"$f":"IF(ISNUMBER(U841)=TRUE,VLOOKUP(vlookup_data[[#This Row],[style '#]],[2]Sheet1!$A:$D,4,0)*ABS(U841),0)","v":0},{"$f":"WEEKNUM(vlookup_data[[#This Row],[Column8]],2)","v":1},{"$f":"YEAR(vlookup_data[[#This Row],[Column8]])","v":1900},{"$f":"VALUE(G841)","v":0},{"$f":"CONCATENATE(vlookup_data[[#This Row],[style '#]],\"|\",R841)","v":"0|"}]
[{"$f":"IF(ISNUMBER(U842)=TRUE,VLOOKUP(vlookup_data[[#This Row],[style '#]],[2]Sheet1!$A:$D,4,0)*ABS(U842),0)","v":0},{"$f":"WEEKNUM(vlookup_data[[#This Row],[Column8]],2)","v":1},{"$f":"YEAR(vlookup_data[[#This Row],[Column8]])","v":1900},0,{"$f":"CONCATENATE(vlookup_data[[#This Row],[style '#]],\"|\",R842)","v":"0|"}]
[{"$f":"IF(ISNUMBER(U843)=TRUE,VLOOKUP(vlookup_data[[#This Row],[style '#]],[2]Sheet1!$A:$D,4,0)*ABS(U843),0)","v":0},{"$f":"WEEKNUM(vlookup_data[[#This Row],[Column8]],2)","v":1},{"$f":"YEAR(vlookup_data[[#This Row],[Column8]])","v":1900},0,{"$f":"CONCATENATE(vlookup_data[[#This Row],[style '#]],\"|\",R843)","v":"0|"}]
[{"$f":"IF(ISNUMBER(U844)=TRUE,VLOOKUP(vlookup_data[[#This Row],[style '#]],[2]Sheet1!$A:$D,4,0)*ABS(U844),0)","v":0},{"$f":"WEEKNUM(vlookup_data[[#This Row],[Column8]],2)","v":1},{"$f":"YEAR(vlookup_data[[#This Row],[Column8]])","v":1900},0,{"$f":"CONCATENATE(vlookup_data[[#This Row],[style '#]],\"|\",R844)","v":"0|"}]
[{"$f":"IF(ISNUMBER(U845)=TRUE,VLOOKUP(vlookup_data[[#This Row],[style '#]],[2]Sheet1!$A:$D,4,0)*ABS(U845),0)","v":0},{"$f":"WEEKNUM(vlookup_data[[#This Row],[Column8]],2)","v":1},{"$f":"YEAR(vlookup_data[[#This Row],[Column8]])","v":1900},0,{"$f":"CONCATENATE(vlookup_data[[#This Row],[style '#]],\"|\",R845)","v":"0|"}]
[{"$f":"IF(ISNUMBER(U846)=TRUE,VLOOKUP(vlookup_data[[#This Row],[style '#]],[2]Sheet1!$A:$D,4,0)*ABS(U846),0)","v":0},{"$f":"WEEKNUM(vlookup_data[[#This Row],[Column8]],2)","v":1},{"$f":"YEAR(vlookup_data[[#This Row],[Column8]])","v":1900},0,{"$f":"CONCATENATE(vlookup_data[[#This Row],[style '#]],\"|\",R846)","v":"0|"}]
[{"$f":"IF(ISNUMBER(U847)=TRUE,VLOOKUP(vlookup_data[[#This Row],[style '#]],[2]Sheet1!$A:$D,4,0)*ABS(U847),0)","v":0},{"$f":"WEEKNUM(vlookup_data[[#This Row],[Column8]],2)","v":1},{"$f":"YEAR(vlookup_data[[#This Row],[Column8]])","v":1900},0,{"$f":"CONCATENATE(vlookup_data[[#This Row],[style '#]],\"|\",R847)","v":"0|"}]
[{"$f":"IF(ISNUMBER(U848)=TRUE,VLOOKUP(vlookup_data[[#This Row],[style '#]],[2]Sheet1!$A:$D,4,0)*ABS(U848),0)","v":0},{"$f":"WEEKNUM(vlookup_data[[#This Row],[Column8]],2)","v":1},{"$f":"YEAR(vlookup_data[[#This Row],[Column8]])","v":1900},0,{"$f":"CONCATENATE(vlookup_data[[#This Row],[style '#]],\"|\",R848)","v":"0|"}]
[{"$f":"IF(ISNUMBER(U849)=TRUE,VLOOKUP(vlookup_data[[#This Row],[style '#]],[2]Sheet1!$A:$D,4,0)*ABS(U849),0)","v":0},{"$f":"WEEKNUM(vlookup_data[[#This Row],[Column8]],2)","v":1},{"$f":"YEAR(vlookup_data[[#This Row],[Column8]])","v":1900},0,{"$f":"CONCATENATE(vlookup_data[[#This Row],[style '#]],\"|\",R849)","v":"0|"}]
[{"$f":"IF(ISNUMBER(U850)=TRUE,VLOOKUP(vlookup_data[[#This Row],[style '#]],[2]Sheet1!$A:$D,4,0)*ABS(U850),0)","v":0},{"$f":"WEEKNUM(vlookup_data[[#This Row],[Column8]],2)","v":1},{"$f":"YEAR(vlookup_data[[#This Row],[Column8]])","v":1900},0,{"$f":"CONCATENATE(vlookup_data[[#This Row],[style '#]],\"|\",R850)","v":"0|"}]
[{"$f":"IF(ISNUMBER(U851)=TRUE,VLOOKUP(vlookup_data[[#This Row],[style '#]],[2]Sheet1!$A:$D,4,0)*ABS(U851),0)","v":0},{"$f":"WEEKNUM(vlookup_data[[#This Row],[Column8]],2)","v":1},{"$f":"YEAR(vlookup_data[[#This Row],[Column8]])","v":1900},0,{"$f":"CONCATENATE(vlookup_data[[#This Row],[style '#]],\"|\",R851)","v":"0|"}]
[{"$f":"IF(ISNUMBER(U852)=TRUE,VLOOKUP(vlookup_data[[#This Row],[style '#]],[2]Sheet1!$A:$D,4,0)*ABS(U852),0)","v":0},{"$f":"WEEKNUM(vlookup_data[[#This Row],[Column8]],2)","v":1},{"$f":"YEAR(vlookup_data[[#This Row],[Column8]])","v":1900},0,{"$f":"CONCATENATE(vlookup_data[[#This Row],[style '#]],\"|\",R852)","v":"0|"}]
[{"$f":"IF(ISNUMBER(U853)=TRUE,VLOOKUP(vlookup_data[[#This Row],[style '#]],[2]Sheet1!$A:$D,4,0)*ABS(U853),0)","v":0},{"$f":"WEEKNUM(vlookup_data[[#This Row],[Column8]],2)","v":1},{"$f":"YEAR(vlookup_data[[#This Row],[Column8]])","v":1900},0,{"$f":"CONCATENATE(vlookup_data[[#This Row],[style '#]],\"|\",R853)","v":"0|"}]
[{"$f":"IF(ISNUMBER(U854)=TRUE,VLOOKUP(vlookup_data[[#This Row],[style '#]],[2]Sheet1!$A:$D,4,0)*ABS(U854),0)","v":0},{"$f":"WEEKNUM(vlookup_data[[#This Row],[Column8]],2)","v":1},{"$f":"YEAR(vlookup_data[[#This Row],[Column8]])","v":1900},0,{"$f":"CONCATENATE(vlookup_data[[#This Row],[style '#]],\"|\",R854)","v":"0|"}]
[{"$f":"IF(ISNUMBER(U855)=TRUE,VLOOKUP(vlookup_data[[#This Row],[style '#]],[2]Sheet1!$A:$D,4,0)*ABS(U855),0)","v":0},{"$f":"WEEKNUM(vlookup_data[[#This Row],[Column8]],2)","v":1},{"$f":"YEAR(vlookup_data[[#This Row],[Column8]])","v":1900},0,{"$f":"CONCATENATE(vlookup_data[[#This Row],[style '#]],\"|\",R855)","v":"0|"}]
[{"$f":"IF(ISNUMBER(U856)=TRUE,VLOOKUP(vlookup_data[[#This Row],[style '#]],[2]Sheet1!$A:$D,4,0)*ABS(U856),0)","v":0},{"$f":"WEEKNUM(vlookup_data[[#This Row],[Column8]],2)","v":1},{"$f":"YEAR(vlookup_data[[#This Row],[Column8]])","v":1900},0,{"$f":"CONCATENATE(vlookup_data[[#This Row],[style '#]],\"|\",R856)","v":"0|"}]
[{"$f":"IF(ISNUMBER(U857)=TRUE,VLOOKUP(vlookup_data[[#This Row],[style '#]],[2]Sheet1!$A:$D,4,0)*ABS(U857),0)","v":0},{"$f":"WEEKNUM(vlookup_data[[#This Row],[Column8]],2)","v":1},{"$f":"YEAR(vlookup_data[[#This Row],[Column8]])","v":1900},0,{"$f":"CONCATENATE(vlookup_data[[#This Row],[style '#]],\"|\",R857)","v":"0|"}]
[{"$f":"IF(ISNUMBER(U858)=TRUE,VLOOKUP(vlookup_data[[#This Row],[style '#]],[2]Sheet1!$A:$D,4,0)*ABS(U858),0)","v":0},{"$f":"WEEKNUM(vlookup_data[[#This Row],[Column8]],2)","v":1},{"$f":"YEAR(vlookup_data[[#This Row],[Column8]])","v":1900},0,{"$f":"CONCATENATE(vlookup_data[[#This Row],[style '#]],\"|\",R858)","v":"0|"}]
[{"$f":"IF(ISNUMBER(U859)=TRUE,VLOOKUP(vlookup_data[[#This Row],[style '#]],[2]Sheet1!$A:$D,4,0)*ABS(U859),0)","v":0},{"$f":"WEEKNUM(vlookup_data[[#This Row],[Column8]],2)","v":1},{"$f":"YEAR(vlookup_data[[#This Row],[Column8]])","v":1900},0,{"$f":"CONCATENATE(vlookup_data[[#This Row],[style '#]],\"|\",R859)","v":"0|"}]
[{"$f":"IF(ISNUMBER(U860)=TRUE,VLOOKUP(vlookup_data[[#This Row],[style '#]],[2]Sheet1!$A:$D,4,0)*ABS(U860),0)","v":0},{"$f":"WEEKNUM(vlookup_data[[#This Row],[Column8]],2)","v":1},{"$f":"YEAR(vlookup_data[[#This Row],[Column8]])","v":1900},0,{"$f":"CONCATENATE(vlookup_data[[#This Row],[style '#]],\"|\",R860)","v":"0|"}]
[{"$f":"IF(ISNUMBER(U861)=TRUE,VLOOKUP(vlookup_data[[#This Row],[style '#]],[2]Sheet1!$A:$D,4,0)*ABS(U861),0)","v":0},{"$f":"WEEKNUM(vlookup_data[[#This Row],[Column8]],2)","v":1},{"$f":"YEAR(vlookup_data[[#This Row],[Column8]])","v":1900},0,{"$f":"CONCATENATE(vlookup_data[[#This Row],[style '#]],\"|\",R861)","v":"0|"}]
[{"$f":"IF(ISNUMBER(U862)=TRUE,VLOOKUP(vlookup_data[[#This Row],[style '#]],[2]Sheet1!$A:$D,4,0)*ABS(U862),0)","v":0},{"$f":"WEEKNUM(vlookup_data[[#This Row],[Column8]],2)","v":1},{"$f":"YEAR(vlookup_data[[#This Row],[Column8]])","v":1900},0,{"$f":"CONCATENATE(vlookup_data[[#This Row],[style '#]],\"|\",R862)","v":"0|"}]
[{"$f":"IF(ISNUMBER(U863)=TRUE,VLOOKUP(vlookup_data[[#This Row],[style '#]],[2]Sheet1!$A:$D,4,0)*ABS(U863),0)","v":0},{"$f":"WEEKNUM(vlookup_data[[#This Row],[Column8]],2)","v":1},{"$f":"YEAR(vlookup_data[[#This Row],[Column8]])","v":1900},0,{"$f":"CONCATENATE(vlookup_data[[#This Row],[style '#]],\"|\",R863)","v":"0|"}]
[{"$f":"IF(ISNUMBER(U864)=TRUE,VLOOKUP(vlookup_data[[#This Row],[style '#]],[2]Sheet1!$A:$D,4,0)*ABS(U864),0)","v":0},{"$f":"WEEKNUM(vlookup_data[[#This Row],[Column8]],2)","v":1},{"$f":"YEAR(vlookup_data[[#This Row],[Column8]])","v":1900},0,{"$f":"CONCATENATE(vlookup_data[[#This Row],[style '#]],\"|\",R864)","v":"0|"}]
[{"$f":"IF(ISNUMBER(U865)=TRUE,VLOOKUP(vlookup_data[[#This Row],[style '#]],[2]Sheet1!$A:$D,4,0)*ABS(U865),0)","v":0},{"$f":"WEEKNUM(vlookup_data[[#This Row],[Column8]],2)","v":1},{"$f":"YEAR(vlookup_data[[#This Row],[Column8]])","v":1900},0,{"$f":"CONCATENATE(vlookup_data[[#This Row],[style '#]],\"|\",R865)","v":"0|"}]
[{"$f":"IF(ISNUMBER(U866)=TRUE,VLOOKUP(vlookup_data[[#This Row],[style '#]],[2]Sheet1!$A:$D,4,0)*ABS(U866),0)","v":0},{"$f":"WEEKNUM(vlookup_data[[#This Row],[Column8]],2)","v":1},{"$f":"YEAR(vlookup_data[[#This Row],[Column8]])","v":1900},0,{"$f":"CONCATENATE(vlookup_data[[#This Row],[style '#]],\"|\",R866)","v":"0|"}]
[{"$f":"IF(ISNUMBER(U867)=TRUE,VLOOKUP(vlookup_data[[#This Row],[style '#]],[2]Sheet1!$A:$D,4,0)*ABS(U867),0)","v":0},{"$f":"WEEKNUM(vlookup_data[[#This Row],[Column8]],2)","v":1},{"$f":"YEAR(vlookup_data[[#This Row],[Column8]])","v":1900},0,{"$f":"CONCATENATE(vlookup_data[[#This Row],[style '#]],\"|\",R867)","v":"0|"}]
[{"$f":"IF(ISNUMBER(U868)=TRUE,VLOOKUP(vlookup_data[[#This Row],[style '#]],[2]Sheet1!$A:$D,4,0)*ABS(U868),0)","v":0},{"$f":"WEEKNUM(vlookup_data[[#This Row],[Column8]],2)","v":1},{"$f":"YEAR(vlookup_data[[#This Row],[Column8]])","v":1900},0,{"$f":"CONCATENATE(vlookup_data[[#This Row],[style '#]],\"|\",R868)","v":"0|"}]
[{"$f":"IF(ISNUMBER(U869)=TRUE,VLOOKUP(vlookup_data[[#This Row],[style '#]],[2]Sheet1!$A:$D,4,0)*ABS(U869),0)","v":0},{"$f":"WEEKNUM(vlookup_data[[#This Row],[Column8]],2)","v":1},{"$f":"YEAR(vlookup_data[[#This Row],[Column8]])","v":1900},0,{"$f":"CONCATENATE(vlookup_data[[#This Row],[style '#]],\"|\",R869)","v":"0|"}]
[{"$f":"IF(ISNUMBER(U870)=TRUE,VLOOKUP(vlookup_data[[#This Row],[style '#]],[2]Sheet1!$A:$D,4,0)*ABS(U870),0)","v":0},{"$f":"WEEKNUM(vlookup_data[[#This Row],[Column8]],2)","v":1},{"$f":"YEAR(vlookup_data[[#This Row],[Column8]])","v":1900},0,{"$f":"CONCATENATE(vlookup_data[[#This Row],[style '#]],\"|\",R870)","v":"0|"}]
[{"$f":"IF(ISNUMBER(U871)=TRUE,VLOOKUP(vlookup_data[[#This Row],[style '#]],[2]Sheet1!$A:$D,4,0)*ABS(U871),0)","v":0},{"$f":"WEEKNUM(vlookup_data[[#This Row],[Column8]],2)","v":1},{"$f":"YEAR(vlookup_data[[#This Row],[Column8]])","v":1900},0,{"$f":"CONCATENATE(vlookup_data[[#This Row],[style '#]],\"|\",R871)","v":"0|"}]
[{"$f":"IF(ISNUMBER(U872)=TRUE,VLOOKUP(vlookup_data[[#This Row],[style '#]],[2]Sheet1!$A:$D,4,0)*ABS(U872),0)","v":0},{"$f":"WEEKNUM(vlookup_data[[#This Row],[Column8]],2)","v":1},{"$f":"YEAR(vlookup_data[[#This Row],[Column8]])","v":1900},0,{"$f":"CONCATENATE(vlookup_data[[#This Row],[style '#]],\"|\",R872)","v":"0|"}]
[{"$f":"IF(ISNUMBER(U873)=TRUE,VLOOKUP(vlookup_data[[#This Row],[style '#]],[2]Sheet1!$A:$D,4,0)*ABS(U873),0)","v":0},{"$f":"WEEKNUM(vlookup_data[[#This Row],[Column8]],2)","v":1},{"$f":"YEAR(vlookup_data[[#This Row],[Column8]])","v":1900},0,{"$f":"CONCATENATE(vlookup_data[[#This Row],[style '#]],\"|\",R873)","v":"0|"}]
[{"$f":"IF(ISNUMBER(U874)=TRUE,VLOOKUP(vlookup_data[[#This Row],[style '#]],[2]Sheet1!$A:$D,4,0)*ABS(U874),0)","v":0},{"$f":"WEEKNUM(vlookup_data[[#This Row],[Column8]],2)","v":1},{"$f":"YEAR(vlookup_data[[#This Row],[Column8]])","v":1900},0,{"$f":"CONCATENATE(vlookup_data[[#This Row],[style '#]],\"|\",R874)","v":"0|"}]
[{"$f":"IF(ISNUMBER(U875)=TRUE,VLOOKUP(vlookup_data[[#This Row],[style '#]],[2]Sheet1!$A:$D,4,0)*ABS(U875),0)","v":0},{"$f":"WEEKNUM(vlookup_data[[#This Row],[Column8]],2)","v":1},{"$f":"YEAR(vlookup_data[[#This Row],[Column8]])","v":1900},0,{"$f":"CONCATENATE(vlookup_data[[#This Row],[style '#]],\"|\",R875)","v":"0|"}]
[{"$f":"IF(ISNUMBER(U876)=TRUE,VLOOKUP(vlookup_data[[#This Row],[style '#]],[2]Sheet1!$A:$D,4,0)*ABS(U876),0)","v":0},{"$f":"WEEKNUM(vlookup_data[[#This Row],[Column8]],2)","v":1},{"$f":"YEAR(vlookup_data[[#This Row],[Column8]])","v":1900},0,{"$f":"CONCATENATE(vlookup_data[[#This Row],[style '#]],\"|\",R876)","v":"0|"}]
[{"$f":"IF(ISNUMBER(U877)=TRUE,VLOOKUP(vlookup_data[[#This Row],[style '#]],[2]Sheet1!$A:$D,4,0)*ABS(U877),0)","v":0},{"$f":"WEEKNUM(vlookup_data[[#This Row],[Column8]],2)","v":1},{"$f":"YEAR(vlookup_data[[#This Row],[Column8]])","v":1900},0,{"$f":"CONCATENATE(vlookup_data[[#This Row],[style '#]],\"|\",R877)","v":"0|"}]
[{"$f":"IF(ISNUMBER(U878)=TRUE,VLOOKUP(vlookup_data[[#This Row],[style '#]],[2]Sheet1!$A:$D,4,0)*ABS(U878),0)","v":0},{"$f":"WEEKNUM(vlookup_data[[#This Row],[Column8]],2)","v":1},{"$f":"YEAR(vlookup_data[[#This Row],[Column8]])","v":1900},0,{"$f":"CONCATENATE(vlookup_data[[#This Row],[style '#]],\"|\",R878)","v":"0|"}]
[{"$f":"IF(ISNUMBER(U879)=TRUE,VLOOKUP(vlookup_data[[#This Row],[style '#]],[2]Sheet1!$A:$D,4,0)*ABS(U879),0)","v":0},{"$f":"WEEKNUM(vlookup_data[[#This Row],[Column8]],2)","v":1},{"$f":"YEAR(vlookup_data[[#This Row],[Column8]])","v":1900},0,{"$f":"CONCATENATE(vlookup_data[[#This Row],[style '#]],\"|\",R879)","v":"0|"}]
[{"$f":"IF(ISNUMBER(U880)=TRUE,VLOOKUP(vlookup_data[[#This Row],[style '#]],[2]Sheet1!$A:$D,4,0)*ABS(U880),0)","v":0},{"$f":"WEEKNUM(vlookup_data[[#This Row],[Column8]],2)","v":1},{"$f":"YEAR(vlookup_data[[#This Row],[Column8]])","v":1900},0,{"$f":"CONCATENATE(vlookup_data[[#This Row],[style '#]],\"|\",R880)","v":"0|"}]
[{"$f":"IF(ISNUMBER(U881)=TRUE,VLOOKUP(vlookup_data[[#This Row],[style '#]],[2]Sheet1!$A:$D,4,0)*ABS(U881),0)","v":0},{"$f":"WEEKNUM(vlookup_data[[#This Row],[Column8]],2)","v":1},{"$f":"YEAR(vlookup_data[[#This Row],[Column8]])","v":1900},0,{"$f":"CONCATENATE(vlookup_data[[#This Row],[style '#]],\"|\",R881)","v":"0|"}]
[{"$f":"IF(ISNUMBER(U882)=TRUE,VLOOKUP(vlookup_data[[#This Row],[style '#]],[2]Sheet1!$A:$D,4,0)*ABS(U882),0)","v":0},{"$f":"WEEKNUM(vlookup_data[[#This Row],[Column8]],2)","v":1},{"$f":"YEAR(vlookup_data[[#This Row],[Column8]])","v":1900},0,{"$f":"CONCATENATE(vlookup_data[[#This Row],[style '#]],\"|\",R882)","v":"0|"}]
[{"$f":"IF(ISNUMBER(U883)=TRUE,VLOOKUP(vlookup_data[[#This Row],[style '#]],[2]Sheet1!$A:$D,4,0)*ABS(U883),0)","v":0},{"$f":"WEEKNUM(vlookup_data[[#This Row],[Column8]],2)","v":1},{"$f":"YEAR(vlookup_data[[#This Row],[Column8]])","v":1900},0,{"$f":"CONCATENATE(vlookup_data[[#This Row],[style '#]],\"|\",R883)","v":"0|"}]
[{"$f":"IF(ISNUMBER(U884)=TRUE,VLOOKUP(vlookup_data[[#This Row],[style '#]],[2]Sheet1!$A:$D,4,0)*ABS(U884),0)","v":0},{"$f":"WEEKNUM(vlookup_data[[#This Row],[Column8]],2)","v":1},{"$f":"YEAR(vlookup_data[[#This Row],[Column8]])","v":1900},0,{"$f":"CONCATENATE(vlookup_data[[#This Row],[style '#]],\"|\",R884)","v":"0|"}]
[{"$f":"IF(ISNUMBER(U885)=TRUE,VLOOKUP(vlookup_data[[#This Row],[style '#]],[2]Sheet1!$A:$D,4,0)*ABS(U885),0)","v":0},{"$f":"WEEKNUM(vlookup_data[[#This Row],[Column8]],2)","v":1},{"$f":"YEAR(vlookup_data[[#This Row],[Column8]])","v":1900},0,{"$f":"CONCATENATE(vlookup_data[[#This Row],[style '#]],\"|\",R885)","v":"0|"}]
[{"$f":"IF(ISNUMBER(U886)=TRUE,VLOOKUP(vlookup_data[[#This Row],[style '#]],[2]Sheet1!$A:$D,4,0)*ABS(U886),0)","v":0},{"$f":"WEEKNUM(vlookup_data[[#This Row],[Column8]],2)","v":1},{"$f":"YEAR(vlookup_data[[#This Row],[Column8]])","v":1900},0,{"$f":"CONCATENATE(vlookup_data[[#This Row],[style '#]],\"|\",R886)","v":"0|"}]
[{"$f":"IF(ISNUMBER(U887)=TRUE,VLOOKUP(vlookup_data[[#This Row],[style '#]],[2]Sheet1!$A:$D,4,0)*ABS(U887),0)","v":0},{"$f":"WEEKNUM(vlookup_data[[#This Row],[Column8]],2)","v":1},{"$f":"YEAR(vlookup_data[[#This Row],[Column8]])","v":1900},0,{"$f":"CONCATENATE(vlookup_data[[#This Row],[style '#]],\"|\",R887)","v":"0|"}]
[{"$f":"IF(ISNUMBER(U888)=TRUE,VLOOKUP(vlookup_data[[#This Row],[style '#]],[2]Sheet1!$A:$D,4,0)*ABS(U888),0)","v":0},{"$f":"WEEKNUM(vlookup_data[[#This Row],[Column8]],2)","v":1},{"$f":"YEAR(vlookup_data[[#This Row],[Column8]])","v":1900},0,{"$f":"CONCATENATE(vlookup_data[[#This Row],[style '#]],\"|\",R888)","v":"0|"}]
[{"$f":"IF(ISNUMBER(U889)=TRUE,VLOOKUP(vlookup_data[[#This Row],[style '#]],[2]Sheet1!$A:$D,4,0)*ABS(U889),0)","v":0},{"$f":"WEEKNUM(vlookup_data[[#This Row],[Column8]],2)","v":1},{"$f":"YEAR(vlookup_data[[#This Row],[Column8]])","v":1900},0,{"$f":"CONCATENATE(vlookup_data[[#This Row],[style '#]],\"|\",R889)","v":"0|"}]
[{"$f":"IF(ISNUMBER(U890)=TRUE,VLOOKUP(vlookup_data[[#This Row],[style '#]],[2]Sheet1!$A:$D,4,0)*ABS(U890),0)","v":0},{"$f":"WEEKNUM(vlookup_data[[#This Row],[Column8]],2)","v":1},{"$f":"YEAR(vlookup_data[[#This Row],[Column8]])","v":1900},0,{"$f":"CONCATENATE(vlookup_data[[#This Row],[style '#]],\"|\",R890)","v":"0|"}]
[{"$f":"IF(ISNUMBER(U891)=TRUE,VLOOKUP(vlookup_data[[#This Row],[style '#]],[2]Sheet1!$A:$D,4,0)*ABS(U891),0)","v":0},{"$f":"WEEKNUM(vlookup_data[[#This Row],[Column8]],2)","v":1},{"$f":"YEAR(vlookup_data[[#This Row],[Column8]])","v":1900},0,{"$f":"CONCATENATE(vlookup_data[[#This Row],[style '#]],\"|\",R891)","v":"0|"}]
[{"$f":"IF(ISNUMBER(U892)=TRUE,VLOOKUP(vlookup_data[[#This Row],[style '#]],[2]Sheet1!$A:$D,4,0)*ABS(U892),0)","v":0},{"$f":"WEEKNUM(vlookup_data[[#This Row],[Column8]],2)","v":1},{"$f":"YEAR(vlookup_data[[#This Row],[Column8]])","v":1900},0,{"$f":"CONCATENATE(vlookup_data[[#This Row],[style '#]],\"|\",R892)","v":"0|"}]
[{"$f":"IF(ISNUMBER(U893)=TRUE,VLOOKUP(vlookup_data[[#This Row],[style '#]],[2]Sheet1!$A:$D,4,0)*ABS(U893),0)","v":0},{"$f":"WEEKNUM(vlookup_data[[#This Row],[Column8]],2)","v":1},{"$f":"YEAR(vlookup_data[[#This Row],[Column8]])","v":1900},0,{"$f":"CONCATENATE(vlookup_data[[#This Row],[style '#]],\"|\",R893)","v":"0|"}]
[{"$f":"IF(ISNUMBER(U894)=TRUE,VLOOKUP(vlookup_data[[#This Row],[style '#]],[2]Sheet1!$A:$D,4,0)*ABS(U894),0)","v":0},{"$f":"WEEKNUM(vlookup_data[[#This Row],[Column8]],2)","v":1},{"$f":"YEAR(vlookup_data[[#This Row],[Column8]])","v":1900},0,{"$f":"CONCATENATE(vlookup_data[[#This Row],[style '#]],\"|\",R894)","v":"0|"}]
[{"$f":"IF(ISNUMBER(U895)=TRUE,VLOOKUP(vlookup_data[[#This Row],[style '#]],[2]Sheet1!$A:$D,4,0)*ABS(U895),0)","v":0},{"$f":"WEEKNUM(vlookup_data[[#This Row],[Column8]],2)","v":1},{"$f":"YEAR(vlookup_data[[#This Row],[Column8]])","v":1900},0,{"$f":"CONCATENATE(vlookup_data[[#This Row],[style '#]],\"|\",R895)","v":"0|"}]
[{"$f":"IF(ISNUMBER(U896)=TRUE,VLOOKUP(vlookup_data[[#This Row],[style '#]],[2]Sheet1!$A:$D,4,0)*ABS(U896),0)","v":0},{"$f":"WEEKNUM(vlookup_data[[#This Row],[Column8]],2)","v":1},{"$f":"YEAR(vlookup_data[[#This Row],[Column8]])","v":1900},0,{"$f":"CONCATENATE(vlookup_data[[#This Row],[style '#]],\"|\",R896)","v":"0|"}]
[{"$f":"IF(ISNUMBER(U897)=TRUE,VLOOKUP(vlookup_data[[#This Row],[style '#]],[2]Sheet1!$A:$D,4,0)*ABS(U897),0)","v":0},{"$f":"WEEKNUM(vlookup_data[[#This Row],[Column8]],2)","v":1},{"$f":"YEAR(vlookup_data[[#This Row],[Column8]])","v":1900},0,{"$f":"CONCATENATE(vlookup_data[[#This Row],[style '#]],\"|\",R897)","v":"0|"}]
[{"$f":"IF(ISNUMBER(U898)=TRUE,VLOOKUP(vlookup_data[[#This Row],[style '#]],[2]Sheet1!$A:$D,4,0)*ABS(U898),0)","v":0},{"$f":"WEEKNUM(vlookup_data[[#This Row],[Column8]],2)","v":1},{"$f":"YEAR(vlookup_data[[#This Row],[Column8]])","v":1900},0,{"$f":"CONCATENATE(vlookup_data[[#This Row],[style '#]],\"|\",R898)","v":"0|"}]
[{"$f":"IF(ISNUMBER(U899)=TRUE,VLOOKUP(vlookup_data[[#This Row],[style '#]],[2]Sheet1!$A:$D,4,0)*ABS(U899),0)","v":0},{"$f":"WEEKNUM(vlookup_data[[#This Row],[Column8]],2)","v":1},{"$f":"YEAR(vlookup_data[[#This Row],[Column8]])","v":1900},0,{"$f":"CONCATENATE(vlookup_data[[#This Row],[style '#]],\"|\",R899)","v":"0|"}]
[{"$f":"IF(ISNUMBER(U900)=TRUE,VLOOKUP(vlookup_data[[#This Row],[style '#]],[2]Sheet1!$A:$D,4,0)*ABS(U900),0)","v":0},{"$f":"WEEKNUM(vlookup_data[[#This Row],[Column8]],2)","v":1},{"$f":"YEAR(vlookup_data[[#This Row],[Column8]])","v":1900},0,{"$f":"CONCATENATE(vlookup_data[[#This Row],[style '#]],\"|\",R900)","v":"0|"}]
[{"$f":"IF(ISNUMBER(U901)=TRUE,VLOOKUP(vlookup_data[[#This Row],[style '#]],[2]Sheet1!$A:$D,4,0)*ABS(U901),0)","v":0},{"$f":"WEEKNUM(vlookup_data[[#This Row],[Column8]],2)","v":1},{"$f":"YEAR(vlookup_data[[#This Row],[Column8]])","v":1900},0,{"$f":"CONCATENATE(vlookup_data[[#This Row],[style '#]],\"|\",R901)","v":"0|"}]
[{"$f":"IF(ISNUMBER(U902)=TRUE,VLOOKUP(vlookup_data[[#This Row],[style '#]],[2]Sheet1!$A:$D,4,0)*ABS(U902),0)","v":0},{"$f":"WEEKNUM(vlookup_data[[#This Row],[Column8]],2)","v":1},{"$f":"YEAR(vlookup_data[[#This Row],[Column8]])","v":1900},0,{"$f":"CONCATENATE(vlookup_data[[#This Row],[style '#]],\"|\",R902)","v":"0|"}]
[{"$f":"IF(ISNUMBER(U903)=TRUE,VLOOKUP(vlookup_data[[#This Row],[style '#]],[2]Sheet1!$A:$D,4,0)*ABS(U903),0)","v":0},{"$f":"WEEKNUM(vlookup_data[[#This Row],[Column8]],2)","v":1},{"$f":"YEAR(vlookup_data[[#This Row],[Column8]])","v":1900},0,{"$f":"CONCATENATE(vlookup_data[[#This Row],[style '#]],\"|\",R903)","v":"0|"}]
[{"$f":"IF(ISNUMBER(U904)=TRUE,VLOOKUP(vlookup_data[[#This Row],[style '#]],[2]Sheet1!$A:$D,4,0)*ABS(U904),0)","v":0},{"$f":"WEEKNUM(vlookup_data[[#This Row],[Column8]],2)","v":1},{"$f":"YEAR(vlookup_data[[#This Row],[Column8]])","v":1900},0,{"$f":"CONCATENATE(vlookup_data[[#This Row],[style '#]],\"|\",R904)","v":"0|"}]
[{"$f":"IF(ISNUMBER(U905)=TRUE,VLOOKUP(vlookup_data[[#This Row],[style '#]],[2]Sheet1!$A:$D,4,0)*ABS(U905),0)","v":0},{"$f":"WEEKNUM(vlookup_data[[#This Row],[Column8]],2)","v":1},{"$f":"YEAR(vlookup_data[[#This Row],[Column8]])","v":1900},{"$f":"VALUE(G905)","v":0},{"$f":"CONCATENATE(vlookup_data[[#This Row],[style '#]],\"|\",R905)","v":"0|"}]
[{"$f":"IF(ISNUMBER(U906)=TRUE,VLOOKUP(vlookup_data[[#This Row],[style '#]],[2]Sheet1!$A:$D,4,0)*ABS(U906),0)","v":0},{"$f":"WEEKNUM(vlookup_data[[#This Row],[Column8]],2)","v":1},{"$f":"YEAR(vlookup_data[[#This Row],[Column8]])","v":1900},0,{"$f":"CONCATENATE(vlookup_data[[#This Row],[style '#]],\"|\",R906)","v":"0|"}]
[{"$f":"IF(ISNUMBER(U907)=TRUE,VLOOKUP(vlookup_data[[#This Row],[style '#]],[2]Sheet1!$A:$D,4,0)*ABS(U907),0)","v":0},{"$f":"WEEKNUM(vlookup_data[[#This Row],[Column8]],2)","v":1},{"$f":"YEAR(vlookup_data[[#This Row],[Column8]])","v":1900},0,{"$f":"CONCATENATE(vlookup_data[[#This Row],[style '#]],\"|\",R907)","v":"0|"}]
[{"$f":"IF(ISNUMBER(U908)=TRUE,VLOOKUP(vlookup_data[[#This Row],[style '#]],[2]Sheet1!$A:$D,4,0)*ABS(U908),0)","v":0},{"$f":"WEEKNUM(vlookup_data[[#This Row],[Column8]],2)","v":1},{"$f":"YEAR(vlookup_data[[#This Row],[Column8]])","v":1900},0,{"$f":"CONCATENATE(vlookup_data[[#This Row],[style '#]],\"|\",R908)","v":"0|"}]
[{"$f":"IF(ISNUMBER(U909)=TRUE,VLOOKUP(vlookup_data[[#This Row],[style '#]],[2]Sheet1!$A:$D,4,0)*ABS(U909),0)","v":0},{"$f":"WEEKNUM(vlookup_data[[#This Row],[Column8]],2)","v":1},{"$f":"YEAR(vlookup_data[[#This Row],[Column8]])","v":1900},0,{"$f":"CONCATENATE(vlookup_data[[#This Row],[style '#]],\"|\",R909)","v":"0|"}]
[{"$f":"IF(ISNUMBER(U910)=TRUE,VLOOKUP(vlookup_data[[#This Row],[style '#]],[2]Sheet1!$A:$D,4,0)*ABS(U910),0)","v":0},{"$f":"WEEKNUM(vlookup_data[[#This Row],[Column8]],2)","v":1},{"$f":"YEAR(vlookup_data[[#This Row],[Column8]])","v":1900},0,{"$f":"CONCATENATE(vlookup_data[[#This Row],[style '#]],\"|\",R910)","v":"0|"}]
[{"$f":"IF(ISNUMBER(U911)=TRUE,VLOOKUP(vlookup_data[[#This Row],[style '#]],[2]Sheet1!$A:$D,4,0)*ABS(U911),0)","v":0},{"$f":"WEEKNUM(vlookup_data[[#This Row],[Column8]],2)","v":1},{"$f":"YEAR(vlookup_data[[#This Row],[Column8]])","v":1900},0,{"$f":"CONCATENATE(vlookup_data[[#This Row],[style '#]],\"|\",R911)","v":"0|"}]
[{"$f":"IF(ISNUMBER(U912)=TRUE,VLOOKUP(vlookup_data[[#This Row],[style '#]],[2]Sheet1!$A:$D,4,0)*ABS(U912),0)","v":0},{"$f":"WEEKNUM(vlookup_data[[#This Row],[Column8]],2)","v":1},{"$f":"YEAR(vlookup_data[[#This Row],[Column8]])","v":1900},0,{"$f":"CONCATENATE(vlookup_data[[#This Row],[style '#]],\"|\",R912)","v":"0|"}]
[{"$f":"IF(ISNUMBER(U913)=TRUE,VLOOKUP(vlookup_data[[#This Row],[style '#]],[2]Sheet1!$A:$D,4,0)*ABS(U913),0)","v":0},{"$f":"WEEKNUM(vlookup_data[[#This Row],[Column8]],2)","v":1},{"$f":"YEAR(vlookup_data[[#This Row],[Column8]])","v":1900},0,{"$f":"CONCATENATE(vlookup_data[[#This Row],[style '#]],\"|\",R913)","v":"0|"}]
[{"$f":"IF(ISNUMBER(U914)=TRUE,VLOOKUP(vlookup_data[[#This Row],[style '#]],[2]Sheet1!$A:$D,4,0)*ABS(U914),0)","v":0},{"$f":"WEEKNUM(vlookup_data[[#This Row],[Column8]],2)","v":1},{"$f":"YEAR(vlookup_data[[#This Row],[Column8]])","v":1900},0,{"$f":"CONCATENATE(vlookup_data[[#This Row],[style '#]],\"|\",R914)","v":"0|"}]
[{"$f":"IF(ISNUMBER(U915)=TRUE,VLOOKUP(vlookup_data[[#This Row],[style '#]],[2]Sheet1!$A:$D,4,0)*ABS(U915),0)","v":0},{"$f":"WEEKNUM(vlookup_data[[#This Row],[Column8]],2)","v":1},{"$f":"YEAR(vlookup_data[[#This Row],[Column8]])","v":1900},0,{"$f":"CONCATENATE(vlookup_data[[#This Row],[style '#]],\"|\",R915)","v":"0|"}]
[{"$f":"IF(ISNUMBER(U916)=TRUE,VLOOKUP(vlookup_data[[#This Row],[style '#]],[2]Sheet1!$A:$D,4,0)*ABS(U916),0)","v":0},{"$f":"WEEKNUM(vlookup_data[[#This Row],[Column8]],2)","v":1},{"$f":"YEAR(vlookup_data[[#This Row],[Column8]])","v":1900},0,{"$f":"CONCATENATE(vlookup_data[[#This Row],[style '#]],\"|\",R916)","v":"0|"}]
[{"$f":"IF(ISNUMBER(U917)=TRUE,VLOOKUP(vlookup_data[[#This Row],[style '#]],[2]Sheet1!$A:$D,4,0)*ABS(U917),0)","v":0},{"$f":"WEEKNUM(vlookup_data[[#This Row],[Column8]],2)","v":1},{"$f":"YEAR(vlookup_data[[#This Row],[Column8]])","v":1900},0,{"$f":"CONCATENATE(vlookup_data[[#This Row],[style '#]],\"|\",R917)","v":"0|"}]
[{"$f":"IF(ISNUMBER(U918)=TRUE,VLOOKUP(vlookup_data[[#This Row],[style '#]],[2]Sheet1!$A:$D,4,0)*ABS(U918),0)","v":0},{"$f":"WEEKNUM(vlookup_data[[#This Row],[Column8]],2)","v":1},{"$f":"YEAR(vlookup_data[[#This Row],[Column8]])","v":1900},0,{"$f":"CONCATENATE(vlookup_data[[#This Row],[style '#]],\"|\",R918)","v":"0|"}]
[{"$f":"IF(ISNUMBER(U919)=TRUE,VLOOKUP(vlookup_data[[#This Row],[style '#]],[2]Sheet1!$A:$D,4,0)*ABS(U919),0)","v":0},{"$f":"WEEKNUM(vlookup_data[[#This Row],[Column8]],2)","v":1},{"$f":"YEAR(vlookup_data[[#This Row],[Column8]])","v":1900},0,{"$f":"CONCATENATE(vlookup_data[[#This Row],[style '#]],\"|\",R919)","v":"0|"}]
[{"$f":"IF(ISNUMBER(U920)=TRUE,VLOOKUP(vlookup_data[[#This Row],[style '#]],[2]Sheet1!$A:$D,4,0)*ABS(U920),0)","v":0},{"$f":"WEEKNUM(vlookup_data[[#This Row],[Column8]],2)","v":1},{"$f":"YEAR(vlookup_data[[#This Row],[Column8]])","v":1900},0,{"$f":"CONCATENATE(vlookup_data[[#This Row],[style '#]],\"|\",R920)","v":"0|"}]
[{"$f":"IF(ISNUMBER(U921)=TRUE,VLOOKUP(vlookup_data[[#This Row],[style '#]],[2]Sheet1!$A:$D,4,0)*ABS(U921),0)","v":0},{"$f":"WEEKNUM(vlookup_data[[#This Row],[Column8]],2)","v":1},{"$f":"YEAR(vlookup_data[[#This Row],[Column8]])","v":1900},0,{"$f":"CONCATENATE(vlookup_data[[#This Row],[style '#]],\"|\",R921)","v":"0|"}]
[{"$f":"IF(ISNUMBER(U922)=TRUE,VLOOKUP(vlookup_data[[#This Row],[style '#]],[2]Sheet1!$A:$D,4,0)*ABS(U922),0)","v":0},{"$f":"WEEKNUM(vlookup_data[[#This Row],[Column8]],2)","v":1},{"$f":"YEAR(vlookup_data[[#This Row],[Column8]])","v":1900},0,{"$f":"CONCATENATE(vlookup_data[[#This Row],[style '#]],\"|\",R922)","v":"0|"}]
[{"$f":"IF(ISNUMBER(U923)=TRUE,VLOOKUP(vlookup_data[[#This Row],[style '#]],[2]Sheet1!$A:$D,4,0)*ABS(U923),0)","v":0},{"$f":"WEEKNUM(vlookup_data[[#This Row],[Column8]],2)","v":1},{"$f":"YEAR(vlookup_data[[#This Row],[Column8]])","v":1900},0,{"$f":"CONCATENATE(vlookup_data[[#This Row],[style '#]],\"|\",R923)","v":"0|"}]
[{"$f":"IF(ISNUMBER(U924)=TRUE,VLOOKUP(vlookup_data[[#This Row],[style '#]],[2]Sheet1!$A:$D,4,0)*ABS(U924),0)","v":0},{"$f":"WEEKNUM(vlookup_data[[#This Row],[Column8]],2)","v":1},{"$f":"YEAR(vlookup_data[[#This Row],[Column8]])","v":1900},0,{"$f":"CONCATENATE(vlookup_data[[#This Row],[style '#]],\"|\",R924)","v":"0|"}]
[{"$f":"IF(ISNUMBER(U925)=TRUE,VLOOKUP(vlookup_data[[#This Row],[style '#]],[2]Sheet1!$A:$D,4,0)*ABS(U925),0)","v":0},{"$f":"WEEKNUM(vlookup_data[[#This Row],[Column8]],2)","v":1},{"$f":"YEAR(vlookup_data[[#This Row],[Column8]])","v":1900},0,{"$f":"CONCATENATE(vlookup_data[[#This Row],[style '#]],\"|\",R925)","v":"0|"}]
[{"$f":"IF(ISNUMBER(U926)=TRUE,VLOOKUP(vlookup_data[[#This Row],[style '#]],[2]Sheet1!$A:$D,4,0)*ABS(U926),0)","v":0},{"$f":"WEEKNUM(vlookup_data[[#This Row],[Column8]],2)","v":1},{"$f":"YEAR(vlookup_data[[#This Row],[Column8]])","v":1900},0,{"$f":"CONCATENATE(vlookup_data[[#This Row],[style '#]],\"|\",R926)","v":"0|"}]
[{"$f":"IF(ISNUMBER(U927)=TRUE,VLOOKUP(vlookup_data[[#This Row],[style '#]],[2]Sheet1!$A:$D,4,0)*ABS(U927),0)","v":0},{"$f":"WEEKNUM(vlookup_data[[#This Row],[Column8]],2)","v":1},{"$f":"YEAR(vlookup_data[[#This Row],[Column8]])","v":1900},0,{"$f":"CONCATENATE(vlookup_data[[#This Row],[style '#]],\"|\",R927)","v":"0|"}]
[{"$f":"IF(ISNUMBER(U928)=TRUE,VLOOKUP(vlookup_data[[#This Row],[style '#]],[2]Sheet1!$A:$D,4,0)*ABS(U928),0)","v":0},{"$f":"WEEKNUM(vlookup_data[[#This Row],[Column8]],2)","v":1},{"$f":"YEAR(vlookup_data[[#This Row],[Column8]])","v":1900},0,{"$f":"CONCATENATE(vlookup_data[[#This Row],[style '#]],\"|\",R928)","v":"0|"}]
[{"$f":"IF(ISNUMBER(U929)=TRUE,VLOOKUP(vlookup_data[[#This Row],[style '#]],[2]Sheet1!$A:$D,4,0)*ABS(U929),0)","v":0},{"$f":"WEEKNUM(vlookup_data[[#This Row],[Column8]],2)","v":1},{"$f":"YEAR(vlookup_data[[#This Row],[Column8]])","v":1900},0,{"$f":"CONCATENATE(vlookup_data[[#This Row],[style '#]],\"|\",R929)","v":"0|"}]
[{"$f":"IF(ISNUMBER(U930)=TRUE,VLOOKUP(vlookup_data[[#This Row],[style '#]],[2]Sheet1!$A:$D,4,0)*ABS(U930),0)","v":0},{"$f":"WEEKNUM(vlookup_data[[#This Row],[Column8]],2)","v":1},{"$f":"YEAR(vlookup_data[[#This Row],[Column8]])","v":1900},0,{"$f":"CONCATENATE(vlookup_data[[#This Row],[style '#]],\"|\",R930)","v":"0|"}]
[{"$f":"IF(ISNUMBER(U931)=TRUE,VLOOKUP(vlookup_data[[#This Row],[style '#]],[2]Sheet1!$A:$D,4,0)*ABS(U931),0)","v":0},{"$f":"WEEKNUM(vlookup_data[[#This Row],[Column8]],2)","v":1},{"$f":"YEAR(vlookup_data[[#This Row],[Column8]])","v":1900},0,{"$f":"CONCATENATE(vlookup_data[[#This Row],[style '#]],\"|\",R931)","v":"0|"}]
[{"$f":"IF(ISNUMBER(U932)=TRUE,VLOOKUP(vlookup_data[[#This Row],[style '#]],[2]Sheet1!$A:$D,4,0)*ABS(U932),0)","v":0},{"$f":"WEEKNUM(vlookup_data[[#This Row],[Column8]],2)","v":1},{"$f":"YEAR(vlookup_data[[#This Row],[Column8]])","v":1900},0,{"$f":"CONCATENATE(vlookup_data[[#This Row],[style '#]],\"|\",R932)","v":"0|"}]
[{"$f":"IF(ISNUMBER(U933)=TRUE,VLOOKUP(vlookup_data[[#This Row],[style '#]],[2]Sheet1!$A:$D,4,0)*ABS(U933),0)","v":0},{"$f":"WEEKNUM(vlookup_data[[#This Row],[Column8]],2)","v":1},{"$f":"YEAR(vlookup_data[[#This Row],[Column8]])","v":1900},0,{"$f":"CONCATENATE(vlookup_data[[#This Row],[style '#]],\"|\",R933)","v":"0|"}]
[{"$f":"IF(ISNUMBER(U934)=TRUE,VLOOKUP(vlookup_data[[#This Row],[style '#]],[2]Sheet1!$A:$D,4,0)*ABS(U934),0)","v":0},{"$f":"WEEKNUM(vlookup_data[[#This Row],[Column8]],2)","v":1},{"$f":"YEAR(vlookup_data[[#This Row],[Column8]])","v":1900},0,{"$f":"CONCATENATE(vlookup_data[[#This Row],[style '#]],\"|\",R934)","v":"0|"}]
[{"$f":"IF(ISNUMBER(U935)=TRUE,VLOOKUP(vlookup_data[[#This Row],[style '#]],[2]Sheet1!$A:$D,4,0)*ABS(U935),0)","v":0},{"$f":"WEEKNUM(vlookup_data[[#This Row],[Column8]],2)","v":1},{"$f":"YEAR(vlookup_data[[#This Row],[Column8]])","v":1900},0,{"$f":"CONCATENATE(vlookup_data[[#This Row],[style '#]],\"|\",R935)","v":"0|"}]
[{"$f":"IF(ISNUMBER(U936)=TRUE,VLOOKUP(vlookup_data[[#This Row],[style '#]],[2]Sheet1!$A:$D,4,0)*ABS(U936),0)","v":0},{"$f":"WEEKNUM(vlookup_data[[#This Row],[Column8]],2)","v":1},{"$f":"YEAR(vlookup_data[[#This Row],[Column8]])","v":1900},0,{"$f":"CONCATENATE(vlookup_data[[#This Row],[style '#]],\"|\",R936)","v":"0|"}]
[{"$f":"IF(ISNUMBER(U937)=TRUE,VLOOKUP(vlookup_data[[#This Row],[style '#]],[2]Sheet1!$A:$D,4,0)*ABS(U937),0)","v":0},{"$f":"WEEKNUM(vlookup_data[[#This Row],[Column8]],2)","v":1},{"$f":"YEAR(vlookup_data[[#This Row],[Column8]])","v":1900},0,{"$f":"CONCATENATE(vlookup_data[[#This Row],[style '#]],\"|\",R937)","v":"0|"}]
[{"$f":"IF(ISNUMBER(U938)=TRUE,VLOOKUP(vlookup_data[[#This Row],[style '#]],[2]Sheet1!$A:$D,4,0)*ABS(U938),0)","v":0},{"$f":"WEEKNUM(vlookup_data[[#This Row],[Column8]],2)","v":1},{"$f":"YEAR(vlookup_data[[#This Row],[Column8]])","v":1900},0,{"$f":"CONCATENATE(vlookup_data[[#This Row],[style '#]],\"|\",R938)","v":"0|"}]
[{"$f":"IF(ISNUMBER(U939)=TRUE,VLOOKUP(vlookup_data[[#This Row],[style '#]],[2]Sheet1!$A:$D,4,0)*ABS(U939),0)","v":0},{"$f":"WEEKNUM(vlookup_data[[#This Row],[Column8]],2)","v":1},{"$f":"YEAR(vlookup_data[[#This Row],[Column8]])","v":1900},0,{"$f":"CONCATENATE(vlookup_data[[#This Row],[style '#]],\"|\",R939)","v":"0|"}]
[{"$f":"IF(ISNUMBER(U940)=TRUE,VLOOKUP(vlookup_data[[#This Row],[style '#]],[2]Sheet1!$A:$D,4,0)*ABS(U940),0)","v":0},{"$f":"WEEKNUM(vlookup_data[[#This Row],[Column8]],2)","v":1},{"$f":"YEAR(vlookup_data[[#This Row],[Column8]])","v":1900},0,{"$f":"CONCATENATE(vlookup_data[[#This Row],[style '#]],\"|\",R940)","v":"0|"}]
[{"$f":"IF(ISNUMBER(U941)=TRUE,VLOOKUP(vlookup_data[[#This Row],[style '#]],[2]Sheet1!$A:$D,4,0)*ABS(U941),0)","v":0},{"$f":"WEEKNUM(vlookup_data[[#This Row],[Column8]],2)","v":1},{"$f":"YEAR(vlookup_data[[#This Row],[Column8]])","v":1900},0,{"$f":"CONCATENATE(vlookup_data[[#This Row],[style '#]],\"|\",R941)","v":"0|"}]
[{"$f":"IF(ISNUMBER(U942)=TRUE,VLOOKUP(vlookup_data[[#This Row],[style '#]],[2]Sheet1!$A:$D,4,0)*ABS(U942),0)","v":0},{"$f":"WEEKNUM(vlookup_data[[#This Row],[Column8]],2)","v":1},{"$f":"YEAR(vlookup_data[[#This Row],[Column8]])","v":1900},0,{"$f":"CONCATENATE(vlookup_data[[#This Row],[style '#]],\"|\",R942)","v":"0|"}]
[{"$f":"IF(ISNUMBER(U943)=TRUE,VLOOKUP(vlookup_data[[#This Row],[style '#]],[2]Sheet1!$A:$D,4,0)*ABS(U943),0)","v":0},{"$f":"WEEKNUM(vlookup_data[[#This Row],[Column8]],2)","v":1},{"$f":"YEAR(vlookup_data[[#This Row],[Column8]])","v":1900},0,{"$f":"CONCATENATE(vlookup_data[[#This Row],[style '#]],\"|\",R943)","v":"0|"}]
[{"$f":"IF(ISNUMBER(U944)=TRUE,VLOOKUP(vlookup_data[[#This Row],[style '#]],[2]Sheet1!$A:$D,4,0)*ABS(U944),0)","v":0},{"$f":"WEEKNUM(vlookup_data[[#This Row],[Column8]],2)","v":1},{"$f":"YEAR(vlookup_data[[#This Row],[Column8]])","v":1900},0,{"$f":"CONCATENATE(vlookup_data[[#This Row],[style '#]],\"|\",R944)","v":"0|"}]
[{"$f":"IF(ISNUMBER(U945)=TRUE,VLOOKUP(vlookup_data[[#This Row],[style '#]],[2]Sheet1!$A:$D,4,0)*ABS(U945),0)","v":0},{"$f":"WEEKNUM(vlookup_data[[#This Row],[Column8]],2)","v":1},{"$f":"YEAR(vlookup_data[[#This Row],[Column8]])","v":1900},0,{"$f":"CONCATENATE(vlookup_data[[#This Row],[style '#]],\"|\",R945)","v":"0|"}]
[{"$f":"IF(ISNUMBER(U946)=TRUE,VLOOKUP(vlookup_data[[#This Row],[style '#]],[2]Sheet1!$A:$D,4,0)*ABS(U946),0)","v":0},{"$f":"WEEKNUM(vlookup_data[[#This Row],[Column8]],2)","v":1},{"$f":"YEAR(vlookup_data[[#This Row],[Column8]])","v":1900},0,{"$f":"CONCATENATE(vlookup_data[[#This Row],[style '#]],\"|\",R946)","v":"0|"}]
[{"$f":"IF(ISNUMBER(U947)=TRUE,VLOOKUP(vlookup_data[[#This Row],[style '#]],[2]Sheet1!$A:$D,4,0)*ABS(U947),0)","v":0},{"$f":"WEEKNUM(vlookup_data[[#This Row],[Column8]],2)","v":1},{"$f":"YEAR(vlookup_data[[#This Row],[Column8]])","v":1900},0,{"$f":"CONCATENATE(vlookup_data[[#This Row],[style '#]],\"|\",R947)","v":"0|"}]
[{"$f":"IF(ISNUMBER(U948)=TRUE,VLOOKUP(vlookup_data[[#This Row],[style '#]],[2]Sheet1!$A:$D,4,0)*ABS(U948),0)","v":0},{"$f":"WEEKNUM(vlookup_data[[#This Row],[Column8]],2)","v":1},{"$f":"YEAR(vlookup_data[[#This Row],[Column8]])","v":1900},0,{"$f":"CONCATENATE(vlookup_data[[#This Row],[style '#]],\"|\",R948)","v":"0|"}]
[{"$f":"IF(ISNUMBER(U949)=TRUE,VLOOKUP(vlookup_data[[#This Row],[style '#]],[2]Sheet1!$A:$D,4,0)*ABS(U949),0)","v":0},{"$f":"WEEKNUM(vlookup_data[[#This Row],[Column8]],2)","v":1},{"$f":"YEAR(vlookup_data[[#This Row],[Column8]])","v":1900},0,{"$f":"CONCATENATE(vlookup_data[[#This Row],[style '#]],\"|\",R949)","v":"0|"}]
[{"$f":"IF(ISNUMBER(U950)=TRUE,VLOOKUP(vlookup_data[[#This Row],[style '#]],[2]Sheet1!$A:$D,4,0)*ABS(U950),0)","v":0},{"$f":"WEEKNUM(vlookup_data[[#This Row],[Column8]],2)","v":1},{"$f":"YEAR(vlookup_data[[#This Row],[Column8]])","v":1900},0,{"$f":"CONCATENATE(vlookup_data[[#This Row],[style '#]],\"|\",R950)","v":"0|"}]
[{"$f":"IF(ISNUMBER(U951)=TRUE,VLOOKUP(vlookup_data[[#This Row],[style '#]],[2]Sheet1!$A:$D,4,0)*ABS(U951),0)","v":0},{"$f":"WEEKNUM(vlookup_data[[#This Row],[Column8]],2)","v":1},{"$f":"YEAR(vlookup_data[[#This Row],[Column8]])","v":1900},0,{"$f":"CONCATENATE(vlookup_data[[#This Row],[style '#]],\"|\",R951)","v":"0|"}]
[{"$f":"IF(ISNUMBER(U952)=TRUE,VLOOKUP(vlookup_data[[#This Row],[style '#]],[2]Sheet1!$A:$D,4,0)*ABS(U952),0)","v":0},{"$f":"WEEKNUM(vlookup_data[[#This Row],[Column8]],2)","v":1},{"$f":"YEAR(vlookup_data[[#This Row],[Column8]])","v":1900},0,{"$f":"CONCATENATE(vlookup_data[[#This Row],[style '#]],\"|\",R952)","v":"0|"}]
[{"$f":"IF(ISNUMBER(U953)=TRUE,VLOOKUP(vlookup_data[[#This Row],[style '#]],[2]Sheet1!$A:$D,4,0)*ABS(U953),0)","v":0},{"$f":"WEEKNUM(vlookup_data[[#This Row],[Column8]],2)","v":1},{"$f":"YEAR(vlookup_data[[#This Row],[Column8]])","v":1900},0,{"$f":"CONCATENATE(vlookup_data[[#This Row],[style '#]],\"|\",R953)","v":"0|"}]
[{"$f":"IF(ISNUMBER(U954)=TRUE,VLOOKUP(vlookup_data[[#This Row],[style '#]],[2]Sheet1!$A:$D,4,0)*ABS(U954),0)","v":0},{"$f":"WEEKNUM(vlookup_data[[#This Row],[Column8]],2)","v":1},{"$f":"YEAR(vlookup_data[[#This Row],[Column8]])","v":1900},0,{"$f":"CONCATENATE(vlookup_data[[#This Row],[style '#]],\"|\",R954)","v":"0|"}]
[{"$f":"IF(ISNUMBER(U955)=TRUE,VLOOKUP(vlookup_data[[#This Row],[style '#]],[2]Sheet1!$A:$D,4,0)*ABS(U955),0)","v":0},{"$f":"WEEKNUM(vlookup_data[[#This Row],[Column8]],2)","v":1},{"$f":"YEAR(vlookup_data[[#This Row],[Column8]])","v":1900},0,{"$f":"CONCATENATE(vlookup_data[[#This Row],[style '#]],\"|\",R955)","v":"0|"}]
[{"$f":"IF(ISNUMBER(U956)=TRUE,VLOOKUP(vlookup_data[[#This Row],[style '#]],[2]Sheet1!$A:$D,4,0)*ABS(U956),0)","v":0},{"$f":"WEEKNUM(vlookup_data[[#This Row],[Column8]],2)","v":1},{"$f":"YEAR(vlookup_data[[#This Row],[Column8]])","v":1900},0,{"$f":"CONCATENATE(vlookup_data[[#This Row],[style '#]],\"|\",R956)","v":"0|"}]
[{"$f":"IF(ISNUMBER(U957)=TRUE,VLOOKUP(vlookup_data[[#This Row],[style '#]],[2]Sheet1!$A:$D,4,0)*ABS(U957),0)","v":0},{"$f":"WEEKNUM(vlookup_data[[#This Row],[Column8]],2)","v":1},{"$f":"YEAR(vlookup_data[[#This Row],[Column8]])","v":1900},0,{"$f":"CONCATENATE(vlookup_data[[#This Row],[style '#]],\"|\",R957)","v":"0|"}]
[{"$f":"IF(ISNUMBER(U958)=TRUE,VLOOKUP(vlookup_data[[#This Row],[style '#]],[2]Sheet1!$A:$D,4,0)*ABS(U958),0)","v":0},{"$f":"WEEKNUM(vlookup_data[[#This Row],[Column8]],2)","v":1},{"$f":"YEAR(vlookup_data[[#This Row],[Column8]])","v":1900},0,{"$f":"CONCATENATE(vlookup_data[[#This Row],[style '#]],\"|\",R958)","v":"0|"}]
[{"$f":"IF(ISNUMBER(U959)=TRUE,VLOOKUP(vlookup_data[[#This Row],[style '#]],[2]Sheet1!$A:$D,4,0)*ABS(U959),0)","v":0},{"$f":"WEEKNUM(vlookup_data[[#This Row],[Column8]],2)","v":1},{"$f":"YEAR(vlookup_data[[#This Row],[Column8]])","v":1900},0,{"$f":"CONCATENATE(vlookup_data[[#This Row],[style '#]],\"|\",R959)","v":"0|"}]
[{"$f":"IF(ISNUMBER(U960)=TRUE,VLOOKUP(vlookup_data[[#This Row],[style '#]],[2]Sheet1!$A:$D,4,0)*ABS(U960),0)","v":0},{"$f":"WEEKNUM(vlookup_data[[#This Row],[Column8]],2)","v":1},{"$f":"YEAR(vlookup_data[[#This Row],[Column8]])","v":1900},0,{"$f":"CONCATENATE(vlookup_data[[#This Row],[style '#]],\"|\",R960)","v":"0|"}]
[{"$f":"IF(ISNUMBER(U961)=TRUE,VLOOKUP(vlookup_data[[#This Row],[style '#]],[2]Sheet1!$A:$D,4,0)*ABS(U961),0)","v":0},{"$f":"WEEKNUM(vlookup_data[[#This Row],[Column8]],2)","v":1},{"$f":"YEAR(vlookup_data[[#This Row],[Column8]])","v":1900},0,{"$f":"CONCATENATE(vlookup_data[[#This Row],[style '#]],\"|\",R961)","v":"0|"}]
[{"$f":"IF(ISNUMBER(U962)=TRUE,VLOOKUP(vlookup_data[[#This Row],[style '#]],[2]Sheet1!$A:$D,4,0)*ABS(U962),0)","v":0},{"$f":"WEEKNUM(vlookup_data[[#This Row],[Column8]],2)","v":1},{"$f":"YEAR(vlookup_data[[#This Row],[Column8]])","v":1900},0,{"$f":"CONCATENATE(vlookup_data[[#This Row],[style '#]],\"|\",R962)","v":"0|"}]
[{"$f":"IF(ISNUMBER(U963)=TRUE,VLOOKUP(vlookup_data[[#This Row],[style '#]],[2]Sheet1!$A:$D,4,0)*ABS(U963),0)","v":0},{"$f":"WEEKNUM(vlookup_data[[#This Row],[Column8]],2)","v":1},{"$f":"YEAR(vlookup_data[[#This Row],[Column8]])","v":1900},0,{"$f":"CONCATENATE(vlookup_data[[#This Row],[style '#]],\"|\",R963)","v":"0|"}]
[{"$f":"IF(ISNUMBER(U964)=TRUE,VLOOKUP(vlookup_data[[#This Row],[style '#]],[2]Sheet1!$A:$D,4,0)*ABS(U964),0)","v":0},{"$f":"WEEKNUM(vlookup_data[[#This Row],[Column8]],2)","v":1},{"$f":"YEAR(vlookup_data[[#This Row],[Column8]])","v":1900},0,{"$f":"CONCATENATE(vlookup_data[[#This Row],[style '#]],\"|\",R964)","v":"0|"}]
[{"$f":"IF(ISNUMBER(U965)=TRUE,VLOOKUP(vlookup_data[[#This Row],[style '#]],[2]Sheet1!$A:$D,4,0)*ABS(U965),0)","v":0},{"$f":"WEEKNUM(vlookup_data[[#This Row],[Column8]],2)","v":1},{"$f":"YEAR(vlookup_data[[#This Row],[Column8]])","v":1900},0,{"$f":"CONCATENATE(vlookup_data[[#This Row],[style '#]],\"|\",R965)","v":"0|"}]
[{"$f":"IF(ISNUMBER(U966)=TRUE,VLOOKUP(vlookup_data[[#This Row],[style '#]],[2]Sheet1!$A:$D,4,0)*ABS(U966),0)","v":0},{"$f":"WEEKNUM(vlookup_data[[#This Row],[Column8]],2)","v":1},{"$f":"YEAR(vlookup_data[[#This Row],[Column8]])","v":1900},0,{"$f":"CONCATENATE(vlookup_data[[#This Row],[style '#]],\"|\",R966)","v":"0|"}]
[{"$f":"IF(ISNUMBER(U967)=TRUE,VLOOKUP(vlookup_data[[#This Row],[style '#]],[2]Sheet1!$A:$D,4,0)*ABS(U967),0)","v":0},{"$f":"WEEKNUM(vlookup_data[[#This Row],[Column8]],2)","v":1},{"$f":"YEAR(vlookup_data[[#This Row],[Column8]])","v":1900},0,{"$f":"CONCATENATE(vlookup_data[[#This Row],[style '#]],\"|\",R967)","v":"0|"}]
[{"$f":"IF(ISNUMBER(U968)=TRUE,VLOOKUP(vlookup_data[[#This Row],[style '#]],[2]Sheet1!$A:$D,4,0)*ABS(U968),0)","v":0},{"$f":"WEEKNUM(vlookup_data[[#This Row],[Column8]],2)","v":1},{"$f":"YEAR(vlookup_data[[#This Row],[Column8]])","v":1900},0,{"$f":"CONCATENATE(vlookup_data[[#This Row],[style '#]],\"|\",R968)","v":"0|"}]
[{"$f":"IF(ISNUMBER(U969)=TRUE,VLOOKUP(vlookup_data[[#This Row],[style '#]],[2]Sheet1!$A:$D,4,0)*ABS(U969),0)","v":0},{"$f":"WEEKNUM(vlookup_data[[#This Row],[Column8]],2)","v":1},{"$f":"YEAR(vlookup_data[[#This Row],[Column8]])","v":1900},{"$f":"VALUE(G969)","v":0},{"$f":"CONCATENATE(vlookup_data[[#This Row],[style '#]],\"|\",R969)","v":"0|"}]
[{"$f":"IF(ISNUMBER(U970)=TRUE,VLOOKUP(vlookup_data[[#This Row],[style '#]],[2]Sheet1!$A:$D,4,0)*ABS(U970),0)","v":0},{"$f":"WEEKNUM(vlookup_data[[#This Row],[Column8]],2)","v":1},{"$f":"YEAR(vlookup_data[[#This Row],[Column8]])","v":1900},0,{"$f":"CONCATENATE(vlookup_data[[#This Row],[style '#]],\"|\",R970)","v":"0|"}]
[{"$f":"IF(ISNUMBER(U971)=TRUE,VLOOKUP(vlookup_data[[#This Row],[style '#]],[2]Sheet1!$A:$D,4,0)*ABS(U971),0)","v":0},{"$f":"WEEKNUM(vlookup_data[[#This Row],[Column8]],2)","v":1},{"$f":"YEAR(vlookup_data[[#This Row],[Column8]])","v":1900},0,{"$f":"CONCATENATE(vlookup_data[[#This Row],[style '#]],\"|\",R971)","v":"0|"}]
[{"$f":"IF(ISNUMBER(U972)=TRUE,VLOOKUP(vlookup_data[[#This Row],[style '#]],[2]Sheet1!$A:$D,4,0)*ABS(U972),0)","v":0},{"$f":"WEEKNUM(vlookup_data[[#This Row],[Column8]],2)","v":1},{"$f":"YEAR(vlookup_data[[#This Row],[Column8]])","v":1900},0,{"$f":"CONCATENATE(vlookup_data[[#This Row],[style '#]],\"|\",R972)","v":"0|"}]
[{"$f":"IF(ISNUMBER(U973)=TRUE,VLOOKUP(vlookup_data[[#This Row],[style '#]],[2]Sheet1!$A:$D,4,0)*ABS(U973),0)","v":0},{"$f":"WEEKNUM(vlookup_data[[#This Row],[Column8]],2)","v":1},{"$f":"YEAR(vlookup_data[[#This Row],[Column8]])","v":1900},0,{"$f":"CONCATENATE(vlookup_data[[#This Row],[style '#]],\"|\",R973)","v":"0|"}]
[{"$f":"IF(ISNUMBER(U974)=TRUE,VLOOKUP(vlookup_data[[#This Row],[style '#]],[2]Sheet1!$A:$D,4,0)*ABS(U974),0)","v":0},{"$f":"WEEKNUM(vlookup_data[[#This Row],[Column8]],2)","v":1},{"$f":"YEAR(vlookup_data[[#This Row],[Column8]])","v":1900},0,{"$f":"CONCATENATE(vlookup_data[[#This Row],[style '#]],\"|\",R974)","v":"0|"}]
[{"$f":"IF(ISNUMBER(U975)=TRUE,VLOOKUP(vlookup_data[[#This Row],[style '#]],[2]Sheet1!$A:$D,4,0)*ABS(U975),0)","v":0},{"$f":"WEEKNUM(vlookup_data[[#This Row],[Column8]],2)","v":1},{"$f":"YEAR(vlookup_data[[#This Row],[Column8]])","v":1900},0,{"$f":"CONCATENATE(vlookup_data[[#This Row],[style '#]],\"|\",R975)","v":"0|"}]
[{"$f":"IF(ISNUMBER(U976)=TRUE,VLOOKUP(vlookup_data[[#This Row],[style '#]],[2]Sheet1!$A:$D,4,0)*ABS(U976),0)","v":0},{"$f":"WEEKNUM(vlookup_data[[#This Row],[Column8]],2)","v":1},{"$f":"YEAR(vlookup_data[[#This Row],[Column8]])","v":1900},0,{"$f":"CONCATENATE(vlookup_data[[#This Row],[style '#]],\"|\",R976)","v":"0|"}]
[{"$f":"IF(ISNUMBER(U977)=TRUE,VLOOKUP(vlookup_data[[#This Row],[style '#]],[2]Sheet1!$A:$D,4,0)*ABS(U977),0)","v":0},{"$f":"WEEKNUM(vlookup_data[[#This Row],[Column8]],2)","v":1},{"$f":"YEAR(vlookup_data[[#This Row],[Column8]])","v":1900},0,{"$f":"CONCATENATE(vlookup_data[[#This Row],[style '#]],\"|\",R977)","v":"0|"}]
[{"$f":"IF(ISNUMBER(U978)=TRUE,VLOOKUP(vlookup_data[[#This Row],[style '#]],[2]Sheet1!$A:$D,4,0)*ABS(U978),0)","v":0},{"$f":"WEEKNUM(vlookup_data[[#This Row],[Column8]],2)","v":1},{"$f":"YEAR(vlookup_data[[#This Row],[Column8]])","v":1900},0,{"$f":"CONCATENATE(vlookup_data[[#This Row],[style '#]],\"|\",R978)","v":"0|"}]
[{"$f":"IF(ISNUMBER(U979)=TRUE,VLOOKUP(vlookup_data[[#This Row],[style '#]],[2]Sheet1!$A:$D,4,0)*ABS(U979),0)","v":0},{"$f":"WEEKNUM(vlookup_data[[#This Row],[Column8]],2)","v":1},{"$f":"YEAR(vlookup_data[[#This Row],[Column8]])","v":1900},0,{"$f":"CONCATENATE(vlookup_data[[#This Row],[style '#]],\"|\",R979)","v":"0|"}]
[{"$f":"IF(ISNUMBER(U980)=TRUE,VLOOKUP(vlookup_data[[#This Row],[style '#]],[2]Sheet1!$A:$D,4,0)*ABS(U980),0)","v":0},{"$f":"WEEKNUM(vlookup_data[[#This Row],[Column8]],2)","v":1},{"$f":"YEAR(vlookup_data[[#This Row],[Column8]])","v":1900},0,{"$f":"CONCATENATE(vlookup_data[[#This Row],[style '#]],\"|\",R980)","v":"0|"}]
[{"$f":"IF(ISNUMBER(U981)=TRUE,VLOOKUP(vlookup_data[[#This Row],[style '#]],[2]Sheet1!$A:$D,4,0)*ABS(U981),0)","v":0},{"$f":"WEEKNUM(vlookup_data[[#This Row],[Column8]],2)","v":1},{"$f":"YEAR(vlookup_data[[#This Row],[Column8]])","v":1900},0,{"$f":"CONCATENATE(vlookup_data[[#This Row],[style '#]],\"|\",R981)","v":"0|"}]
[{"$f":"IF(ISNUMBER(U982)=TRUE,VLOOKUP(vlookup_data[[#This Row],[style '#]],[2]Sheet1!$A:$D,4,0)*ABS(U982),0)","v":0},{"$f":"WEEKNUM(vlookup_data[[#This Row],[Column8]],2)","v":1},{"$f":"YEAR(vlookup_data[[#This Row],[Column8]])","v":1900},0,{"$f":"CONCATENATE(vlookup_data[[#This Row],[style '#]],\"|\",R982)","v":"0|"}]
[{"$f":"IF(ISNUMBER(U983)=TRUE,VLOOKUP(vlookup_data[[#This Row],[style '#]],[2]Sheet1!$A:$D,4,0)*ABS(U983),0)","v":0},{"$f":"WEEKNUM(vlookup_data[[#This Row],[Column8]],2)","v":1},{"$f":"YEAR(vlookup_data[[#This Row],[Column8]])","v":1900},0,{"$f":"CONCATENATE(vlookup_data[[#This Row],[style '#]],\"|\",R983)","v":"0|"}]
[{"$f":"IF(ISNUMBER(U984)=TRUE,VLOOKUP(vlookup_data[[#This Row],[style '#]],[2]Sheet1!$A:$D,4,0)*ABS(U984),0)","v":0},{"$f":"WEEKNUM(vlookup_data[[#This Row],[Column8]],2)","v":1},{"$f":"YEAR(vlookup_data[[#This Row],[Column8]])","v":1900},0,{"$f":"CONCATENATE(vlookup_data[[#This Row],[style '#]],\"|\",R984)","v":"0|"}]
[{"$f":"IF(ISNUMBER(U985)=TRUE,VLOOKUP(vlookup_data[[#This Row],[style '#]],[2]Sheet1!$A:$D,4,0)*ABS(U985),0)","v":0},{"$f":"WEEKNUM(vlookup_data[[#This Row],[Column8]],2)","v":1},{"$f":"YEAR(vlookup_data[[#This Row],[Column8]])","v":1900},0,{"$f":"CONCATENATE(vlookup_data[[#This Row],[style '#]],\"|\",R985)","v":"0|"}]
[{"$f":"IF(ISNUMBER(U986)=TRUE,VLOOKUP(vlookup_data[[#This Row],[style '#]],[2]Sheet1!$A:$D,4,0)*ABS(U986),0)","v":0},{"$f":"WEEKNUM(vlookup_data[[#This Row],[Column8]],2)","v":1},{"$f":"YEAR(vlookup_data[[#This Row],[Column8]])","v":1900},0,{"$f":"CONCATENATE(vlookup_data[[#This Row],[style '#]],\"|\",R986)","v":"0|"}]
[{"$f":"IF(ISNUMBER(U987)=TRUE,VLOOKUP(vlookup_data[[#This Row],[style '#]],[2]Sheet1!$A:$D,4,0)*ABS(U987),0)","v":0},{"$f":"WEEKNUM(vlookup_data[[#This Row],[Column8]],2)","v":1},{"$f":"YEAR(vlookup_data[[#This Row],[Column8]])","v":1900},0,{"$f":"CONCATENATE(vlookup_data[[#This Row],[style '#]],\"|\",R987)","v":"0|"}]
[{"$f":"IF(ISNUMBER(U988)=TRUE,VLOOKUP(vlookup_data[[#This Row],[style '#]],[2]Sheet1!$A:$D,4,0)*ABS(U988),0)","v":0},{"$f":"WEEKNUM(vlookup_data[[#This Row],[Column8]],2)","v":1},{"$f":"YEAR(vlookup_data[[#This Row],[Column8]])","v":1900},0,{"$f":"CONCATENATE(vlookup_data[[#This Row],[style '#]],\"|\",R988)","v":"0|"}]
[{"$f":"IF(ISNUMBER(U989)=TRUE,VLOOKUP(vlookup_data[[#This Row],[style '#]],[2]Sheet1!$A:$D,4,0)*ABS(U989),0)","v":0},{"$f":"WEEKNUM(vlookup_data[[#This Row],[Column8]],2)","v":1},{"$f":"YEAR(vlookup_data[[#This Row],[Column8]])","v":1900},0,{"$f":"CONCATENATE(vlookup_data[[#This Row],[style '#]],\"|\",R989)","v":"0|"}]
[{"$f":"IF(ISNUMBER(U990)=TRUE,VLOOKUP(vlookup_data[[#This Row],[style '#]],[2]Sheet1!$A:$D,4,0)*ABS(U990),0)","v":0},{"$f":"WEEKNUM(vlookup_data[[#This Row],[Column8]],2)","v":1},{"$f":"YEAR(vlookup_data[[#This Row],[Column8]])","v":1900},0,{"$f":"CONCATENATE(vlookup_data[[#This Row],[style '#]],\"|\",R990)","v":"0|"}]
[{"$f":"IF(ISNUMBER(U991)=TRUE,VLOOKUP(vlookup_data[[#This Row],[style '#]],[2]Sheet1!$A:$D,4,0)*ABS(U991),0)","v":0},{"$f":"WEEKNUM(vlookup_data[[#This Row],[Column8]],2)","v":1},{"$f":"YEAR(vlookup_data[[#This Row],[Column8]])","v":1900},0,{"$f":"CONCATENATE(vlookup_data[[#This Row],[style '#]],\"|\",R991)","v":"0|"}]
[{"$f":"IF(ISNUMBER(U992)=TRUE,VLOOKUP(vlookup_data[[#This Row],[style '#]],[2]Sheet1!$A:$D,4,0)*ABS(U992),0)","v":0},{"$f":"WEEKNUM(vlookup_data[[#This Row],[Column8]],2)","v":1},{"$f":"YEAR(vlookup_data[[#This Row],[Column8]])","v":1900},0,{"$f":"CONCATENATE(vlookup_data[[#This Row],[style '#]],\"|\",R992)","v":"0|"}]
[{"$f":"IF(ISNUMBER(U993)=TRUE,VLOOKUP(vlookup_data[[#This Row],[style '#]],[2]Sheet1!$A:$D,4,0)*ABS(U993),0)","v":0},{"$f":"WEEKNUM(vlookup_data[[#This Row],[Column8]],2)","v":1},{"$f":"YEAR(vlookup_data[[#This Row],[Column8]])","v":1900},0,{"$f":"CONCATENATE(vlookup_data[[#This Row],[style '#]],\"|\",R993)","v":"0|"}]
[{"$f":"IF(ISNUMBER(U994)=TRUE,VLOOKUP(vlookup_data[[#This Row],[style '#]],[2]Sheet1!$A:$D,4,0)*ABS(U994),0)","v":0},{"$f":"WEEKNUM(vlookup_data[[#This Row],[Column8]],2)","v":1},{"$f":"YEAR(vlookup_data[[#This Row],[Column8]])","v":1900},0,{"$f":"CONCATENATE(vlookup_data[[#This Row],[style '#]],\"|\",R994)","v":"0|"}]
[{"$f":"IF(ISNUMBER(U995)=TRUE,VLOOKUP(vlookup_data[[#This Row],[style '#]],[2]Sheet1!$A:$D,4,0)*ABS(U995),0)","v":0},{"$f":"WEEKNUM(vlookup_data[[#This Row],[Column8]],2)","v":1},{"$f":"YEAR(vlookup_data[[#This Row],[Column8]])","v":1900},0,{"$f":"CONCATENATE(vlookup_data[[#This Row],[style '#]],\"|\",R995)","v":"0|"}]
[{"$f":"IF(ISNUMBER(U996)=TRUE,VLOOKUP(vlookup_data[[#This Row],[style '#]],[2]Sheet1!$A:$D,4,0)*ABS(U996),0)","v":0},{"$f":"WEEKNUM(vlookup_data[[#This Row],[Column8]],2)","v":1},{"$f":"YEAR(vlookup_data[[#This Row],[Column8]])","v":1900},0,{"$f":"CONCATENATE(vlookup_data[[#This Row],[style '#]],\"|\",R996)","v":"0|"}]
[{"$f":"IF(ISNUMBER(U997)=TRUE,VLOOKUP(vlookup_data[[#This Row],[style '#]],[2]Sheet1!$A:$D,4,0)*ABS(U997),0)","v":0},{"$f":"WEEKNUM(vlookup_data[[#This Row],[Column8]],2)","v":1},{"$f":"YEAR(vlookup_data[[#This Row],[Column8]])","v":1900},0,{"$f":"CONCATENATE(vlookup_data[[#This Row],[style '#]],\"|\",R997)","v":"0|"}]
[{"$f":"IF(ISNUMBER(U998)=TRUE,VLOOKUP(vlookup_data[[#This Row],[style '#]],[2]Sheet1!$A:$D,4,0)*ABS(U998),0)","v":0},{"$f":"WEEKNUM(vlookup_data[[#This Row],[Column8]],2)","v":1},{"$f":"YEAR(vlookup_data[[#This Row],[Column8]])","v":1900},0,{"$f":"CONCATENATE(vlookup_data[[#This Row],[style '#]],\"|\",R998)","v":"0|"}]
[{"$f":"IF(ISNUMBER(U999)=TRUE,VLOOKUP(vlookup_data[[#This Row],[style '#]],[2]Sheet1!$A:$D,4,0)*ABS(U999),0)","v":0},{"$f":"WEEKNUM(vlookup_data[[#This Row],[Column8]],2)","v":1},{"$f":"YEAR(vlookup_data[[#This Row],[Column8]])","v":1900},0,{"$f":"CONCATENATE(vlookup_data[[#This Row],[style '#]],\"|\",R999)","v":"0|"}]
[{"$f":"IF(ISNUMBER(U1000)=TRUE,VLOOKUP(vlookup_data[[#This Row],[style '#]],[2]Sheet1!$A:$D,4,0)*ABS(U1000),0)","v":0},{"$f":"WEEKNUM(vlookup_data[[#This Row],[Column8]],2)","v":1},{"$f":"YEAR(vlookup_data[[#This Row],[Column8]])","v":1900},0,{"$f":"CONCATENATE(vlookup_data[[#This Row],[style '#]],\"|\",R1000)","v":"0|"}]
[{"$f":"IF(ISNUMBER(U1001)=TRUE,VLOOKUP(vlookup_data[[#This Row],[style '#]],[2]Sheet1!$A:$D,4,0)*ABS(U1001),0)","v":0},{"$f":"WEEKNUM(vlookup_data[[#This Row],[Column8]],2)","v":1},{"$f":"YEAR(vlookup_data[[#This Row],[Column8]])","v":1900},0,{"$f":"CONCATENATE(vlookup_data[[#This Row],[style '#]],\"|\",R1001)","v":"0|"}]
[{"$f":"IF(ISNUMBER(U1002)=TRUE,VLOOKUP(vlookup_data[[#This Row],[style '#]],[2]Sheet1!$A:$D,4,0)*ABS(U1002),0)","v":0},{"$f":"WEEKNUM(vlookup_data[[#This Row],[Column8]],2)","v":1},{"$f":"YEAR(vlookup_data[[#This Row],[Column8]])","v":1900},0,{"$f":"CONCATENATE(vlookup_data[[#This Row],[style '#]],\"|\",R1002)","v":"0|"}]
[{"$f":"IF(ISNUMBER(U1003)=TRUE,VLOOKUP(vlookup_data[[#This Row],[style '#]],[2]Sheet1!$A:$D,4,0)*ABS(U1003),0)","v":0},{"$f":"WEEKNUM(vlookup_data[[#This Row],[Column8]],2)","v":1},{"$f":"YEAR(vlookup_data[[#This Row],[Column8]])","v":1900},0,{"$f":"CONCATENATE(vlookup_data[[#This Row],[style '#]],\"|\",R1003)","v":"0|"}]
[{"$f":"IF(ISNUMBER(U1004)=TRUE,VLOOKUP(vlookup_data[[#This Row],[style '#]],[2]Sheet1!$A:$D,4,0)*ABS(U1004),0)","v":0},{"$f":"WEEKNUM(vlookup_data[[#This Row],[Column8]],2)","v":1},{"$f":"YEAR(vlookup_data[[#This Row],[Column8]])","v":1900},0,{"$f":"CONCATENATE(vlookup_data[[#This Row],[style '#]],\"|\",R1004)","v":"0|"}]
[{"$f":"IF(ISNUMBER(U1005)=TRUE,VLOOKUP(vlookup_data[[#This Row],[style '#]],[2]Sheet1!$A:$D,4,0)*ABS(U1005),0)","v":0},{"$f":"WEEKNUM(vlookup_data[[#This Row],[Column8]],2)","v":1},{"$f":"YEAR(vlookup_data[[#This Row],[Column8]])","v":1900},0,{"$f":"CONCATENATE(vlookup_data[[#This Row],[style '#]],\"|\",R1005)","v":"0|"}]
[{"$f":"IF(ISNUMBER(U1006)=TRUE,VLOOKUP(vlookup_data[[#This Row],[style '#]],[2]Sheet1!$A:$D,4,0)*ABS(U1006),0)","v":0},{"$f":"WEEKNUM(vlookup_data[[#This Row],[Column8]],2)","v":1},{"$f":"YEAR(vlookup_data[[#This Row],[Column8]])","v":1900},0,{"$f":"CONCATENATE(vlookup_data[[#This Row],[style '#]],\"|\",R1006)","v":"0|"}]
[{"$f":"IF(ISNUMBER(U1007)=TRUE,VLOOKUP(vlookup_data[[#This Row],[style '#]],[2]Sheet1!$A:$D,4,0)*ABS(U1007),0)","v":0},{"$f":"WEEKNUM(vlookup_data[[#This Row],[Column8]],2)","v":1},{"$f":"YEAR(vlookup_data[[#This Row],[Column8]])","v":1900},0,{"$f":"CONCATENATE(vlookup_data[[#This Row],[style '#]],\"|\",R1007)","v":"0|"}]
[{"$f":"IF(ISNUMBER(U1008)=TRUE,VLOOKUP(vlookup_data[[#This Row],[style '#]],[2]Sheet1!$A:$D,4,0)*ABS(U1008),0)","v":0},{"$f":"WEEKNUM(vlookup_data[[#This Row],[Column8]],2)","v":1},{"$f":"YEAR(vlookup_data[[#This Row],[Column8]])","v":1900},0,{"$f":"CONCATENATE(vlookup_data[[#This Row],[style '#]],\"|\",R1008)","v":"0|"}]
[{"$f":"IF(ISNUMBER(U1009)=TRUE,VLOOKUP(vlookup_data[[#This Row],[style '#]],[2]Sheet1!$A:$D,4,0)*ABS(U1009),0)","v":0},{"$f":"WEEKNUM(vlookup_data[[#This Row],[Column8]],2)","v":1},{"$f":"YEAR(vlookup_data[[#This Row],[Column8]])","v":1900},0,{"$f":"CONCATENATE(vlookup_data[[#This Row],[style '#]],\"|\",R1009)","v":"0|"}]
[{"$f":"IF(ISNUMBER(U1010)=TRUE,VLOOKUP(vlookup_data[[#This Row],[style '#]],[2]Sheet1!$A:$D,4,0)*ABS(U1010),0)","v":0},{"$f":"WEEKNUM(vlookup_data[[#This Row],[Column8]],2)","v":1},{"$f":"YEAR(vlookup_data[[#This Row],[Column8]])","v":1900},0,{"$f":"CONCATENATE(vlookup_data[[#This Row],[style '#]],\"|\",R1010)","v":"0|"}]
[{"$f":"IF(ISNUMBER(U1011)=TRUE,VLOOKUP(vlookup_data[[#This Row],[style '#]],[2]Sheet1!$A:$D,4,0)*ABS(U1011),0)","v":0},{"$f":"WEEKNUM(vlookup_data[[#This Row],[Column8]],2)","v":1},{"$f":"YEAR(vlookup_data[[#This Row],[Column8]])","v":1900},0,{"$f":"CONCATENATE(vlookup_data[[#This Row],[style '#]],\"|\",R1011)","v":"0|"}]
[{"$f":"IF(ISNUMBER(U1012)=TRUE,VLOOKUP(vlookup_data[[#This Row],[style '#]],[2]Sheet1!$A:$D,4,0)*ABS(U1012),0)","v":0},{"$f":"WEEKNUM(vlookup_data[[#This Row],[Column8]],2)","v":1},{"$f":"YEAR(vlookup_data[[#This Row],[Column8]])","v":1900},0,{"$f":"CONCATENATE(vlookup_data[[#This Row],[style '#]],\"|\",R1012)","v":"0|"}]
[{"$f":"IF(ISNUMBER(U1013)=TRUE,VLOOKUP(vlookup_data[[#This Row],[style '#]],[2]Sheet1!$A:$D,4,0)*ABS(U1013),0)","v":0},{"$f":"WEEKNUM(vlookup_data[[#This Row],[Column8]],2)","v":1},{"$f":"YEAR(vlookup_data[[#This Row],[Column8]])","v":1900},0,{"$f":"CONCATENATE(vlookup_data[[#This Row],[style '#]],\"|\",R1013)","v":"0|"}]
[{"$f":"IF(ISNUMBER(U1014)=TRUE,VLOOKUP(vlookup_data[[#This Row],[style '#]],[2]Sheet1!$A:$D,4,0)*ABS(U1014),0)","v":0},{"$f":"WEEKNUM(vlookup_data[[#This Row],[Column8]],2)","v":1},{"$f":"YEAR(vlookup_data[[#This Row],[Column8]])","v":1900},0,{"$f":"CONCATENATE(vlookup_data[[#This Row],[style '#]],\"|\",R1014)","v":"0|"}]
[{"$f":"IF(ISNUMBER(U1015)=TRUE,VLOOKUP(vlookup_data[[#This Row],[style '#]],[2]Sheet1!$A:$D,4,0)*ABS(U1015),0)","v":0},{"$f":"WEEKNUM(vlookup_data[[#This Row],[Column8]],2)","v":1},{"$f":"YEAR(vlookup_data[[#This Row],[Column8]])","v":1900},0,{"$f":"CONCATENATE(vlookup_data[[#This Row],[style '#]],\"|\",R1015)","v":"0|"}]
[{"$f":"IF(ISNUMBER(U1016)=TRUE,VLOOKUP(vlookup_data[[#This Row],[style '#]],[2]Sheet1!$A:$D,4,0)*ABS(U1016),0)","v":0},{"$f":"WEEKNUM(vlookup_data[[#This Row],[Column8]],2)","v":1},{"$f":"YEAR(vlookup_data[[#This Row],[Column8]])","v":1900},0,{"$f":"CONCATENATE(vlookup_data[[#This Row],[style '#]],\"|\",R1016)","v":"0|"}]
[{"$f":"IF(ISNUMBER(U1017)=TRUE,VLOOKUP(vlookup_data[[#This Row],[style '#]],[2]Sheet1!$A:$D,4,0)*ABS(U1017),0)","v":0},{"$f":"WEEKNUM(vlookup_data[[#This Row],[Column8]],2)","v":1},{"$f":"YEAR(vlookup_data[[#This Row],[Column8]])","v":1900},0,{"$f":"CONCATENATE(vlookup_data[[#This Row],[style '#]],\"|\",R1017)","v":"0|"}]
[{"$f":"IF(ISNUMBER(U1018)=TRUE,VLOOKUP(vlookup_data[[#This Row],[style '#]],[2]Sheet1!$A:$D,4,0)*ABS(U1018),0)","v":0},{"$f":"WEEKNUM(vlookup_data[[#This Row],[Column8]],2)","v":1},{"$f":"YEAR(vlookup_data[[#This Row],[Column8]])","v":1900},0,{"$f":"CONCATENATE(vlookup_data[[#This Row],[style '#]],\"|\",R1018)","v":"0|"}]
[{"$f":"IF(ISNUMBER(U1019)=TRUE,VLOOKUP(vlookup_data[[#This Row],[style '#]],[2]Sheet1!$A:$D,4,0)*ABS(U1019),0)","v":0},{"$f":"WEEKNUM(vlookup_data[[#This Row],[Column8]],2)","v":1},{"$f":"YEAR(vlookup_data[[#This Row],[Column8]])","v":1900},0,{"$f":"CONCATENATE(vlookup_data[[#This Row],[style '#]],\"|\",R1019)","v":"0|"}]
[{"$f":"IF(ISNUMBER(U1020)=TRUE,VLOOKUP(vlookup_data[[#This Row],[style '#]],[2]Sheet1!$A:$D,4,0)*ABS(U1020),0)","v":0},{"$f":"WEEKNUM(vlookup_data[[#This Row],[Column8]],2)","v":1},{"$f":"YEAR(vlookup_data[[#This Row],[Column8]])","v":1900},0,{"$f":"CONCATENATE(vlookup_data[[#This Row],[style '#]],\"|\",R1020)","v":"0|"}]
[{"$f":"IF(ISNUMBER(U1021)=TRUE,VLOOKUP(vlookup_data[[#This Row],[style '#]],[2]Sheet1!$A:$D,4,0)*ABS(U1021),0)","v":0},{"$f":"WEEKNUM(vlookup_data[[#This Row],[Column8]],2)","v":1},{"$f":"YEAR(vlookup_data[[#This Row],[Column8]])","v":1900},0,{"$f":"CONCATENATE(vlookup_data[[#This Row],[style '#]],\"|\",R1021)","v":"0|"}]
[{"$f":"IF(ISNUMBER(U1022)=TRUE,VLOOKUP(vlookup_data[[#This Row],[style '#]],[2]Sheet1!$A:$D,4,0)*ABS(U1022),0)","v":0},{"$f":"WEEKNUM(vlookup_data[[#This Row],[Column8]],2)","v":1},{"$f":"YEAR(vlookup_data[[#This Row],[Column8]])","v":1900},0,{"$f":"CONCATENATE(vlookup_data[[#This Row],[style '#]],\"|\",R1022)","v":"0|"}]
[{"$f":"IF(ISNUMBER(U1023)=TRUE,VLOOKUP(vlookup_data[[#This Row],[style '#]],[2]Sheet1!$A:$D,4,0)*ABS(U1023),0)","v":0},{"$f":"WEEKNUM(vlookup_data[[#This Row],[Column8]],2)","v":1},{"$f":"YEAR(vlookup_data[[#This Row],[Column8]])","v":1900},0,{"$f":"CONCATENATE(vlookup_data[[#This Row],[style '#]],\"|\",R1023)","v":"0|"}]
[{"$f":"IF(ISNUMBER(U1024)=TRUE,VLOOKUP(vlookup_data[[#This Row],[style '#]],[2]Sheet1!$A:$D,4,0)*ABS(U1024),0)","v":0},{"$f":"WEEKNUM(vlookup_data[[#This Row],[Column8]],2)","v":1},{"$f":"YEAR(vlookup_data[[#This Row],[Column8]])","v":1900},0,{"$f":"CONCATENATE(vlookup_data[[#This Row],[style '#]],\"|\",R1024)","v":"0|"}]
[{"$f":"IF(ISNUMBER(U1025)=TRUE,VLOOKUP(vlookup_data[[#This Row],[style '#]],[2]Sheet1!$A:$D,4,0)*ABS(U1025),0)","v":0},{"$f":"WEEKNUM(vlookup_data[[#This Row],[Column8]],2)","v":1},{"$f":"YEAR(vlookup_data[[#This Row],[Column8]])","v":1900},0,{"$f":"CONCATENATE(vlookup_data[[#This Row],[style '#]],\"|\",R1025)","v":"0|"}]
[{"$f":"IF(ISNUMBER(U1026)=TRUE,VLOOKUP(vlookup_data[[#This Row],[style '#]],[2]Sheet1!$A:$D,4,0)*ABS(U1026),0)","v":0},{"$f":"WEEKNUM(vlookup_data[[#This Row],[Column8]],2)","v":1},{"$f":"YEAR(vlookup_data[[#This Row],[Column8]])","v":1900},0,{"$f":"CONCATENATE(vlookup_data[[#This Row],[style '#]],\"|\",R1026)","v":"0|"}]
[{"$f":"IF(ISNUMBER(U1027)=TRUE,VLOOKUP(vlookup_data[[#This Row],[style '#]],[2]Sheet1!$A:$D,4,0)*ABS(U1027),0)","v":0},{"$f":"WEEKNUM(vlookup_data[[#This Row],[Column8]],2)","v":1},{"$f":"YEAR(vlookup_data[[#This Row],[Column8]])","v":1900},0,{"$f":"CONCATENATE(vlookup_data[[#This Row],[style '#]],\"|\",R1027)","v":"0|"}]
[{"$f":"IF(ISNUMBER(U1028)=TRUE,VLOOKUP(vlookup_data[[#This Row],[style '#]],[2]Sheet1!$A:$D,4,0)*ABS(U1028),0)","v":0},{"$f":"WEEKNUM(vlookup_data[[#This Row],[Column8]],2)","v":1},{"$f":"YEAR(vlookup_data[[#This Row],[Column8]])","v":1900},0,{"$f":"CONCATENATE(vlookup_data[[#This Row],[style '#]],\"|\",R1028)","v":"0|"}]
[{"$f":"IF(ISNUMBER(U1029)=TRUE,VLOOKUP(vlookup_data[[#This Row],[style '#]],[2]Sheet1!$A:$D,4,0)*ABS(U1029),0)","v":0},{"$f":"WEEKNUM(vlookup_data[[#This Row],[Column8]],2)","v":1},{"$f":"YEAR(vlookup_data[[#This Row],[Column8]])","v":1900},0,{"$f":"CONCATENATE(vlookup_data[[#This Row],[style '#]],\"|\",R1029)","v":"0|"}]
[{"$f":"IF(ISNUMBER(U1030)=TRUE,VLOOKUP(vlookup_data[[#This Row],[style '#]],[2]Sheet1!$A:$D,4,0)*ABS(U1030),0)","v":0},{"$f":"WEEKNUM(vlookup_data[[#This Row],[Column8]],2)","v":1},{"$f":"YEAR(vlookup_data[[#This Row],[Column8]])","v":1900},0,{"$f":"CONCATENATE(vlookup_data[[#This Row],[style '#]],\"|\",R1030)","v":"0|"}]
[{"$f":"IF(ISNUMBER(U1031)=TRUE,VLOOKUP(vlookup_data[[#This Row],[style '#]],[2]Sheet1!$A:$D,4,0)*ABS(U1031),0)","v":0},{"$f":"WEEKNUM(vlookup_data[[#This Row],[Column8]],2)","v":1},{"$f":"YEAR(vlookup_data[[#This Row],[Column8]])","v":1900},0,{"$f":"CONCATENATE(vlookup_data[[#This Row],[style '#]],\"|\",R1031)","v":"0|"}]
[{"$f":"IF(ISNUMBER(U1032)=TRUE,VLOOKUP(vlookup_data[[#This Row],[style '#]],[2]Sheet1!$A:$D,4,0)*ABS(U1032),0)","v":0},{"$f":"WEEKNUM(vlookup_data[[#This Row],[Column8]],2)","v":1},{"$f":"YEAR(vlookup_data[[#This Row],[Column8]])","v":1900},0,{"$f":"CONCATENATE(vlookup_data[[#This Row],[style '#]],\"|\",R1032)","v":"0|"}]
[{"$f":"IF(ISNUMBER(U1033)=TRUE,VLOOKUP(vlookup_data[[#This Row],[style '#]],[2]Sheet1!$A:$D,4,0)*ABS(U1033),0)","v":0},{"$f":"WEEKNUM(vlookup_data[[#This Row],[Column8]],2)","v":1},{"$f":"YEAR(vlookup_data[[#This Row],[Column8]])","v":1900},{"$f":"VALUE(G1033)","v":0},{"$f":"CONCATENATE(vlookup_data[[#This Row],[style '#]],\"|\",R1033)","v":"0|"}]
[{"$f":"IF(ISNUMBER(U1034)=TRUE,VLOOKUP(vlookup_data[[#This Row],[style '#]],[2]Sheet1!$A:$D,4,0)*ABS(U1034),0)","v":0},{"$f":"WEEKNUM(vlookup_data[[#This Row],[Column8]],2)","v":1},{"$f":"YEAR(vlookup_data[[#This Row],[Column8]])","v":1900},0,{"$f":"CONCATENATE(vlookup_data[[#This Row],[style '#]],\"|\",R1034)","v":"0|"}]
[{"$f":"IF(ISNUMBER(U1035)=TRUE,VLOOKUP(vlookup_data[[#This Row],[style '#]],[2]Sheet1!$A:$D,4,0)*ABS(U1035),0)","v":0},{"$f":"WEEKNUM(vlookup_data[[#This Row],[Column8]],2)","v":1},{"$f":"YEAR(vlookup_data[[#This Row],[Column8]])","v":1900},0,{"$f":"CONCATENATE(vlookup_data[[#This Row],[style '#]],\"|\",R1035)","v":"0|"}]
[{"$f":"IF(ISNUMBER(U1036)=TRUE,VLOOKUP(vlookup_data[[#This Row],[style '#]],[2]Sheet1!$A:$D,4,0)*ABS(U1036),0)","v":0},{"$f":"WEEKNUM(vlookup_data[[#This Row],[Column8]],2)","v":1},{"$f":"YEAR(vlookup_data[[#This Row],[Column8]])","v":1900},0,{"$f":"CONCATENATE(vlookup_data[[#This Row],[style '#]],\"|\",R1036)","v":"0|"}]
[{"$f":"IF(ISNUMBER(U1037)=TRUE,VLOOKUP(vlookup_data[[#This Row],[style '#]],[2]Sheet1!$A:$D,4,0)*ABS(U1037),0)","v":0},{"$f":"WEEKNUM(vlookup_data[[#This Row],[Column8]],2)","v":1},{"$f":"YEAR(vlookup_data[[#This Row],[Column8]])","v":1900},0,{"$f":"CONCATENATE(vlookup_data[[#This Row],[style '#]],\"|\",R1037)","v":"0|"}]
[{"$f":"IF(ISNUMBER(U1038)=TRUE,VLOOKUP(vlookup_data[[#This Row],[style '#]],[2]Sheet1!$A:$D,4,0)*ABS(U1038),0)","v":0},{"$f":"WEEKNUM(vlookup_data[[#This Row],[Column8]],2)","v":1},{"$f":"YEAR(vlookup_data[[#This Row],[Column8]])","v":1900},0,{"$f":"CONCATENATE(vlookup_data[[#This Row],[style '#]],\"|\",R1038)","v":"0|"}]
[{"$f":"IF(ISNUMBER(U1039)=TRUE,VLOOKUP(vlookup_data[[#This Row],[style '#]],[2]Sheet1!$A:$D,4,0)*ABS(U1039),0)","v":0},{"$f":"WEEKNUM(vlookup_data[[#This Row],[Column8]],2)","v":1},{"$f":"YEAR(vlookup_data[[#This Row],[Column8]])","v":1900},0,{"$f":"CONCATENATE(vlookup_data[[#This Row],[style '#]],\"|\",R1039)","v":"0|"}]
[{"$f":"IF(ISNUMBER(U1040)=TRUE,VLOOKUP(vlookup_data[[#This Row],[style '#]],[2]Sheet1!$A:$D,4,0)*ABS(U1040),0)","v":0},{"$f":"WEEKNUM(vlookup_data[[#This Row],[Column8]],2)","v":1},{"$f":"YEAR(vlookup_data[[#This Row],[Column8]])","v":1900},0,{"$f":"CONCATENATE(vlookup_data[[#This Row],[style '#]],\"|\",R1040)","v":"0|"}]
[{"$f":"IF(ISNUMBER(U1041)=TRUE,VLOOKUP(vlookup_data[[#This Row],[style '#]],[2]Sheet1!$A:$D,4,0)*ABS(U1041),0)","v":0},{"$f":"WEEKNUM(vlookup_data[[#This Row],[Column8]],2)","v":1},{"$f":"YEAR(vlookup_data[[#This Row],[Column8]])","v":1900},0,{"$f":"CONCATENATE(vlookup_data[[#This Row],[style '#]],\"|\",R1041)","v":"0|"}]
[{"$f":"IF(ISNUMBER(U1042)=TRUE,VLOOKUP(vlookup_data[[#This Row],[style '#]],[2]Sheet1!$A:$D,4,0)*ABS(U1042),0)","v":0},{"$f":"WEEKNUM(vlookup_data[[#This Row],[Column8]],2)","v":1},{"$f":"YEAR(vlookup_data[[#This Row],[Column8]])","v":1900},0,{"$f":"CONCATENATE(vlookup_data[[#This Row],[style '#]],\"|\",R1042)","v":"0|"}]
[{"$f":"IF(ISNUMBER(U1043)=TRUE,VLOOKUP(vlookup_data[[#This Row],[style '#]],[2]Sheet1!$A:$D,4,0)*ABS(U1043),0)","v":0},{"$f":"WEEKNUM(vlookup_data[[#This Row],[Column8]],2)","v":1},{"$f":"YEAR(vlookup_data[[#This Row],[Column8]])","v":1900},0,{"$f":"CONCATENATE(vlookup_data[[#This Row],[style '#]],\"|\",R1043)","v":"0|"}]
[{"$f":"IF(ISNUMBER(U1044)=TRUE,VLOOKUP(vlookup_data[[#This Row],[style '#]],[2]Sheet1!$A:$D,4,0)*ABS(U1044),0)","v":0},{"$f":"WEEKNUM(vlookup_data[[#This Row],[Column8]],2)","v":1},{"$f":"YEAR(vlookup_data[[#This Row],[Column8]])","v":1900},0,{"$f":"CONCATENATE(vlookup_data[[#This Row],[style '#]],\"|\",R1044)","v":"0|"}]
[{"$f":"IF(ISNUMBER(U1045)=TRUE,VLOOKUP(vlookup_data[[#This Row],[style '#]],[2]Sheet1!$A:$D,4,0)*ABS(U1045),0)","v":0},{"$f":"WEEKNUM(vlookup_data[[#This Row],[Column8]],2)","v":1},{"$f":"YEAR(vlookup_data[[#This Row],[Column8]])","v":1900},0,{"$f":"CONCATENATE(vlookup_data[[#This Row],[style '#]],\"|\",R1045)","v":"0|"}]
[{"$f":"IF(ISNUMBER(U1046)=TRUE,VLOOKUP(vlookup_data[[#This Row],[style '#]],[2]Sheet1!$A:$D,4,0)*ABS(U1046),0)","v":0},{"$f":"WEEKNUM(vlookup_data[[#This Row],[Column8]],2)","v":1},{"$f":"YEAR(vlookup_data[[#This Row],[Column8]])","v":1900},0,{"$f":"CONCATENATE(vlookup_data[[#This Row],[style '#]],\"|\",R1046)","v":"0|"}]
[{"$f":"IF(ISNUMBER(U1047)=TRUE,VLOOKUP(vlookup_data[[#This Row],[style '#]],[2]Sheet1!$A:$D,4,0)*ABS(U1047),0)","v":0},{"$f":"WEEKNUM(vlookup_data[[#This Row],[Column8]],2)","v":1},{"$f":"YEAR(vlookup_data[[#This Row],[Column8]])","v":1900},0,{"$f":"CONCATENATE(vlookup_data[[#This Row],[style '#]],\"|\",R1047)","v":"0|"}]
[{"$f":"IF(ISNUMBER(U1048)=TRUE,VLOOKUP(vlookup_data[[#This Row],[style '#]],[2]Sheet1!$A:$D,4,0)*ABS(U1048),0)","v":0},{"$f":"WEEKNUM(vlookup_data[[#This Row],[Column8]],2)","v":1},{"$f":"YEAR(vlookup_data[[#This Row],[Column8]])","v":1900},0,{"$f":"CONCATENATE(vlookup_data[[#This Row],[style '#]],\"|\",R1048)","v":"0|"}]
[{"$f":"IF(ISNUMBER(U1049)=TRUE,VLOOKUP(vlookup_data[[#This Row],[style '#]],[2]Sheet1!$A:$D,4,0)*ABS(U1049),0)","v":0},{"$f":"WEEKNUM(vlookup_data[[#This Row],[Column8]],2)","v":1},{"$f":"YEAR(vlookup_data[[#This Row],[Column8]])","v":1900},0,{"$f":"CONCATENATE(vlookup_data[[#This Row],[style '#]],\"|\",R1049)","v":"0|"}]
[{"$f":"IF(ISNUMBER(U1050)=TRUE,VLOOKUP(vlookup_data[[#This Row],[style '#]],[2]Sheet1!$A:$D,4,0)*ABS(U1050),0)","v":0},{"$f":"WEEKNUM(vlookup_data[[#This Row],[Column8]],2)","v":1},{"$f":"YEAR(vlookup_data[[#This Row],[Column8]])","v":1900},0,{"$f":"CONCATENATE(vlookup_data[[#This Row],[style '#]],\"|\",R1050)","v":"0|"}]
[{"$f":"IF(ISNUMBER(U1051)=TRUE,VLOOKUP(vlookup_data[[#This Row],[style '#]],[2]Sheet1!$A:$D,4,0)*ABS(U1051),0)","v":0},{"$f":"WEEKNUM(vlookup_data[[#This Row],[Column8]],2)","v":1},{"$f":"YEAR(vlookup_data[[#This Row],[Column8]])","v":1900},0,{"$f":"CONCATENATE(vlookup_data[[#This Row],[style '#]],\"|\",R1051)","v":"0|"}]
[{"$f":"IF(ISNUMBER(U1052)=TRUE,VLOOKUP(vlookup_data[[#This Row],[style '#]],[2]Sheet1!$A:$D,4,0)*ABS(U1052),0)","v":0},{"$f":"WEEKNUM(vlookup_data[[#This Row],[Column8]],2)","v":1},{"$f":"YEAR(vlookup_data[[#This Row],[Column8]])","v":1900},0,{"$f":"CONCATENATE(vlookup_data[[#This Row],[style '#]],\"|\",R1052)","v":"0|"}]
[{"$f":"IF(ISNUMBER(U1053)=TRUE,VLOOKUP(vlookup_data[[#This Row],[style '#]],[2]Sheet1!$A:$D,4,0)*ABS(U1053),0)","v":0},{"$f":"WEEKNUM(vlookup_data[[#This Row],[Column8]],2)","v":1},{"$f":"YEAR(vlookup_data[[#This Row],[Column8]])","v":1900},0,{"$f":"CONCATENATE(vlookup_data[[#This Row],[style '#]],\"|\",R1053)","v":"0|"}]
[{"$f":"IF(ISNUMBER(U1054)=TRUE,VLOOKUP(vlookup_data[[#This Row],[style '#]],[2]Sheet1!$A:$D,4,0)*ABS(U1054),0)","v":0},{"$f":"WEEKNUM(vlookup_data[[#This Row],[Column8]],2)","v":1},{"$f":"YEAR(vlookup_data[[#This Row],[Column8]])","v":1900},0,{"$f":"CONCATENATE(vlookup_data[[#This Row],[style '#]],\"|\",R1054)","v":"0|"}]
[{"$f":"IF(ISNUMBER(U1055)=TRUE,VLOOKUP(vlookup_data[[#This Row],[style '#]],[2]Sheet1!$A:$D,4,0)*ABS(U1055),0)","v":0},{"$f":"WEEKNUM(vlookup_data[[#This Row],[Column8]],2)","v":1},{"$f":"YEAR(vlookup_data[[#This Row],[Column8]])","v":1900},0,{"$f":"CONCATENATE(vlookup_data[[#This Row],[style '#]],\"|\",R1055)","v":"0|"}]
[{"$f":"IF(ISNUMBER(U1056)=TRUE,VLOOKUP(vlookup_data[[#This Row],[style '#]],[2]Sheet1!$A:$D,4,0)*ABS(U1056),0)","v":0},{"$f":"WEEKNUM(vlookup_data[[#This Row],[Column8]],2)","v":1},{"$f":"YEAR(vlookup_data[[#This Row],[Column8]])","v":1900},0,{"$f":"CONCATENATE(vlookup_data[[#This Row],[style '#]],\"|\",R1056)","v":"0|"}]
[{"$f":"IF(ISNUMBER(U1057)=TRUE,VLOOKUP(vlookup_data[[#This Row],[style '#]],[2]Sheet1!$A:$D,4,0)*ABS(U1057),0)","v":0},{"$f":"WEEKNUM(vlookup_data[[#This Row],[Column8]],2)","v":1},{"$f":"YEAR(vlookup_data[[#This Row],[Column8]])","v":1900},0,{"$f":"CONCATENATE(vlookup_data[[#This Row],[style '#]],\"|\",R1057)","v":"0|"}]
[{"$f":"IF(ISNUMBER(U1058)=TRUE,VLOOKUP(vlookup_data[[#This Row],[style '#]],[2]Sheet1!$A:$D,4,0)*ABS(U1058),0)","v":0},{"$f":"WEEKNUM(vlookup_data[[#This Row],[Column8]],2)","v":1},{"$f":"YEAR(vlookup_data[[#This Row],[Column8]])","v":1900},0,{"$f":"CONCATENATE(vlookup_data[[#This Row],[style '#]],\"|\",R1058)","v":"0|"}]
[{"$f":"IF(ISNUMBER(U1059)=TRUE,VLOOKUP(vlookup_data[[#This Row],[style '#]],[2]Sheet1!$A:$D,4,0)*ABS(U1059),0)","v":0},{"$f":"WEEKNUM(vlookup_data[[#This Row],[Column8]],2)","v":1},{"$f":"YEAR(vlookup_data[[#This Row],[Column8]])","v":1900},0,{"$f":"CONCATENATE(vlookup_data[[#This Row],[style '#]],\"|\",R1059)","v":"0|"}]
[{"$f":"IF(ISNUMBER(U1060)=TRUE,VLOOKUP(vlookup_data[[#This Row],[style '#]],[2]Sheet1!$A:$D,4,0)*ABS(U1060),0)","v":0},{"$f":"WEEKNUM(vlookup_data[[#This Row],[Column8]],2)","v":1},{"$f":"YEAR(vlookup_data[[#This Row],[Column8]])","v":1900},0,{"$f":"CONCATENATE(vlookup_data[[#This Row],[style '#]],\"|\",R1060)","v":"0|"}]
[{"$f":"IF(ISNUMBER(U1061)=TRUE,VLOOKUP(vlookup_data[[#This Row],[style '#]],[2]Sheet1!$A:$D,4,0)*ABS(U1061),0)","v":0},{"$f":"WEEKNUM(vlookup_data[[#This Row],[Column8]],2)","v":1},{"$f":"YEAR(vlookup_data[[#This Row],[Column8]])","v":1900},0,{"$f":"CONCATENATE(vlookup_data[[#This Row],[style '#]],\"|\",R1061)","v":"0|"}]
[{"$f":"IF(ISNUMBER(U1062)=TRUE,VLOOKUP(vlookup_data[[#This Row],[style '#]],[2]Sheet1!$A:$D,4,0)*ABS(U1062),0)","v":0},{"$f":"WEEKNUM(vlookup_data[[#This Row],[Column8]],2)","v":1},{"$f":"YEAR(vlookup_data[[#This Row],[Column8]])","v":1900},0,{"$f":"CONCATENATE(vlookup_data[[#This Row],[style '#]],\"|\",R1062)","v":"0|"}]
[{"$f":"IF(ISNUMBER(U1063)=TRUE,VLOOKUP(vlookup_data[[#This Row],[style '#]],[2]Sheet1!$A:$D,4,0)*ABS(U1063),0)","v":0},{"$f":"WEEKNUM(vlookup_data[[#This Row],[Column8]],2)","v":1},{"$f":"YEAR(vlookup_data[[#This Row],[Column8]])","v":1900},0,{"$f":"CONCATENATE(vlookup_data[[#This Row],[style '#]],\"|\",R1063)","v":"0|"}]
[{"$f":"IF(ISNUMBER(U1064)=TRUE,VLOOKUP(vlookup_data[[#This Row],[style '#]],[2]Sheet1!$A:$D,4,0)*ABS(U1064),0)","v":0},{"$f":"WEEKNUM(vlookup_data[[#This Row],[Column8]],2)","v":1},{"$f":"YEAR(vlookup_data[[#This Row],[Column8]])","v":1900},0,{"$f":"CONCATENATE(vlookup_data[[#This Row],[style '#]],\"|\",R1064)","v":"0|"}]
[{"$f":"IF(ISNUMBER(U1065)=TRUE,VLOOKUP(vlookup_data[[#This Row],[style '#]],[2]Sheet1!$A:$D,4,0)*ABS(U1065),0)","v":0},{"$f":"WEEKNUM(vlookup_data[[#This Row],[Column8]],2)","v":1},{"$f":"YEAR(vlookup_data[[#This Row],[Column8]])","v":1900},0,{"$f":"CONCATENATE(vlookup_data[[#This Row],[style '#]],\"|\",R1065)","v":"0|"}]
[{"$f":"IF(ISNUMBER(U1066)=TRUE,VLOOKUP(vlookup_data[[#This Row],[style '#]],[2]Sheet1!$A:$D,4,0)*ABS(U1066),0)","v":0},{"$f":"WEEKNUM(vlookup_data[[#This Row],[Column8]],2)","v":1},{"$f":"YEAR(vlookup_data[[#This Row],[Column8]])","v":1900},0,{"$f":"CONCATENATE(vlookup_data[[#This Row],[style '#]],\"|\",R1066)","v":"0|"}]
[{"$f":"IF(ISNUMBER(U1067)=TRUE,VLOOKUP(vlookup_data[[#This Row],[style '#]],[2]Sheet1!$A:$D,4,0)*ABS(U1067),0)","v":0},{"$f":"WEEKNUM(vlookup_data[[#This Row],[Column8]],2)","v":1},{"$f":"YEAR(vlookup_data[[#This Row],[Column8]])","v":1900},0,{"$f":"CONCATENATE(vlookup_data[[#This Row],[style '#]],\"|\",R1067)","v":"0|"}]
[{"$f":"IF(ISNUMBER(U1068)=TRUE,VLOOKUP(vlookup_data[[#This Row],[style '#]],[2]Sheet1!$A:$D,4,0)*ABS(U1068),0)","v":0},{"$f":"WEEKNUM(vlookup_data[[#This Row],[Column8]],2)","v":1},{"$f":"YEAR(vlookup_data[[#This Row],[Column8]])","v":1900},0,{"$f":"CONCATENATE(vlookup_data[[#This Row],[style '#]],\"|\",R1068)","v":"0|"}]
[{"$f":"IF(ISNUMBER(U1069)=TRUE,VLOOKUP(vlookup_data[[#This Row],[style '#]],[2]Sheet1!$A:$D,4,0)*ABS(U1069),0)","v":0},{"$f":"WEEKNUM(vlookup_data[[#This Row],[Column8]],2)","v":1},{"$f":"YEAR(vlookup_data[[#This Row],[Column8]])","v":1900},0,{"$f":"CONCATENATE(vlookup_data[[#This Row],[style '#]],\"|\",R1069)","v":"0|"}]
[{"$f":"IF(ISNUMBER(U1070)=TRUE,VLOOKUP(vlookup_data[[#This Row],[style '#]],[2]Sheet1!$A:$D,4,0)*ABS(U1070),0)","v":0},{"$f":"WEEKNUM(vlookup_data[[#This Row],[Column8]],2)","v":1},{"$f":"YEAR(vlookup_data[[#This Row],[Column8]])","v":1900},0,{"$f":"CONCATENATE(vlookup_data[[#This Row],[style '#]],\"|\",R1070)","v":"0|"}]
[{"$f":"IF(ISNUMBER(U1071)=TRUE,VLOOKUP(vlookup_data[[#This Row],[style '#]],[2]Sheet1!$A:$D,4,0)*ABS(U1071),0)","v":0},{"$f":"WEEKNUM(vlookup_data[[#This Row],[Column8]],2)","v":1},{"$f":"YEAR(vlookup_data[[#This Row],[Column8]])","v":1900},0,{"$f":"CONCATENATE(vlookup_data[[#This Row],[style '#]],\"|\",R1071)","v":"0|"}]
[{"$f":"IF(ISNUMBER(U1072)=TRUE,VLOOKUP(vlookup_data[[#This Row],[style '#]],[2]Sheet1!$A:$D,4,0)*ABS(U1072),0)","v":0},{"$f":"WEEKNUM(vlookup_data[[#This Row],[Column8]],2)","v":1},{"$f":"YEAR(vlookup_data[[#This Row],[Column8]])","v":1900},0,{"$f":"CONCATENATE(vlookup_data[[#This Row],[style '#]],\"|\",R1072)","v":"0|"}]
[{"$f":"IF(ISNUMBER(U1073)=TRUE,VLOOKUP(vlookup_data[[#This Row],[style '#]],[2]Sheet1!$A:$D,4,0)*ABS(U1073),0)","v":0},{"$f":"WEEKNUM(vlookup_data[[#This Row],[Column8]],2)","v":1},{"$f":"YEAR(vlookup_data[[#This Row],[Column8]])","v":1900},0,{"$f":"CONCATENATE(vlookup_data[[#This Row],[style '#]],\"|\",R1073)","v":"0|"}]
[{"$f":"IF(ISNUMBER(U1074)=TRUE,VLOOKUP(vlookup_data[[#This Row],[style '#]],[2]Sheet1!$A:$D,4,0)*ABS(U1074),0)","v":0},{"$f":"WEEKNUM(vlookup_data[[#This Row],[Column8]],2)","v":1},{"$f":"YEAR(vlookup_data[[#This Row],[Column8]])","v":1900},0,{"$f":"CONCATENATE(vlookup_data[[#This Row],[style '#]],\"|\",R1074)","v":"0|"}]
[{"$f":"IF(ISNUMBER(U1075)=TRUE,VLOOKUP(vlookup_data[[#This Row],[style '#]],[2]Sheet1!$A:$D,4,0)*ABS(U1075),0)","v":0},{"$f":"WEEKNUM(vlookup_data[[#This Row],[Column8]],2)","v":1},{"$f":"YEAR(vlookup_data[[#This Row],[Column8]])","v":1900},0,{"$f":"CONCATENATE(vlookup_data[[#This Row],[style '#]],\"|\",R1075)","v":"0|"}]
[{"$f":"IF(ISNUMBER(U1076)=TRUE,VLOOKUP(vlookup_data[[#This Row],[style '#]],[2]Sheet1!$A:$D,4,0)*ABS(U1076),0)","v":0},{"$f":"WEEKNUM(vlookup_data[[#This Row],[Column8]],2)","v":1},{"$f":"YEAR(vlookup_data[[#This Row],[Column8]])","v":1900},0,{"$f":"CONCATENATE(vlookup_data[[#This Row],[style '#]],\"|\",R1076)","v":"0|"}]
[{"$f":"IF(ISNUMBER(U1077)=TRUE,VLOOKUP(vlookup_data[[#This Row],[style '#]],[2]Sheet1!$A:$D,4,0)*ABS(U1077),0)","v":0},{"$f":"WEEKNUM(vlookup_data[[#This Row],[Column8]],2)","v":1},{"$f":"YEAR(vlookup_data[[#This Row],[Column8]])","v":1900},0,{"$f":"CONCATENATE(vlookup_data[[#This Row],[style '#]],\"|\",R1077)","v":"0|"}]
[{"$f":"IF(ISNUMBER(U1078)=TRUE,VLOOKUP(vlookup_data[[#This Row],[style '#]],[2]Sheet1!$A:$D,4,0)*ABS(U1078),0)","v":0},{"$f":"WEEKNUM(vlookup_data[[#This Row],[Column8]],2)","v":1},{"$f":"YEAR(vlookup_data[[#This Row],[Column8]])","v":1900},0,{"$f":"CONCATENATE(vlookup_data[[#This Row],[style '#]],\"|\",R1078)","v":"0|"}]
[{"$f":"IF(ISNUMBER(U1079)=TRUE,VLOOKUP(vlookup_data[[#This Row],[style '#]],[2]Sheet1!$A:$D,4,0)*ABS(U1079),0)","v":0},{"$f":"WEEKNUM(vlookup_data[[#This Row],[Column8]],2)","v":1},{"$f":"YEAR(vlookup_data[[#This Row],[Column8]])","v":1900},0,{"$f":"CONCATENATE(vlookup_data[[#This Row],[style '#]],\"|\",R1079)","v":"0|"}]
[{"$f":"IF(ISNUMBER(U1080)=TRUE,VLOOKUP(vlookup_data[[#This Row],[style '#]],[2]Sheet1!$A:$D,4,0)*ABS(U1080),0)","v":0},{"$f":"WEEKNUM(vlookup_data[[#This Row],[Column8]],2)","v":1},{"$f":"YEAR(vlookup_data[[#This Row],[Column8]])","v":1900},0,{"$f":"CONCATENATE(vlookup_data[[#This Row],[style '#]],\"|\",R1080)","v":"0|"}]
[{"$f":"IF(ISNUMBER(U1081)=TRUE,VLOOKUP(vlookup_data[[#This Row],[style '#]],[2]Sheet1!$A:$D,4,0)*ABS(U1081),0)","v":0},{"$f":"WEEKNUM(vlookup_data[[#This Row],[Column8]],2)","v":1},{"$f":"YEAR(vlookup_data[[#This Row],[Column8]])","v":1900},0,{"$f":"CONCATENATE(vlookup_data[[#This Row],[style '#]],\"|\",R1081)","v":"0|"}]
[{"$f":"IF(ISNUMBER(U1082)=TRUE,VLOOKUP(vlookup_data[[#This Row],[style '#]],[2]Sheet1!$A:$D,4,0)*ABS(U1082),0)","v":0},{"$f":"WEEKNUM(vlookup_data[[#This Row],[Column8]],2)","v":1},{"$f":"YEAR(vlookup_data[[#This Row],[Column8]])","v":1900},0,{"$f":"CONCATENATE(vlookup_data[[#This Row],[style '#]],\"|\",R1082)","v":"0|"}]
[{"$f":"IF(ISNUMBER(U1083)=TRUE,VLOOKUP(vlookup_data[[#This Row],[style '#]],[2]Sheet1!$A:$D,4,0)*ABS(U1083),0)","v":0},{"$f":"WEEKNUM(vlookup_data[[#This Row],[Column8]],2)","v":1},{"$f":"YEAR(vlookup_data[[#This Row],[Column8]])","v":1900},0,{"$f":"CONCATENATE(vlookup_data[[#This Row],[style '#]],\"|\",R1083)","v":"0|"}]
[{"$f":"IF(ISNUMBER(U1084)=TRUE,VLOOKUP(vlookup_data[[#This Row],[style '#]],[2]Sheet1!$A:$D,4,0)*ABS(U1084),0)","v":0},{"$f":"WEEKNUM(vlookup_data[[#This Row],[Column8]],2)","v":1},{"$f":"YEAR(vlookup_data[[#This Row],[Column8]])","v":1900},0,{"$f":"CONCATENATE(vlookup_data[[#This Row],[style '#]],\"|\",R1084)","v":"0|"}]
[{"$f":"IF(ISNUMBER(U1085)=TRUE,VLOOKUP(vlookup_data[[#This Row],[style '#]],[2]Sheet1!$A:$D,4,0)*ABS(U1085),0)","v":0},{"$f":"WEEKNUM(vlookup_data[[#This Row],[Column8]],2)","v":1},{"$f":"YEAR(vlookup_data[[#This Row],[Column8]])","v":1900},0,{"$f":"CONCATENATE(vlookup_data[[#This Row],[style '#]],\"|\",R1085)","v":"0|"}]
[{"$f":"IF(ISNUMBER(U1086)=TRUE,VLOOKUP(vlookup_data[[#This Row],[style '#]],[2]Sheet1!$A:$D,4,0)*ABS(U1086),0)","v":0},{"$f":"WEEKNUM(vlookup_data[[#This Row],[Column8]],2)","v":1},{"$f":"YEAR(vlookup_data[[#This Row],[Column8]])","v":1900},0,{"$f":"CONCATENATE(vlookup_data[[#This Row],[style '#]],\"|\",R1086)","v":"0|"}]
[{"$f":"IF(ISNUMBER(U1087)=TRUE,VLOOKUP(vlookup_data[[#This Row],[style '#]],[2]Sheet1!$A:$D,4,0)*ABS(U1087),0)","v":0},{"$f":"WEEKNUM(vlookup_data[[#This Row],[Column8]],2)","v":1},{"$f":"YEAR(vlookup_data[[#This Row],[Column8]])","v":1900},0,{"$f":"CONCATENATE(vlookup_data[[#This Row],[style '#]],\"|\",R1087)","v":"0|"}]
[{"$f":"IF(ISNUMBER(U1088)=TRUE,VLOOKUP(vlookup_data[[#This Row],[style '#]],[2]Sheet1!$A:$D,4,0)*ABS(U1088),0)","v":0},{"$f":"WEEKNUM(vlookup_data[[#This Row],[Column8]],2)","v":1},{"$f":"YEAR(vlookup_data[[#This Row],[Column8]])","v":1900},0,{"$f":"CONCATENATE(vlookup_data[[#This Row],[style '#]],\"|\",R1088)","v":"0|"}]
[{"$f":"IF(ISNUMBER(U1089)=TRUE,VLOOKUP(vlookup_data[[#This Row],[style '#]],[2]Sheet1!$A:$D,4,0)*ABS(U1089),0)","v":0},{"$f":"WEEKNUM(vlookup_data[[#This Row],[Column8]],2)","v":1},{"$f":"YEAR(vlookup_data[[#This Row],[Column8]])","v":1900},0,{"$f":"CONCATENATE(vlookup_data[[#This Row],[style '#]],\"|\",R1089)","v":"0|"}]
[{"$f":"IF(ISNUMBER(U1090)=TRUE,VLOOKUP(vlookup_data[[#This Row],[style '#]],[2]Sheet1!$A:$D,4,0)*ABS(U1090),0)","v":0},{"$f":"WEEKNUM(vlookup_data[[#This Row],[Column8]],2)","v":1},{"$f":"YEAR(vlookup_data[[#This Row],[Column8]])","v":1900},0,{"$f":"CONCATENATE(vlookup_data[[#This Row],[style '#]],\"|\",R1090)","v":"0|"}]
[{"$f":"IF(ISNUMBER(U1091)=TRUE,VLOOKUP(vlookup_data[[#This Row],[style '#]],[2]Sheet1!$A:$D,4,0)*ABS(U1091),0)","v":0},{"$f":"WEEKNUM(vlookup_data[[#This Row],[Column8]],2)","v":1},{"$f":"YEAR(vlookup_data[[#This Row],[Column8]])","v":1900},0,{"$f":"CONCATENATE(vlookup_data[[#This Row],[style '#]],\"|\",R1091)","v":"0|"}]
[{"$f":"IF(ISNUMBER(U1092)=TRUE,VLOOKUP(vlookup_data[[#This Row],[style '#]],[2]Sheet1!$A:$D,4,0)*ABS(U1092),0)","v":0},{"$f":"WEEKNUM(vlookup_data[[#This Row],[Column8]],2)","v":1},{"$f":"YEAR(vlookup_data[[#This Row],[Column8]])","v":1900},0,{"$f":"CONCATENATE(vlookup_data[[#This Row],[style '#]],\"|\",R1092)","v":"0|"}]
[{"$f":"IF(ISNUMBER(U1093)=TRUE,VLOOKUP(vlookup_data[[#This Row],[style '#]],[2]Sheet1!$A:$D,4,0)*ABS(U1093),0)","v":0},{"$f":"WEEKNUM(vlookup_data[[#This Row],[Column8]],2)","v":1},{"$f":"YEAR(vlookup_data[[#This Row],[Column8]])","v":1900},0,{"$f":"CONCATENATE(vlookup_data[[#This Row],[style '#]],\"|\",R1093)","v":"0|"}]
[{"$f":"IF(ISNUMBER(U1094)=TRUE,VLOOKUP(vlookup_data[[#This Row],[style '#]],[2]Sheet1!$A:$D,4,0)*ABS(U1094),0)","v":0},{"$f":"WEEKNUM(vlookup_data[[#This Row],[Column8]],2)","v":1},{"$f":"YEAR(vlookup_data[[#This Row],[Column8]])","v":1900},0,{"$f":"CONCATENATE(vlookup_data[[#This Row],[style '#]],\"|\",R1094)","v":"0|"}]
[{"$f":"IF(ISNUMBER(U1095)=TRUE,VLOOKUP(vlookup_data[[#This Row],[style '#]],[2]Sheet1!$A:$D,4,0)*ABS(U1095),0)","v":0},{"$f":"WEEKNUM(vlookup_data[[#This Row],[Column8]],2)","v":1},{"$f":"YEAR(vlookup_data[[#This Row],[Column8]])","v":1900},0,{"$f":"CONCATENATE(vlookup_data[[#This Row],[style '#]],\"|\",R1095)","v":"0|"}]
[{"$f":"IF(ISNUMBER(U1096)=TRUE,VLOOKUP(vlookup_data[[#This Row],[style '#]],[2]Sheet1!$A:$D,4,0)*ABS(U1096),0)","v":0},{"$f":"WEEKNUM(vlookup_data[[#This Row],[Column8]],2)","v":1},{"$f":"YEAR(vlookup_data[[#This Row],[Column8]])","v":1900},0,{"$f":"CONCATENATE(vlookup_data[[#This Row],[style '#]],\"|\",R1096)","v":"0|"}]
[{"$f":"IF(ISNUMBER(U1097)=TRUE,VLOOKUP(vlookup_data[[#This Row],[style '#]],[2]Sheet1!$A:$D,4,0)*ABS(U1097),0)","v":0},{"$f":"WEEKNUM(vlookup_data[[#This Row],[Column8]],2)","v":1},{"$f":"YEAR(vlookup_data[[#This Row],[Column8]])","v":1900},{"$f":"VALUE(G1097)","v":0},{"$f":"CONCATENATE(vlookup_data[[#This Row],[style '#]],\"|\",R1097)","v":"0|"}]
[{"$f":"IF(ISNUMBER(U1098)=TRUE,VLOOKUP(vlookup_data[[#This Row],[style '#]],[2]Sheet1!$A:$D,4,0)*ABS(U1098),0)","v":0},{"$f":"WEEKNUM(vlookup_data[[#This Row],[Column8]],2)","v":1},{"$f":"YEAR(vlookup_data[[#This Row],[Column8]])","v":1900},0,{"$f":"CONCATENATE(vlookup_data[[#This Row],[style '#]],\"|\",R1098)","v":"0|"}]
[{"$f":"IF(ISNUMBER(U1099)=TRUE,VLOOKUP(vlookup_data[[#This Row],[style '#]],[2]Sheet1!$A:$D,4,0)*ABS(U1099),0)","v":0},{"$f":"WEEKNUM(vlookup_data[[#This Row],[Column8]],2)","v":1},{"$f":"YEAR(vlookup_data[[#This Row],[Column8]])","v":1900},0,{"$f":"CONCATENATE(vlookup_data[[#This Row],[style '#]],\"|\",R1099)","v":"0|"}]
[{"$f":"IF(ISNUMBER(U1100)=TRUE,VLOOKUP(vlookup_data[[#This Row],[style '#]],[2]Sheet1!$A:$D,4,0)*ABS(U1100),0)","v":0},{"$f":"WEEKNUM(vlookup_data[[#This Row],[Column8]],2)","v":1},{"$f":"YEAR(vlookup_data[[#This Row],[Column8]])","v":1900},0,{"$f":"CONCATENATE(vlookup_data[[#This Row],[style '#]],\"|\",R1100)","v":"0|"}]
[{"$f":"IF(ISNUMBER(U1101)=TRUE,VLOOKUP(vlookup_data[[#This Row],[style '#]],[2]Sheet1!$A:$D,4,0)*ABS(U1101),0)","v":0},{"$f":"WEEKNUM(vlookup_data[[#This Row],[Column8]],2)","v":1},{"$f":"YEAR(vlookup_data[[#This Row],[Column8]])","v":1900},0,{"$f":"CONCATENATE(vlookup_data[[#This Row],[style '#]],\"|\",R1101)","v":"0|"}]
[{"$f":"IF(ISNUMBER(U1102)=TRUE,VLOOKUP(vlookup_data[[#This Row],[style '#]],[2]Sheet1!$A:$D,4,0)*ABS(U1102),0)","v":0},{"$f":"WEEKNUM(vlookup_data[[#This Row],[Column8]],2)","v":1},{"$f":"YEAR(vlookup_data[[#This Row],[Column8]])","v":1900},0,{"$f":"CONCATENATE(vlookup_data[[#This Row],[style '#]],\"|\",R1102)","v":"0|"}]
[{"$f":"IF(ISNUMBER(U1103)=TRUE,VLOOKUP(vlookup_data[[#This Row],[style '#]],[2]Sheet1!$A:$D,4,0)*ABS(U1103),0)","v":0},{"$f":"WEEKNUM(vlookup_data[[#This Row],[Column8]],2)","v":1},{"$f":"YEAR(vlookup_data[[#This Row],[Column8]])","v":1900},0,{"$f":"CONCATENATE(vlookup_data[[#This Row],[style '#]],\"|\",R1103)","v":"0|"}]
[{"$f":"IF(ISNUMBER(U1104)=TRUE,VLOOKUP(vlookup_data[[#This Row],[style '#]],[2]Sheet1!$A:$D,4,0)*ABS(U1104),0)","v":0},{"$f":"WEEKNUM(vlookup_data[[#This Row],[Column8]],2)","v":1},{"$f":"YEAR(vlookup_data[[#This Row],[Column8]])","v":1900},0,{"$f":"CONCATENATE(vlookup_data[[#This Row],[style '#]],\"|\",R1104)","v":"0|"}]
[{"$f":"IF(ISNUMBER(U1105)=TRUE,VLOOKUP(vlookup_data[[#This Row],[style '#]],[2]Sheet1!$A:$D,4,0)*ABS(U1105),0)","v":0},{"$f":"WEEKNUM(vlookup_data[[#This Row],[Column8]],2)","v":1},{"$f":"YEAR(vlookup_data[[#This Row],[Column8]])","v":1900},0,{"$f":"CONCATENATE(vlookup_data[[#This Row],[style '#]],\"|\",R1105)","v":"0|"}]
[{"$f":"IF(ISNUMBER(U1106)=TRUE,VLOOKUP(vlookup_data[[#This Row],[style '#]],[2]Sheet1!$A:$D,4,0)*ABS(U1106),0)","v":0},{"$f":"WEEKNUM(vlookup_data[[#This Row],[Column8]],2)","v":1},{"$f":"YEAR(vlookup_data[[#This Row],[Column8]])","v":1900},0,{"$f":"CONCATENATE(vlookup_data[[#This Row],[style '#]],\"|\",R1106)","v":"0|"}]
[{"$f":"IF(ISNUMBER(U1107)=TRUE,VLOOKUP(vlookup_data[[#This Row],[style '#]],[2]Sheet1!$A:$D,4,0)*ABS(U1107),0)","v":0},{"$f":"WEEKNUM(vlookup_data[[#This Row],[Column8]],2)","v":1},{"$f":"YEAR(vlookup_data[[#This Row],[Column8]])","v":1900},0,{"$f":"CONCATENATE(vlookup_data[[#This Row],[style '#]],\"|\",R1107)","v":"0|"}]
[{"$f":"IF(ISNUMBER(U1108)=TRUE,VLOOKUP(vlookup_data[[#This Row],[style '#]],[2]Sheet1!$A:$D,4,0)*ABS(U1108),0)","v":0},{"$f":"WEEKNUM(vlookup_data[[#This Row],[Column8]],2)","v":1},{"$f":"YEAR(vlookup_data[[#This Row],[Column8]])","v":1900},0,{"$f":"CONCATENATE(vlookup_data[[#This Row],[style '#]],\"|\",R1108)","v":"0|"}]
[{"$f":"IF(ISNUMBER(U1109)=TRUE,VLOOKUP(vlookup_data[[#This Row],[style '#]],[2]Sheet1!$A:$D,4,0)*ABS(U1109),0)","v":0},{"$f":"WEEKNUM(vlookup_data[[#This Row],[Column8]],2)","v":1},{"$f":"YEAR(vlookup_data[[#This Row],[Column8]])","v":1900},0,{"$f":"CONCATENATE(vlookup_data[[#This Row],[style '#]],\"|\",R1109)","v":"0|"}]
[{"$f":"IF(ISNUMBER(U1110)=TRUE,VLOOKUP(vlookup_data[[#This Row],[style '#]],[2]Sheet1!$A:$D,4,0)*ABS(U1110),0)","v":0},{"$f":"WEEKNUM(vlookup_data[[#This Row],[Column8]],2)","v":1},{"$f":"YEAR(vlookup_data[[#This Row],[Column8]])","v":1900},0,{"$f":"CONCATENATE(vlookup_data[[#This Row],[style '#]],\"|\",R1110)","v":"0|"}]
[{"$f":"IF(ISNUMBER(U1111)=TRUE,VLOOKUP(vlookup_data[[#This Row],[style '#]],[2]Sheet1!$A:$D,4,0)*ABS(U1111),0)","v":0},{"$f":"WEEKNUM(vlookup_data[[#This Row],[Column8]],2)","v":1},{"$f":"YEAR(vlookup_data[[#This Row],[Column8]])","v":1900},0,{"$f":"CONCATENATE(vlookup_data[[#This Row],[style '#]],\"|\",R1111)","v":"0|"}]
[{"$f":"IF(ISNUMBER(U1112)=TRUE,VLOOKUP(vlookup_data[[#This Row],[style '#]],[2]Sheet1!$A:$D,4,0)*ABS(U1112),0)","v":0},{"$f":"WEEKNUM(vlookup_data[[#This Row],[Column8]],2)","v":1},{"$f":"YEAR(vlookup_data[[#This Row],[Column8]])","v":1900},0,{"$f":"CONCATENATE(vlookup_data[[#This Row],[style '#]],\"|\",R1112)","v":"0|"}]
[{"$f":"IF(ISNUMBER(U1113)=TRUE,VLOOKUP(vlookup_data[[#This Row],[style '#]],[2]Sheet1!$A:$D,4,0)*ABS(U1113),0)","v":0},{"$f":"WEEKNUM(vlookup_data[[#This Row],[Column8]],2)","v":1},{"$f":"YEAR(vlookup_data[[#This Row],[Column8]])","v":1900},0,{"$f":"CONCATENATE(vlookup_data[[#This Row],[style '#]],\"|\",R1113)","v":"0|"}]
[{"$f":"IF(ISNUMBER(U1114)=TRUE,VLOOKUP(vlookup_data[[#This Row],[style '#]],[2]Sheet1!$A:$D,4,0)*ABS(U1114),0)","v":0},{"$f":"WEEKNUM(vlookup_data[[#This Row],[Column8]],2)","v":1},{"$f":"YEAR(vlookup_data[[#This Row],[Column8]])","v":1900},0,{"$f":"CONCATENATE(vlookup_data[[#This Row],[style '#]],\"|\",R1114)","v":"0|"}]
[{"$f":"IF(ISNUMBER(U1115)=TRUE,VLOOKUP(vlookup_data[[#This Row],[style '#]],[2]Sheet1!$A:$D,4,0)*ABS(U1115),0)","v":0},{"$f":"WEEKNUM(vlookup_data[[#This Row],[Column8]],2)","v":1},{"$f":"YEAR(vlookup_data[[#This Row],[Column8]])","v":1900},0,{"$f":"CONCATENATE(vlookup_data[[#This Row],[style '#]],\"|\",R1115)","v":"0|"}]
[{"$f":"IF(ISNUMBER(U1116)=TRUE,VLOOKUP(vlookup_data[[#This Row],[style '#]],[2]Sheet1!$A:$D,4,0)*ABS(U1116),0)","v":0},{"$f":"WEEKNUM(vlookup_data[[#This Row],[Column8]],2)","v":1},{"$f":"YEAR(vlookup_data[[#This Row],[Column8]])","v":1900},0,{"$f":"CONCATENATE(vlookup_data[[#This Row],[style '#]],\"|\",R1116)","v":"0|"}]
[{"$f":"IF(ISNUMBER(U1117)=TRUE,VLOOKUP(vlookup_data[[#This Row],[style '#]],[2]Sheet1!$A:$D,4,0)*ABS(U1117),0)","v":0},{"$f":"WEEKNUM(vlookup_data[[#This Row],[Column8]],2)","v":1},{"$f":"YEAR(vlookup_data[[#This Row],[Column8]])","v":1900},0,{"$f":"CONCATENATE(vlookup_data[[#This Row],[style '#]],\"|\",R1117)","v":"0|"}]
[{"$f":"IF(ISNUMBER(U1118)=TRUE,VLOOKUP(vlookup_data[[#This Row],[style '#]],[2]Sheet1!$A:$D,4,0)*ABS(U1118),0)","v":0},{"$f":"WEEKNUM(vlookup_data[[#This Row],[Column8]],2)","v":1},{"$f":"YEAR(vlookup_data[[#This Row],[Column8]])","v":1900},0,{"$f":"CONCATENATE(vlookup_data[[#This Row],[style '#]],\"|\",R1118)","v":"0|"}]
[{"$f":"IF(ISNUMBER(U1119)=TRUE,VLOOKUP(vlookup_data[[#This Row],[style '#]],[2]Sheet1!$A:$D,4,0)*ABS(U1119),0)","v":0},{"$f":"WEEKNUM(vlookup_data[[#This Row],[Column8]],2)","v":1},{"$f":"YEAR(vlookup_data[[#This Row],[Column8]])","v":1900},0,{"$f":"CONCATENATE(vlookup_data[[#This Row],[style '#]],\"|\",R1119)","v":"0|"}]
[{"$f":"IF(ISNUMBER(U1120)=TRUE,VLOOKUP(vlookup_data[[#This Row],[style '#]],[2]Sheet1!$A:$D,4,0)*ABS(U1120),0)","v":0},{"$f":"WEEKNUM(vlookup_data[[#This Row],[Column8]],2)","v":1},{"$f":"YEAR(vlookup_data[[#This Row],[Column8]])","v":1900},0,{"$f":"CONCATENATE(vlookup_data[[#This Row],[style '#]],\"|\",R1120)","v":"0|"}]
[{"$f":"IF(ISNUMBER(U1121)=TRUE,VLOOKUP(vlookup_data[[#This Row],[style '#]],[2]Sheet1!$A:$D,4,0)*ABS(U1121),0)","v":0},{"$f":"WEEKNUM(vlookup_data[[#This Row],[Column8]],2)","v":1},{"$f":"YEAR(vlookup_data[[#This Row],[Column8]])","v":1900},0,{"$f":"CONCATENATE(vlookup_data[[#This Row],[style '#]],\"|\",R1121)","v":"0|"}]
[{"$f":"IF(ISNUMBER(U1122)=TRUE,VLOOKUP(vlookup_data[[#This Row],[style '#]],[2]Sheet1!$A:$D,4,0)*ABS(U1122),0)","v":0},{"$f":"WEEKNUM(vlookup_data[[#This Row],[Column8]],2)","v":1},{"$f":"YEAR(vlookup_data[[#This Row],[Column8]])","v":1900},0,{"$f":"CONCATENATE(vlookup_data[[#This Row],[style '#]],\"|\",R1122)","v":"0|"}]
[{"$f":"IF(ISNUMBER(U1123)=TRUE,VLOOKUP(vlookup_data[[#This Row],[style '#]],[2]Sheet1!$A:$D,4,0)*ABS(U1123),0)","v":0},{"$f":"WEEKNUM(vlookup_data[[#This Row],[Column8]],2)","v":1},{"$f":"YEAR(vlookup_data[[#This Row],[Column8]])","v":1900},0,{"$f":"CONCATENATE(vlookup_data[[#This Row],[style '#]],\"|\",R1123)","v":"0|"}]
[{"$f":"IF(ISNUMBER(U1124)=TRUE,VLOOKUP(vlookup_data[[#This Row],[style '#]],[2]Sheet1!$A:$D,4,0)*ABS(U1124),0)","v":0},{"$f":"WEEKNUM(vlookup_data[[#This Row],[Column8]],2)","v":1},{"$f":"YEAR(vlookup_data[[#This Row],[Column8]])","v":1900},0,{"$f":"CONCATENATE(vlookup_data[[#This Row],[style '#]],\"|\",R1124)","v":"0|"}]
[{"$f":"IF(ISNUMBER(U1125)=TRUE,VLOOKUP(vlookup_data[[#This Row],[style '#]],[2]Sheet1!$A:$D,4,0)*ABS(U1125),0)","v":0},{"$f":"WEEKNUM(vlookup_data[[#This Row],[Column8]],2)","v":1},{"$f":"YEAR(vlookup_data[[#This Row],[Column8]])","v":1900},0,{"$f":"CONCATENATE(vlookup_data[[#This Row],[style '#]],\"|\",R1125)","v":"0|"}]
[{"$f":"IF(ISNUMBER(U1126)=TRUE,VLOOKUP(vlookup_data[[#This Row],[style '#]],[2]Sheet1!$A:$D,4,0)*ABS(U1126),0)","v":0},{"$f":"WEEKNUM(vlookup_data[[#This Row],[Column8]],2)","v":1},{"$f":"YEAR(vlookup_data[[#This Row],[Column8]])","v":1900},0,{"$f":"CONCATENATE(vlookup_data[[#This Row],[style '#]],\"|\",R1126)","v":"0|"}]
[{"$f":"IF(ISNUMBER(U1127)=TRUE,VLOOKUP(vlookup_data[[#This Row],[style '#]],[2]Sheet1!$A:$D,4,0)*ABS(U1127),0)","v":0},{"$f":"WEEKNUM(vlookup_data[[#This Row],[Column8]],2)","v":1},{"$f":"YEAR(vlookup_data[[#This Row],[Column8]])","v":1900},0,{"$f":"CONCATENATE(vlookup_data[[#This Row],[style '#]],\"|\",R1127)","v":"0|"}]
[{"$f":"IF(ISNUMBER(U1128)=TRUE,VLOOKUP(vlookup_data[[#This Row],[style '#]],[2]Sheet1!$A:$D,4,0)*ABS(U1128),0)","v":0},{"$f":"WEEKNUM(vlookup_data[[#This Row],[Column8]],2)","v":1},{"$f":"YEAR(vlookup_data[[#This Row],[Column8]])","v":1900},0,{"$f":"CONCATENATE(vlookup_data[[#This Row],[style '#]],\"|\",R1128)","v":"0|"}]
[{"$f":"IF(ISNUMBER(U1129)=TRUE,VLOOKUP(vlookup_data[[#This Row],[style '#]],[2]Sheet1!$A:$D,4,0)*ABS(U1129),0)","v":0},{"$f":"WEEKNUM(vlookup_data[[#This Row],[Column8]],2)","v":1},{"$f":"YEAR(vlookup_data[[#This Row],[Column8]])","v":1900},0,{"$f":"CONCATENATE(vlookup_data[[#This Row],[style '#]],\"|\",R1129)","v":"0|"}]
[{"$f":"IF(ISNUMBER(U1130)=TRUE,VLOOKUP(vlookup_data[[#This Row],[style '#]],[2]Sheet1!$A:$D,4,0)*ABS(U1130),0)","v":0},{"$f":"WEEKNUM(vlookup_data[[#This Row],[Column8]],2)","v":1},{"$f":"YEAR(vlookup_data[[#This Row],[Column8]])","v":1900},0,{"$f":"CONCATENATE(vlookup_data[[#This Row],[style '#]],\"|\",R1130)","v":"0|"}]
[{"$f":"IF(ISNUMBER(U1131)=TRUE,VLOOKUP(vlookup_data[[#This Row],[style '#]],[2]Sheet1!$A:$D,4,0)*ABS(U1131),0)","v":0},{"$f":"WEEKNUM(vlookup_data[[#This Row],[Column8]],2)","v":1},{"$f":"YEAR(vlookup_data[[#This Row],[Column8]])","v":1900},0,{"$f":"CONCATENATE(vlookup_data[[#This Row],[style '#]],\"|\",R1131)","v":"0|"}]
[{"$f":"IF(ISNUMBER(U1132)=TRUE,VLOOKUP(vlookup_data[[#This Row],[style '#]],[2]Sheet1!$A:$D,4,0)*ABS(U1132),0)","v":0},{"$f":"WEEKNUM(vlookup_data[[#This Row],[Column8]],2)","v":1},{"$f":"YEAR(vlookup_data[[#This Row],[Column8]])","v":1900},0,{"$f":"CONCATENATE(vlookup_data[[#This Row],[style '#]],\"|\",R1132)","v":"0|"}]
[{"$f":"IF(ISNUMBER(U1133)=TRUE,VLOOKUP(vlookup_data[[#This Row],[style '#]],[2]Sheet1!$A:$D,4,0)*ABS(U1133),0)","v":0},{"$f":"WEEKNUM(vlookup_data[[#This Row],[Column8]],2)","v":1},{"$f":"YEAR(vlookup_data[[#This Row],[Column8]])","v":1900},0,{"$f":"CONCATENATE(vlookup_data[[#This Row],[style '#]],\"|\",R1133)","v":"0|"}]
[{"$f":"IF(ISNUMBER(U1134)=TRUE,VLOOKUP(vlookup_data[[#This Row],[style '#]],[2]Sheet1!$A:$D,4,0)*ABS(U1134),0)","v":0},{"$f":"WEEKNUM(vlookup_data[[#This Row],[Column8]],2)","v":1},{"$f":"YEAR(vlookup_data[[#This Row],[Column8]])","v":1900},0,{"$f":"CONCATENATE(vlookup_data[[#This Row],[style '#]],\"|\",R1134)","v":"0|"}]
[{"$f":"IF(ISNUMBER(U1135)=TRUE,VLOOKUP(vlookup_data[[#This Row],[style '#]],[2]Sheet1!$A:$D,4,0)*ABS(U1135),0)","v":0},{"$f":"WEEKNUM(vlookup_data[[#This Row],[Column8]],2)","v":1},{"$f":"YEAR(vlookup_data[[#This Row],[Column8]])","v":1900},0,{"$f":"CONCATENATE(vlookup_data[[#This Row],[style '#]],\"|\",R1135)","v":"0|"}]
[{"$f":"IF(ISNUMBER(U1136)=TRUE,VLOOKUP(vlookup_data[[#This Row],[style '#]],[2]Sheet1!$A:$D,4,0)*ABS(U1136),0)","v":0},{"$f":"WEEKNUM(vlookup_data[[#This Row],[Column8]],2)","v":1},{"$f":"YEAR(vlookup_data[[#This Row],[Column8]])","v":1900},0,{"$f":"CONCATENATE(vlookup_data[[#This Row],[style '#]],\"|\",R1136)","v":"0|"}]
[{"$f":"IF(ISNUMBER(U1137)=TRUE,VLOOKUP(vlookup_data[[#This Row],[style '#]],[2]Sheet1!$A:$D,4,0)*ABS(U1137),0)","v":0},{"$f":"WEEKNUM(vlookup_data[[#This Row],[Column8]],2)","v":1},{"$f":"YEAR(vlookup_data[[#This Row],[Column8]])","v":1900},0,{"$f":"CONCATENATE(vlookup_data[[#This Row],[style '#]],\"|\",R1137)","v":"0|"}]
[{"$f":"IF(ISNUMBER(U1138)=TRUE,VLOOKUP(vlookup_data[[#This Row],[style '#]],[2]Sheet1!$A:$D,4,0)*ABS(U1138),0)","v":0},{"$f":"WEEKNUM(vlookup_data[[#This Row],[Column8]],2)","v":1},{"$f":"YEAR(vlookup_data[[#This Row],[Column8]])","v":1900},0,{"$f":"CONCATENATE(vlookup_data[[#This Row],[style '#]],\"|\",R1138)","v":"0|"}]
[{"$f":"IF(ISNUMBER(U1139)=TRUE,VLOOKUP(vlookup_data[[#This Row],[style '#]],[2]Sheet1!$A:$D,4,0)*ABS(U1139),0)","v":0},{"$f":"WEEKNUM(vlookup_data[[#This Row],[Column8]],2)","v":1},{"$f":"YEAR(vlookup_data[[#This Row],[Column8]])","v":1900},0,{"$f":"CONCATENATE(vlookup_data[[#This Row],[style '#]],\"|\",R1139)","v":"0|"}]
[{"$f":"IF(ISNUMBER(U1140)=TRUE,VLOOKUP(vlookup_data[[#This Row],[style '#]],[2]Sheet1!$A:$D,4,0)*ABS(U1140),0)","v":0},{"$f":"WEEKNUM(vlookup_data[[#This Row],[Column8]],2)","v":1},{"$f":"YEAR(vlookup_data[[#This Row],[Column8]])","v":1900},0,{"$f":"CONCATENATE(vlookup_data[[#This Row],[style '#]],\"|\",R1140)","v":"0|"}]
[{"$f":"IF(ISNUMBER(U1141)=TRUE,VLOOKUP(vlookup_data[[#This Row],[style '#]],[2]Sheet1!$A:$D,4,0)*ABS(U1141),0)","v":0},{"$f":"WEEKNUM(vlookup_data[[#This Row],[Column8]],2)","v":1},{"$f":"YEAR(vlookup_data[[#This Row],[Column8]])","v":1900},0,{"$f":"CONCATENATE(vlookup_data[[#This Row],[style '#]],\"|\",R1141)","v":"0|"}]
[{"$f":"IF(ISNUMBER(U1142)=TRUE,VLOOKUP(vlookup_data[[#This Row],[style '#]],[2]Sheet1!$A:$D,4,0)*ABS(U1142),0)","v":0},{"$f":"WEEKNUM(vlookup_data[[#This Row],[Column8]],2)","v":1},{"$f":"YEAR(vlookup_data[[#This Row],[Column8]])","v":1900},0,{"$f":"CONCATENATE(vlookup_data[[#This Row],[style '#]],\"|\",R1142)","v":"0|"}]
[{"$f":"IF(ISNUMBER(U1143)=TRUE,VLOOKUP(vlookup_data[[#This Row],[style '#]],[2]Sheet1!$A:$D,4,0)*ABS(U1143),0)","v":0},{"$f":"WEEKNUM(vlookup_data[[#This Row],[Column8]],2)","v":1},{"$f":"YEAR(vlookup_data[[#This Row],[Column8]])","v":1900},0,{"$f":"CONCATENATE(vlookup_data[[#This Row],[style '#]],\"|\",R1143)","v":"0|"}]
[{"$f":"IF(ISNUMBER(U1144)=TRUE,VLOOKUP(vlookup_data[[#This Row],[style '#]],[2]Sheet1!$A:$D,4,0)*ABS(U1144),0)","v":0},{"$f":"WEEKNUM(vlookup_data[[#This Row],[Column8]],2)","v":1},{"$f":"YEAR(vlookup_data[[#This Row],[Column8]])","v":1900},0,{"$f":"CONCATENATE(vlookup_data[[#This Row],[style '#]],\"|\",R1144)","v":"0|"}]
[{"$f":"IF(ISNUMBER(U1145)=TRUE,VLOOKUP(vlookup_data[[#This Row],[style '#]],[2]Sheet1!$A:$D,4,0)*ABS(U1145),0)","v":0},{"$f":"WEEKNUM(vlookup_data[[#This Row],[Column8]],2)","v":1},{"$f":"YEAR(vlookup_data[[#This Row],[Column8]])","v":1900},0,{"$f":"CONCATENATE(vlookup_data[[#This Row],[style '#]],\"|\",R1145)","v":"0|"}]
[{"$f":"IF(ISNUMBER(U1146)=TRUE,VLOOKUP(vlookup_data[[#This Row],[style '#]],[2]Sheet1!$A:$D,4,0)*ABS(U1146),0)","v":0},{"$f":"WEEKNUM(vlookup_data[[#This Row],[Column8]],2)","v":1},{"$f":"YEAR(vlookup_data[[#This Row],[Column8]])","v":1900},0,{"$f":"CONCATENATE(vlookup_data[[#This Row],[style '#]],\"|\",R1146)","v":"0|"}]
[{"$f":"IF(ISNUMBER(U1147)=TRUE,VLOOKUP(vlookup_data[[#This Row],[style '#]],[2]Sheet1!$A:$D,4,0)*ABS(U1147),0)","v":0},{"$f":"WEEKNUM(vlookup_data[[#This Row],[Column8]],2)","v":1},{"$f":"YEAR(vlookup_data[[#This Row],[Column8]])","v":1900},0,{"$f":"CONCATENATE(vlookup_data[[#This Row],[style '#]],\"|\",R1147)","v":"0|"}]
[{"$f":"IF(ISNUMBER(U1148)=TRUE,VLOOKUP(vlookup_data[[#This Row],[style '#]],[2]Sheet1!$A:$D,4,0)*ABS(U1148),0)","v":0},{"$f":"WEEKNUM(vlookup_data[[#This Row],[Column8]],2)","v":1},{"$f":"YEAR(vlookup_data[[#This Row],[Column8]])","v":1900},0,{"$f":"CONCATENATE(vlookup_data[[#This Row],[style '#]],\"|\",R1148)","v":"0|"}]
[{"$f":"IF(ISNUMBER(U1149)=TRUE,VLOOKUP(vlookup_data[[#This Row],[style '#]],[2]Sheet1!$A:$D,4,0)*ABS(U1149),0)","v":0},{"$f":"WEEKNUM(vlookup_data[[#This Row],[Column8]],2)","v":1},{"$f":"YEAR(vlookup_data[[#This Row],[Column8]])","v":1900},0,{"$f":"CONCATENATE(vlookup_data[[#This Row],[style '#]],\"|\",R1149)","v":"0|"}]
[{"$f":"IF(ISNUMBER(U1150)=TRUE,VLOOKUP(vlookup_data[[#This Row],[style '#]],[2]Sheet1!$A:$D,4,0)*ABS(U1150),0)","v":0},{"$f":"WEEKNUM(vlookup_data[[#This Row],[Column8]],2)","v":1},{"$f":"YEAR(vlookup_data[[#This Row],[Column8]])","v":1900},0,{"$f":"CONCATENATE(vlookup_data[[#This Row],[style '#]],\"|\",R1150)","v":"0|"}]
[{"$f":"IF(ISNUMBER(U1151)=TRUE,VLOOKUP(vlookup_data[[#This Row],[style '#]],[2]Sheet1!$A:$D,4,0)*ABS(U1151),0)","v":0},{"$f":"WEEKNUM(vlookup_data[[#This Row],[Column8]],2)","v":1},{"$f":"YEAR(vlookup_data[[#This Row],[Column8]])","v":1900},0,{"$f":"CONCATENATE(vlookup_data[[#This Row],[style '#]],\"|\",R1151)","v":"0|"}]
[{"$f":"IF(ISNUMBER(U1152)=TRUE,VLOOKUP(vlookup_data[[#This Row],[style '#]],[2]Sheet1!$A:$D,4,0)*ABS(U1152),0)","v":0},{"$f":"WEEKNUM(vlookup_data[[#This Row],[Column8]],2)","v":1},{"$f":"YEAR(vlookup_data[[#This Row],[Column8]])","v":1900},0,{"$f":"CONCATENATE(vlookup_data[[#This Row],[style '#]],\"|\",R1152)","v":"0|"}]
[{"$f":"IF(ISNUMBER(U1153)=TRUE,VLOOKUP(vlookup_data[[#This Row],[style '#]],[2]Sheet1!$A:$D,4,0)*ABS(U1153),0)","v":0},{"$f":"WEEKNUM(vlookup_data[[#This Row],[Column8]],2)","v":1},{"$f":"YEAR(vlookup_data[[#This Row],[Column8]])","v":1900},0,{"$f":"CONCATENATE(vlookup_data[[#This Row],[style '#]],\"|\",R1153)","v":"0|"}]
[{"$f":"IF(ISNUMBER(U1154)=TRUE,VLOOKUP(vlookup_data[[#This Row],[style '#]],[2]Sheet1!$A:$D,4,0)*ABS(U1154),0)","v":0},{"$f":"WEEKNUM(vlookup_data[[#This Row],[Column8]],2)","v":1},{"$f":"YEAR(vlookup_data[[#This Row],[Column8]])","v":1900},0,{"$f":"CONCATENATE(vlookup_data[[#This Row],[style '#]],\"|\",R1154)","v":"0|"}]
[{"$f":"IF(ISNUMBER(U1155)=TRUE,VLOOKUP(vlookup_data[[#This Row],[style '#]],[2]Sheet1!$A:$D,4,0)*ABS(U1155),0)","v":0},{"$f":"WEEKNUM(vlookup_data[[#This Row],[Column8]],2)","v":1},{"$f":"YEAR(vlookup_data[[#This Row],[Column8]])","v":1900},0,{"$f":"CONCATENATE(vlookup_data[[#This Row],[style '#]],\"|\",R1155)","v":"0|"}]
[{"$f":"IF(ISNUMBER(U1156)=TRUE,VLOOKUP(vlookup_data[[#This Row],[style '#]],[2]Sheet1!$A:$D,4,0)*ABS(U1156),0)","v":0},{"$f":"WEEKNUM(vlookup_data[[#This Row],[Column8]],2)","v":1},{"$f":"YEAR(vlookup_data[[#This Row],[Column8]])","v":1900},0,{"$f":"CONCATENATE(vlookup_data[[#This Row],[style '#]],\"|\",R1156)","v":"0|"}]
[{"$f":"IF(ISNUMBER(U1157)=TRUE,VLOOKUP(vlookup_data[[#This Row],[style '#]],[2]Sheet1!$A:$D,4,0)*ABS(U1157),0)","v":0},{"$f":"WEEKNUM(vlookup_data[[#This Row],[Column8]],2)","v":1},{"$f":"YEAR(vlookup_data[[#This Row],[Column8]])","v":1900},0,{"$f":"CONCATENATE(vlookup_data[[#This Row],[style '#]],\"|\",R1157)","v":"0|"}]
[{"$f":"IF(ISNUMBER(U1158)=TRUE,VLOOKUP(vlookup_data[[#This Row],[style '#]],[2]Sheet1!$A:$D,4,0)*ABS(U1158),0)","v":0},{"$f":"WEEKNUM(vlookup_data[[#This Row],[Column8]],2)","v":1},{"$f":"YEAR(vlookup_data[[#This Row],[Column8]])","v":1900},0,{"$f":"CONCATENATE(vlookup_data[[#This Row],[style '#]],\"|\",R1158)","v":"0|"}]
[{"$f":"IF(ISNUMBER(U1159)=TRUE,VLOOKUP(vlookup_data[[#This Row],[style '#]],[2]Sheet1!$A:$D,4,0)*ABS(U1159),0)","v":0},{"$f":"WEEKNUM(vlookup_data[[#This Row],[Column8]],2)","v":1},{"$f":"YEAR(vlookup_data[[#This Row],[Column8]])","v":1900},0,{"$f":"CONCATENATE(vlookup_data[[#This Row],[style '#]],\"|\",R1159)","v":"0|"}]
[{"$f":"IF(ISNUMBER(U1160)=TRUE,VLOOKUP(vlookup_data[[#This Row],[style '#]],[2]Sheet1!$A:$D,4,0)*ABS(U1160),0)","v":0},{"$f":"WEEKNUM(vlookup_data[[#This Row],[Column8]],2)","v":1},{"$f":"YEAR(vlookup_data[[#This Row],[Column8]])","v":1900},0,{"$f":"CONCATENATE(vlookup_data[[#This Row],[style '#]],\"|\",R1160)","v":"0|"}]
[{"$f":"IF(ISNUMBER(U1161)=TRUE,VLOOKUP(vlookup_data[[#This Row],[style '#]],[2]Sheet1!$A:$D,4,0)*ABS(U1161),0)","v":0},{"$f":"WEEKNUM(vlookup_data[[#This Row],[Column8]],2)","v":1},{"$f":"YEAR(vlookup_data[[#This Row],[Column8]])","v":1900},{"$f":"VALUE(G1161)","v":0},{"$f":"CONCATENATE(vlookup_data[[#This Row],[style '#]],\"|\",R1161)","v":"0|"}]
[{"$f":"IF(ISNUMBER(U1162)=TRUE,VLOOKUP(vlookup_data[[#This Row],[style '#]],[2]Sheet1!$A:$D,4,0)*ABS(U1162),0)","v":0},{"$f":"WEEKNUM(vlookup_data[[#This Row],[Column8]],2)","v":1},{"$f":"YEAR(vlookup_data[[#This Row],[Column8]])","v":1900},0,{"$f":"CONCATENATE(vlookup_data[[#This Row],[style '#]],\"|\",R1162)","v":"0|"}]
[{"$f":"IF(ISNUMBER(U1163)=TRUE,VLOOKUP(vlookup_data[[#This Row],[style '#]],[2]Sheet1!$A:$D,4,0)*ABS(U1163),0)","v":0},{"$f":"WEEKNUM(vlookup_data[[#This Row],[Column8]],2)","v":1},{"$f":"YEAR(vlookup_data[[#This Row],[Column8]])","v":1900},0,{"$f":"CONCATENATE(vlookup_data[[#This Row],[style '#]],\"|\",R1163)","v":"0|"}]
[{"$f":"IF(ISNUMBER(U1164)=TRUE,VLOOKUP(vlookup_data[[#This Row],[style '#]],[2]Sheet1!$A:$D,4,0)*ABS(U1164),0)","v":0},{"$f":"WEEKNUM(vlookup_data[[#This Row],[Column8]],2)","v":1},{"$f":"YEAR(vlookup_data[[#This Row],[Column8]])","v":1900},0,{"$f":"CONCATENATE(vlookup_data[[#This Row],[style '#]],\"|\",R1164)","v":"0|"}]
[{"$f":"IF(ISNUMBER(U1165)=TRUE,VLOOKUP(vlookup_data[[#This Row],[style '#]],[2]Sheet1!$A:$D,4,0)*ABS(U1165),0)","v":0},{"$f":"WEEKNUM(vlookup_data[[#This Row],[Column8]],2)","v":1},{"$f":"YEAR(vlookup_data[[#This Row],[Column8]])","v":1900},0,{"$f":"CONCATENATE(vlookup_data[[#This Row],[style '#]],\"|\",R1165)","v":"0|"}]
[{"$f":"IF(ISNUMBER(U1166)=TRUE,VLOOKUP(vlookup_data[[#This Row],[style '#]],[2]Sheet1!$A:$D,4,0)*ABS(U1166),0)","v":0},{"$f":"WEEKNUM(vlookup_data[[#This Row],[Column8]],2)","v":1},{"$f":"YEAR(vlookup_data[[#This Row],[Column8]])","v":1900},0,{"$f":"CONCATENATE(vlookup_data[[#This Row],[style '#]],\"|\",R1166)","v":"0|"}]
[{"$f":"IF(ISNUMBER(U1167)=TRUE,VLOOKUP(vlookup_data[[#This Row],[style '#]],[2]Sheet1!$A:$D,4,0)*ABS(U1167),0)","v":0},{"$f":"WEEKNUM(vlookup_data[[#This Row],[Column8]],2)","v":1},{"$f":"YEAR(vlookup_data[[#This Row],[Column8]])","v":1900},0,{"$f":"CONCATENATE(vlookup_data[[#This Row],[style '#]],\"|\",R1167)","v":"0|"}]
[{"$f":"IF(ISNUMBER(U1168)=TRUE,VLOOKUP(vlookup_data[[#This Row],[style '#]],[2]Sheet1!$A:$D,4,0)*ABS(U1168),0)","v":0},{"$f":"WEEKNUM(vlookup_data[[#This Row],[Column8]],2)","v":1},{"$f":"YEAR(vlookup_data[[#This Row],[Column8]])","v":1900},0,{"$f":"CONCATENATE(vlookup_data[[#This Row],[style '#]],\"|\",R1168)","v":"0|"}]
[{"$f":"IF(ISNUMBER(U1169)=TRUE,VLOOKUP(vlookup_data[[#This Row],[style '#]],[2]Sheet1!$A:$D,4,0)*ABS(U1169),0)","v":0},{"$f":"WEEKNUM(vlookup_data[[#This Row],[Column8]],2)","v":1},{"$f":"YEAR(vlookup_data[[#This Row],[Column8]])","v":1900},0,{"$f":"CONCATENATE(vlookup_data[[#This Row],[style '#]],\"|\",R1169)","v":"0|"}]
[{"$f":"IF(ISNUMBER(U1170)=TRUE,VLOOKUP(vlookup_data[[#This Row],[style '#]],[2]Sheet1!$A:$D,4,0)*ABS(U1170),0)","v":0},{"$f":"WEEKNUM(vlookup_data[[#This Row],[Column8]],2)","v":1},{"$f":"YEAR(vlookup_data[[#This Row],[Column8]])","v":1900},0,{"$f":"CONCATENATE(vlookup_data[[#This Row],[style '#]],\"|\",R1170)","v":"0|"}]
[{"$f":"IF(ISNUMBER(U1171)=TRUE,VLOOKUP(vlookup_data[[#This Row],[style '#]],[2]Sheet1!$A:$D,4,0)*ABS(U1171),0)","v":0},{"$f":"WEEKNUM(vlookup_data[[#This Row],[Column8]],2)","v":1},{"$f":"YEAR(vlookup_data[[#This Row],[Column8]])","v":1900},0,{"$f":"CONCATENATE(vlookup_data[[#This Row],[style '#]],\"|\",R1171)","v":"0|"}]
[{"$f":"IF(ISNUMBER(U1172)=TRUE,VLOOKUP(vlookup_data[[#This Row],[style '#]],[2]Sheet1!$A:$D,4,0)*ABS(U1172),0)","v":0},{"$f":"WEEKNUM(vlookup_data[[#This Row],[Column8]],2)","v":1},{"$f":"YEAR(vlookup_data[[#This Row],[Column8]])","v":1900},0,{"$f":"CONCATENATE(vlookup_data[[#This Row],[style '#]],\"|\",R1172)","v":"0|"}]
[{"$f":"IF(ISNUMBER(U1173)=TRUE,VLOOKUP(vlookup_data[[#This Row],[style '#]],[2]Sheet1!$A:$D,4,0)*ABS(U1173),0)","v":0},{"$f":"WEEKNUM(vlookup_data[[#This Row],[Column8]],2)","v":1},{"$f":"YEAR(vlookup_data[[#This Row],[Column8]])","v":1900},0,{"$f":"CONCATENATE(vlookup_data[[#This Row],[style '#]],\"|\",R1173)","v":"0|"}]
[{"$f":"IF(ISNUMBER(U1174)=TRUE,VLOOKUP(vlookup_data[[#This Row],[style '#]],[2]Sheet1!$A:$D,4,0)*ABS(U1174),0)","v":0},{"$f":"WEEKNUM(vlookup_data[[#This Row],[Column8]],2)","v":1},{"$f":"YEAR(vlookup_data[[#This Row],[Column8]])","v":1900},0,{"$f":"CONCATENATE(vlookup_data[[#This Row],[style '#]],\"|\",R1174)","v":"0|"}]
[{"$f":"IF(ISNUMBER(U1175)=TRUE,VLOOKUP(vlookup_data[[#This Row],[style '#]],[2]Sheet1!$A:$D,4,0)*ABS(U1175),0)","v":0},{"$f":"WEEKNUM(vlookup_data[[#This Row],[Column8]],2)","v":1},{"$f":"YEAR(vlookup_data[[#This Row],[Column8]])","v":1900},0,{"$f":"CONCATENATE(vlookup_data[[#This Row],[style '#]],\"|\",R1175)","v":"0|"}]
[{"$f":"IF(ISNUMBER(U1176)=TRUE,VLOOKUP(vlookup_data[[#This Row],[style '#]],[2]Sheet1!$A:$D,4,0)*ABS(U1176),0)","v":0},{"$f":"WEEKNUM(vlookup_data[[#This Row],[Column8]],2)","v":1},{"$f":"YEAR(vlookup_data[[#This Row],[Column8]])","v":1900},0,{"$f":"CONCATENATE(vlookup_data[[#This Row],[style '#]],\"|\",R1176)","v":"0|"}]
[{"$f":"IF(ISNUMBER(U1177)=TRUE,VLOOKUP(vlookup_data[[#This Row],[style '#]],[2]Sheet1!$A:$D,4,0)*ABS(U1177),0)","v":0},{"$f":"WEEKNUM(vlookup_data[[#This Row],[Column8]],2)","v":1},{"$f":"YEAR(vlookup_data[[#This Row],[Column8]])","v":1900},0,{"$f":"CONCATENATE(vlookup_data[[#This Row],[style '#]],\"|\",R1177)","v":"0|"}]
[{"$f":"IF(ISNUMBER(U1178)=TRUE,VLOOKUP(vlookup_data[[#This Row],[style '#]],[2]Sheet1!$A:$D,4,0)*ABS(U1178),0)","v":0},{"$f":"WEEKNUM(vlookup_data[[#This Row],[Column8]],2)","v":1},{"$f":"YEAR(vlookup_data[[#This Row],[Column8]])","v":1900},0,{"$f":"CONCATENATE(vlookup_data[[#This Row],[style '#]],\"|\",R1178)","v":"0|"}]
[{"$f":"IF(ISNUMBER(U1179)=TRUE,VLOOKUP(vlookup_data[[#This Row],[style '#]],[2]Sheet1!$A:$D,4,0)*ABS(U1179),0)","v":0},{"$f":"WEEKNUM(vlookup_data[[#This Row],[Column8]],2)","v":1},{"$f":"YEAR(vlookup_data[[#This Row],[Column8]])","v":1900},0,{"$f":"CONCATENATE(vlookup_data[[#This Row],[style '#]],\"|\",R1179)","v":"0|"}]
[{"$f":"IF(ISNUMBER(U1180)=TRUE,VLOOKUP(vlookup_data[[#This Row],[style '#]],[2]Sheet1!$A:$D,4,0)*ABS(U1180),0)","v":0},{"$f":"WEEKNUM(vlookup_data[[#This Row],[Column8]],2)","v":1},{"$f":"YEAR(vlookup_data[[#This Row],[Column8]])","v":1900},0,{"$f":"CONCATENATE(vlookup_data[[#This Row],[style '#]],\"|\",R1180)","v":"0|"}]
[{"$f":"IF(ISNUMBER(U1181)=TRUE,VLOOKUP(vlookup_data[[#This Row],[style '#]],[2]Sheet1!$A:$D,4,0)*ABS(U1181),0)","v":0},{"$f":"WEEKNUM(vlookup_data[[#This Row],[Column8]],2)","v":1},{"$f":"YEAR(vlookup_data[[#This Row],[Column8]])","v":1900},0,{"$f":"CONCATENATE(vlookup_data[[#This Row],[style '#]],\"|\",R1181)","v":"0|"}]
[{"$f":"IF(ISNUMBER(U1182)=TRUE,VLOOKUP(vlookup_data[[#This Row],[style '#]],[2]Sheet1!$A:$D,4,0)*ABS(U1182),0)","v":0},{"$f":"WEEKNUM(vlookup_data[[#This Row],[Column8]],2)","v":1},{"$f":"YEAR(vlookup_data[[#This Row],[Column8]])","v":1900},0,{"$f":"CONCATENATE(vlookup_data[[#This Row],[style '#]],\"|\",R1182)","v":"0|"}]
[{"$f":"IF(ISNUMBER(U1183)=TRUE,VLOOKUP(vlookup_data[[#This Row],[style '#]],[2]Sheet1!$A:$D,4,0)*ABS(U1183),0)","v":0},{"$f":"WEEKNUM(vlookup_data[[#This Row],[Column8]],2)","v":1},{"$f":"YEAR(vlookup_data[[#This Row],[Column8]])","v":1900},0,{"$f":"CONCATENATE(vlookup_data[[#This Row],[style '#]],\"|\",R1183)","v":"0|"}]
[{"$f":"IF(ISNUMBER(U1184)=TRUE,VLOOKUP(vlookup_data[[#This Row],[style '#]],[2]Sheet1!$A:$D,4,0)*ABS(U1184),0)","v":0},{"$f":"WEEKNUM(vlookup_data[[#This Row],[Column8]],2)","v":1},{"$f":"YEAR(vlookup_data[[#This Row],[Column8]])","v":1900},0,{"$f":"CONCATENATE(vlookup_data[[#This Row],[style '#]],\"|\",R1184)","v":"0|"}]
[{"$f":"IF(ISNUMBER(U1185)=TRUE,VLOOKUP(vlookup_data[[#This Row],[style '#]],[2]Sheet1!$A:$D,4,0)*ABS(U1185),0)","v":0},{"$f":"WEEKNUM(vlookup_data[[#This Row],[Column8]],2)","v":1},{"$f":"YEAR(vlookup_data[[#This Row],[Column8]])","v":1900},0,{"$f":"CONCATENATE(vlookup_data[[#This Row],[style '#]],\"|\",R1185)","v":"0|"}]
[{"$f":"IF(ISNUMBER(U1186)=TRUE,VLOOKUP(vlookup_data[[#This Row],[style '#]],[2]Sheet1!$A:$D,4,0)*ABS(U1186),0)","v":0},{"$f":"WEEKNUM(vlookup_data[[#This Row],[Column8]],2)","v":1},{"$f":"YEAR(vlookup_data[[#This Row],[Column8]])","v":1900},0,{"$f":"CONCATENATE(vlookup_data[[#This Row],[style '#]],\"|\",R1186)","v":"0|"}]
[{"$f":"IF(ISNUMBER(U1187)=TRUE,VLOOKUP(vlookup_data[[#This Row],[style '#]],[2]Sheet1!$A:$D,4,0)*ABS(U1187),0)","v":0},{"$f":"WEEKNUM(vlookup_data[[#This Row],[Column8]],2)","v":1},{"$f":"YEAR(vlookup_data[[#This Row],[Column8]])","v":1900},0,{"$f":"CONCATENATE(vlookup_data[[#This Row],[style '#]],\"|\",R1187)","v":"0|"}]
[{"$f":"IF(ISNUMBER(U1188)=TRUE,VLOOKUP(vlookup_data[[#This Row],[style '#]],[2]Sheet1!$A:$D,4,0)*ABS(U1188),0)","v":0},{"$f":"WEEKNUM(vlookup_data[[#This Row],[Column8]],2)","v":1},{"$f":"YEAR(vlookup_data[[#This Row],[Column8]])","v":1900},0,{"$f":"CONCATENATE(vlookup_data[[#This Row],[style '#]],\"|\",R1188)","v":"0|"}]
[{"$f":"IF(ISNUMBER(U1189)=TRUE,VLOOKUP(vlookup_data[[#This Row],[style '#]],[2]Sheet1!$A:$D,4,0)*ABS(U1189),0)","v":0},{"$f":"WEEKNUM(vlookup_data[[#This Row],[Column8]],2)","v":1},{"$f":"YEAR(vlookup_data[[#This Row],[Column8]])","v":1900},0,{"$f":"CONCATENATE(vlookup_data[[#This Row],[style '#]],\"|\",R1189)","v":"0|"}]
[{"$f":"IF(ISNUMBER(U1190)=TRUE,VLOOKUP(vlookup_data[[#This Row],[style '#]],[2]Sheet1!$A:$D,4,0)*ABS(U1190),0)","v":0},{"$f":"WEEKNUM(vlookup_data[[#This Row],[Column8]],2)","v":1},{"$f":"YEAR(vlookup_data[[#This Row],[Column8]])","v":1900},0,{"$f":"CONCATENATE(vlookup_data[[#This Row],[style '#]],\"|\",R1190)","v":"0|"}]
[{"$f":"IF(ISNUMBER(U1191)=TRUE,VLOOKUP(vlookup_data[[#This Row],[style '#]],[2]Sheet1!$A:$D,4,0)*ABS(U1191),0)","v":0},{"$f":"WEEKNUM(vlookup_data[[#This Row],[Column8]],2)","v":1},{"$f":"YEAR(vlookup_data[[#This Row],[Column8]])","v":1900},0,{"$f":"CONCATENATE(vlookup_data[[#This Row],[style '#]],\"|\",R1191)","v":"0|"}]
[{"$f":"IF(ISNUMBER(U1192)=TRUE,VLOOKUP(vlookup_data[[#This Row],[style '#]],[2]Sheet1!$A:$D,4,0)*ABS(U1192),0)","v":0},{"$f":"WEEKNUM(vlookup_data[[#This Row],[Column8]],2)","v":1},{"$f":"YEAR(vlookup_data[[#This Row],[Column8]])","v":1900},0,{"$f":"CONCATENATE(vlookup_data[[#This Row],[style '#]],\"|\",R1192)","v":"0|"}]
[{"$f":"IF(ISNUMBER(U1193)=TRUE,VLOOKUP(vlookup_data[[#This Row],[style '#]],[2]Sheet1!$A:$D,4,0)*ABS(U1193),0)","v":0},{"$f":"WEEKNUM(vlookup_data[[#This Row],[Column8]],2)","v":1},{"$f":"YEAR(vlookup_data[[#This Row],[Column8]])","v":1900},0,{"$f":"CONCATENATE(vlookup_data[[#This Row],[style '#]],\"|\",R1193)","v":"0|"}]
[{"$f":"IF(ISNUMBER(U1194)=TRUE,VLOOKUP(vlookup_data[[#This Row],[style '#]],[2]Sheet1!$A:$D,4,0)*ABS(U1194),0)","v":0},{"$f":"WEEKNUM(vlookup_data[[#This Row],[Column8]],2)","v":1},{"$f":"YEAR(vlookup_data[[#This Row],[Column8]])","v":1900},0,{"$f":"CONCATENATE(vlookup_data[[#This Row],[style '#]],\"|\",R1194)","v":"0|"}]
[{"$f":"IF(ISNUMBER(U1195)=TRUE,VLOOKUP(vlookup_data[[#This Row],[style '#]],[2]Sheet1!$A:$D,4,0)*ABS(U1195),0)","v":0},{"$f":"WEEKNUM(vlookup_data[[#This Row],[Column8]],2)","v":1},{"$f":"YEAR(vlookup_data[[#This Row],[Column8]])","v":1900},0,{"$f":"CONCATENATE(vlookup_data[[#This Row],[style '#]],\"|\",R1195)","v":"0|"}]
[{"$f":"IF(ISNUMBER(U1196)=TRUE,VLOOKUP(vlookup_data[[#This Row],[style '#]],[2]Sheet1!$A:$D,4,0)*ABS(U1196),0)","v":0},{"$f":"WEEKNUM(vlookup_data[[#This Row],[Column8]],2)","v":1},{"$f":"YEAR(vlookup_data[[#This Row],[Column8]])","v":1900},0,{"$f":"CONCATENATE(vlookup_data[[#This Row],[style '#]],\"|\",R1196)","v":"0|"}]
[{"$f":"IF(ISNUMBER(U1197)=TRUE,VLOOKUP(vlookup_data[[#This Row],[style '#]],[2]Sheet1!$A:$D,4,0)*ABS(U1197),0)","v":0},{"$f":"WEEKNUM(vlookup_data[[#This Row],[Column8]],2)","v":1},{"$f":"YEAR(vlookup_data[[#This Row],[Column8]])","v":1900},0,{"$f":"CONCATENATE(vlookup_data[[#This Row],[style '#]],\"|\",R1197)","v":"0|"}]
[{"$f":"IF(ISNUMBER(U1198)=TRUE,VLOOKUP(vlookup_data[[#This Row],[style '#]],[2]Sheet1!$A:$D,4,0)*ABS(U1198),0)","v":0},{"$f":"WEEKNUM(vlookup_data[[#This Row],[Column8]],2)","v":1},{"$f":"YEAR(vlookup_data[[#This Row],[Column8]])","v":1900},0,{"$f":"CONCATENATE(vlookup_data[[#This Row],[style '#]],\"|\",R1198)","v":"0|"}]
[{"$f":"IF(ISNUMBER(U1199)=TRUE,VLOOKUP(vlookup_data[[#This Row],[style '#]],[2]Sheet1!$A:$D,4,0)*ABS(U1199),0)","v":0},{"$f":"WEEKNUM(vlookup_data[[#This Row],[Column8]],2)","v":1},{"$f":"YEAR(vlookup_data[[#This Row],[Column8]])","v":1900},0,{"$f":"CONCATENATE(vlookup_data[[#This Row],[style '#]],\"|\",R1199)","v":"0|"}]
[{"$f":"IF(ISNUMBER(U1200)=TRUE,VLOOKUP(vlookup_data[[#This Row],[style '#]],[2]Sheet1!$A:$D,4,0)*ABS(U1200),0)","v":0},{"$f":"WEEKNUM(vlookup_data[[#This Row],[Column8]],2)","v":1},{"$f":"YEAR(vlookup_data[[#This Row],[Column8]])","v":1900},0,{"$f":"CONCATENATE(vlookup_data[[#This Row],[style '#]],\"|\",R1200)","v":"0|"}]
[{"$f":"IF(ISNUMBER(U1201)=TRUE,VLOOKUP(vlookup_data[[#This Row],[style '#]],[2]Sheet1!$A:$D,4,0)*ABS(U1201),0)","v":0},{"$f":"WEEKNUM(vlookup_data[[#This Row],[Column8]],2)","v":1},{"$f":"YEAR(vlookup_data[[#This Row],[Column8]])","v":1900},0,{"$f":"CONCATENATE(vlookup_data[[#This Row],[style '#]],\"|\",R1201)","v":"0|"}]
[{"$f":"IF(ISNUMBER(U1202)=TRUE,VLOOKUP(vlookup_data[[#This Row],[style '#]],[2]Sheet1!$A:$D,4,0)*ABS(U1202),0)","v":0},{"$f":"WEEKNUM(vlookup_data[[#This Row],[Column8]],2)","v":1},{"$f":"YEAR(vlookup_data[[#This Row],[Column8]])","v":1900},0,{"$f":"CONCATENATE(vlookup_data[[#This Row],[style '#]],\"|\",R1202)","v":"0|"}]
[{"$f":"IF(ISNUMBER(U1203)=TRUE,VLOOKUP(vlookup_data[[#This Row],[style '#]],[2]Sheet1!$A:$D,4,0)*ABS(U1203),0)","v":0},{"$f":"WEEKNUM(vlookup_data[[#This Row],[Column8]],2)","v":1},{"$f":"YEAR(vlookup_data[[#This Row],[Column8]])","v":1900},0,{"$f":"CONCATENATE(vlookup_data[[#This Row],[style '#]],\"|\",R1203)","v":"0|"}]
[{"$f":"IF(ISNUMBER(U1204)=TRUE,VLOOKUP(vlookup_data[[#This Row],[style '#]],[2]Sheet1!$A:$D,4,0)*ABS(U1204),0)","v":0},{"$f":"WEEKNUM(vlookup_data[[#This Row],[Column8]],2)","v":1},{"$f":"YEAR(vlookup_data[[#This Row],[Column8]])","v":1900},0,{"$f":"CONCATENATE(vlookup_data[[#This Row],[style '#]],\"|\",R1204)","v":"0|"}]
[{"$f":"IF(ISNUMBER(U1205)=TRUE,VLOOKUP(vlookup_data[[#This Row],[style '#]],[2]Sheet1!$A:$D,4,0)*ABS(U1205),0)","v":0},{"$f":"WEEKNUM(vlookup_data[[#This Row],[Column8]],2)","v":1},{"$f":"YEAR(vlookup_data[[#This Row],[Column8]])","v":1900},0,{"$f":"CONCATENATE(vlookup_data[[#This Row],[style '#]],\"|\",R1205)","v":"0|"}]
[{"$f":"IF(ISNUMBER(U1206)=TRUE,VLOOKUP(vlookup_data[[#This Row],[style '#]],[2]Sheet1!$A:$D,4,0)*ABS(U1206),0)","v":0},{"$f":"WEEKNUM(vlookup_data[[#This Row],[Column8]],2)","v":1},{"$f":"YEAR(vlookup_data[[#This Row],[Column8]])","v":1900},0,{"$f":"CONCATENATE(vlookup_data[[#This Row],[style '#]],\"|\",R1206)","v":"0|"}]
[{"$f":"IF(ISNUMBER(U1207)=TRUE,VLOOKUP(vlookup_data[[#This Row],[style '#]],[2]Sheet1!$A:$D,4,0)*ABS(U1207),0)","v":0},{"$f":"WEEKNUM(vlookup_data[[#This Row],[Column8]],2)","v":1},{"$f":"YEAR(vlookup_data[[#This Row],[Column8]])","v":1900},0,{"$f":"CONCATENATE(vlookup_data[[#This Row],[style '#]],\"|\",R1207)","v":"0|"}]
[{"$f":"IF(ISNUMBER(U1208)=TRUE,VLOOKUP(vlookup_data[[#This Row],[style '#]],[2]Sheet1!$A:$D,4,0)*ABS(U1208),0)","v":0},{"$f":"WEEKNUM(vlookup_data[[#This Row],[Column8]],2)","v":1},{"$f":"YEAR(vlookup_data[[#This Row],[Column8]])","v":1900},0,{"$f":"CONCATENATE(vlookup_data[[#This Row],[style '#]],\"|\",R1208)","v":"0|"}]
[{"$f":"IF(ISNUMBER(U1209)=TRUE,VLOOKUP(vlookup_data[[#This Row],[style '#]],[2]Sheet1!$A:$D,4,0)*ABS(U1209),0)","v":0},{"$f":"WEEKNUM(vlookup_data[[#This Row],[Column8]],2)","v":1},{"$f":"YEAR(vlookup_data[[#This Row],[Column8]])","v":1900},0,{"$f":"CONCATENATE(vlookup_data[[#This Row],[style '#]],\"|\",R1209)","v":"0|"}]
[{"$f":"IF(ISNUMBER(U1210)=TRUE,VLOOKUP(vlookup_data[[#This Row],[style '#]],[2]Sheet1!$A:$D,4,0)*ABS(U1210),0)","v":0},{"$f":"WEEKNUM(vlookup_data[[#This Row],[Column8]],2)","v":1},{"$f":"YEAR(vlookup_data[[#This Row],[Column8]])","v":1900},0,{"$f":"CONCATENATE(vlookup_data[[#This Row],[style '#]],\"|\",R1210)","v":"0|"}]
[{"$f":"IF(ISNUMBER(U1211)=TRUE,VLOOKUP(vlookup_data[[#This Row],[style '#]],[2]Sheet1!$A:$D,4,0)*ABS(U1211),0)","v":0},{"$f":"WEEKNUM(vlookup_data[[#This Row],[Column8]],2)","v":1},{"$f":"YEAR(vlookup_data[[#This Row],[Column8]])","v":1900},0,{"$f":"CONCATENATE(vlookup_data[[#This Row],[style '#]],\"|\",R1211)","v":"0|"}]
[{"$f":"IF(ISNUMBER(U1212)=TRUE,VLOOKUP(vlookup_data[[#This Row],[style '#]],[2]Sheet1!$A:$D,4,0)*ABS(U1212),0)","v":0},{"$f":"WEEKNUM(vlookup_data[[#This Row],[Column8]],2)","v":1},{"$f":"YEAR(vlookup_data[[#This Row],[Column8]])","v":1900},0,{"$f":"CONCATENATE(vlookup_data[[#This Row],[style '#]],\"|\",R1212)","v":"0|"}]
[{"$f":"IF(ISNUMBER(U1213)=TRUE,VLOOKUP(vlookup_data[[#This Row],[style '#]],[2]Sheet1!$A:$D,4,0)*ABS(U1213),0)","v":0},{"$f":"WEEKNUM(vlookup_data[[#This Row],[Column8]],2)","v":1},{"$f":"YEAR(vlookup_data[[#This Row],[Column8]])","v":1900},0,{"$f":"CONCATENATE(vlookup_data[[#This Row],[style '#]],\"|\",R1213)","v":"0|"}]
[{"$f":"IF(ISNUMBER(U1214)=TRUE,VLOOKUP(vlookup_data[[#This Row],[style '#]],[2]Sheet1!$A:$D,4,0)*ABS(U1214),0)","v":0},{"$f":"WEEKNUM(vlookup_data[[#This Row],[Column8]],2)","v":1},{"$f":"YEAR(vlookup_data[[#This Row],[Column8]])","v":1900},0,{"$f":"CONCATENATE(vlookup_data[[#This Row],[style '#]],\"|\",R1214)","v":"0|"}]
[{"$f":"IF(ISNUMBER(U1215)=TRUE,VLOOKUP(vlookup_data[[#This Row],[style '#]],[2]Sheet1!$A:$D,4,0)*ABS(U1215),0)","v":0},{"$f":"WEEKNUM(vlookup_data[[#This Row],[Column8]],2)","v":1},{"$f":"YEAR(vlookup_data[[#This Row],[Column8]])","v":1900},0,{"$f":"CONCATENATE(vlookup_data[[#This Row],[style '#]],\"|\",R1215)","v":"0|"}]
[{"$f":"IF(ISNUMBER(U1216)=TRUE,VLOOKUP(vlookup_data[[#This Row],[style '#]],[2]Sheet1!$A:$D,4,0)*ABS(U1216),0)","v":0},{"$f":"WEEKNUM(vlookup_data[[#This Row],[Column8]],2)","v":1},{"$f":"YEAR(vlookup_data[[#This Row],[Column8]])","v":1900},0,{"$f":"CONCATENATE(vlookup_data[[#This Row],[style '#]],\"|\",R1216)","v":"0|"}]
[{"$f":"IF(ISNUMBER(U1217)=TRUE,VLOOKUP(vlookup_data[[#This Row],[style '#]],[2]Sheet1!$A:$D,4,0)*ABS(U1217),0)","v":0},{"$f":"WEEKNUM(vlookup_data[[#This Row],[Column8]],2)","v":1},{"$f":"YEAR(vlookup_data[[#This Row],[Column8]])","v":1900},0,{"$f":"CONCATENATE(vlookup_data[[#This Row],[style '#]],\"|\",R1217)","v":"0|"}]
[{"$f":"IF(ISNUMBER(U1218)=TRUE,VLOOKUP(vlookup_data[[#This Row],[style '#]],[2]Sheet1!$A:$D,4,0)*ABS(U1218),0)","v":0},{"$f":"WEEKNUM(vlookup_data[[#This Row],[Column8]],2)","v":1},{"$f":"YEAR(vlookup_data[[#This Row],[Column8]])","v":1900},0,{"$f":"CONCATENATE(vlookup_data[[#This Row],[style '#]],\"|\",R1218)","v":"0|"}]
[{"$f":"IF(ISNUMBER(U1219)=TRUE,VLOOKUP(vlookup_data[[#This Row],[style '#]],[2]Sheet1!$A:$D,4,0)*ABS(U1219),0)","v":0},{"$f":"WEEKNUM(vlookup_data[[#This Row],[Column8]],2)","v":1},{"$f":"YEAR(vlookup_data[[#This Row],[Column8]])","v":1900},0,{"$f":"CONCATENATE(vlookup_data[[#This Row],[style '#]],\"|\",R1219)","v":"0|"}]
[{"$f":"IF(ISNUMBER(U1220)=TRUE,VLOOKUP(vlookup_data[[#This Row],[style '#]],[2]Sheet1!$A:$D,4,0)*ABS(U1220),0)","v":0},{"$f":"WEEKNUM(vlookup_data[[#This Row],[Column8]],2)","v":1},{"$f":"YEAR(vlookup_data[[#This Row],[Column8]])","v":1900},0,{"$f":"CONCATENATE(vlookup_data[[#This Row],[style '#]],\"|\",R1220)","v":"0|"}]
[{"$f":"IF(ISNUMBER(U1221)=TRUE,VLOOKUP(vlookup_data[[#This Row],[style '#]],[2]Sheet1!$A:$D,4,0)*ABS(U1221),0)","v":0},{"$f":"WEEKNUM(vlookup_data[[#This Row],[Column8]],2)","v":1},{"$f":"YEAR(vlookup_data[[#This Row],[Column8]])","v":1900},0,{"$f":"CONCATENATE(vlookup_data[[#This Row],[style '#]],\"|\",R1221)","v":"0|"}]
[{"$f":"IF(ISNUMBER(U1222)=TRUE,VLOOKUP(vlookup_data[[#This Row],[style '#]],[2]Sheet1!$A:$D,4,0)*ABS(U1222),0)","v":0},{"$f":"WEEKNUM(vlookup_data[[#This Row],[Column8]],2)","v":1},{"$f":"YEAR(vlookup_data[[#This Row],[Column8]])","v":1900},0,{"$f":"CONCATENATE(vlookup_data[[#This Row],[style '#]],\"|\",R1222)","v":"0|"}]
[{"$f":"IF(ISNUMBER(U1223)=TRUE,VLOOKUP(vlookup_data[[#This Row],[style '#]],[2]Sheet1!$A:$D,4,0)*ABS(U1223),0)","v":0},{"$f":"WEEKNUM(vlookup_data[[#This Row],[Column8]],2)","v":1},{"$f":"YEAR(vlookup_data[[#This Row],[Column8]])","v":1900},0,{"$f":"CONCATENATE(vlookup_data[[#This Row],[style '#]],\"|\",R1223)","v":"0|"}]
[{"$f":"IF(ISNUMBER(U1224)=TRUE,VLOOKUP(vlookup_data[[#This Row],[style '#]],[2]Sheet1!$A:$D,4,0)*ABS(U1224),0)","v":0},{"$f":"WEEKNUM(vlookup_data[[#This Row],[Column8]],2)","v":1},{"$f":"YEAR(vlookup_data[[#This Row],[Column8]])","v":1900},0,{"$f":"CONCATENATE(vlookup_data[[#This Row],[style '#]],\"|\",R1224)","v":"0|"}]
[{"$f":"IF(ISNUMBER(U1225)=TRUE,VLOOKUP(vlookup_data[[#This Row],[style '#]],[2]Sheet1!$A:$D,4,0)*ABS(U1225),0)","v":0},{"$f":"WEEKNUM(vlookup_data[[#This Row],[Column8]],2)","v":1},{"$f":"YEAR(vlookup_data[[#This Row],[Column8]])","v":1900},{"$f":"VALUE(G1225)","v":0},{"$f":"CONCATENATE(vlookup_data[[#This Row],[style '#]],\"|\",R1225)","v":"0|"}]
[{"$f":"IF(ISNUMBER(U1226)=TRUE,VLOOKUP(vlookup_data[[#This Row],[style '#]],[2]Sheet1!$A:$D,4,0)*ABS(U1226),0)","v":0},{"$f":"WEEKNUM(vlookup_data[[#This Row],[Column8]],2)","v":1},{"$f":"YEAR(vlookup_data[[#This Row],[Column8]])","v":1900},0,{"$f":"CONCATENATE(vlookup_data[[#This Row],[style '#]],\"|\",R1226)","v":"0|"}]
[{"$f":"IF(ISNUMBER(U1227)=TRUE,VLOOKUP(vlookup_data[[#This Row],[style '#]],[2]Sheet1!$A:$D,4,0)*ABS(U1227),0)","v":0},{"$f":"WEEKNUM(vlookup_data[[#This Row],[Column8]],2)","v":1},{"$f":"YEAR(vlookup_data[[#This Row],[Column8]])","v":1900},0,{"$f":"CONCATENATE(vlookup_data[[#This Row],[style '#]],\"|\",R1227)","v":"0|"}]
[{"$f":"IF(ISNUMBER(U1228)=TRUE,VLOOKUP(vlookup_data[[#This Row],[style '#]],[2]Sheet1!$A:$D,4,0)*ABS(U1228),0)","v":0},{"$f":"WEEKNUM(vlookup_data[[#This Row],[Column8]],2)","v":1},{"$f":"YEAR(vlookup_data[[#This Row],[Column8]])","v":1900},0,{"$f":"CONCATENATE(vlookup_data[[#This Row],[style '#]],\"|\",R1228)","v":"0|"}]
[{"$f":"IF(ISNUMBER(U1229)=TRUE,VLOOKUP(vlookup_data[[#This Row],[style '#]],[2]Sheet1!$A:$D,4,0)*ABS(U1229),0)","v":0},{"$f":"WEEKNUM(vlookup_data[[#This Row],[Column8]],2)","v":1},{"$f":"YEAR(vlookup_data[[#This Row],[Column8]])","v":1900},0,{"$f":"CONCATENATE(vlookup_data[[#This Row],[style '#]],\"|\",R1229)","v":"0|"}]
[{"$f":"IF(ISNUMBER(U1230)=TRUE,VLOOKUP(vlookup_data[[#This Row],[style '#]],[2]Sheet1!$A:$D,4,0)*ABS(U1230),0)","v":0},{"$f":"WEEKNUM(vlookup_data[[#This Row],[Column8]],2)","v":1},{"$f":"YEAR(vlookup_data[[#This Row],[Column8]])","v":1900},0,{"$f":"CONCATENATE(vlookup_data[[#This Row],[style '#]],\"|\",R1230)","v":"0|"}]
[{"$f":"IF(ISNUMBER(U1231)=TRUE,VLOOKUP(vlookup_data[[#This Row],[style '#]],[2]Sheet1!$A:$D,4,0)*ABS(U1231),0)","v":0},{"$f":"WEEKNUM(vlookup_data[[#This Row],[Column8]],2)","v":1},{"$f":"YEAR(vlookup_data[[#This Row],[Column8]])","v":1900},0,{"$f":"CONCATENATE(vlookup_data[[#This Row],[style '#]],\"|\",R1231)","v":"0|"}]
[{"$f":"IF(ISNUMBER(U1232)=TRUE,VLOOKUP(vlookup_data[[#This Row],[style '#]],[2]Sheet1!$A:$D,4,0)*ABS(U1232),0)","v":0},{"$f":"WEEKNUM(vlookup_data[[#This Row],[Column8]],2)","v":1},{"$f":"YEAR(vlookup_data[[#This Row],[Column8]])","v":1900},0,{"$f":"CONCATENATE(vlookup_data[[#This Row],[style '#]],\"|\",R1232)","v":"0|"}]
[{"$f":"IF(ISNUMBER(U1233)=TRUE,VLOOKUP(vlookup_data[[#This Row],[style '#]],[2]Sheet1!$A:$D,4,0)*ABS(U1233),0)","v":0},{"$f":"WEEKNUM(vlookup_data[[#This Row],[Column8]],2)","v":1},{"$f":"YEAR(vlookup_data[[#This Row],[Column8]])","v":1900},0,{"$f":"CONCATENATE(vlookup_data[[#This Row],[style '#]],\"|\",R1233)","v":"0|"}]
[{"$f":"IF(ISNUMBER(U1234)=TRUE,VLOOKUP(vlookup_data[[#This Row],[style '#]],[2]Sheet1!$A:$D,4,0)*ABS(U1234),0)","v":0},{"$f":"WEEKNUM(vlookup_data[[#This Row],[Column8]],2)","v":1},{"$f":"YEAR(vlookup_data[[#This Row],[Column8]])","v":1900},0,{"$f":"CONCATENATE(vlookup_data[[#This Row],[style '#]],\"|\",R1234)","v":"0|"}]
[{"$f":"IF(ISNUMBER(U1235)=TRUE,VLOOKUP(vlookup_data[[#This Row],[style '#]],[2]Sheet1!$A:$D,4,0)*ABS(U1235),0)","v":0},{"$f":"WEEKNUM(vlookup_data[[#This Row],[Column8]],2)","v":1},{"$f":"YEAR(vlookup_data[[#This Row],[Column8]])","v":1900},0,{"$f":"CONCATENATE(vlookup_data[[#This Row],[style '#]],\"|\",R1235)","v":"0|"}]
[{"$f":"IF(ISNUMBER(U1236)=TRUE,VLOOKUP(vlookup_data[[#This Row],[style '#]],[2]Sheet1!$A:$D,4,0)*ABS(U1236),0)","v":0},{"$f":"WEEKNUM(vlookup_data[[#This Row],[Column8]],2)","v":1},{"$f":"YEAR(vlookup_data[[#This Row],[Column8]])","v":1900},0,{"$f":"CONCATENATE(vlookup_data[[#This Row],[style '#]],\"|\",R1236)","v":"0|"}]
[{"$f":"IF(ISNUMBER(U1237)=TRUE,VLOOKUP(vlookup_data[[#This Row],[style '#]],[2]Sheet1!$A:$D,4,0)*ABS(U1237),0)","v":0},{"$f":"WEEKNUM(vlookup_data[[#This Row],[Column8]],2)","v":1},{"$f":"YEAR(vlookup_data[[#This Row],[Column8]])","v":1900},0,{"$f":"CONCATENATE(vlookup_data[[#This Row],[style '#]],\"|\",R1237)","v":"0|"}]
[{"$f":"IF(ISNUMBER(U1238)=TRUE,VLOOKUP(vlookup_data[[#This Row],[style '#]],[2]Sheet1!$A:$D,4,0)*ABS(U1238),0)","v":0},{"$f":"WEEKNUM(vlookup_data[[#This Row],[Column8]],2)","v":1},{"$f":"YEAR(vlookup_data[[#This Row],[Column8]])","v":1900},0,{"$f":"CONCATENATE(vlookup_data[[#This Row],[style '#]],\"|\",R1238)","v":"0|"}]
[{"$f":"IF(ISNUMBER(U1239)=TRUE,VLOOKUP(vlookup_data[[#This Row],[style '#]],[2]Sheet1!$A:$D,4,0)*ABS(U1239),0)","v":0},{"$f":"WEEKNUM(vlookup_data[[#This Row],[Column8]],2)","v":1},{"$f":"YEAR(vlookup_data[[#This Row],[Column8]])","v":1900},0,{"$f":"CONCATENATE(vlookup_data[[#This Row],[style '#]],\"|\",R1239)","v":"0|"}]
[{"$f":"IF(ISNUMBER(U1240)=TRUE,VLOOKUP(vlookup_data[[#This Row],[style '#]],[2]Sheet1!$A:$D,4,0)*ABS(U1240),0)","v":0},{"$f":"WEEKNUM(vlookup_data[[#This Row],[Column8]],2)","v":1},{"$f":"YEAR(vlookup_data[[#This Row],[Column8]])","v":1900},0,{"$f":"CONCATENATE(vlookup_data[[#This Row],[style '#]],\"|\",R1240)","v":"0|"}]
[{"$f":"IF(ISNUMBER(U1241)=TRUE,VLOOKUP(vlookup_data[[#This Row],[style '#]],[2]Sheet1!$A:$D,4,0)*ABS(U1241),0)","v":0},{"$f":"WEEKNUM(vlookup_data[[#This Row],[Column8]],2)","v":1},{"$f":"YEAR(vlookup_data[[#This Row],[Column8]])","v":1900},0,{"$f":"CONCATENATE(vlookup_data[[#This Row],[style '#]],\"|\",R1241)","v":"0|"}]
[{"$f":"IF(ISNUMBER(U1242)=TRUE,VLOOKUP(vlookup_data[[#This Row],[style '#]],[2]Sheet1!$A:$D,4,0)*ABS(U1242),0)","v":0},{"$f":"WEEKNUM(vlookup_data[[#This Row],[Column8]],2)","v":1},{"$f":"YEAR(vlookup_data[[#This Row],[Column8]])","v":1900},0,{"$f":"CONCATENATE(vlookup_data[[#This Row],[style '#]],\"|\",R1242)","v":"0|"}]
[{"$f":"IF(ISNUMBER(U1243)=TRUE,VLOOKUP(vlookup_data[[#This Row],[style '#]],[2]Sheet1!$A:$D,4,0)*ABS(U1243),0)","v":0},{"$f":"WEEKNUM(vlookup_data[[#This Row],[Column8]],2)","v":1},{"$f":"YEAR(vlookup_data[[#This Row],[Column8]])","v":1900},0,{"$f":"CONCATENATE(vlookup_data[[#This Row],[style '#]],\"|\",R1243)","v":"0|"}]
[{"$f":"IF(ISNUMBER(U1244)=TRUE,VLOOKUP(vlookup_data[[#This Row],[style '#]],[2]Sheet1!$A:$D,4,0)*ABS(U1244),0)","v":0},{"$f":"WEEKNUM(vlookup_data[[#This Row],[Column8]],2)","v":1},{"$f":"YEAR(vlookup_data[[#This Row],[Column8]])","v":1900},0,{"$f":"CONCATENATE(vlookup_data[[#This Row],[style '#]],\"|\",R1244)","v":"0|"}]
[{"$f":"IF(ISNUMBER(U1245)=TRUE,VLOOKUP(vlookup_data[[#This Row],[style '#]],[2]Sheet1!$A:$D,4,0)*ABS(U1245),0)","v":0},{"$f":"WEEKNUM(vlookup_data[[#This Row],[Column8]],2)","v":1},{"$f":"YEAR(vlookup_data[[#This Row],[Column8]])","v":1900},0,{"$f":"CONCATENATE(vlookup_data[[#This Row],[style '#]],\"|\",R1245)","v":"0|"}]
[{"$f":"IF(ISNUMBER(U1246)=TRUE,VLOOKUP(vlookup_data[[#This Row],[style '#]],[2]Sheet1!$A:$D,4,0)*ABS(U1246),0)","v":0},{"$f":"WEEKNUM(vlookup_data[[#This Row],[Column8]],2)","v":1},{"$f":"YEAR(vlookup_data[[#This Row],[Column8]])","v":1900},0,{"$f":"CONCATENATE(vlookup_data[[#This Row],[style '#]],\"|\",R1246)","v":"0|"}]
[{"$f":"IF(ISNUMBER(U1247)=TRUE,VLOOKUP(vlookup_data[[#This Row],[style '#]],[2]Sheet1!$A:$D,4,0)*ABS(U1247),0)","v":0},{"$f":"WEEKNUM(vlookup_data[[#This Row],[Column8]],2)","v":1},{"$f":"YEAR(vlookup_data[[#This Row],[Column8]])","v":1900},0,{"$f":"CONCATENATE(vlookup_data[[#This Row],[style '#]],\"|\",R1247)","v":"0|"}]
[{"$f":"IF(ISNUMBER(U1248)=TRUE,VLOOKUP(vlookup_data[[#This Row],[style '#]],[2]Sheet1!$A:$D,4,0)*ABS(U1248),0)","v":0},{"$f":"WEEKNUM(vlookup_data[[#This Row],[Column8]],2)","v":1},{"$f":"YEAR(vlookup_data[[#This Row],[Column8]])","v":1900},0,{"$f":"CONCATENATE(vlookup_data[[#This Row],[style '#]],\"|\",R1248)","v":"0|"}]
[{"$f":"IF(ISNUMBER(U1249)=TRUE,VLOOKUP(vlookup_data[[#This Row],[style '#]],[2]Sheet1!$A:$D,4,0)*ABS(U1249),0)","v":0},{"$f":"WEEKNUM(vlookup_data[[#This Row],[Column8]],2)","v":1},{"$f":"YEAR(vlookup_data[[#This Row],[Column8]])","v":1900},0,{"$f":"CONCATENATE(vlookup_data[[#This Row],[style '#]],\"|\",R1249)","v":"0|"}]
[{"$f":"IF(ISNUMBER(U1250)=TRUE,VLOOKUP(vlookup_data[[#This Row],[style '#]],[2]Sheet1!$A:$D,4,0)*ABS(U1250),0)","v":0},{"$f":"WEEKNUM(vlookup_data[[#This Row],[Column8]],2)","v":1},{"$f":"YEAR(vlookup_data[[#This Row],[Column8]])","v":1900},0,{"$f":"CONCATENATE(vlookup_data[[#This Row],[style '#]],\"|\",R1250)","v":"0|"}]
[{"$f":"IF(ISNUMBER(U1251)=TRUE,VLOOKUP(vlookup_data[[#This Row],[style '#]],[2]Sheet1!$A:$D,4,0)*ABS(U1251),0)","v":0},{"$f":"WEEKNUM(vlookup_data[[#This Row],[Column8]],2)","v":1},{"$f":"YEAR(vlookup_data[[#This Row],[Column8]])","v":1900},0,{"$f":"CONCATENATE(vlookup_data[[#This Row],[style '#]],\"|\",R1251)","v":"0|"}]
[{"$f":"IF(ISNUMBER(U1252)=TRUE,VLOOKUP(vlookup_data[[#This Row],[style '#]],[2]Sheet1!$A:$D,4,0)*ABS(U1252),0)","v":0},{"$f":"WEEKNUM(vlookup_data[[#This Row],[Column8]],2)","v":1},{"$f":"YEAR(vlookup_data[[#This Row],[Column8]])","v":1900},0,{"$f":"CONCATENATE(vlookup_data[[#This Row],[style '#]],\"|\",R1252)","v":"0|"}]
[{"$f":"IF(ISNUMBER(U1253)=TRUE,VLOOKUP(vlookup_data[[#This Row],[style '#]],[2]Sheet1!$A:$D,4,0)*ABS(U1253),0)","v":0},{"$f":"WEEKNUM(vlookup_data[[#This Row],[Column8]],2)","v":1},{"$f":"YEAR(vlookup_data[[#This Row],[Column8]])","v":1900},0,{"$f":"CONCATENATE(vlookup_data[[#This Row],[style '#]],\"|\",R1253)","v":"0|"}]
[{"$f":"IF(ISNUMBER(U1254)=TRUE,VLOOKUP(vlookup_data[[#This Row],[style '#]],[2]Sheet1!$A:$D,4,0)*ABS(U1254),0)","v":0},{"$f":"WEEKNUM(vlookup_data[[#This Row],[Column8]],2)","v":1},{"$f":"YEAR(vlookup_data[[#This Row],[Column8]])","v":1900},0,{"$f":"CONCATENATE(vlookup_data[[#This Row],[style '#]],\"|\",R1254)","v":"0|"}]
[{"$f":"IF(ISNUMBER(U1255)=TRUE,VLOOKUP(vlookup_data[[#This Row],[style '#]],[2]Sheet1!$A:$D,4,0)*ABS(U1255),0)","v":0},{"$f":"WEEKNUM(vlookup_data[[#This Row],[Column8]],2)","v":1},{"$f":"YEAR(vlookup_data[[#This Row],[Column8]])","v":1900},0,{"$f":"CONCATENATE(vlookup_data[[#This Row],[style '#]],\"|\",R1255)","v":"0|"}]
[{"$f":"IF(ISNUMBER(U1256)=TRUE,VLOOKUP(vlookup_data[[#This Row],[style '#]],[2]Sheet1!$A:$D,4,0)*ABS(U1256),0)","v":0},{"$f":"WEEKNUM(vlookup_data[[#This Row],[Column8]],2)","v":1},{"$f":"YEAR(vlookup_data[[#This Row],[Column8]])","v":1900},0,{"$f":"CONCATENATE(vlookup_data[[#This Row],[style '#]],\"|\",R1256)","v":"0|"}]
[{"$f":"IF(ISNUMBER(U1257)=TRUE,VLOOKUP(vlookup_data[[#This Row],[style '#]],[2]Sheet1!$A:$D,4,0)*ABS(U1257),0)","v":0},{"$f":"WEEKNUM(vlookup_data[[#This Row],[Column8]],2)","v":1},{"$f":"YEAR(vlookup_data[[#This Row],[Column8]])","v":1900},0,{"$f":"CONCATENATE(vlookup_data[[#This Row],[style '#]],\"|\",R1257)","v":"0|"}]
[{"$f":"IF(ISNUMBER(U1258)=TRUE,VLOOKUP(vlookup_data[[#This Row],[style '#]],[2]Sheet1!$A:$D,4,0)*ABS(U1258),0)","v":0},{"$f":"WEEKNUM(vlookup_data[[#This Row],[Column8]],2)","v":1},{"$f":"YEAR(vlookup_data[[#This Row],[Column8]])","v":1900},0,{"$f":"CONCATENATE(vlookup_data[[#This Row],[style '#]],\"|\",R1258)","v":"0|"}]
[{"$f":"IF(ISNUMBER(U1259)=TRUE,VLOOKUP(vlookup_data[[#This Row],[style '#]],[2]Sheet1!$A:$D,4,0)*ABS(U1259),0)","v":0},{"$f":"WEEKNUM(vlookup_data[[#This Row],[Column8]],2)","v":1},{"$f":"YEAR(vlookup_data[[#This Row],[Column8]])","v":1900},0,{"$f":"CONCATENATE(vlookup_data[[#This Row],[style '#]],\"|\",R1259)","v":"0|"}]
[{"$f":"IF(ISNUMBER(U1260)=TRUE,VLOOKUP(vlookup_data[[#This Row],[style '#]],[2]Sheet1!$A:$D,4,0)*ABS(U1260),0)","v":0},{"$f":"WEEKNUM(vlookup_data[[#This Row],[Column8]],2)","v":1},{"$f":"YEAR(vlookup_data[[#This Row],[Column8]])","v":1900},0,{"$f":"CONCATENATE(vlookup_data[[#This Row],[style '#]],\"|\",R1260)","v":"0|"}]
[{"$f":"IF(ISNUMBER(U1261)=TRUE,VLOOKUP(vlookup_data[[#This Row],[style '#]],[2]Sheet1!$A:$D,4,0)*ABS(U1261),0)","v":0},{"$f":"WEEKNUM(vlookup_data[[#This Row],[Column8]],2)","v":1},{"$f":"YEAR(vlookup_data[[#This Row],[Column8]])","v":1900},0,{"$f":"CONCATENATE(vlookup_data[[#This Row],[style '#]],\"|\",R1261)","v":"0|"}]
[{"$f":"IF(ISNUMBER(U1262)=TRUE,VLOOKUP(vlookup_data[[#This Row],[style '#]],[2]Sheet1!$A:$D,4,0)*ABS(U1262),0)","v":0},{"$f":"WEEKNUM(vlookup_data[[#This Row],[Column8]],2)","v":1},{"$f":"YEAR(vlookup_data[[#This Row],[Column8]])","v":1900},0,{"$f":"CONCATENATE(vlookup_data[[#This Row],[style '#]],\"|\",R1262)","v":"0|"}]
[{"$f":"IF(ISNUMBER(U1263)=TRUE,VLOOKUP(vlookup_data[[#This Row],[style '#]],[2]Sheet1!$A:$D,4,0)*ABS(U1263),0)","v":0},{"$f":"WEEKNUM(vlookup_data[[#This Row],[Column8]],2)","v":1},{"$f":"YEAR(vlookup_data[[#This Row],[Column8]])","v":1900},0,{"$f":"CONCATENATE(vlookup_data[[#This Row],[style '#]],\"|\",R1263)","v":"0|"}]
[{"$f":"IF(ISNUMBER(U1264)=TRUE,VLOOKUP(vlookup_data[[#This Row],[style '#]],[2]Sheet1!$A:$D,4,0)*ABS(U1264),0)","v":0},{"$f":"WEEKNUM(vlookup_data[[#This Row],[Column8]],2)","v":1},{"$f":"YEAR(vlookup_data[[#This Row],[Column8]])","v":1900},0,{"$f":"CONCATENATE(vlookup_data[[#This Row],[style '#]],\"|\",R1264)","v":"0|"}]
[{"$f":"IF(ISNUMBER(U1265)=TRUE,VLOOKUP(vlookup_data[[#This Row],[style '#]],[2]Sheet1!$A:$D,4,0)*ABS(U1265),0)","v":0},{"$f":"WEEKNUM(vlookup_data[[#This Row],[Column8]],2)","v":1},{"$f":"YEAR(vlookup_data[[#This Row],[Column8]])","v":1900},0,{"$f":"CONCATENATE(vlookup_data[[#This Row],[style '#]],\"|\",R1265)","v":"0|"}]
[{"$f":"IF(ISNUMBER(U1266)=TRUE,VLOOKUP(vlookup_data[[#This Row],[style '#]],[2]Sheet1!$A:$D,4,0)*ABS(U1266),0)","v":0},{"$f":"WEEKNUM(vlookup_data[[#This Row],[Column8]],2)","v":1},{"$f":"YEAR(vlookup_data[[#This Row],[Column8]])","v":1900},0,{"$f":"CONCATENATE(vlookup_data[[#This Row],[style '#]],\"|\",R1266)","v":"0|"}]
[{"$f":"IF(ISNUMBER(U1267)=TRUE,VLOOKUP(vlookup_data[[#This Row],[style '#]],[2]Sheet1!$A:$D,4,0)*ABS(U1267),0)","v":0},{"$f":"WEEKNUM(vlookup_data[[#This Row],[Column8]],2)","v":1},{"$f":"YEAR(vlookup_data[[#This Row],[Column8]])","v":1900},0,{"$f":"CONCATENATE(vlookup_data[[#This Row],[style '#]],\"|\",R1267)","v":"0|"}]
[{"$f":"IF(ISNUMBER(U1268)=TRUE,VLOOKUP(vlookup_data[[#This Row],[style '#]],[2]Sheet1!$A:$D,4,0)*ABS(U1268),0)","v":0},{"$f":"WEEKNUM(vlookup_data[[#This Row],[Column8]],2)","v":1},{"$f":"YEAR(vlookup_data[[#This Row],[Column8]])","v":1900},0,{"$f":"CONCATENATE(vlookup_data[[#This Row],[style '#]],\"|\",R1268)","v":"0|"}]
[{"$f":"IF(ISNUMBER(U1269)=TRUE,VLOOKUP(vlookup_data[[#This Row],[style '#]],[2]Sheet1!$A:$D,4,0)*ABS(U1269),0)","v":0},{"$f":"WEEKNUM(vlookup_data[[#This Row],[Column8]],2)","v":1},{"$f":"YEAR(vlookup_data[[#This Row],[Column8]])","v":1900},0,{"$f":"CONCATENATE(vlookup_data[[#This Row],[style '#]],\"|\",R1269)","v":"0|"}]
[{"$f":"IF(ISNUMBER(U1270)=TRUE,VLOOKUP(vlookup_data[[#This Row],[style '#]],[2]Sheet1!$A:$D,4,0)*ABS(U1270),0)","v":0},{"$f":"WEEKNUM(vlookup_data[[#This Row],[Column8]],2)","v":1},{"$f":"YEAR(vlookup_data[[#This Row],[Column8]])","v":1900},0,{"$f":"CONCATENATE(vlookup_data[[#This Row],[style '#]],\"|\",R1270)","v":"0|"}]
[{"$f":"IF(ISNUMBER(U1271)=TRUE,VLOOKUP(vlookup_data[[#This Row],[style '#]],[2]Sheet1!$A:$D,4,0)*ABS(U1271),0)","v":0},{"$f":"WEEKNUM(vlookup_data[[#This Row],[Column8]],2)","v":1},{"$f":"YEAR(vlookup_data[[#This Row],[Column8]])","v":1900},0,{"$f":"CONCATENATE(vlookup_data[[#This Row],[style '#]],\"|\",R1271)","v":"0|"}]
[{"$f":"IF(ISNUMBER(U1272)=TRUE,VLOOKUP(vlookup_data[[#This Row],[style '#]],[2]Sheet1!$A:$D,4,0)*ABS(U1272),0)","v":0},{"$f":"WEEKNUM(vlookup_data[[#This Row],[Column8]],2)","v":1},{"$f":"YEAR(vlookup_data[[#This Row],[Column8]])","v":1900},0,{"$f":"CONCATENATE(vlookup_data[[#This Row],[style '#]],\"|\",R1272)","v":"0|"}]
[{"$f":"IF(ISNUMBER(U1273)=TRUE,VLOOKUP(vlookup_data[[#This Row],[style '#]],[2]Sheet1!$A:$D,4,0)*ABS(U1273),0)","v":0},{"$f":"WEEKNUM(vlookup_data[[#This Row],[Column8]],2)","v":1},{"$f":"YEAR(vlookup_data[[#This Row],[Column8]])","v":1900},0,{"$f":"CONCATENATE(vlookup_data[[#This Row],[style '#]],\"|\",R1273)","v":"0|"}]
[{"$f":"IF(ISNUMBER(U1274)=TRUE,VLOOKUP(vlookup_data[[#This Row],[style '#]],[2]Sheet1!$A:$D,4,0)*ABS(U1274),0)","v":0},{"$f":"WEEKNUM(vlookup_data[[#This Row],[Column8]],2)","v":1},{"$f":"YEAR(vlookup_data[[#This Row],[Column8]])","v":1900},0,{"$f":"CONCATENATE(vlookup_data[[#This Row],[style '#]],\"|\",R1274)","v":"0|"}]
[{"$f":"IF(ISNUMBER(U1275)=TRUE,VLOOKUP(vlookup_data[[#This Row],[style '#]],[2]Sheet1!$A:$D,4,0)*ABS(U1275),0)","v":0},{"$f":"WEEKNUM(vlookup_data[[#This Row],[Column8]],2)","v":1},{"$f":"YEAR(vlookup_data[[#This Row],[Column8]])","v":1900},0,{"$f":"CONCATENATE(vlookup_data[[#This Row],[style '#]],\"|\",R1275)","v":"0|"}]
[{"$f":"IF(ISNUMBER(U1276)=TRUE,VLOOKUP(vlookup_data[[#This Row],[style '#]],[2]Sheet1!$A:$D,4,0)*ABS(U1276),0)","v":0},{"$f":"WEEKNUM(vlookup_data[[#This Row],[Column8]],2)","v":1},{"$f":"YEAR(vlookup_data[[#This Row],[Column8]])","v":1900},0,{"$f":"CONCATENATE(vlookup_data[[#This Row],[style '#]],\"|\",R1276)","v":"0|"}]
[{"$f":"IF(ISNUMBER(U1277)=TRUE,VLOOKUP(vlookup_data[[#This Row],[style '#]],[2]Sheet1!$A:$D,4,0)*ABS(U1277),0)","v":0},{"$f":"WEEKNUM(vlookup_data[[#This Row],[Column8]],2)","v":1},{"$f":"YEAR(vlookup_data[[#This Row],[Column8]])","v":1900},0,{"$f":"CONCATENATE(vlookup_data[[#This Row],[style '#]],\"|\",R1277)","v":"0|"}]
[{"$f":"IF(ISNUMBER(U1278)=TRUE,VLOOKUP(vlookup_data[[#This Row],[style '#]],[2]Sheet1!$A:$D,4,0)*ABS(U1278),0)","v":0},{"$f":"WEEKNUM(vlookup_data[[#This Row],[Column8]],2)","v":1},{"$f":"YEAR(vlookup_data[[#This Row],[Column8]])","v":1900},0,{"$f":"CONCATENATE(vlookup_data[[#This Row],[style '#]],\"|\",R1278)","v":"0|"}]
[{"$f":"IF(ISNUMBER(U1279)=TRUE,VLOOKUP(vlookup_data[[#This Row],[style '#]],[2]Sheet1!$A:$D,4,0)*ABS(U1279),0)","v":0},{"$f":"WEEKNUM(vlookup_data[[#This Row],[Column8]],2)","v":1},{"$f":"YEAR(vlookup_data[[#This Row],[Column8]])","v":1900},0,{"$f":"CONCATENATE(vlookup_data[[#This Row],[style '#]],\"|\",R1279)","v":"0|"}]
[{"$f":"IF(ISNUMBER(U1280)=TRUE,VLOOKUP(vlookup_data[[#This Row],[style '#]],[2]Sheet1!$A:$D,4,0)*ABS(U1280),0)","v":0},{"$f":"WEEKNUM(vlookup_data[[#This Row],[Column8]],2)","v":1},{"$f":"YEAR(vlookup_data[[#This Row],[Column8]])","v":1900},0,{"$f":"CONCATENATE(vlookup_data[[#This Row],[style '#]],\"|\",R1280)","v":"0|"}]
[{"$f":"IF(ISNUMBER(U1281)=TRUE,VLOOKUP(vlookup_data[[#This Row],[style '#]],[2]Sheet1!$A:$D,4,0)*ABS(U1281),0)","v":0},{"$f":"WEEKNUM(vlookup_data[[#This Row],[Column8]],2)","v":1},{"$f":"YEAR(vlookup_data[[#This Row],[Column8]])","v":1900},0,{"$f":"CONCATENATE(vlookup_data[[#This Row],[style '#]],\"|\",R1281)","v":"0|"}]
[{"$f":"IF(ISNUMBER(U1282)=TRUE,VLOOKUP(vlookup_data[[#This Row],[style '#]],[2]Sheet1!$A:$D,4,0)*ABS(U1282),0)","v":0},{"$f":"WEEKNUM(vlookup_data[[#This Row],[Column8]],2)","v":1},{"$f":"YEAR(vlookup_data[[#This Row],[Column8]])","v":1900},0,{"$f":"CONCATENATE(vlookup_data[[#This Row],[style '#]],\"|\",R1282)","v":"0|"}]
[{"$f":"IF(ISNUMBER(U1283)=TRUE,VLOOKUP(vlookup_data[[#This Row],[style '#]],[2]Sheet1!$A:$D,4,0)*ABS(U1283),0)","v":0},{"$f":"WEEKNUM(vlookup_data[[#This Row],[Column8]],2)","v":1},{"$f":"YEAR(vlookup_data[[#This Row],[Column8]])","v":1900},0,{"$f":"CONCATENATE(vlookup_data[[#This Row],[style '#]],\"|\",R1283)","v":"0|"}]
[{"$f":"IF(ISNUMBER(U1284)=TRUE,VLOOKUP(vlookup_data[[#This Row],[style '#]],[2]Sheet1!$A:$D,4,0)*ABS(U1284),0)","v":0},{"$f":"WEEKNUM(vlookup_data[[#This Row],[Column8]],2)","v":1},{"$f":"YEAR(vlookup_data[[#This Row],[Column8]])","v":1900},0,{"$f":"CONCATENATE(vlookup_data[[#This Row],[style '#]],\"|\",R1284)","v":"0|"}]
[{"$f":"IF(ISNUMBER(U1285)=TRUE,VLOOKUP(vlookup_data[[#This Row],[style '#]],[2]Sheet1!$A:$D,4,0)*ABS(U1285),0)","v":0},{"$f":"WEEKNUM(vlookup_data[[#This Row],[Column8]],2)","v":1},{"$f":"YEAR(vlookup_data[[#This Row],[Column8]])","v":1900},0,{"$f":"CONCATENATE(vlookup_data[[#This Row],[style '#]],\"|\",R1285)","v":"0|"}]
[{"$f":"IF(ISNUMBER(U1286)=TRUE,VLOOKUP(vlookup_data[[#This Row],[style '#]],[2]Sheet1!$A:$D,4,0)*ABS(U1286),0)","v":0},{"$f":"WEEKNUM(vlookup_data[[#This Row],[Column8]],2)","v":1},{"$f":"YEAR(vlookup_data[[#This Row],[Column8]])","v":1900},0,{"$f":"CONCATENATE(vlookup_data[[#This Row],[style '#]],\"|\",R1286)","v":"0|"}]
[{"$f":"IF(ISNUMBER(U1287)=TRUE,VLOOKUP(vlookup_data[[#This Row],[style '#]],[2]Sheet1!$A:$D,4,0)*ABS(U1287),0)","v":0},{"$f":"WEEKNUM(vlookup_data[[#This Row],[Column8]],2)","v":1},{"$f":"YEAR(vlookup_data[[#This Row],[Column8]])","v":1900},0,{"$f":"CONCATENATE(vlookup_data[[#This Row],[style '#]],\"|\",R1287)","v":"0|"}]
[{"$f":"IF(ISNUMBER(U1288)=TRUE,VLOOKUP(vlookup_data[[#This Row],[style '#]],[2]Sheet1!$A:$D,4,0)*ABS(U1288),0)","v":0},{"$f":"WEEKNUM(vlookup_data[[#This Row],[Column8]],2)","v":1},{"$f":"YEAR(vlookup_data[[#This Row],[Column8]])","v":1900},0,{"$f":"CONCATENATE(vlookup_data[[#This Row],[style '#]],\"|\",R1288)","v":"0|"}]
[{"$f":"IF(ISNUMBER(U1289)=TRUE,VLOOKUP(vlookup_data[[#This Row],[style '#]],[2]Sheet1!$A:$D,4,0)*ABS(U1289),0)","v":0},{"$f":"WEEKNUM(vlookup_data[[#This Row],[Column8]],2)","v":1},{"$f":"YEAR(vlookup_data[[#This Row],[Column8]])","v":1900},{"$f":"VALUE(G1289)","v":0},{"$f":"CONCATENATE(vlookup_data[[#This Row],[style '#]],\"|\",R1289)","v":"0|"}]
[{"$f":"IF(ISNUMBER(U1290)=TRUE,VLOOKUP(vlookup_data[[#This Row],[style '#]],[2]Sheet1!$A:$D,4,0)*ABS(U1290),0)","v":0},{"$f":"WEEKNUM(vlookup_data[[#This Row],[Column8]],2)","v":1},{"$f":"YEAR(vlookup_data[[#This Row],[Column8]])","v":1900},0,{"$f":"CONCATENATE(vlookup_data[[#This Row],[style '#]],\"|\",R1290)","v":"0|"}]
[{"$f":"IF(ISNUMBER(U1291)=TRUE,VLOOKUP(vlookup_data[[#This Row],[style '#]],[2]Sheet1!$A:$D,4,0)*ABS(U1291),0)","v":0},{"$f":"WEEKNUM(vlookup_data[[#This Row],[Column8]],2)","v":1},{"$f":"YEAR(vlookup_data[[#This Row],[Column8]])","v":1900},0,{"$f":"CONCATENATE(vlookup_data[[#This Row],[style '#]],\"|\",R1291)","v":"0|"}]
[{"$f":"IF(ISNUMBER(U1292)=TRUE,VLOOKUP(vlookup_data[[#This Row],[style '#]],[2]Sheet1!$A:$D,4,0)*ABS(U1292),0)","v":0},{"$f":"WEEKNUM(vlookup_data[[#This Row],[Column8]],2)","v":1},{"$f":"YEAR(vlookup_data[[#This Row],[Column8]])","v":1900},0,{"$f":"CONCATENATE(vlookup_data[[#This Row],[style '#]],\"|\",R1292)","v":"0|"}]
[{"$f":"IF(ISNUMBER(U1293)=TRUE,VLOOKUP(vlookup_data[[#This Row],[style '#]],[2]Sheet1!$A:$D,4,0)*ABS(U1293),0)","v":0},{"$f":"WEEKNUM(vlookup_data[[#This Row],[Column8]],2)","v":1},{"$f":"YEAR(vlookup_data[[#This Row],[Column8]])","v":1900},0,{"$f":"CONCATENATE(vlookup_data[[#This Row],[style '#]],\"|\",R1293)","v":"0|"}]
[{"$f":"IF(ISNUMBER(U1294)=TRUE,VLOOKUP(vlookup_data[[#This Row],[style '#]],[2]Sheet1!$A:$D,4,0)*ABS(U1294),0)","v":0},{"$f":"WEEKNUM(vlookup_data[[#This Row],[Column8]],2)","v":1},{"$f":"YEAR(vlookup_data[[#This Row],[Column8]])","v":1900},0,{"$f":"CONCATENATE(vlookup_data[[#This Row],[style '#]],\"|\",R1294)","v":"0|"}]
[{"$f":"IF(ISNUMBER(U1295)=TRUE,VLOOKUP(vlookup_data[[#This Row],[style '#]],[2]Sheet1!$A:$D,4,0)*ABS(U1295),0)","v":0},{"$f":"WEEKNUM(vlookup_data[[#This Row],[Column8]],2)","v":1},{"$f":"YEAR(vlookup_data[[#This Row],[Column8]])","v":1900},0,{"$f":"CONCATENATE(vlookup_data[[#This Row],[style '#]],\"|\",R1295)","v":"0|"}]
[{"$f":"IF(ISNUMBER(U1296)=TRUE,VLOOKUP(vlookup_data[[#This Row],[style '#]],[2]Sheet1!$A:$D,4,0)*ABS(U1296),0)","v":0},{"$f":"WEEKNUM(vlookup_data[[#This Row],[Column8]],2)","v":1},{"$f":"YEAR(vlookup_data[[#This Row],[Column8]])","v":1900},0,{"$f":"CONCATENATE(vlookup_data[[#This Row],[style '#]],\"|\",R1296)","v":"0|"}]
[{"$f":"IF(ISNUMBER(U1297)=TRUE,VLOOKUP(vlookup_data[[#This Row],[style '#]],[2]Sheet1!$A:$D,4,0)*ABS(U1297),0)","v":0},{"$f":"WEEKNUM(vlookup_data[[#This Row],[Column8]],2)","v":1},{"$f":"YEAR(vlookup_data[[#This Row],[Column8]])","v":1900},0,{"$f":"CONCATENATE(vlookup_data[[#This Row],[style '#]],\"|\",R1297)","v":"0|"}]
[{"$f":"IF(ISNUMBER(U1298)=TRUE,VLOOKUP(vlookup_data[[#This Row],[style '#]],[2]Sheet1!$A:$D,4,0)*ABS(U1298),0)","v":0},{"$f":"WEEKNUM(vlookup_data[[#This Row],[Column8]],2)","v":1},{"$f":"YEAR(vlookup_data[[#This Row],[Column8]])","v":1900},0,{"$f":"CONCATENATE(vlookup_data[[#This Row],[style '#]],\"|\",R1298)","v":"0|"}]
[{"$f":"IF(ISNUMBER(U1299)=TRUE,VLOOKUP(vlookup_data[[#This Row],[style '#]],[2]Sheet1!$A:$D,4,0)*ABS(U1299),0)","v":0},{"$f":"WEEKNUM(vlookup_data[[#This Row],[Column8]],2)","v":1},{"$f":"YEAR(vlookup_data[[#This Row],[Column8]])","v":1900},0,{"$f":"CONCATENATE(vlookup_data[[#This Row],[style '#]],\"|\",R1299)","v":"0|"}]
[{"$f":"IF(ISNUMBER(U1300)=TRUE,VLOOKUP(vlookup_data[[#This Row],[style '#]],[2]Sheet1!$A:$D,4,0)*ABS(U1300),0)","v":0},{"$f":"WEEKNUM(vlookup_data[[#This Row],[Column8]],2)","v":1},{"$f":"YEAR(vlookup_data[[#This Row],[Column8]])","v":1900},0,{"$f":"CONCATENATE(vlookup_data[[#This Row],[style '#]],\"|\",R1300)","v":"0|"}]
[{"$f":"IF(ISNUMBER(U1301)=TRUE,VLOOKUP(vlookup_data[[#This Row],[style '#]],[2]Sheet1!$A:$D,4,0)*ABS(U1301),0)","v":0},{"$f":"WEEKNUM(vlookup_data[[#This Row],[Column8]],2)","v":1},{"$f":"YEAR(vlookup_data[[#This Row],[Column8]])","v":1900},0,{"$f":"CONCATENATE(vlookup_data[[#This Row],[style '#]],\"|\",R1301)","v":"0|"}]
[{"$f":"IF(ISNUMBER(U1302)=TRUE,VLOOKUP(vlookup_data[[#This Row],[style '#]],[2]Sheet1!$A:$D,4,0)*ABS(U1302),0)","v":0},{"$f":"WEEKNUM(vlookup_data[[#This Row],[Column8]],2)","v":1},{"$f":"YEAR(vlookup_data[[#This Row],[Column8]])","v":1900},0,{"$f":"CONCATENATE(vlookup_data[[#This Row],[style '#]],\"|\",R1302)","v":"0|"}]
[{"$f":"IF(ISNUMBER(U1303)=TRUE,VLOOKUP(vlookup_data[[#This Row],[style '#]],[2]Sheet1!$A:$D,4,0)*ABS(U1303),0)","v":0},{"$f":"WEEKNUM(vlookup_data[[#This Row],[Column8]],2)","v":1},{"$f":"YEAR(vlookup_data[[#This Row],[Column8]])","v":1900},0,{"$f":"CONCATENATE(vlookup_data[[#This Row],[style '#]],\"|\",R1303)","v":"0|"}]
[{"$f":"IF(ISNUMBER(U1304)=TRUE,VLOOKUP(vlookup_data[[#This Row],[style '#]],[2]Sheet1!$A:$D,4,0)*ABS(U1304),0)","v":0},{"$f":"WEEKNUM(vlookup_data[[#This Row],[Column8]],2)","v":1},{"$f":"YEAR(vlookup_data[[#This Row],[Column8]])","v":1900},0,{"$f":"CONCATENATE(vlookup_data[[#This Row],[style '#]],\"|\",R1304)","v":"0|"}]
[{"$f":"IF(ISNUMBER(U1305)=TRUE,VLOOKUP(vlookup_data[[#This Row],[style '#]],[2]Sheet1!$A:$D,4,0)*ABS(U1305),0)","v":0},{"$f":"WEEKNUM(vlookup_data[[#This Row],[Column8]],2)","v":1},{"$f":"YEAR(vlookup_data[[#This Row],[Column8]])","v":1900},0,{"$f":"CONCATENATE(vlookup_data[[#This Row],[style '#]],\"|\",R1305)","v":"0|"}]
[{"$f":"IF(ISNUMBER(U1306)=TRUE,VLOOKUP(vlookup_data[[#This Row],[style '#]],[2]Sheet1!$A:$D,4,0)*ABS(U1306),0)","v":0},{"$f":"WEEKNUM(vlookup_data[[#This Row],[Column8]],2)","v":1},{"$f":"YEAR(vlookup_data[[#This Row],[Column8]])","v":1900},0,{"$f":"CONCATENATE(vlookup_data[[#This Row],[style '#]],\"|\",R1306)","v":"0|"}]
[{"$f":"IF(ISNUMBER(U1307)=TRUE,VLOOKUP(vlookup_data[[#This Row],[style '#]],[2]Sheet1!$A:$D,4,0)*ABS(U1307),0)","v":0},{"$f":"WEEKNUM(vlookup_data[[#This Row],[Column8]],2)","v":1},{"$f":"YEAR(vlookup_data[[#This Row],[Column8]])","v":1900},0,{"$f":"CONCATENATE(vlookup_data[[#This Row],[style '#]],\"|\",R1307)","v":"0|"}]
[{"$f":"IF(ISNUMBER(U1308)=TRUE,VLOOKUP(vlookup_data[[#This Row],[style '#]],[2]Sheet1!$A:$D,4,0)*ABS(U1308),0)","v":0},{"$f":"WEEKNUM(vlookup_data[[#This Row],[Column8]],2)","v":1},{"$f":"YEAR(vlookup_data[[#This Row],[Column8]])","v":1900},0,{"$f":"CONCATENATE(vlookup_data[[#This Row],[style '#]],\"|\",R1308)","v":"0|"}]
[{"$f":"IF(ISNUMBER(U1309)=TRUE,VLOOKUP(vlookup_data[[#This Row],[style '#]],[2]Sheet1!$A:$D,4,0)*ABS(U1309),0)","v":0},{"$f":"WEEKNUM(vlookup_data[[#This Row],[Column8]],2)","v":1},{"$f":"YEAR(vlookup_data[[#This Row],[Column8]])","v":1900},0,{"$f":"CONCATENATE(vlookup_data[[#This Row],[style '#]],\"|\",R1309)","v":"0|"}]
[{"$f":"IF(ISNUMBER(U1310)=TRUE,VLOOKUP(vlookup_data[[#This Row],[style '#]],[2]Sheet1!$A:$D,4,0)*ABS(U1310),0)","v":0},{"$f":"WEEKNUM(vlookup_data[[#This Row],[Column8]],2)","v":1},{"$f":"YEAR(vlookup_data[[#This Row],[Column8]])","v":1900},0,{"$f":"CONCATENATE(vlookup_data[[#This Row],[style '#]],\"|\",R1310)","v":"0|"}]
[{"$f":"IF(ISNUMBER(U1311)=TRUE,VLOOKUP(vlookup_data[[#This Row],[style '#]],[2]Sheet1!$A:$D,4,0)*ABS(U1311),0)","v":0},{"$f":"WEEKNUM(vlookup_data[[#This Row],[Column8]],2)","v":1},{"$f":"YEAR(vlookup_data[[#This Row],[Column8]])","v":1900},0,{"$f":"CONCATENATE(vlookup_data[[#This Row],[style '#]],\"|\",R1311)","v":"0|"}]
[{"$f":"IF(ISNUMBER(U1312)=TRUE,VLOOKUP(vlookup_data[[#This Row],[style '#]],[2]Sheet1!$A:$D,4,0)*ABS(U1312),0)","v":0},{"$f":"WEEKNUM(vlookup_data[[#This Row],[Column8]],2)","v":1},{"$f":"YEAR(vlookup_data[[#This Row],[Column8]])","v":1900},0,{"$f":"CONCATENATE(vlookup_data[[#This Row],[style '#]],\"|\",R1312)","v":"0|"}]
[{"$f":"IF(ISNUMBER(U1313)=TRUE,VLOOKUP(vlookup_data[[#This Row],[style '#]],[2]Sheet1!$A:$D,4,0)*ABS(U1313),0)","v":0},{"$f":"WEEKNUM(vlookup_data[[#This Row],[Column8]],2)","v":1},{"$f":"YEAR(vlookup_data[[#This Row],[Column8]])","v":1900},0,{"$f":"CONCATENATE(vlookup_data[[#This Row],[style '#]],\"|\",R1313)","v":"0|"}]
[{"$f":"IF(ISNUMBER(U1314)=TRUE,VLOOKUP(vlookup_data[[#This Row],[style '#]],[2]Sheet1!$A:$D,4,0)*ABS(U1314),0)","v":0},{"$f":"WEEKNUM(vlookup_data[[#This Row],[Column8]],2)","v":1},{"$f":"YEAR(vlookup_data[[#This Row],[Column8]])","v":1900},0,{"$f":"CONCATENATE(vlookup_data[[#This Row],[style '#]],\"|\",R1314)","v":"0|"}]
[{"$f":"IF(ISNUMBER(U1315)=TRUE,VLOOKUP(vlookup_data[[#This Row],[style '#]],[2]Sheet1!$A:$D,4,0)*ABS(U1315),0)","v":0},{"$f":"WEEKNUM(vlookup_data[[#This Row],[Column8]],2)","v":1},{"$f":"YEAR(vlookup_data[[#This Row],[Column8]])","v":1900},0,{"$f":"CONCATENATE(vlookup_data[[#This Row],[style '#]],\"|\",R1315)","v":"0|"}]
[{"$f":"IF(ISNUMBER(U1316)=TRUE,VLOOKUP(vlookup_data[[#This Row],[style '#]],[2]Sheet1!$A:$D,4,0)*ABS(U1316),0)","v":0},{"$f":"WEEKNUM(vlookup_data[[#This Row],[Column8]],2)","v":1},{"$f":"YEAR(vlookup_data[[#This Row],[Column8]])","v":1900},0,{"$f":"CONCATENATE(vlookup_data[[#This Row],[style '#]],\"|\",R1316)","v":"0|"}]
[{"$f":"IF(ISNUMBER(U1317)=TRUE,VLOOKUP(vlookup_data[[#This Row],[style '#]],[2]Sheet1!$A:$D,4,0)*ABS(U1317),0)","v":0},{"$f":"WEEKNUM(vlookup_data[[#This Row],[Column8]],2)","v":1},{"$f":"YEAR(vlookup_data[[#This Row],[Column8]])","v":1900},0,{"$f":"CONCATENATE(vlookup_data[[#This Row],[style '#]],\"|\",R1317)","v":"0|"}]
[{"$f":"IF(ISNUMBER(U1318)=TRUE,VLOOKUP(vlookup_data[[#This Row],[style '#]],[2]Sheet1!$A:$D,4,0)*ABS(U1318),0)","v":0},{"$f":"WEEKNUM(vlookup_data[[#This Row],[Column8]],2)","v":1},{"$f":"YEAR(vlookup_data[[#This Row],[Column8]])","v":1900},0,{"$f":"CONCATENATE(vlookup_data[[#This Row],[style '#]],\"|\",R1318)","v":"0|"}]
[{"$f":"IF(ISNUMBER(U1319)=TRUE,VLOOKUP(vlookup_data[[#This Row],[style '#]],[2]Sheet1!$A:$D,4,0)*ABS(U1319),0)","v":0},{"$f":"WEEKNUM(vlookup_data[[#This Row],[Column8]],2)","v":1},{"$f":"YEAR(vlookup_data[[#This Row],[Column8]])","v":1900},0,{"$f":"CONCATENATE(vlookup_data[[#This Row],[style '#]],\"|\",R1319)","v":"0|"}]
[{"$f":"IF(ISNUMBER(U1320)=TRUE,VLOOKUP(vlookup_data[[#This Row],[style '#]],[2]Sheet1!$A:$D,4,0)*ABS(U1320),0)","v":0},{"$f":"WEEKNUM(vlookup_data[[#This Row],[Column8]],2)","v":1},{"$f":"YEAR(vlookup_data[[#This Row],[Column8]])","v":1900},0,{"$f":"CONCATENATE(vlookup_data[[#This Row],[style '#]],\"|\",R1320)","v":"0|"}]
[{"$f":"IF(ISNUMBER(U1321)=TRUE,VLOOKUP(vlookup_data[[#This Row],[style '#]],[2]Sheet1!$A:$D,4,0)*ABS(U1321),0)","v":0},{"$f":"WEEKNUM(vlookup_data[[#This Row],[Column8]],2)","v":1},{"$f":"YEAR(vlookup_data[[#This Row],[Column8]])","v":1900},0,{"$f":"CONCATENATE(vlookup_data[[#This Row],[style '#]],\"|\",R1321)","v":"0|"}]
[{"$f":"IF(ISNUMBER(U1322)=TRUE,VLOOKUP(vlookup_data[[#This Row],[style '#]],[2]Sheet1!$A:$D,4,0)*ABS(U1322),0)","v":0},{"$f":"WEEKNUM(vlookup_data[[#This Row],[Column8]],2)","v":1},{"$f":"YEAR(vlookup_data[[#This Row],[Column8]])","v":1900},0,{"$f":"CONCATENATE(vlookup_data[[#This Row],[style '#]],\"|\",R1322)","v":"0|"}]
[{"$f":"IF(ISNUMBER(U1323)=TRUE,VLOOKUP(vlookup_data[[#This Row],[style '#]],[2]Sheet1!$A:$D,4,0)*ABS(U1323),0)","v":0},{"$f":"WEEKNUM(vlookup_data[[#This Row],[Column8]],2)","v":1},{"$f":"YEAR(vlookup_data[[#This Row],[Column8]])","v":1900},0,{"$f":"CONCATENATE(vlookup_data[[#This Row],[style '#]],\"|\",R1323)","v":"0|"}]
[{"$f":"IF(ISNUMBER(U1324)=TRUE,VLOOKUP(vlookup_data[[#This Row],[style '#]],[2]Sheet1!$A:$D,4,0)*ABS(U1324),0)","v":0},{"$f":"WEEKNUM(vlookup_data[[#This Row],[Column8]],2)","v":1},{"$f":"YEAR(vlookup_data[[#This Row],[Column8]])","v":1900},0,{"$f":"CONCATENATE(vlookup_data[[#This Row],[style '#]],\"|\",R1324)","v":"0|"}]
[{"$f":"IF(ISNUMBER(U1325)=TRUE,VLOOKUP(vlookup_data[[#This Row],[style '#]],[2]Sheet1!$A:$D,4,0)*ABS(U1325),0)","v":0},{"$f":"WEEKNUM(vlookup_data[[#This Row],[Column8]],2)","v":1},{"$f":"YEAR(vlookup_data[[#This Row],[Column8]])","v":1900},0,{"$f":"CONCATENATE(vlookup_data[[#This Row],[style '#]],\"|\",R1325)","v":"0|"}]
[{"$f":"IF(ISNUMBER(U1326)=TRUE,VLOOKUP(vlookup_data[[#This Row],[style '#]],[2]Sheet1!$A:$D,4,0)*ABS(U1326),0)","v":0},{"$f":"WEEKNUM(vlookup_data[[#This Row],[Column8]],2)","v":1},{"$f":"YEAR(vlookup_data[[#This Row],[Column8]])","v":1900},0,{"$f":"CONCATENATE(vlookup_data[[#This Row],[style '#]],\"|\",R1326)","v":"0|"}]
[{"$f":"IF(ISNUMBER(U1327)=TRUE,VLOOKUP(vlookup_data[[#This Row],[style '#]],[2]Sheet1!$A:$D,4,0)*ABS(U1327),0)","v":0},{"$f":"WEEKNUM(vlookup_data[[#This Row],[Column8]],2)","v":1},{"$f":"YEAR(vlookup_data[[#This Row],[Column8]])","v":1900},0,{"$f":"CONCATENATE(vlookup_data[[#This Row],[style '#]],\"|\",R1327)","v":"0|"}]
[{"$f":"IF(ISNUMBER(U1328)=TRUE,VLOOKUP(vlookup_data[[#This Row],[style '#]],[2]Sheet1!$A:$D,4,0)*ABS(U1328),0)","v":0},{"$f":"WEEKNUM(vlookup_data[[#This Row],[Column8]],2)","v":1},{"$f":"YEAR(vlookup_data[[#This Row],[Column8]])","v":1900},0,{"$f":"CONCATENATE(vlookup_data[[#This Row],[style '#]],\"|\",R1328)","v":"0|"}]
[{"$f":"IF(ISNUMBER(U1329)=TRUE,VLOOKUP(vlookup_data[[#This Row],[style '#]],[2]Sheet1!$A:$D,4,0)*ABS(U1329),0)","v":0},{"$f":"WEEKNUM(vlookup_data[[#This Row],[Column8]],2)","v":1},{"$f":"YEAR(vlookup_data[[#This Row],[Column8]])","v":1900},0,{"$f":"CONCATENATE(vlookup_data[[#This Row],[style '#]],\"|\",R1329)","v":"0|"}]
[{"$f":"IF(ISNUMBER(U1330)=TRUE,VLOOKUP(vlookup_data[[#This Row],[style '#]],[2]Sheet1!$A:$D,4,0)*ABS(U1330),0)","v":0},{"$f":"WEEKNUM(vlookup_data[[#This Row],[Column8]],2)","v":1},{"$f":"YEAR(vlookup_data[[#This Row],[Column8]])","v":1900},0,{"$f":"CONCATENATE(vlookup_data[[#This Row],[style '#]],\"|\",R1330)","v":"0|"}]
[{"$f":"IF(ISNUMBER(U1331)=TRUE,VLOOKUP(vlookup_data[[#This Row],[style '#]],[2]Sheet1!$A:$D,4,0)*ABS(U1331),0)","v":0},{"$f":"WEEKNUM(vlookup_data[[#This Row],[Column8]],2)","v":1},{"$f":"YEAR(vlookup_data[[#This Row],[Column8]])","v":1900},0,{"$f":"CONCATENATE(vlookup_data[[#This Row],[style '#]],\"|\",R1331)","v":"0|"}]
[{"$f":"IF(ISNUMBER(U1332)=TRUE,VLOOKUP(vlookup_data[[#This Row],[style '#]],[2]Sheet1!$A:$D,4,0)*ABS(U1332),0)","v":0},{"$f":"WEEKNUM(vlookup_data[[#This Row],[Column8]],2)","v":1},{"$f":"YEAR(vlookup_data[[#This Row],[Column8]])","v":1900},0,{"$f":"CONCATENATE(vlookup_data[[#This Row],[style '#]],\"|\",R1332)","v":"0|"}]
[{"$f":"IF(ISNUMBER(U1333)=TRUE,VLOOKUP(vlookup_data[[#This Row],[style '#]],[2]Sheet1!$A:$D,4,0)*ABS(U1333),0)","v":0},{"$f":"WEEKNUM(vlookup_data[[#This Row],[Column8]],2)","v":1},{"$f":"YEAR(vlookup_data[[#This Row],[Column8]])","v":1900},0,{"$f":"CONCATENATE(vlookup_data[[#This Row],[style '#]],\"|\",R1333)","v":"0|"}]
[{"$f":"IF(ISNUMBER(U1334)=TRUE,VLOOKUP(vlookup_data[[#This Row],[style '#]],[2]Sheet1!$A:$D,4,0)*ABS(U1334),0)","v":0},{"$f":"WEEKNUM(vlookup_data[[#This Row],[Column8]],2)","v":1},{"$f":"YEAR(vlookup_data[[#This Row],[Column8]])","v":1900},0,{"$f":"CONCATENATE(vlookup_data[[#This Row],[style '#]],\"|\",R1334)","v":"0|"}]
[{"$f":"IF(ISNUMBER(U1335)=TRUE,VLOOKUP(vlookup_data[[#This Row],[style '#]],[2]Sheet1!$A:$D,4,0)*ABS(U1335),0)","v":0},{"$f":"WEEKNUM(vlookup_data[[#This Row],[Column8]],2)","v":1},{"$f":"YEAR(vlookup_data[[#This Row],[Column8]])","v":1900},0,{"$f":"CONCATENATE(vlookup_data[[#This Row],[style '#]],\"|\",R1335)","v":"0|"}]
[{"$f":"IF(ISNUMBER(U1336)=TRUE,VLOOKUP(vlookup_data[[#This Row],[style '#]],[2]Sheet1!$A:$D,4,0)*ABS(U1336),0)","v":0},{"$f":"WEEKNUM(vlookup_data[[#This Row],[Column8]],2)","v":1},{"$f":"YEAR(vlookup_data[[#This Row],[Column8]])","v":1900},0,{"$f":"CONCATENATE(vlookup_data[[#This Row],[style '#]],\"|\",R1336)","v":"0|"}]
[{"$f":"IF(ISNUMBER(U1337)=TRUE,VLOOKUP(vlookup_data[[#This Row],[style '#]],[2]Sheet1!$A:$D,4,0)*ABS(U1337),0)","v":0},{"$f":"WEEKNUM(vlookup_data[[#This Row],[Column8]],2)","v":1},{"$f":"YEAR(vlookup_data[[#This Row],[Column8]])","v":1900},0,{"$f":"CONCATENATE(vlookup_data[[#This Row],[style '#]],\"|\",R1337)","v":"0|"}]
[{"$f":"IF(ISNUMBER(U1338)=TRUE,VLOOKUP(vlookup_data[[#This Row],[style '#]],[2]Sheet1!$A:$D,4,0)*ABS(U1338),0)","v":0},{"$f":"WEEKNUM(vlookup_data[[#This Row],[Column8]],2)","v":1},{"$f":"YEAR(vlookup_data[[#This Row],[Column8]])","v":1900},0,{"$f":"CONCATENATE(vlookup_data[[#This Row],[style '#]],\"|\",R1338)","v":"0|"}]
[{"$f":"IF(ISNUMBER(U1339)=TRUE,VLOOKUP(vlookup_data[[#This Row],[style '#]],[2]Sheet1!$A:$D,4,0)*ABS(U1339),0)","v":0},{"$f":"WEEKNUM(vlookup_data[[#This Row],[Column8]],2)","v":1},{"$f":"YEAR(vlookup_data[[#This Row],[Column8]])","v":1900},0,{"$f":"CONCATENATE(vlookup_data[[#This Row],[style '#]],\"|\",R1339)","v":"0|"}]
[{"$f":"IF(ISNUMBER(U1340)=TRUE,VLOOKUP(vlookup_data[[#This Row],[style '#]],[2]Sheet1!$A:$D,4,0)*ABS(U1340),0)","v":0},{"$f":"WEEKNUM(vlookup_data[[#This Row],[Column8]],2)","v":1},{"$f":"YEAR(vlookup_data[[#This Row],[Column8]])","v":1900},0,{"$f":"CONCATENATE(vlookup_data[[#This Row],[style '#]],\"|\",R1340)","v":"0|"}]
[{"$f":"IF(ISNUMBER(U1341)=TRUE,VLOOKUP(vlookup_data[[#This Row],[style '#]],[2]Sheet1!$A:$D,4,0)*ABS(U1341),0)","v":0},{"$f":"WEEKNUM(vlookup_data[[#This Row],[Column8]],2)","v":1},{"$f":"YEAR(vlookup_data[[#This Row],[Column8]])","v":1900},0,{"$f":"CONCATENATE(vlookup_data[[#This Row],[style '#]],\"|\",R1341)","v":"0|"}]
[{"$f":"IF(ISNUMBER(U1342)=TRUE,VLOOKUP(vlookup_data[[#This Row],[style '#]],[2]Sheet1!$A:$D,4,0)*ABS(U1342),0)","v":0},{"$f":"WEEKNUM(vlookup_data[[#This Row],[Column8]],2)","v":1},{"$f":"YEAR(vlookup_data[[#This Row],[Column8]])","v":1900},0,{"$f":"CONCATENATE(vlookup_data[[#This Row],[style '#]],\"|\",R1342)","v":"0|"}]
[{"$f":"IF(ISNUMBER(U1343)=TRUE,VLOOKUP(vlookup_data[[#This Row],[style '#]],[2]Sheet1!$A:$D,4,0)*ABS(U1343),0)","v":0},{"$f":"WEEKNUM(vlookup_data[[#This Row],[Column8]],2)","v":1},{"$f":"YEAR(vlookup_data[[#This Row],[Column8]])","v":1900},0,{"$f":"CONCATENATE(vlookup_data[[#This Row],[style '#]],\"|\",R1343)","v":"0|"}]
[{"$f":"IF(ISNUMBER(U1344)=TRUE,VLOOKUP(vlookup_data[[#This Row],[style '#]],[2]Sheet1!$A:$D,4,0)*ABS(U1344),0)","v":0},{"$f":"WEEKNUM(vlookup_data[[#This Row],[Column8]],2)","v":1},{"$f":"YEAR(vlookup_data[[#This Row],[Column8]])","v":1900},0,{"$f":"CONCATENATE(vlookup_data[[#This Row],[style '#]],\"|\",R1344)","v":"0|"}]
[{"$f":"IF(ISNUMBER(U1345)=TRUE,VLOOKUP(vlookup_data[[#This Row],[style '#]],[2]Sheet1!$A:$D,4,0)*ABS(U1345),0)","v":0},{"$f":"WEEKNUM(vlookup_data[[#This Row],[Column8]],2)","v":1},{"$f":"YEAR(vlookup_data[[#This Row],[Column8]])","v":1900},0,{"$f":"CONCATENATE(vlookup_data[[#This Row],[style '#]],\"|\",R1345)","v":"0|"}]
[{"$f":"IF(ISNUMBER(U1346)=TRUE,VLOOKUP(vlookup_data[[#This Row],[style '#]],[2]Sheet1!$A:$D,4,0)*ABS(U1346),0)","v":0},{"$f":"WEEKNUM(vlookup_data[[#This Row],[Column8]],2)","v":1},{"$f":"YEAR(vlookup_data[[#This Row],[Column8]])","v":1900},0,{"$f":"CONCATENATE(vlookup_data[[#This Row],[style '#]],\"|\",R1346)","v":"0|"}]
[{"$f":"IF(ISNUMBER(U1347)=TRUE,VLOOKUP(vlookup_data[[#This Row],[style '#]],[2]Sheet1!$A:$D,4,0)*ABS(U1347),0)","v":0},{"$f":"WEEKNUM(vlookup_data[[#This Row],[Column8]],2)","v":1},{"$f":"YEAR(vlookup_data[[#This Row],[Column8]])","v":1900},0,{"$f":"CONCATENATE(vlookup_data[[#This Row],[style '#]],\"|\",R1347)","v":"0|"}]
[{"$f":"IF(ISNUMBER(U1348)=TRUE,VLOOKUP(vlookup_data[[#This Row],[style '#]],[2]Sheet1!$A:$D,4,0)*ABS(U1348),0)","v":0},{"$f":"WEEKNUM(vlookup_data[[#This Row],[Column8]],2)","v":1},{"$f":"YEAR(vlookup_data[[#This Row],[Column8]])","v":1900},0,{"$f":"CONCATENATE(vlookup_data[[#This Row],[style '#]],\"|\",R1348)","v":"0|"}]
[{"$f":"IF(ISNUMBER(U1349)=TRUE,VLOOKUP(vlookup_data[[#This Row],[style '#]],[2]Sheet1!$A:$D,4,0)*ABS(U1349),0)","v":0},{"$f":"WEEKNUM(vlookup_data[[#This Row],[Column8]],2)","v":1},{"$f":"YEAR(vlookup_data[[#This Row],[Column8]])","v":1900},0,{"$f":"CONCATENATE(vlookup_data[[#This Row],[style '#]],\"|\",R1349)","v":"0|"}]
[{"$f":"IF(ISNUMBER(U1350)=TRUE,VLOOKUP(vlookup_data[[#This Row],[style '#]],[2]Sheet1!$A:$D,4,0)*ABS(U1350),0)","v":0},{"$f":"WEEKNUM(vlookup_data[[#This Row],[Column8]],2)","v":1},{"$f":"YEAR(vlookup_data[[#This Row],[Column8]])","v":1900},0,{"$f":"CONCATENATE(vlookup_data[[#This Row],[style '#]],\"|\",R1350)","v":"0|"}]
[{"$f":"IF(ISNUMBER(U1351)=TRUE,VLOOKUP(vlookup_data[[#This Row],[style '#]],[2]Sheet1!$A:$D,4,0)*ABS(U1351),0)","v":0},{"$f":"WEEKNUM(vlookup_data[[#This Row],[Column8]],2)","v":1},{"$f":"YEAR(vlookup_data[[#This Row],[Column8]])","v":1900},0,{"$f":"CONCATENATE(vlookup_data[[#This Row],[style '#]],\"|\",R1351)","v":"0|"}]
[{"$f":"IF(ISNUMBER(U1352)=TRUE,VLOOKUP(vlookup_data[[#This Row],[style '#]],[2]Sheet1!$A:$D,4,0)*ABS(U1352),0)","v":0},{"$f":"WEEKNUM(vlookup_data[[#This Row],[Column8]],2)","v":1},{"$f":"YEAR(vlookup_data[[#This Row],[Column8]])","v":1900},0,{"$f":"CONCATENATE(vlookup_data[[#This Row],[style '#]],\"|\",R1352)","v":"0|"}]
[{"$f":"IF(ISNUMBER(U1353)=TRUE,VLOOKUP(vlookup_data[[#This Row],[style '#]],[2]Sheet1!$A:$D,4,0)*ABS(U1353),0)","v":0},{"$f":"WEEKNUM(vlookup_data[[#This Row],[Column8]],2)","v":1},{"$f":"YEAR(vlookup_data[[#This Row],[Column8]])","v":1900},{"$f":"VALUE(G1353)","v":0},{"$f":"CONCATENATE(vlookup_data[[#This Row],[style '#]],\"|\",R1353)","v":"0|"}]
[{"$f":"IF(ISNUMBER(U1354)=TRUE,VLOOKUP(vlookup_data[[#This Row],[style '#]],[2]Sheet1!$A:$D,4,0)*ABS(U1354),0)","v":0},{"$f":"WEEKNUM(vlookup_data[[#This Row],[Column8]],2)","v":1},{"$f":"YEAR(vlookup_data[[#This Row],[Column8]])","v":1900},0,{"$f":"CONCATENATE(vlookup_data[[#This Row],[style '#]],\"|\",R1354)","v":"0|"}]
[{"$f":"IF(ISNUMBER(U1355)=TRUE,VLOOKUP(vlookup_data[[#This Row],[style '#]],[2]Sheet1!$A:$D,4,0)*ABS(U1355),0)","v":0},{"$f":"WEEKNUM(vlookup_data[[#This Row],[Column8]],2)","v":1},{"$f":"YEAR(vlookup_data[[#This Row],[Column8]])","v":1900},0,{"$f":"CONCATENATE(vlookup_data[[#This Row],[style '#]],\"|\",R1355)","v":"0|"}]
[{"$f":"IF(ISNUMBER(U1356)=TRUE,VLOOKUP(vlookup_data[[#This Row],[style '#]],[2]Sheet1!$A:$D,4,0)*ABS(U1356),0)","v":0},{"$f":"WEEKNUM(vlookup_data[[#This Row],[Column8]],2)","v":1},{"$f":"YEAR(vlookup_data[[#This Row],[Column8]])","v":1900},0,{"$f":"CONCATENATE(vlookup_data[[#This Row],[style '#]],\"|\",R1356)","v":"0|"}]
[{"$f":"IF(ISNUMBER(U1357)=TRUE,VLOOKUP(vlookup_data[[#This Row],[style '#]],[2]Sheet1!$A:$D,4,0)*ABS(U1357),0)","v":0},{"$f":"WEEKNUM(vlookup_data[[#This Row],[Column8]],2)","v":1},{"$f":"YEAR(vlookup_data[[#This Row],[Column8]])","v":1900},0,{"$f":"CONCATENATE(vlookup_data[[#This Row],[style '#]],\"|\",R1357)","v":"0|"}]
[{"$f":"IF(ISNUMBER(U1358)=TRUE,VLOOKUP(vlookup_data[[#This Row],[style '#]],[2]Sheet1!$A:$D,4,0)*ABS(U1358),0)","v":0},{"$f":"WEEKNUM(vlookup_data[[#This Row],[Column8]],2)","v":1},{"$f":"YEAR(vlookup_data[[#This Row],[Column8]])","v":1900},0,{"$f":"CONCATENATE(vlookup_data[[#This Row],[style '#]],\"|\",R1358)","v":"0|"}]
[{"$f":"IF(ISNUMBER(U1359)=TRUE,VLOOKUP(vlookup_data[[#This Row],[style '#]],[2]Sheet1!$A:$D,4,0)*ABS(U1359),0)","v":0},{"$f":"WEEKNUM(vlookup_data[[#This Row],[Column8]],2)","v":1},{"$f":"YEAR(vlookup_data[[#This Row],[Column8]])","v":1900},0,{"$f":"CONCATENATE(vlookup_data[[#This Row],[style '#]],\"|\",R1359)","v":"0|"}]
[{"$f":"IF(ISNUMBER(U1360)=TRUE,VLOOKUP(vlookup_data[[#This Row],[style '#]],[2]Sheet1!$A:$D,4,0)*ABS(U1360),0)","v":0},{"$f":"WEEKNUM(vlookup_data[[#This Row],[Column8]],2)","v":1},{"$f":"YEAR(vlookup_data[[#This Row],[Column8]])","v":1900},0,{"$f":"CONCATENATE(vlookup_data[[#This Row],[style '#]],\"|\",R1360)","v":"0|"}]
[{"$f":"IF(ISNUMBER(U1361)=TRUE,VLOOKUP(vlookup_data[[#This Row],[style '#]],[2]Sheet1!$A:$D,4,0)*ABS(U1361),0)","v":0},{"$f":"WEEKNUM(vlookup_data[[#This Row],[Column8]],2)","v":1},{"$f":"YEAR(vlookup_data[[#This Row],[Column8]])","v":1900},0,{"$f":"CONCATENATE(vlookup_data[[#This Row],[style '#]],\"|\",R1361)","v":"0|"}]
[{"$f":"IF(ISNUMBER(U1362)=TRUE,VLOOKUP(vlookup_data[[#This Row],[style '#]],[2]Sheet1!$A:$D,4,0)*ABS(U1362),0)","v":0},{"$f":"WEEKNUM(vlookup_data[[#This Row],[Column8]],2)","v":1},{"$f":"YEAR(vlookup_data[[#This Row],[Column8]])","v":1900},0,{"$f":"CONCATENATE(vlookup_data[[#This Row],[style '#]],\"|\",R1362)","v":"0|"}]
[{"$f":"IF(ISNUMBER(U1363)=TRUE,VLOOKUP(vlookup_data[[#This Row],[style '#]],[2]Sheet1!$A:$D,4,0)*ABS(U1363),0)","v":0},{"$f":"WEEKNUM(vlookup_data[[#This Row],[Column8]],2)","v":1},{"$f":"YEAR(vlookup_data[[#This Row],[Column8]])","v":1900},0,{"$f":"CONCATENATE(vlookup_data[[#This Row],[style '#]],\"|\",R1363)","v":"0|"}]
[{"$f":"IF(ISNUMBER(U1364)=TRUE,VLOOKUP(vlookup_data[[#This Row],[style '#]],[2]Sheet1!$A:$D,4,0)*ABS(U1364),0)","v":0},{"$f":"WEEKNUM(vlookup_data[[#This Row],[Column8]],2)","v":1},{"$f":"YEAR(vlookup_data[[#This Row],[Column8]])","v":1900},0,{"$f":"CONCATENATE(vlookup_data[[#This Row],[style '#]],\"|\",R1364)","v":"0|"}]
[{"$f":"IF(ISNUMBER(U1365)=TRUE,VLOOKUP(vlookup_data[[#This Row],[style '#]],[2]Sheet1!$A:$D,4,0)*ABS(U1365),0)","v":0},{"$f":"WEEKNUM(vlookup_data[[#This Row],[Column8]],2)","v":1},{"$f":"YEAR(vlookup_data[[#This Row],[Column8]])","v":1900},0,{"$f":"CONCATENATE(vlookup_data[[#This Row],[style '#]],\"|\",R1365)","v":"0|"}]
[{"$f":"IF(ISNUMBER(U1366)=TRUE,VLOOKUP(vlookup_data[[#This Row],[style '#]],[2]Sheet1!$A:$D,4,0)*ABS(U1366),0)","v":0},{"$f":"WEEKNUM(vlookup_data[[#This Row],[Column8]],2)","v":1},{"$f":"YEAR(vlookup_data[[#This Row],[Column8]])","v":1900},0,{"$f":"CONCATENATE(vlookup_data[[#This Row],[style '#]],\"|\",R1366)","v":"0|"}]
[{"$f":"IF(ISNUMBER(U1367)=TRUE,VLOOKUP(vlookup_data[[#This Row],[style '#]],[2]Sheet1!$A:$D,4,0)*ABS(U1367),0)","v":0},{"$f":"WEEKNUM(vlookup_data[[#This Row],[Column8]],2)","v":1},{"$f":"YEAR(vlookup_data[[#This Row],[Column8]])","v":1900},0,{"$f":"CONCATENATE(vlookup_data[[#This Row],[style '#]],\"|\",R1367)","v":"0|"}]
[{"$f":"IF(ISNUMBER(U1368)=TRUE,VLOOKUP(vlookup_data[[#This Row],[style '#]],[2]Sheet1!$A:$D,4,0)*ABS(U1368),0)","v":0},{"$f":"WEEKNUM(vlookup_data[[#This Row],[Column8]],2)","v":1},{"$f":"YEAR(vlookup_data[[#This Row],[Column8]])","v":1900},0,{"$f":"CONCATENATE(vlookup_data[[#This Row],[style '#]],\"|\",R1368)","v":"0|"}]
[{"$f":"IF(ISNUMBER(U1369)=TRUE,VLOOKUP(vlookup_data[[#This Row],[style '#]],[2]Sheet1!$A:$D,4,0)*ABS(U1369),0)","v":0},{"$f":"WEEKNUM(vlookup_data[[#This Row],[Column8]],2)","v":1},{"$f":"YEAR(vlookup_data[[#This Row],[Column8]])","v":1900},0,{"$f":"CONCATENATE(vlookup_data[[#This Row],[style '#]],\"|\",R1369)","v":"0|"}]
[{"$f":"IF(ISNUMBER(U1370)=TRUE,VLOOKUP(vlookup_data[[#This Row],[style '#]],[2]Sheet1!$A:$D,4,0)*ABS(U1370),0)","v":0},{"$f":"WEEKNUM(vlookup_data[[#This Row],[Column8]],2)","v":1},{"$f":"YEAR(vlookup_data[[#This Row],[Column8]])","v":1900},0,{"$f":"CONCATENATE(vlookup_data[[#This Row],[style '#]],\"|\",R1370)","v":"0|"}]
[{"$f":"IF(ISNUMBER(U1371)=TRUE,VLOOKUP(vlookup_data[[#This Row],[style '#]],[2]Sheet1!$A:$D,4,0)*ABS(U1371),0)","v":0},{"$f":"WEEKNUM(vlookup_data[[#This Row],[Column8]],2)","v":1},{"$f":"YEAR(vlookup_data[[#This Row],[Column8]])","v":1900},0,{"$f":"CONCATENATE(vlookup_data[[#This Row],[style '#]],\"|\",R1371)","v":"0|"}]
[{"$f":"IF(ISNUMBER(U1372)=TRUE,VLOOKUP(vlookup_data[[#This Row],[style '#]],[2]Sheet1!$A:$D,4,0)*ABS(U1372),0)","v":0},{"$f":"WEEKNUM(vlookup_data[[#This Row],[Column8]],2)","v":1},{"$f":"YEAR(vlookup_data[[#This Row],[Column8]])","v":1900},0,{"$f":"CONCATENATE(vlookup_data[[#This Row],[style '#]],\"|\",R1372)","v":"0|"}]
[{"$f":"IF(ISNUMBER(U1373)=TRUE,VLOOKUP(vlookup_data[[#This Row],[style '#]],[2]Sheet1!$A:$D,4,0)*ABS(U1373),0)","v":0},{"$f":"WEEKNUM(vlookup_data[[#This Row],[Column8]],2)","v":1},{"$f":"YEAR(vlookup_data[[#This Row],[Column8]])","v":1900},0,{"$f":"CONCATENATE(vlookup_data[[#This Row],[style '#]],\"|\",R1373)","v":"0|"}]
[{"$f":"IF(ISNUMBER(U1374)=TRUE,VLOOKUP(vlookup_data[[#This Row],[style '#]],[2]Sheet1!$A:$D,4,0)*ABS(U1374),0)","v":0},{"$f":"WEEKNUM(vlookup_data[[#This Row],[Column8]],2)","v":1},{"$f":"YEAR(vlookup_data[[#This Row],[Column8]])","v":1900},0,{"$f":"CONCATENATE(vlookup_data[[#This Row],[style '#]],\"|\",R1374)","v":"0|"}]
[{"$f":"IF(ISNUMBER(U1375)=TRUE,VLOOKUP(vlookup_data[[#This Row],[style '#]],[2]Sheet1!$A:$D,4,0)*ABS(U1375),0)","v":0},{"$f":"WEEKNUM(vlookup_data[[#This Row],[Column8]],2)","v":1},{"$f":"YEAR(vlookup_data[[#This Row],[Column8]])","v":1900},0,{"$f":"CONCATENATE(vlookup_data[[#This Row],[style '#]],\"|\",R1375)","v":"0|"}]
[{"$f":"IF(ISNUMBER(U1376)=TRUE,VLOOKUP(vlookup_data[[#This Row],[style '#]],[2]Sheet1!$A:$D,4,0)*ABS(U1376),0)","v":0},{"$f":"WEEKNUM(vlookup_data[[#This Row],[Column8]],2)","v":1},{"$f":"YEAR(vlookup_data[[#This Row],[Column8]])","v":1900},0,{"$f":"CONCATENATE(vlookup_data[[#This Row],[style '#]],\"|\",R1376)","v":"0|"}]
[{"$f":"IF(ISNUMBER(U1377)=TRUE,VLOOKUP(vlookup_data[[#This Row],[style '#]],[2]Sheet1!$A:$D,4,0)*ABS(U1377),0)","v":0},{"$f":"WEEKNUM(vlookup_data[[#This Row],[Column8]],2)","v":1},{"$f":"YEAR(vlookup_data[[#This Row],[Column8]])","v":1900},0,{"$f":"CONCATENATE(vlookup_data[[#This Row],[style '#]],\"|\",R1377)","v":"0|"}]
[{"$f":"IF(ISNUMBER(U1378)=TRUE,VLOOKUP(vlookup_data[[#This Row],[style '#]],[2]Sheet1!$A:$D,4,0)*ABS(U1378),0)","v":0},{"$f":"WEEKNUM(vlookup_data[[#This Row],[Column8]],2)","v":1},{"$f":"YEAR(vlookup_data[[#This Row],[Column8]])","v":1900},0,{"$f":"CONCATENATE(vlookup_data[[#This Row],[style '#]],\"|\",R1378)","v":"0|"}]
[{"$f":"IF(ISNUMBER(U1379)=TRUE,VLOOKUP(vlookup_data[[#This Row],[style '#]],[2]Sheet1!$A:$D,4,0)*ABS(U1379),0)","v":0},{"$f":"WEEKNUM(vlookup_data[[#This Row],[Column8]],2)","v":1},{"$f":"YEAR(vlookup_data[[#This Row],[Column8]])","v":1900},0,{"$f":"CONCATENATE(vlookup_data[[#This Row],[style '#]],\"|\",R1379)","v":"0|"}]
[{"$f":"IF(ISNUMBER(U1380)=TRUE,VLOOKUP(vlookup_data[[#This Row],[style '#]],[2]Sheet1!$A:$D,4,0)*ABS(U1380),0)","v":0},{"$f":"WEEKNUM(vlookup_data[[#This Row],[Column8]],2)","v":1},{"$f":"YEAR(vlookup_data[[#This Row],[Column8]])","v":1900},0,{"$f":"CONCATENATE(vlookup_data[[#This Row],[style '#]],\"|\",R1380)","v":"0|"}]
[{"$f":"IF(ISNUMBER(U1381)=TRUE,VLOOKUP(vlookup_data[[#This Row],[style '#]],[2]Sheet1!$A:$D,4,0)*ABS(U1381),0)","v":0},{"$f":"WEEKNUM(vlookup_data[[#This Row],[Column8]],2)","v":1},{"$f":"YEAR(vlookup_data[[#This Row],[Column8]])","v":1900},0,{"$f":"CONCATENATE(vlookup_data[[#This Row],[style '#]],\"|\",R1381)","v":"0|"}]
[{"$f":"IF(ISNUMBER(U1382)=TRUE,VLOOKUP(vlookup_data[[#This Row],[style '#]],[2]Sheet1!$A:$D,4,0)*ABS(U1382),0)","v":0},{"$f":"WEEKNUM(vlookup_data[[#This Row],[Column8]],2)","v":1},{"$f":"YEAR(vlookup_data[[#This Row],[Column8]])","v":1900},0,{"$f":"CONCATENATE(vlookup_data[[#This Row],[style '#]],\"|\",R1382)","v":"0|"}]
[{"$f":"IF(ISNUMBER(U1383)=TRUE,VLOOKUP(vlookup_data[[#This Row],[style '#]],[2]Sheet1!$A:$D,4,0)*ABS(U1383),0)","v":0},{"$f":"WEEKNUM(vlookup_data[[#This Row],[Column8]],2)","v":1},{"$f":"YEAR(vlookup_data[[#This Row],[Column8]])","v":1900},0,{"$f":"CONCATENATE(vlookup_data[[#This Row],[style '#]],\"|\",R1383)","v":"0|"}]
[{"$f":"IF(ISNUMBER(U1384)=TRUE,VLOOKUP(vlookup_data[[#This Row],[style '#]],[2]Sheet1!$A:$D,4,0)*ABS(U1384),0)","v":0},{"$f":"WEEKNUM(vlookup_data[[#This Row],[Column8]],2)","v":1},{"$f":"YEAR(vlookup_data[[#This Row],[Column8]])","v":1900},0,{"$f":"CONCATENATE(vlookup_data[[#This Row],[style '#]],\"|\",R1384)","v":"0|"}]
[{"$f":"IF(ISNUMBER(U1385)=TRUE,VLOOKUP(vlookup_data[[#This Row],[style '#]],[2]Sheet1!$A:$D,4,0)*ABS(U1385),0)","v":0},{"$f":"WEEKNUM(vlookup_data[[#This Row],[Column8]],2)","v":1},{"$f":"YEAR(vlookup_data[[#This Row],[Column8]])","v":1900},0,{"$f":"CONCATENATE(vlookup_data[[#This Row],[style '#]],\"|\",R1385)","v":"0|"}]
[{"$f":"IF(ISNUMBER(U1386)=TRUE,VLOOKUP(vlookup_data[[#This Row],[style '#]],[2]Sheet1!$A:$D,4,0)*ABS(U1386),0)","v":0},{"$f":"WEEKNUM(vlookup_data[[#This Row],[Column8]],2)","v":1},{"$f":"YEAR(vlookup_data[[#This Row],[Column8]])","v":1900},0,{"$f":"CONCATENATE(vlookup_data[[#This Row],[style '#]],\"|\",R1386)","v":"0|"}]
[{"$f":"IF(ISNUMBER(U1387)=TRUE,VLOOKUP(vlookup_data[[#This Row],[style '#]],[2]Sheet1!$A:$D,4,0)*ABS(U1387),0)","v":0},{"$f":"WEEKNUM(vlookup_data[[#This Row],[Column8]],2)","v":1},{"$f":"YEAR(vlookup_data[[#This Row],[Column8]])","v":1900},0,{"$f":"CONCATENATE(vlookup_data[[#This Row],[style '#]],\"|\",R1387)","v":"0|"}]
[{"$f":"IF(ISNUMBER(U1388)=TRUE,VLOOKUP(vlookup_data[[#This Row],[style '#]],[2]Sheet1!$A:$D,4,0)*ABS(U1388),0)","v":0},{"$f":"WEEKNUM(vlookup_data[[#This Row],[Column8]],2)","v":1},{"$f":"YEAR(vlookup_data[[#This Row],[Column8]])","v":1900},0,{"$f":"CONCATENATE(vlookup_data[[#This Row],[style '#]],\"|\",R1388)","v":"0|"}]
[{"$f":"IF(ISNUMBER(U1389)=TRUE,VLOOKUP(vlookup_data[[#This Row],[style '#]],[2]Sheet1!$A:$D,4,0)*ABS(U1389),0)","v":0},{"$f":"WEEKNUM(vlookup_data[[#This Row],[Column8]],2)","v":1},{"$f":"YEAR(vlookup_data[[#This Row],[Column8]])","v":1900},0,{"$f":"CONCATENATE(vlookup_data[[#This Row],[style '#]],\"|\",R1389)","v":"0|"}]
[{"$f":"IF(ISNUMBER(U1390)=TRUE,VLOOKUP(vlookup_data[[#This Row],[style '#]],[2]Sheet1!$A:$D,4,0)*ABS(U1390),0)","v":0},{"$f":"WEEKNUM(vlookup_data[[#This Row],[Column8]],2)","v":1},{"$f":"YEAR(vlookup_data[[#This Row],[Column8]])","v":1900},0,{"$f":"CONCATENATE(vlookup_data[[#This Row],[style '#]],\"|\",R1390)","v":"0|"}]
[{"$f":"IF(ISNUMBER(U1391)=TRUE,VLOOKUP(vlookup_data[[#This Row],[style '#]],[2]Sheet1!$A:$D,4,0)*ABS(U1391),0)","v":0},{"$f":"WEEKNUM(vlookup_data[[#This Row],[Column8]],2)","v":1},{"$f":"YEAR(vlookup_data[[#This Row],[Column8]])","v":1900},0,{"$f":"CONCATENATE(vlookup_data[[#This Row],[style '#]],\"|\",R1391)","v":"0|"}]
[{"$f":"IF(ISNUMBER(U1392)=TRUE,VLOOKUP(vlookup_data[[#This Row],[style '#]],[2]Sheet1!$A:$D,4,0)*ABS(U1392),0)","v":0},{"$f":"WEEKNUM(vlookup_data[[#This Row],[Column8]],2)","v":1},{"$f":"YEAR(vlookup_data[[#This Row],[Column8]])","v":1900},0,{"$f":"CONCATENATE(vlookup_data[[#This Row],[style '#]],\"|\",R1392)","v":"0|"}]
[{"$f":"IF(ISNUMBER(U1393)=TRUE,VLOOKUP(vlookup_data[[#This Row],[style '#]],[2]Sheet1!$A:$D,4,0)*ABS(U1393),0)","v":0},{"$f":"WEEKNUM(vlookup_data[[#This Row],[Column8]],2)","v":1},{"$f":"YEAR(vlookup_data[[#This Row],[Column8]])","v":1900},0,{"$f":"CONCATENATE(vlookup_data[[#This Row],[style '#]],\"|\",R1393)","v":"0|"}]
[{"$f":"IF(ISNUMBER(U1394)=TRUE,VLOOKUP(vlookup_data[[#This Row],[style '#]],[2]Sheet1!$A:$D,4,0)*ABS(U1394),0)","v":0},{"$f":"WEEKNUM(vlookup_data[[#This Row],[Column8]],2)","v":1},{"$f":"YEAR(vlookup_data[[#This Row],[Column8]])","v":1900},0,{"$f":"CONCATENATE(vlookup_data[[#This Row],[style '#]],\"|\",R1394)","v":"0|"}]
[{"$f":"IF(ISNUMBER(U1395)=TRUE,VLOOKUP(vlookup_data[[#This Row],[style '#]],[2]Sheet1!$A:$D,4,0)*ABS(U1395),0)","v":0},{"$f":"WEEKNUM(vlookup_data[[#This Row],[Column8]],2)","v":1},{"$f":"YEAR(vlookup_data[[#This Row],[Column8]])","v":1900},0,{"$f":"CONCATENATE(vlookup_data[[#This Row],[style '#]],\"|\",R1395)","v":"0|"}]
[{"$f":"IF(ISNUMBER(U1396)=TRUE,VLOOKUP(vlookup_data[[#This Row],[style '#]],[2]Sheet1!$A:$D,4,0)*ABS(U1396),0)","v":0},{"$f":"WEEKNUM(vlookup_data[[#This Row],[Column8]],2)","v":1},{"$f":"YEAR(vlookup_data[[#This Row],[Column8]])","v":1900},0,{"$f":"CONCATENATE(vlookup_data[[#This Row],[style '#]],\"|\",R1396)","v":"0|"}]
[{"$f":"IF(ISNUMBER(U1397)=TRUE,VLOOKUP(vlookup_data[[#This Row],[style '#]],[2]Sheet1!$A:$D,4,0)*ABS(U1397),0)","v":0},{"$f":"WEEKNUM(vlookup_data[[#This Row],[Column8]],2)","v":1},{"$f":"YEAR(vlookup_data[[#This Row],[Column8]])","v":1900},0,{"$f":"CONCATENATE(vlookup_data[[#This Row],[style '#]],\"|\",R1397)","v":"0|"}]
[{"$f":"IF(ISNUMBER(U1398)=TRUE,VLOOKUP(vlookup_data[[#This Row],[style '#]],[2]Sheet1!$A:$D,4,0)*ABS(U1398),0)","v":0},{"$f":"WEEKNUM(vlookup_data[[#This Row],[Column8]],2)","v":1},{"$f":"YEAR(vlookup_data[[#This Row],[Column8]])","v":1900},0,{"$f":"CONCATENATE(vlookup_data[[#This Row],[style '#]],\"|\",R1398)","v":"0|"}]
[{"$f":"IF(ISNUMBER(U1399)=TRUE,VLOOKUP(vlookup_data[[#This Row],[style '#]],[2]Sheet1!$A:$D,4,0)*ABS(U1399),0)","v":0},{"$f":"WEEKNUM(vlookup_data[[#This Row],[Column8]],2)","v":1},{"$f":"YEAR(vlookup_data[[#This Row],[Column8]])","v":1900},0,{"$f":"CONCATENATE(vlookup_data[[#This Row],[style '#]],\"|\",R1399)","v":"0|"}]
[{"$f":"IF(ISNUMBER(U1400)=TRUE,VLOOKUP(vlookup_data[[#This Row],[style '#]],[2]Sheet1!$A:$D,4,0)*ABS(U1400),0)","v":0},{"$f":"WEEKNUM(vlookup_data[[#This Row],[Column8]],2)","v":1},{"$f":"YEAR(vlookup_data[[#This Row],[Column8]])","v":1900},0,{"$f":"CONCATENATE(vlookup_data[[#This Row],[style '#]],\"|\",R1400)","v":"0|"}]
[{"$f":"IF(ISNUMBER(U1401)=TRUE,VLOOKUP(vlookup_data[[#This Row],[style '#]],[2]Sheet1!$A:$D,4,0)*ABS(U1401),0)","v":0},{"$f":"WEEKNUM(vlookup_data[[#This Row],[Column8]],2)","v":1},{"$f":"YEAR(vlookup_data[[#This Row],[Column8]])","v":1900},0,{"$f":"CONCATENATE(vlookup_data[[#This Row],[style '#]],\"|\",R1401)","v":"0|"}]
[{"$f":"IF(ISNUMBER(U1402)=TRUE,VLOOKUP(vlookup_data[[#This Row],[style '#]],[2]Sheet1!$A:$D,4,0)*ABS(U1402),0)","v":0},{"$f":"WEEKNUM(vlookup_data[[#This Row],[Column8]],2)","v":1},{"$f":"YEAR(vlookup_data[[#This Row],[Column8]])","v":1900},0,{"$f":"CONCATENATE(vlookup_data[[#This Row],[style '#]],\"|\",R1402)","v":"0|"}]
[{"$f":"IF(ISNUMBER(U1403)=TRUE,VLOOKUP(vlookup_data[[#This Row],[style '#]],[2]Sheet1!$A:$D,4,0)*ABS(U1403),0)","v":0},{"$f":"WEEKNUM(vlookup_data[[#This Row],[Column8]],2)","v":1},{"$f":"YEAR(vlookup_data[[#This Row],[Column8]])","v":1900},0,{"$f":"CONCATENATE(vlookup_data[[#This Row],[style '#]],\"|\",R1403)","v":"0|"}]
[{"$f":"IF(ISNUMBER(U1404)=TRUE,VLOOKUP(vlookup_data[[#This Row],[style '#]],[2]Sheet1!$A:$D,4,0)*ABS(U1404),0)","v":0},{"$f":"WEEKNUM(vlookup_data[[#This Row],[Column8]],2)","v":1},{"$f":"YEAR(vlookup_data[[#This Row],[Column8]])","v":1900},0,{"$f":"CONCATENATE(vlookup_data[[#This Row],[style '#]],\"|\",R1404)","v":"0|"}]
[{"$f":"IF(ISNUMBER(U1405)=TRUE,VLOOKUP(vlookup_data[[#This Row],[style '#]],[2]Sheet1!$A:$D,4,0)*ABS(U1405),0)","v":0},{"$f":"WEEKNUM(vlookup_data[[#This Row],[Column8]],2)","v":1},{"$f":"YEAR(vlookup_data[[#This Row],[Column8]])","v":1900},0,{"$f":"CONCATENATE(vlookup_data[[#This Row],[style '#]],\"|\",R1405)","v":"0|"}]
[{"$f":"IF(ISNUMBER(U1406)=TRUE,VLOOKUP(vlookup_data[[#This Row],[style '#]],[2]Sheet1!$A:$D,4,0)*ABS(U1406),0)","v":0},{"$f":"WEEKNUM(vlookup_data[[#This Row],[Column8]],2)","v":1},{"$f":"YEAR(vlookup_data[[#This Row],[Column8]])","v":1900},0,{"$f":"CONCATENATE(vlookup_data[[#This Row],[style '#]],\"|\",R1406)","v":"0|"}]
[{"$f":"IF(ISNUMBER(U1407)=TRUE,VLOOKUP(vlookup_data[[#This Row],[style '#]],[2]Sheet1!$A:$D,4,0)*ABS(U1407),0)","v":0},{"$f":"WEEKNUM(vlookup_data[[#This Row],[Column8]],2)","v":1},{"$f":"YEAR(vlookup_data[[#This Row],[Column8]])","v":1900},0,{"$f":"CONCATENATE(vlookup_data[[#This Row],[style '#]],\"|\",R1407)","v":"0|"}]
[{"$f":"IF(ISNUMBER(U1408)=TRUE,VLOOKUP(vlookup_data[[#This Row],[style '#]],[2]Sheet1!$A:$D,4,0)*ABS(U1408),0)","v":0},{"$f":"WEEKNUM(vlookup_data[[#This Row],[Column8]],2)","v":1},{"$f":"YEAR(vlookup_data[[#This Row],[Column8]])","v":1900},0,{"$f":"CONCATENATE(vlookup_data[[#This Row],[style '#]],\"|\",R1408)","v":"0|"}]
[{"$f":"IF(ISNUMBER(U1409)=TRUE,VLOOKUP(vlookup_data[[#This Row],[style '#]],[2]Sheet1!$A:$D,4,0)*ABS(U1409),0)","v":0},{"$f":"WEEKNUM(vlookup_data[[#This Row],[Column8]],2)","v":1},{"$f":"YEAR(vlookup_data[[#This Row],[Column8]])","v":1900},0,{"$f":"CONCATENATE(vlookup_data[[#This Row],[style '#]],\"|\",R1409)","v":"0|"}]
[{"$f":"IF(ISNUMBER(U1410)=TRUE,VLOOKUP(vlookup_data[[#This Row],[style '#]],[2]Sheet1!$A:$D,4,0)*ABS(U1410),0)","v":0},{"$f":"WEEKNUM(vlookup_data[[#This Row],[Column8]],2)","v":1},{"$f":"YEAR(vlookup_data[[#This Row],[Column8]])","v":1900},0,{"$f":"CONCATENATE(vlookup_data[[#This Row],[style '#]],\"|\",R1410)","v":"0|"}]
[{"$f":"IF(ISNUMBER(U1411)=TRUE,VLOOKUP(vlookup_data[[#This Row],[style '#]],[2]Sheet1!$A:$D,4,0)*ABS(U1411),0)","v":0},{"$f":"WEEKNUM(vlookup_data[[#This Row],[Column8]],2)","v":1},{"$f":"YEAR(vlookup_data[[#This Row],[Column8]])","v":1900},0,{"$f":"CONCATENATE(vlookup_data[[#This Row],[style '#]],\"|\",R1411)","v":"0|"}]
[{"$f":"IF(ISNUMBER(U1412)=TRUE,VLOOKUP(vlookup_data[[#This Row],[style '#]],[2]Sheet1!$A:$D,4,0)*ABS(U1412),0)","v":0},{"$f":"WEEKNUM(vlookup_data[[#This Row],[Column8]],2)","v":1},{"$f":"YEAR(vlookup_data[[#This Row],[Column8]])","v":1900},0,{"$f":"CONCATENATE(vlookup_data[[#This Row],[style '#]],\"|\",R1412)","v":"0|"}]
[{"$f":"IF(ISNUMBER(U1413)=TRUE,VLOOKUP(vlookup_data[[#This Row],[style '#]],[2]Sheet1!$A:$D,4,0)*ABS(U1413),0)","v":0},{"$f":"WEEKNUM(vlookup_data[[#This Row],[Column8]],2)","v":1},{"$f":"YEAR(vlookup_data[[#This Row],[Column8]])","v":1900},0,{"$f":"CONCATENATE(vlookup_data[[#This Row],[style '#]],\"|\",R1413)","v":"0|"}]
[{"$f":"IF(ISNUMBER(U1414)=TRUE,VLOOKUP(vlookup_data[[#This Row],[style '#]],[2]Sheet1!$A:$D,4,0)*ABS(U1414),0)","v":0},{"$f":"WEEKNUM(vlookup_data[[#This Row],[Column8]],2)","v":1},{"$f":"YEAR(vlookup_data[[#This Row],[Column8]])","v":1900},0,{"$f":"CONCATENATE(vlookup_data[[#This Row],[style '#]],\"|\",R1414)","v":"0|"}]
[{"$f":"IF(ISNUMBER(U1415)=TRUE,VLOOKUP(vlookup_data[[#This Row],[style '#]],[2]Sheet1!$A:$D,4,0)*ABS(U1415),0)","v":0},{"$f":"WEEKNUM(vlookup_data[[#This Row],[Column8]],2)","v":1},{"$f":"YEAR(vlookup_data[[#This Row],[Column8]])","v":1900},0,{"$f":"CONCATENATE(vlookup_data[[#This Row],[style '#]],\"|\",R1415)","v":"0|"}]
[{"$f":"IF(ISNUMBER(U1416)=TRUE,VLOOKUP(vlookup_data[[#This Row],[style '#]],[2]Sheet1!$A:$D,4,0)*ABS(U1416),0)","v":0},{"$f":"WEEKNUM(vlookup_data[[#This Row],[Column8]],2)","v":1},{"$f":"YEAR(vlookup_data[[#This Row],[Column8]])","v":1900},0,{"$f":"CONCATENATE(vlookup_data[[#This Row],[style '#]],\"|\",R1416)","v":"0|"}]
[{"$f":"IF(ISNUMBER(U1417)=TRUE,VLOOKUP(vlookup_data[[#This Row],[style '#]],[2]Sheet1!$A:$D,4,0)*ABS(U1417),0)","v":0},{"$f":"WEEKNUM(vlookup_data[[#This Row],[Column8]],2)","v":1},{"$f":"YEAR(vlookup_data[[#This Row],[Column8]])","v":1900},{"$f":"VALUE(G1417)","v":0},{"$f":"CONCATENATE(vlookup_data[[#This Row],[style '#]],\"|\",R1417)","v":"0|"}]
[{"$f":"IF(ISNUMBER(U1418)=TRUE,VLOOKUP(vlookup_data[[#This Row],[style '#]],[2]Sheet1!$A:$D,4,0)*ABS(U1418),0)","v":0},{"$f":"WEEKNUM(vlookup_data[[#This Row],[Column8]],2)","v":1},{"$f":"YEAR(vlookup_data[[#This Row],[Column8]])","v":1900},0,{"$f":"CONCATENATE(vlookup_data[[#This Row],[style '#]],\"|\",R1418)","v":"0|"}]
[{"$f":"IF(ISNUMBER(U1419)=TRUE,VLOOKUP(vlookup_data[[#This Row],[style '#]],[2]Sheet1!$A:$D,4,0)*ABS(U1419),0)","v":0},{"$f":"WEEKNUM(vlookup_data[[#This Row],[Column8]],2)","v":1},{"$f":"YEAR(vlookup_data[[#This Row],[Column8]])","v":1900},0,{"$f":"CONCATENATE(vlookup_data[[#This Row],[style '#]],\"|\",R1419)","v":"0|"}]
[{"$f":"IF(ISNUMBER(U1420)=TRUE,VLOOKUP(vlookup_data[[#This Row],[style '#]],[2]Sheet1!$A:$D,4,0)*ABS(U1420),0)","v":0},{"$f":"WEEKNUM(vlookup_data[[#This Row],[Column8]],2)","v":1},{"$f":"YEAR(vlookup_data[[#This Row],[Column8]])","v":1900},0,{"$f":"CONCATENATE(vlookup_data[[#This Row],[style '#]],\"|\",R1420)","v":"0|"}]
[{"$f":"IF(ISNUMBER(U1421)=TRUE,VLOOKUP(vlookup_data[[#This Row],[style '#]],[2]Sheet1!$A:$D,4,0)*ABS(U1421),0)","v":0},{"$f":"WEEKNUM(vlookup_data[[#This Row],[Column8]],2)","v":1},{"$f":"YEAR(vlookup_data[[#This Row],[Column8]])","v":1900},0,{"$f":"CONCATENATE(vlookup_data[[#This Row],[style '#]],\"|\",R1421)","v":"0|"}]
[{"$f":"IF(ISNUMBER(U1422)=TRUE,VLOOKUP(vlookup_data[[#This Row],[style '#]],[2]Sheet1!$A:$D,4,0)*ABS(U1422),0)","v":0},{"$f":"WEEKNUM(vlookup_data[[#This Row],[Column8]],2)","v":1},{"$f":"YEAR(vlookup_data[[#This Row],[Column8]])","v":1900},0,{"$f":"CONCATENATE(vlookup_data[[#This Row],[style '#]],\"|\",R1422)","v":"0|"}]
[{"$f":"IF(ISNUMBER(U1423)=TRUE,VLOOKUP(vlookup_data[[#This Row],[style '#]],[2]Sheet1!$A:$D,4,0)*ABS(U1423),0)","v":0},{"$f":"WEEKNUM(vlookup_data[[#This Row],[Column8]],2)","v":1},{"$f":"YEAR(vlookup_data[[#This Row],[Column8]])","v":1900},0,{"$f":"CONCATENATE(vlookup_data[[#This Row],[style '#]],\"|\",R1423)","v":"0|"}]
[{"$f":"IF(ISNUMBER(U1424)=TRUE,VLOOKUP(vlookup_data[[#This Row],[style '#]],[2]Sheet1!$A:$D,4,0)*ABS(U1424),0)","v":0},{"$f":"WEEKNUM(vlookup_data[[#This Row],[Column8]],2)","v":1},{"$f":"YEAR(vlookup_data[[#This Row],[Column8]])","v":1900},0,{"$f":"CONCATENATE(vlookup_data[[#This Row],[style '#]],\"|\",R1424)","v":"0|"}]
[{"$f":"IF(ISNUMBER(U1425)=TRUE,VLOOKUP(vlookup_data[[#This Row],[style '#]],[2]Sheet1!$A:$D,4,0)*ABS(U1425),0)","v":0},{"$f":"WEEKNUM(vlookup_data[[#This Row],[Column8]],2)","v":1},{"$f":"YEAR(vlookup_data[[#This Row],[Column8]])","v":1900},0,{"$f":"CONCATENATE(vlookup_data[[#This Row],[style '#]],\"|\",R1425)","v":"0|"}]
[{"$f":"IF(ISNUMBER(U1426)=TRUE,VLOOKUP(vlookup_data[[#This Row],[style '#]],[2]Sheet1!$A:$D,4,0)*ABS(U1426),0)","v":0},{"$f":"WEEKNUM(vlookup_data[[#This Row],[Column8]],2)","v":1},{"$f":"YEAR(vlookup_data[[#This Row],[Column8]])","v":1900},0,{"$f":"CONCATENATE(vlookup_data[[#This Row],[style '#]],\"|\",R1426)","v":"0|"}]
[{"$f":"IF(ISNUMBER(U1427)=TRUE,VLOOKUP(vlookup_data[[#This Row],[style '#]],[2]Sheet1!$A:$D,4,0)*ABS(U1427),0)","v":0},{"$f":"WEEKNUM(vlookup_data[[#This Row],[Column8]],2)","v":1},{"$f":"YEAR(vlookup_data[[#This Row],[Column8]])","v":1900},0,{"$f":"CONCATENATE(vlookup_data[[#This Row],[style '#]],\"|\",R1427)","v":"0|"}]
[{"$f":"IF(ISNUMBER(U1428)=TRUE,VLOOKUP(vlookup_data[[#This Row],[style '#]],[2]Sheet1!$A:$D,4,0)*ABS(U1428),0)","v":0},{"$f":"WEEKNUM(vlookup_data[[#This Row],[Column8]],2)","v":1},{"$f":"YEAR(vlookup_data[[#This Row],[Column8]])","v":1900},0,{"$f":"CONCATENATE(vlookup_data[[#This Row],[style '#]],\"|\",R1428)","v":"0|"}]
[{"$f":"IF(ISNUMBER(U1429)=TRUE,VLOOKUP(vlookup_data[[#This Row],[style '#]],[2]Sheet1!$A:$D,4,0)*ABS(U1429),0)","v":0},{"$f":"WEEKNUM(vlookup_data[[#This Row],[Column8]],2)","v":1},{"$f":"YEAR(vlookup_data[[#This Row],[Column8]])","v":1900},0,{"$f":"CONCATENATE(vlookup_data[[#This Row],[style '#]],\"|\",R1429)","v":"0|"}]
[{"$f":"IF(ISNUMBER(U1430)=TRUE,VLOOKUP(vlookup_data[[#This Row],[style '#]],[2]Sheet1!$A:$D,4,0)*ABS(U1430),0)","v":0},{"$f":"WEEKNUM(vlookup_data[[#This Row],[Column8]],2)","v":1},{"$f":"YEAR(vlookup_data[[#This Row],[Column8]])","v":1900},0,{"$f":"CONCATENATE(vlookup_data[[#This Row],[style '#]],\"|\",R1430)","v":"0|"}]
[{"$f":"IF(ISNUMBER(U1431)=TRUE,VLOOKUP(vlookup_data[[#This Row],[style '#]],[2]Sheet1!$A:$D,4,0)*ABS(U1431),0)","v":0},{"$f":"WEEKNUM(vlookup_data[[#This Row],[Column8]],2)","v":1},{"$f":"YEAR(vlookup_data[[#This Row],[Column8]])","v":1900},0,{"$f":"CONCATENATE(vlookup_data[[#This Row],[style '#]],\"|\",R1431)","v":"0|"}]
[{"$f":"IF(ISNUMBER(U1432)=TRUE,VLOOKUP(vlookup_data[[#This Row],[style '#]],[2]Sheet1!$A:$D,4,0)*ABS(U1432),0)","v":0},{"$f":"WEEKNUM(vlookup_data[[#This Row],[Column8]],2)","v":1},{"$f":"YEAR(vlookup_data[[#This Row],[Column8]])","v":1900},0,{"$f":"CONCATENATE(vlookup_data[[#This Row],[style '#]],\"|\",R1432)","v":"0|"}]
[{"$f":"IF(ISNUMBER(U1433)=TRUE,VLOOKUP(vlookup_data[[#This Row],[style '#]],[2]Sheet1!$A:$D,4,0)*ABS(U1433),0)","v":0},{"$f":"WEEKNUM(vlookup_data[[#This Row],[Column8]],2)","v":1},{"$f":"YEAR(vlookup_data[[#This Row],[Column8]])","v":1900},0,{"$f":"CONCATENATE(vlookup_data[[#This Row],[style '#]],\"|\",R1433)","v":"0|"}]
[{"$f":"IF(ISNUMBER(U1434)=TRUE,VLOOKUP(vlookup_data[[#This Row],[style '#]],[2]Sheet1!$A:$D,4,0)*ABS(U1434),0)","v":0},{"$f":"WEEKNUM(vlookup_data[[#This Row],[Column8]],2)","v":1},{"$f":"YEAR(vlookup_data[[#This Row],[Column8]])","v":1900},0,{"$f":"CONCATENATE(vlookup_data[[#This Row],[style '#]],\"|\",R1434)","v":"0|"}]
[{"$f":"IF(ISNUMBER(U1435)=TRUE,VLOOKUP(vlookup_data[[#This Row],[style '#]],[2]Sheet1!$A:$D,4,0)*ABS(U1435),0)","v":0},{"$f":"WEEKNUM(vlookup_data[[#This Row],[Column8]],2)","v":1},{"$f":"YEAR(vlookup_data[[#This Row],[Column8]])","v":1900},0,{"$f":"CONCATENATE(vlookup_data[[#This Row],[style '#]],\"|\",R1435)","v":"0|"}]
[{"$f":"IF(ISNUMBER(U1436)=TRUE,VLOOKUP(vlookup_data[[#This Row],[style '#]],[2]Sheet1!$A:$D,4,0)*ABS(U1436),0)","v":0},{"$f":"WEEKNUM(vlookup_data[[#This Row],[Column8]],2)","v":1},{"$f":"YEAR(vlookup_data[[#This Row],[Column8]])","v":1900},0,{"$f":"CONCATENATE(vlookup_data[[#This Row],[style '#]],\"|\",R1436)","v":"0|"}]
[{"$f":"IF(ISNUMBER(U1437)=TRUE,VLOOKUP(vlookup_data[[#This Row],[style '#]],[2]Sheet1!$A:$D,4,0)*ABS(U1437),0)","v":0},{"$f":"WEEKNUM(vlookup_data[[#This Row],[Column8]],2)","v":1},{"$f":"YEAR(vlookup_data[[#This Row],[Column8]])","v":1900},0,{"$f":"CONCATENATE(vlookup_data[[#This Row],[style '#]],\"|\",R1437)","v":"0|"}]
[{"$f":"IF(ISNUMBER(U1438)=TRUE,VLOOKUP(vlookup_data[[#This Row],[style '#]],[2]Sheet1!$A:$D,4,0)*ABS(U1438),0)","v":0},{"$f":"WEEKNUM(vlookup_data[[#This Row],[Column8]],2)","v":1},{"$f":"YEAR(vlookup_data[[#This Row],[Column8]])","v":1900},0,{"$f":"CONCATENATE(vlookup_data[[#This Row],[style '#]],\"|\",R1438)","v":"0|"}]
[{"$f":"IF(ISNUMBER(U1439)=TRUE,VLOOKUP(vlookup_data[[#This Row],[style '#]],[2]Sheet1!$A:$D,4,0)*ABS(U1439),0)","v":0},{"$f":"WEEKNUM(vlookup_data[[#This Row],[Column8]],2)","v":1},{"$f":"YEAR(vlookup_data[[#This Row],[Column8]])","v":1900},0,{"$f":"CONCATENATE(vlookup_data[[#This Row],[style '#]],\"|\",R1439)","v":"0|"}]
[{"$f":"IF(ISNUMBER(U1440)=TRUE,VLOOKUP(vlookup_data[[#This Row],[style '#]],[2]Sheet1!$A:$D,4,0)*ABS(U1440),0)","v":0},{"$f":"WEEKNUM(vlookup_data[[#This Row],[Column8]],2)","v":1},{"$f":"YEAR(vlookup_data[[#This Row],[Column8]])","v":1900},0,{"$f":"CONCATENATE(vlookup_data[[#This Row],[style '#]],\"|\",R1440)","v":"0|"}]
[{"$f":"IF(ISNUMBER(U1441)=TRUE,VLOOKUP(vlookup_data[[#This Row],[style '#]],[2]Sheet1!$A:$D,4,0)*ABS(U1441),0)","v":0},{"$f":"WEEKNUM(vlookup_data[[#This Row],[Column8]],2)","v":1},{"$f":"YEAR(vlookup_data[[#This Row],[Column8]])","v":1900},0,{"$f":"CONCATENATE(vlookup_data[[#This Row],[style '#]],\"|\",R1441)","v":"0|"}]
[{"$f":"IF(ISNUMBER(U1442)=TRUE,VLOOKUP(vlookup_data[[#This Row],[style '#]],[2]Sheet1!$A:$D,4,0)*ABS(U1442),0)","v":0},{"$f":"WEEKNUM(vlookup_data[[#This Row],[Column8]],2)","v":1},{"$f":"YEAR(vlookup_data[[#This Row],[Column8]])","v":1900},0,{"$f":"CONCATENATE(vlookup_data[[#This Row],[style '#]],\"|\",R1442)","v":"0|"}]
[{"$f":"IF(ISNUMBER(U1443)=TRUE,VLOOKUP(vlookup_data[[#This Row],[style '#]],[2]Sheet1!$A:$D,4,0)*ABS(U1443),0)","v":0},{"$f":"WEEKNUM(vlookup_data[[#This Row],[Column8]],2)","v":1},{"$f":"YEAR(vlookup_data[[#This Row],[Column8]])","v":1900},0,{"$f":"CONCATENATE(vlookup_data[[#This Row],[style '#]],\"|\",R1443)","v":"0|"}]
[{"$f":"IF(ISNUMBER(U1444)=TRUE,VLOOKUP(vlookup_data[[#This Row],[style '#]],[2]Sheet1!$A:$D,4,0)*ABS(U1444),0)","v":0},{"$f":"WEEKNUM(vlookup_data[[#This Row],[Column8]],2)","v":1},{"$f":"YEAR(vlookup_data[[#This Row],[Column8]])","v":1900},0,{"$f":"CONCATENATE(vlookup_data[[#This Row],[style '#]],\"|\",R1444)","v":"0|"}]
[{"$f":"IF(ISNUMBER(U1445)=TRUE,VLOOKUP(vlookup_data[[#This Row],[style '#]],[2]Sheet1!$A:$D,4,0)*ABS(U1445),0)","v":0},{"$f":"WEEKNUM(vlookup_data[[#This Row],[Column8]],2)","v":1},{"$f":"YEAR(vlookup_data[[#This Row],[Column8]])","v":1900},0,{"$f":"CONCATENATE(vlookup_data[[#This Row],[style '#]],\"|\",R1445)","v":"0|"}]
[{"$f":"IF(ISNUMBER(U1446)=TRUE,VLOOKUP(vlookup_data[[#This Row],[style '#]],[2]Sheet1!$A:$D,4,0)*ABS(U1446),0)","v":0},{"$f":"WEEKNUM(vlookup_data[[#This Row],[Column8]],2)","v":1},{"$f":"YEAR(vlookup_data[[#This Row],[Column8]])","v":1900},0,{"$f":"CONCATENATE(vlookup_data[[#This Row],[style '#]],\"|\",R1446)","v":"0|"}]
[{"$f":"IF(ISNUMBER(U1447)=TRUE,VLOOKUP(vlookup_data[[#This Row],[style '#]],[2]Sheet1!$A:$D,4,0)*ABS(U1447),0)","v":0},{"$f":"WEEKNUM(vlookup_data[[#This Row],[Column8]],2)","v":1},{"$f":"YEAR(vlookup_data[[#This Row],[Column8]])","v":1900},0,{"$f":"CONCATENATE(vlookup_data[[#This Row],[style '#]],\"|\",R1447)","v":"0|"}]
[{"$f":"IF(ISNUMBER(U1448)=TRUE,VLOOKUP(vlookup_data[[#This Row],[style '#]],[2]Sheet1!$A:$D,4,0)*ABS(U1448),0)","v":0},{"$f":"WEEKNUM(vlookup_data[[#This Row],[Column8]],2)","v":1},{"$f":"YEAR(vlookup_data[[#This Row],[Column8]])","v":1900},0,{"$f":"CONCATENATE(vlookup_data[[#This Row],[style '#]],\"|\",R1448)","v":"0|"}]
[{"$f":"IF(ISNUMBER(U1449)=TRUE,VLOOKUP(vlookup_data[[#This Row],[style '#]],[2]Sheet1!$A:$D,4,0)*ABS(U1449),0)","v":0},{"$f":"WEEKNUM(vlookup_data[[#This Row],[Column8]],2)","v":1},{"$f":"YEAR(vlookup_data[[#This Row],[Column8]])","v":1900},0,{"$f":"CONCATENATE(vlookup_data[[#This Row],[style '#]],\"|\",R1449)","v":"0|"}]
[{"$f":"IF(ISNUMBER(U1450)=TRUE,VLOOKUP(vlookup_data[[#This Row],[style '#]],[2]Sheet1!$A:$D,4,0)*ABS(U1450),0)","v":0},{"$f":"WEEKNUM(vlookup_data[[#This Row],[Column8]],2)","v":1},{"$f":"YEAR(vlookup_data[[#This Row],[Column8]])","v":1900},0,{"$f":"CONCATENATE(vlookup_data[[#This Row],[style '#]],\"|\",R1450)","v":"0|"}]
[{"$f":"IF(ISNUMBER(U1451)=TRUE,VLOOKUP(vlookup_data[[#This Row],[style '#]],[2]Sheet1!$A:$D,4,0)*ABS(U1451),0)","v":0},{"$f":"WEEKNUM(vlookup_data[[#This Row],[Column8]],2)","v":1},{"$f":"YEAR(vlookup_data[[#This Row],[Column8]])","v":1900},0,{"$f":"CONCATENATE(vlookup_data[[#This Row],[style '#]],\"|\",R1451)","v":"0|"}]
[{"$f":"IF(ISNUMBER(U1452)=TRUE,VLOOKUP(vlookup_data[[#This Row],[style '#]],[2]Sheet1!$A:$D,4,0)*ABS(U1452),0)","v":0},{"$f":"WEEKNUM(vlookup_data[[#This Row],[Column8]],2)","v":1},{"$f":"YEAR(vlookup_data[[#This Row],[Column8]])","v":1900},0,{"$f":"CONCATENATE(vlookup_data[[#This Row],[style '#]],\"|\",R1452)","v":"0|"}]
[{"$f":"IF(ISNUMBER(U1453)=TRUE,VLOOKUP(vlookup_data[[#This Row],[style '#]],[2]Sheet1!$A:$D,4,0)*ABS(U1453),0)","v":0},{"$f":"WEEKNUM(vlookup_data[[#This Row],[Column8]],2)","v":1},{"$f":"YEAR(vlookup_data[[#This Row],[Column8]])","v":1900},0,{"$f":"CONCATENATE(vlookup_data[[#This Row],[style '#]],\"|\",R1453)","v":"0|"}]
[{"$f":"IF(ISNUMBER(U1454)=TRUE,VLOOKUP(vlookup_data[[#This Row],[style '#]],[2]Sheet1!$A:$D,4,0)*ABS(U1454),0)","v":0},{"$f":"WEEKNUM(vlookup_data[[#This Row],[Column8]],2)","v":1},{"$f":"YEAR(vlookup_data[[#This Row],[Column8]])","v":1900},0,{"$f":"CONCATENATE(vlookup_data[[#This Row],[style '#]],\"|\",R1454)","v":"0|"}]
[{"$f":"IF(ISNUMBER(U1455)=TRUE,VLOOKUP(vlookup_data[[#This Row],[style '#]],[2]Sheet1!$A:$D,4,0)*ABS(U1455),0)","v":0},{"$f":"WEEKNUM(vlookup_data[[#This Row],[Column8]],2)","v":1},{"$f":"YEAR(vlookup_data[[#This Row],[Column8]])","v":1900},0,{"$f":"CONCATENATE(vlookup_data[[#This Row],[style '#]],\"|\",R1455)","v":"0|"}]
[{"$f":"IF(ISNUMBER(U1456)=TRUE,VLOOKUP(vlookup_data[[#This Row],[style '#]],[2]Sheet1!$A:$D,4,0)*ABS(U1456),0)","v":0},{"$f":"WEEKNUM(vlookup_data[[#This Row],[Column8]],2)","v":1},{"$f":"YEAR(vlookup_data[[#This Row],[Column8]])","v":1900},0,{"$f":"CONCATENATE(vlookup_data[[#This Row],[style '#]],\"|\",R1456)","v":"0|"}]
[{"$f":"IF(ISNUMBER(U1457)=TRUE,VLOOKUP(vlookup_data[[#This Row],[style '#]],[2]Sheet1!$A:$D,4,0)*ABS(U1457),0)","v":0},{"$f":"WEEKNUM(vlookup_data[[#This Row],[Column8]],2)","v":1},{"$f":"YEAR(vlookup_data[[#This Row],[Column8]])","v":1900},0,{"$f":"CONCATENATE(vlookup_data[[#This Row],[style '#]],\"|\",R1457)","v":"0|"}]
[{"$f":"IF(ISNUMBER(U1458)=TRUE,VLOOKUP(vlookup_data[[#This Row],[style '#]],[2]Sheet1!$A:$D,4,0)*ABS(U1458),0)","v":0},{"$f":"WEEKNUM(vlookup_data[[#This Row],[Column8]],2)","v":1},{"$f":"YEAR(vlookup_data[[#This Row],[Column8]])","v":1900},0,{"$f":"CONCATENATE(vlookup_data[[#This Row],[style '#]],\"|\",R1458)","v":"0|"}]
[{"$f":"IF(ISNUMBER(U1459)=TRUE,VLOOKUP(vlookup_data[[#This Row],[style '#]],[2]Sheet1!$A:$D,4,0)*ABS(U1459),0)","v":0},{"$f":"WEEKNUM(vlookup_data[[#This Row],[Column8]],2)","v":1},{"$f":"YEAR(vlookup_data[[#This Row],[Column8]])","v":1900},0,{"$f":"CONCATENATE(vlookup_data[[#This Row],[style '#]],\"|\",R1459)","v":"0|"}]
[{"$f":"IF(ISNUMBER(U1460)=TRUE,VLOOKUP(vlookup_data[[#This Row],[style '#]],[2]Sheet1!$A:$D,4,0)*ABS(U1460),0)","v":0},{"$f":"WEEKNUM(vlookup_data[[#This Row],[Column8]],2)","v":1},{"$f":"YEAR(vlookup_data[[#This Row],[Column8]])","v":1900},0,{"$f":"CONCATENATE(vlookup_data[[#This Row],[style '#]],\"|\",R1460)","v":"0|"}]
[{"$f":"IF(ISNUMBER(U1461)=TRUE,VLOOKUP(vlookup_data[[#This Row],[style '#]],[2]Sheet1!$A:$D,4,0)*ABS(U1461),0)","v":0},{"$f":"WEEKNUM(vlookup_data[[#This Row],[Column8]],2)","v":1},{"$f":"YEAR(vlookup_data[[#This Row],[Column8]])","v":1900},0,{"$f":"CONCATENATE(vlookup_data[[#This Row],[style '#]],\"|\",R1461)","v":"0|"}]
[{"$f":"IF(ISNUMBER(U1462)=TRUE,VLOOKUP(vlookup_data[[#This Row],[style '#]],[2]Sheet1!$A:$D,4,0)*ABS(U1462),0)","v":0},{"$f":"WEEKNUM(vlookup_data[[#This Row],[Column8]],2)","v":1},{"$f":"YEAR(vlookup_data[[#This Row],[Column8]])","v":1900},0,{"$f":"CONCATENATE(vlookup_data[[#This Row],[style '#]],\"|\",R1462)","v":"0|"}]
[{"$f":"IF(ISNUMBER(U1463)=TRUE,VLOOKUP(vlookup_data[[#This Row],[style '#]],[2]Sheet1!$A:$D,4,0)*ABS(U1463),0)","v":0},{"$f":"WEEKNUM(vlookup_data[[#This Row],[Column8]],2)","v":1},{"$f":"YEAR(vlookup_data[[#This Row],[Column8]])","v":1900},0,{"$f":"CONCATENATE(vlookup_data[[#This Row],[style '#]],\"|\",R1463)","v":"0|"}]
[{"$f":"IF(ISNUMBER(U1464)=TRUE,VLOOKUP(vlookup_data[[#This Row],[style '#]],[2]Sheet1!$A:$D,4,0)*ABS(U1464),0)","v":0},{"$f":"WEEKNUM(vlookup_data[[#This Row],[Column8]],2)","v":1},{"$f":"YEAR(vlookup_data[[#This Row],[Column8]])","v":1900},0,{"$f":"CONCATENATE(vlookup_data[[#This Row],[style '#]],\"|\",R1464)","v":"0|"}]
[{"$f":"IF(ISNUMBER(U1465)=TRUE,VLOOKUP(vlookup_data[[#This Row],[style '#]],[2]Sheet1!$A:$D,4,0)*ABS(U1465),0)","v":0},{"$f":"WEEKNUM(vlookup_data[[#This Row],[Column8]],2)","v":1},{"$f":"YEAR(vlookup_data[[#This Row],[Column8]])","v":1900},0,{"$f":"CONCATENATE(vlookup_data[[#This Row],[style '#]],\"|\",R1465)","v":"0|"}]
[{"$f":"IF(ISNUMBER(U1466)=TRUE,VLOOKUP(vlookup_data[[#This Row],[style '#]],[2]Sheet1!$A:$D,4,0)*ABS(U1466),0)","v":0},{"$f":"WEEKNUM(vlookup_data[[#This Row],[Column8]],2)","v":1},{"$f":"YEAR(vlookup_data[[#This Row],[Column8]])","v":1900},0,{"$f":"CONCATENATE(vlookup_data[[#This Row],[style '#]],\"|\",R1466)","v":"0|"}]
[{"$f":"IF(ISNUMBER(U1467)=TRUE,VLOOKUP(vlookup_data[[#This Row],[style '#]],[2]Sheet1!$A:$D,4,0)*ABS(U1467),0)","v":0},{"$f":"WEEKNUM(vlookup_data[[#This Row],[Column8]],2)","v":1},{"$f":"YEAR(vlookup_data[[#This Row],[Column8]])","v":1900},0,{"$f":"CONCATENATE(vlookup_data[[#This Row],[style '#]],\"|\",R1467)","v":"0|"}]
[{"$f":"IF(ISNUMBER(U1468)=TRUE,VLOOKUP(vlookup_data[[#This Row],[style '#]],[2]Sheet1!$A:$D,4,0)*ABS(U1468),0)","v":0},{"$f":"WEEKNUM(vlookup_data[[#This Row],[Column8]],2)","v":1},{"$f":"YEAR(vlookup_data[[#This Row],[Column8]])","v":1900},0,{"$f":"CONCATENATE(vlookup_data[[#This Row],[style '#]],\"|\",R1468)","v":"0|"}]
[{"$f":"IF(ISNUMBER(U1469)=TRUE,VLOOKUP(vlookup_data[[#This Row],[style '#]],[2]Sheet1!$A:$D,4,0)*ABS(U1469),0)","v":0},{"$f":"WEEKNUM(vlookup_data[[#This Row],[Column8]],2)","v":1},{"$f":"YEAR(vlookup_data[[#This Row],[Column8]])","v":1900},0,{"$f":"CONCATENATE(vlookup_data[[#This Row],[style '#]],\"|\",R1469)","v":"0|"}]
[{"$f":"IF(ISNUMBER(U1470)=TRUE,VLOOKUP(vlookup_data[[#This Row],[style '#]],[2]Sheet1!$A:$D,4,0)*ABS(U1470),0)","v":0},{"$f":"WEEKNUM(vlookup_data[[#This Row],[Column8]],2)","v":1},{"$f":"YEAR(vlookup_data[[#This Row],[Column8]])","v":1900},0,{"$f":"CONCATENATE(vlookup_data[[#This Row],[style '#]],\"|\",R1470)","v":"0|"}]
[{"$f":"IF(ISNUMBER(U1471)=TRUE,VLOOKUP(vlookup_data[[#This Row],[style '#]],[2]Sheet1!$A:$D,4,0)*ABS(U1471),0)","v":0},{"$f":"WEEKNUM(vlookup_data[[#This Row],[Column8]],2)","v":1},{"$f":"YEAR(vlookup_data[[#This Row],[Column8]])","v":1900},0,{"$f":"CONCATENATE(vlookup_data[[#This Row],[style '#]],\"|\",R1471)","v":"0|"}]
[{"$f":"IF(ISNUMBER(U1472)=TRUE,VLOOKUP(vlookup_data[[#This Row],[style '#]],[2]Sheet1!$A:$D,4,0)*ABS(U1472),0)","v":0},{"$f":"WEEKNUM(vlookup_data[[#This Row],[Column8]],2)","v":1},{"$f":"YEAR(vlookup_data[[#This Row],[Column8]])","v":1900},0,{"$f":"CONCATENATE(vlookup_data[[#This Row],[style '#]],\"|\",R1472)","v":"0|"}]
[{"$f":"IF(ISNUMBER(U1473)=TRUE,VLOOKUP(vlookup_data[[#This Row],[style '#]],[2]Sheet1!$A:$D,4,0)*ABS(U1473),0)","v":0},{"$f":"WEEKNUM(vlookup_data[[#This Row],[Column8]],2)","v":1},{"$f":"YEAR(vlookup_data[[#This Row],[Column8]])","v":1900},0,{"$f":"CONCATENATE(vlookup_data[[#This Row],[style '#]],\"|\",R1473)","v":"0|"}]
[{"$f":"IF(ISNUMBER(U1474)=TRUE,VLOOKUP(vlookup_data[[#This Row],[style '#]],[2]Sheet1!$A:$D,4,0)*ABS(U1474),0)","v":0},{"$f":"WEEKNUM(vlookup_data[[#This Row],[Column8]],2)","v":1},{"$f":"YEAR(vlookup_data[[#This Row],[Column8]])","v":1900},0,{"$f":"CONCATENATE(vlookup_data[[#This Row],[style '#]],\"|\",R1474)","v":"0|"}]
[{"$f":"IF(ISNUMBER(U1475)=TRUE,VLOOKUP(vlookup_data[[#This Row],[style '#]],[2]Sheet1!$A:$D,4,0)*ABS(U1475),0)","v":0},{"$f":"WEEKNUM(vlookup_data[[#This Row],[Column8]],2)","v":1},{"$f":"YEAR(vlookup_data[[#This Row],[Column8]])","v":1900},0,{"$f":"CONCATENATE(vlookup_data[[#This Row],[style '#]],\"|\",R1475)","v":"0|"}]
[{"$f":"IF(ISNUMBER(U1476)=TRUE,VLOOKUP(vlookup_data[[#This Row],[style '#]],[2]Sheet1!$A:$D,4,0)*ABS(U1476),0)","v":0},{"$f":"WEEKNUM(vlookup_data[[#This Row],[Column8]],2)","v":1},{"$f":"YEAR(vlookup_data[[#This Row],[Column8]])","v":1900},0,{"$f":"CONCATENATE(vlookup_data[[#This Row],[style '#]],\"|\",R1476)","v":"0|"}]
[{"$f":"IF(ISNUMBER(U1477)=TRUE,VLOOKUP(vlookup_data[[#This Row],[style '#]],[2]Sheet1!$A:$D,4,0)*ABS(U1477),0)","v":0},{"$f":"WEEKNUM(vlookup_data[[#This Row],[Column8]],2)","v":1},{"$f":"YEAR(vlookup_data[[#This Row],[Column8]])","v":1900},0,{"$f":"CONCATENATE(vlookup_data[[#This Row],[style '#]],\"|\",R1477)","v":"0|"}]
[{"$f":"IF(ISNUMBER(U1478)=TRUE,VLOOKUP(vlookup_data[[#This Row],[style '#]],[2]Sheet1!$A:$D,4,0)*ABS(U1478),0)","v":0},{"$f":"WEEKNUM(vlookup_data[[#This Row],[Column8]],2)","v":1},{"$f":"YEAR(vlookup_data[[#This Row],[Column8]])","v":1900},0,{"$f":"CONCATENATE(vlookup_data[[#This Row],[style '#]],\"|\",R1478)","v":"0|"}]
[{"$f":"IF(ISNUMBER(U1479)=TRUE,VLOOKUP(vlookup_data[[#This Row],[style '#]],[2]Sheet1!$A:$D,4,0)*ABS(U1479),0)","v":0},{"$f":"WEEKNUM(vlookup_data[[#This Row],[Column8]],2)","v":1},{"$f":"YEAR(vlookup_data[[#This Row],[Column8]])","v":1900},0,{"$f":"CONCATENATE(vlookup_data[[#This Row],[style '#]],\"|\",R1479)","v":"0|"}]
[{"$f":"IF(ISNUMBER(U1480)=TRUE,VLOOKUP(vlookup_data[[#This Row],[style '#]],[2]Sheet1!$A:$D,4,0)*ABS(U1480),0)","v":0},{"$f":"WEEKNUM(vlookup_data[[#This Row],[Column8]],2)","v":1},{"$f":"YEAR(vlookup_data[[#This Row],[Column8]])","v":1900},0,{"$f":"CONCATENATE(vlookup_data[[#This Row],[style '#]],\"|\",R1480)","v":"0|"}]
[{"$f":"IF(ISNUMBER(U1481)=TRUE,VLOOKUP(vlookup_data[[#This Row],[style '#]],[2]Sheet1!$A:$D,4,0)*ABS(U1481),0)","v":0},{"$f":"WEEKNUM(vlookup_data[[#This Row],[Column8]],2)","v":1},{"$f":"YEAR(vlookup_data[[#This Row],[Column8]])","v":1900},{"$f":"VALUE(G1481)","v":0},{"$f":"CONCATENATE(vlookup_data[[#This Row],[style '#]],\"|\",R1481)","v":"0|"}]
[{"$f":"IF(ISNUMBER(U1482)=TRUE,VLOOKUP(vlookup_data[[#This Row],[style '#]],[2]Sheet1!$A:$D,4,0)*ABS(U1482),0)","v":0},{"$f":"WEEKNUM(vlookup_data[[#This Row],[Column8]],2)","v":1},{"$f":"YEAR(vlookup_data[[#This Row],[Column8]])","v":1900},0,{"$f":"CONCATENATE(vlookup_data[[#This Row],[style '#]],\"|\",R1482)","v":"0|"}]
[{"$f":"IF(ISNUMBER(U1483)=TRUE,VLOOKUP(vlookup_data[[#This Row],[style '#]],[2]Sheet1!$A:$D,4,0)*ABS(U1483),0)","v":0},{"$f":"WEEKNUM(vlookup_data[[#This Row],[Column8]],2)","v":1},{"$f":"YEAR(vlookup_data[[#This Row],[Column8]])","v":1900},0,{"$f":"CONCATENATE(vlookup_data[[#This Row],[style '#]],\"|\",R1483)","v":"0|"}]
[{"$f":"IF(ISNUMBER(U1484)=TRUE,VLOOKUP(vlookup_data[[#This Row],[style '#]],[2]Sheet1!$A:$D,4,0)*ABS(U1484),0)","v":0},{"$f":"WEEKNUM(vlookup_data[[#This Row],[Column8]],2)","v":1},{"$f":"YEAR(vlookup_data[[#This Row],[Column8]])","v":1900},0,{"$f":"CONCATENATE(vlookup_data[[#This Row],[style '#]],\"|\",R1484)","v":"0|"}]
[{"$f":"IF(ISNUMBER(U1485)=TRUE,VLOOKUP(vlookup_data[[#This Row],[style '#]],[2]Sheet1!$A:$D,4,0)*ABS(U1485),0)","v":0},{"$f":"WEEKNUM(vlookup_data[[#This Row],[Column8]],2)","v":1},{"$f":"YEAR(vlookup_data[[#This Row],[Column8]])","v":1900},0,{"$f":"CONCATENATE(vlookup_data[[#This Row],[style '#]],\"|\",R1485)","v":"0|"}]
[{"$f":"IF(ISNUMBER(U1486)=TRUE,VLOOKUP(vlookup_data[[#This Row],[style '#]],[2]Sheet1!$A:$D,4,0)*ABS(U1486),0)","v":0},{"$f":"WEEKNUM(vlookup_data[[#This Row],[Column8]],2)","v":1},{"$f":"YEAR(vlookup_data[[#This Row],[Column8]])","v":1900},0,{"$f":"CONCATENATE(vlookup_data[[#This Row],[style '#]],\"|\",R1486)","v":"0|"}]
[{"$f":"IF(ISNUMBER(U1487)=TRUE,VLOOKUP(vlookup_data[[#This Row],[style '#]],[2]Sheet1!$A:$D,4,0)*ABS(U1487),0)","v":0},{"$f":"WEEKNUM(vlookup_data[[#This Row],[Column8]],2)","v":1},{"$f":"YEAR(vlookup_data[[#This Row],[Column8]])","v":1900},0,{"$f":"CONCATENATE(vlookup_data[[#This Row],[style '#]],\"|\",R1487)","v":"0|"}]
[{"$f":"IF(ISNUMBER(U1488)=TRUE,VLOOKUP(vlookup_data[[#This Row],[style '#]],[2]Sheet1!$A:$D,4,0)*ABS(U1488),0)","v":0},{"$f":"WEEKNUM(vlookup_data[[#This Row],[Column8]],2)","v":1},{"$f":"YEAR(vlookup_data[[#This Row],[Column8]])","v":1900},0,{"$f":"CONCATENATE(vlookup_data[[#This Row],[style '#]],\"|\",R1488)","v":"0|"}]
[{"$f":"IF(ISNUMBER(U1489)=TRUE,VLOOKUP(vlookup_data[[#This Row],[style '#]],[2]Sheet1!$A:$D,4,0)*ABS(U1489),0)","v":0},{"$f":"WEEKNUM(vlookup_data[[#This Row],[Column8]],2)","v":1},{"$f":"YEAR(vlookup_data[[#This Row],[Column8]])","v":1900},0,{"$f":"CONCATENATE(vlookup_data[[#This Row],[style '#]],\"|\",R1489)","v":"0|"}]
[{"$f":"IF(ISNUMBER(U1490)=TRUE,VLOOKUP(vlookup_data[[#This Row],[style '#]],[2]Sheet1!$A:$D,4,0)*ABS(U1490),0)","v":0},{"$f":"WEEKNUM(vlookup_data[[#This Row],[Column8]],2)","v":1},{"$f":"YEAR(vlookup_data[[#This Row],[Column8]])","v":1900},0,{"$f":"CONCATENATE(vlookup_data[[#This Row],[style '#]],\"|\",R1490)","v":"0|"}]
[{"$f":"IF(ISNUMBER(U1491)=TRUE,VLOOKUP(vlookup_data[[#This Row],[style '#]],[2]Sheet1!$A:$D,4,0)*ABS(U1491),0)","v":0},{"$f":"WEEKNUM(vlookup_data[[#This Row],[Column8]],2)","v":1},{"$f":"YEAR(vlookup_data[[#This Row],[Column8]])","v":1900},0,{"$f":"CONCATENATE(vlookup_data[[#This Row],[style '#]],\"|\",R1491)","v":"0|"}]
[{"$f":"IF(ISNUMBER(U1492)=TRUE,VLOOKUP(vlookup_data[[#This Row],[style '#]],[2]Sheet1!$A:$D,4,0)*ABS(U1492),0)","v":0},{"$f":"WEEKNUM(vlookup_data[[#This Row],[Column8]],2)","v":1},{"$f":"YEAR(vlookup_data[[#This Row],[Column8]])","v":1900},0,{"$f":"CONCATENATE(vlookup_data[[#This Row],[style '#]],\"|\",R1492)","v":"0|"}]
[{"$f":"IF(ISNUMBER(U1493)=TRUE,VLOOKUP(vlookup_data[[#This Row],[style '#]],[2]Sheet1!$A:$D,4,0)*ABS(U1493),0)","v":0},{"$f":"WEEKNUM(vlookup_data[[#This Row],[Column8]],2)","v":1},{"$f":"YEAR(vlookup_data[[#This Row],[Column8]])","v":1900},0,{"$f":"CONCATENATE(vlookup_data[[#This Row],[style '#]],\"|\",R1493)","v":"0|"}]
[{"$f":"IF(ISNUMBER(U1494)=TRUE,VLOOKUP(vlookup_data[[#This Row],[style '#]],[2]Sheet1!$A:$D,4,0)*ABS(U1494),0)","v":0},{"$f":"WEEKNUM(vlookup_data[[#This Row],[Column8]],2)","v":1},{"$f":"YEAR(vlookup_data[[#This Row],[Column8]])","v":1900},0,{"$f":"CONCATENATE(vlookup_data[[#This Row],[style '#]],\"|\",R1494)","v":"0|"}]
[{"$f":"IF(ISNUMBER(U1495)=TRUE,VLOOKUP(vlookup_data[[#This Row],[style '#]],[2]Sheet1!$A:$D,4,0)*ABS(U1495),0)","v":0},{"$f":"WEEKNUM(vlookup_data[[#This Row],[Column8]],2)","v":1},{"$f":"YEAR(vlookup_data[[#This Row],[Column8]])","v":1900},0,{"$f":"CONCATENATE(vlookup_data[[#This Row],[style '#]],\"|\",R1495)","v":"0|"}]
[{"$f":"IF(ISNUMBER(U1496)=TRUE,VLOOKUP(vlookup_data[[#This Row],[style '#]],[2]Sheet1!$A:$D,4,0)*ABS(U1496),0)","v":0},{"$f":"WEEKNUM(vlookup_data[[#This Row],[Column8]],2)","v":1},{"$f":"YEAR(vlookup_data[[#This Row],[Column8]])","v":1900},0,{"$f":"CONCATENATE(vlookup_data[[#This Row],[style '#]],\"|\",R1496)","v":"0|"}]
[{"$f":"IF(ISNUMBER(U1497)=TRUE,VLOOKUP(vlookup_data[[#This Row],[style '#]],[2]Sheet1!$A:$D,4,0)*ABS(U1497),0)","v":0},{"$f":"WEEKNUM(vlookup_data[[#This Row],[Column8]],2)","v":1},{"$f":"YEAR(vlookup_data[[#This Row],[Column8]])","v":1900},0,{"$f":"CONCATENATE(vlookup_data[[#This Row],[style '#]],\"|\",R1497)","v":"0|"}]
[{"$f":"IF(ISNUMBER(U1498)=TRUE,VLOOKUP(vlookup_data[[#This Row],[style '#]],[2]Sheet1!$A:$D,4,0)*ABS(U1498),0)","v":0},{"$f":"WEEKNUM(vlookup_data[[#This Row],[Column8]],2)","v":1},{"$f":"YEAR(vlookup_data[[#This Row],[Column8]])","v":1900},0,{"$f":"CONCATENATE(vlookup_data[[#This Row],[style '#]],\"|\",R1498)","v":"0|"}]
[{"$f":"IF(ISNUMBER(U1499)=TRUE,VLOOKUP(vlookup_data[[#This Row],[style '#]],[2]Sheet1!$A:$D,4,0)*ABS(U1499),0)","v":0},{"$f":"WEEKNUM(vlookup_data[[#This Row],[Column8]],2)","v":1},{"$f":"YEAR(vlookup_data[[#This Row],[Column8]])","v":1900},0,{"$f":"CONCATENATE(vlookup_data[[#This Row],[style '#]],\"|\",R1499)","v":"0|"}]
[{"$f":"IF(ISNUMBER(U1500)=TRUE,VLOOKUP(vlookup_data[[#This Row],[style '#]],[2]Sheet1!$A:$D,4,0)*ABS(U1500),0)","v":0},{"$f":"WEEKNUM(vlookup_data[[#This Row],[Column8]],2)","v":1},{"$f":"YEAR(vlookup_data[[#This Row],[Column8]])","v":1900},0,{"$f":"CONCATENATE(vlookup_data[[#This Row],[style '#]],\"|\",R1500)","v":"0|"}]
[{"$f":"IF(ISNUMBER(U1501)=TRUE,VLOOKUP(vlookup_data[[#This Row],[style '#]],[2]Sheet1!$A:$D,4,0)*ABS(U1501),0)","v":0},{"$f":"WEEKNUM(vlookup_data[[#This Row],[Column8]],2)","v":1},{"$f":"YEAR(vlookup_data[[#This Row],[Column8]])","v":1900},0,{"$f":"CONCATENATE(vlookup_data[[#This Row],[style '#]],\"|\",R1501)","v":"0|"}]
[{"$f":"IF(ISNUMBER(U1502)=TRUE,VLOOKUP(vlookup_data[[#This Row],[style '#]],[2]Sheet1!$A:$D,4,0)*ABS(U1502),0)","v":0},{"$f":"WEEKNUM(vlookup_data[[#This Row],[Column8]],2)","v":1},{"$f":"YEAR(vlookup_data[[#This Row],[Column8]])","v":1900},0,{"$f":"CONCATENATE(vlookup_data[[#This Row],[style '#]],\"|\",R1502)","v":"0|"}]
[{"$f":"IF(ISNUMBER(U1503)=TRUE,VLOOKUP(vlookup_data[[#This Row],[style '#]],[2]Sheet1!$A:$D,4,0)*ABS(U1503),0)","v":0},{"$f":"WEEKNUM(vlookup_data[[#This Row],[Column8]],2)","v":1},{"$f":"YEAR(vlookup_data[[#This Row],[Column8]])","v":1900},0,{"$f":"CONCATENATE(vlookup_data[[#This Row],[style '#]],\"|\",R1503)","v":"0|"}]
[{"$f":"IF(ISNUMBER(U1504)=TRUE,VLOOKUP(vlookup_data[[#This Row],[style '#]],[2]Sheet1!$A:$D,4,0)*ABS(U1504),0)","v":0},{"$f":"WEEKNUM(vlookup_data[[#This Row],[Column8]],2)","v":1},{"$f":"YEAR(vlookup_data[[#This Row],[Column8]])","v":1900},0,{"$f":"CONCATENATE(vlookup_data[[#This Row],[style '#]],\"|\",R1504)","v":"0|"}]
[{"$f":"IF(ISNUMBER(U1505)=TRUE,VLOOKUP(vlookup_data[[#This Row],[style '#]],[2]Sheet1!$A:$D,4,0)*ABS(U1505),0)","v":0},{"$f":"WEEKNUM(vlookup_data[[#This Row],[Column8]],2)","v":1},{"$f":"YEAR(vlookup_data[[#This Row],[Column8]])","v":1900},0,{"$f":"CONCATENATE(vlookup_data[[#This Row],[style '#]],\"|\",R1505)","v":"0|"}]
[{"$f":"IF(ISNUMBER(U1506)=TRUE,VLOOKUP(vlookup_data[[#This Row],[style '#]],[2]Sheet1!$A:$D,4,0)*ABS(U1506),0)","v":0},{"$f":"WEEKNUM(vlookup_data[[#This Row],[Column8]],2)","v":1},{"$f":"YEAR(vlookup_data[[#This Row],[Column8]])","v":1900},0,{"$f":"CONCATENATE(vlookup_data[[#This Row],[style '#]],\"|\",R1506)","v":"0|"}]
[{"$f":"IF(ISNUMBER(U1507)=TRUE,VLOOKUP(vlookup_data[[#This Row],[style '#]],[2]Sheet1!$A:$D,4,0)*ABS(U1507),0)","v":0},{"$f":"WEEKNUM(vlookup_data[[#This Row],[Column8]],2)","v":1},{"$f":"YEAR(vlookup_data[[#This Row],[Column8]])","v":1900},0,{"$f":"CONCATENATE(vlookup_data[[#This Row],[style '#]],\"|\",R1507)","v":"0|"}]
[{"$f":"IF(ISNUMBER(U1508)=TRUE,VLOOKUP(vlookup_data[[#This Row],[style '#]],[2]Sheet1!$A:$D,4,0)*ABS(U1508),0)","v":0},{"$f":"WEEKNUM(vlookup_data[[#This Row],[Column8]],2)","v":1},{"$f":"YEAR(vlookup_data[[#This Row],[Column8]])","v":1900},0,{"$f":"CONCATENATE(vlookup_data[[#This Row],[style '#]],\"|\",R1508)","v":"0|"}]
[{"$f":"IF(ISNUMBER(U1509)=TRUE,VLOOKUP(vlookup_data[[#This Row],[style '#]],[2]Sheet1!$A:$D,4,0)*ABS(U1509),0)","v":0},{"$f":"WEEKNUM(vlookup_data[[#This Row],[Column8]],2)","v":1},{"$f":"YEAR(vlookup_data[[#This Row],[Column8]])","v":1900},0,{"$f":"CONCATENATE(vlookup_data[[#This Row],[style '#]],\"|\",R1509)","v":"0|"}]
[{"$f":"IF(ISNUMBER(U1510)=TRUE,VLOOKUP(vlookup_data[[#This Row],[style '#]],[2]Sheet1!$A:$D,4,0)*ABS(U1510),0)","v":0},{"$f":"WEEKNUM(vlookup_data[[#This Row],[Column8]],2)","v":1},{"$f":"YEAR(vlookup_data[[#This Row],[Column8]])","v":1900},0,{"$f":"CONCATENATE(vlookup_data[[#This Row],[style '#]],\"|\",R1510)","v":"0|"}]
[{"$f":"IF(ISNUMBER(U1511)=TRUE,VLOOKUP(vlookup_data[[#This Row],[style '#]],[2]Sheet1!$A:$D,4,0)*ABS(U1511),0)","v":0},{"$f":"WEEKNUM(vlookup_data[[#This Row],[Column8]],2)","v":1},{"$f":"YEAR(vlookup_data[[#This Row],[Column8]])","v":1900},0,{"$f":"CONCATENATE(vlookup_data[[#This Row],[style '#]],\"|\",R1511)","v":"0|"}]
[{"$f":"IF(ISNUMBER(U1512)=TRUE,VLOOKUP(vlookup_data[[#This Row],[style '#]],[2]Sheet1!$A:$D,4,0)*ABS(U1512),0)","v":0},{"$f":"WEEKNUM(vlookup_data[[#This Row],[Column8]],2)","v":1},{"$f":"YEAR(vlookup_data[[#This Row],[Column8]])","v":1900},0,{"$f":"CONCATENATE(vlookup_data[[#This Row],[style '#]],\"|\",R1512)","v":"0|"}]
[{"$f":"IF(ISNUMBER(U1513)=TRUE,VLOOKUP(vlookup_data[[#This Row],[style '#]],[2]Sheet1!$A:$D,4,0)*ABS(U1513),0)","v":0},{"$f":"WEEKNUM(vlookup_data[[#This Row],[Column8]],2)","v":1},{"$f":"YEAR(vlookup_data[[#This Row],[Column8]])","v":1900},0,{"$f":"CONCATENATE(vlookup_data[[#This Row],[style '#]],\"|\",R1513)","v":"0|"}]
[{"$f":"IF(ISNUMBER(U1514)=TRUE,VLOOKUP(vlookup_data[[#This Row],[style '#]],[2]Sheet1!$A:$D,4,0)*ABS(U1514),0)","v":0},{"$f":"WEEKNUM(vlookup_data[[#This Row],[Column8]],2)","v":1},{"$f":"YEAR(vlookup_data[[#This Row],[Column8]])","v":1900},0,{"$f":"CONCATENATE(vlookup_data[[#This Row],[style '#]],\"|\",R1514)","v":"0|"}]
[{"$f":"IF(ISNUMBER(U1515)=TRUE,VLOOKUP(vlookup_data[[#This Row],[style '#]],[2]Sheet1!$A:$D,4,0)*ABS(U1515),0)","v":0},{"$f":"WEEKNUM(vlookup_data[[#This Row],[Column8]],2)","v":1},{"$f":"YEAR(vlookup_data[[#This Row],[Column8]])","v":1900},0,{"$f":"CONCATENATE(vlookup_data[[#This Row],[style '#]],\"|\",R1515)","v":"0|"}]
[{"$f":"IF(ISNUMBER(U1516)=TRUE,VLOOKUP(vlookup_data[[#This Row],[style '#]],[2]Sheet1!$A:$D,4,0)*ABS(U1516),0)","v":0},{"$f":"WEEKNUM(vlookup_data[[#This Row],[Column8]],2)","v":1},{"$f":"YEAR(vlookup_data[[#This Row],[Column8]])","v":1900},0,{"$f":"CONCATENATE(vlookup_data[[#This Row],[style '#]],\"|\",R1516)","v":"0|"}]
[{"$f":"IF(ISNUMBER(U1517)=TRUE,VLOOKUP(vlookup_data[[#This Row],[style '#]],[2]Sheet1!$A:$D,4,0)*ABS(U1517),0)","v":0},{"$f":"WEEKNUM(vlookup_data[[#This Row],[Column8]],2)","v":1},{"$f":"YEAR(vlookup_data[[#This Row],[Column8]])","v":1900},0,{"$f":"CONCATENATE(vlookup_data[[#This Row],[style '#]],\"|\",R1517)","v":"0|"}]
[{"$f":"IF(ISNUMBER(U1518)=TRUE,VLOOKUP(vlookup_data[[#This Row],[style '#]],[2]Sheet1!$A:$D,4,0)*ABS(U1518),0)","v":0},{"$f":"WEEKNUM(vlookup_data[[#This Row],[Column8]],2)","v":1},{"$f":"YEAR(vlookup_data[[#This Row],[Column8]])","v":1900},0,{"$f":"CONCATENATE(vlookup_data[[#This Row],[style '#]],\"|\",R1518)","v":"0|"}]
[{"$f":"IF(ISNUMBER(U1519)=TRUE,VLOOKUP(vlookup_data[[#This Row],[style '#]],[2]Sheet1!$A:$D,4,0)*ABS(U1519),0)","v":0},{"$f":"WEEKNUM(vlookup_data[[#This Row],[Column8]],2)","v":1},{"$f":"YEAR(vlookup_data[[#This Row],[Column8]])","v":1900},0,{"$f":"CONCATENATE(vlookup_data[[#This Row],[style '#]],\"|\",R1519)","v":"0|"}]
[{"$f":"IF(ISNUMBER(U1520)=TRUE,VLOOKUP(vlookup_data[[#This Row],[style '#]],[2]Sheet1!$A:$D,4,0)*ABS(U1520),0)","v":0},{"$f":"WEEKNUM(vlookup_data[[#This Row],[Column8]],2)","v":1},{"$f":"YEAR(vlookup_data[[#This Row],[Column8]])","v":1900},0,{"$f":"CONCATENATE(vlookup_data[[#This Row],[style '#]],\"|\",R1520)","v":"0|"}]
[{"$f":"IF(ISNUMBER(U1521)=TRUE,VLOOKUP(vlookup_data[[#This Row],[style '#]],[2]Sheet1!$A:$D,4,0)*ABS(U1521),0)","v":0},{"$f":"WEEKNUM(vlookup_data[[#This Row],[Column8]],2)","v":1},{"$f":"YEAR(vlookup_data[[#This Row],[Column8]])","v":1900},0,{"$f":"CONCATENATE(vlookup_data[[#This Row],[style '#]],\"|\",R1521)","v":"0|"}]
[{"$f":"IF(ISNUMBER(U1522)=TRUE,VLOOKUP(vlookup_data[[#This Row],[style '#]],[2]Sheet1!$A:$D,4,0)*ABS(U1522),0)","v":0},{"$f":"WEEKNUM(vlookup_data[[#This Row],[Column8]],2)","v":1},{"$f":"YEAR(vlookup_data[[#This Row],[Column8]])","v":1900},0,{"$f":"CONCATENATE(vlookup_data[[#This Row],[style '#]],\"|\",R1522)","v":"0|"}]
[{"$f":"IF(ISNUMBER(U1523)=TRUE,VLOOKUP(vlookup_data[[#This Row],[style '#]],[2]Sheet1!$A:$D,4,0)*ABS(U1523),0)","v":0},{"$f":"WEEKNUM(vlookup_data[[#This Row],[Column8]],2)","v":1},{"$f":"YEAR(vlookup_data[[#This Row],[Column8]])","v":1900},0,{"$f":"CONCATENATE(vlookup_data[[#This Row],[style '#]],\"|\",R1523)","v":"0|"}]
[{"$f":"IF(ISNUMBER(U1524)=TRUE,VLOOKUP(vlookup_data[[#This Row],[style '#]],[2]Sheet1!$A:$D,4,0)*ABS(U1524),0)","v":0},{"$f":"WEEKNUM(vlookup_data[[#This Row],[Column8]],2)","v":1},{"$f":"YEAR(vlookup_data[[#This Row],[Column8]])","v":1900},0,{"$f":"CONCATENATE(vlookup_data[[#This Row],[style '#]],\"|\",R1524)","v":"0|"}]
[{"$f":"IF(ISNUMBER(U1525)=TRUE,VLOOKUP(vlookup_data[[#This Row],[style '#]],[2]Sheet1!$A:$D,4,0)*ABS(U1525),0)","v":0},{"$f":"WEEKNUM(vlookup_data[[#This Row],[Column8]],2)","v":1},{"$f":"YEAR(vlookup_data[[#This Row],[Column8]])","v":1900},0,{"$f":"CONCATENATE(vlookup_data[[#This Row],[style '#]],\"|\",R1525)","v":"0|"}]
[{"$f":"IF(ISNUMBER(U1526)=TRUE,VLOOKUP(vlookup_data[[#This Row],[style '#]],[2]Sheet1!$A:$D,4,0)*ABS(U1526),0)","v":0},{"$f":"WEEKNUM(vlookup_data[[#This Row],[Column8]],2)","v":1},{"$f":"YEAR(vlookup_data[[#This Row],[Column8]])","v":1900},0,{"$f":"CONCATENATE(vlookup_data[[#This Row],[style '#]],\"|\",R1526)","v":"0|"}]
[{"$f":"IF(ISNUMBER(U1527)=TRUE,VLOOKUP(vlookup_data[[#This Row],[style '#]],[2]Sheet1!$A:$D,4,0)*ABS(U1527),0)","v":0},{"$f":"WEEKNUM(vlookup_data[[#This Row],[Column8]],2)","v":1},{"$f":"YEAR(vlookup_data[[#This Row],[Column8]])","v":1900},0,{"$f":"CONCATENATE(vlookup_data[[#This Row],[style '#]],\"|\",R1527)","v":"0|"}]
[{"$f":"IF(ISNUMBER(U1528)=TRUE,VLOOKUP(vlookup_data[[#This Row],[style '#]],[2]Sheet1!$A:$D,4,0)*ABS(U1528),0)","v":0},{"$f":"WEEKNUM(vlookup_data[[#This Row],[Column8]],2)","v":1},{"$f":"YEAR(vlookup_data[[#This Row],[Column8]])","v":1900},0,{"$f":"CONCATENATE(vlookup_data[[#This Row],[style '#]],\"|\",R1528)","v":"0|"}]
[{"$f":"IF(ISNUMBER(U1529)=TRUE,VLOOKUP(vlookup_data[[#This Row],[style '#]],[2]Sheet1!$A:$D,4,0)*ABS(U1529),0)","v":0},{"$f":"WEEKNUM(vlookup_data[[#This Row],[Column8]],2)","v":1},{"$f":"YEAR(vlookup_data[[#This Row],[Column8]])","v":1900},0,{"$f":"CONCATENATE(vlookup_data[[#This Row],[style '#]],\"|\",R1529)","v":"0|"}]
[{"$f":"IF(ISNUMBER(U1530)=TRUE,VLOOKUP(vlookup_data[[#This Row],[style '#]],[2]Sheet1!$A:$D,4,0)*ABS(U1530),0)","v":0},{"$f":"WEEKNUM(vlookup_data[[#This Row],[Column8]],2)","v":1},{"$f":"YEAR(vlookup_data[[#This Row],[Column8]])","v":1900},0,{"$f":"CONCATENATE(vlookup_data[[#This Row],[style '#]],\"|\",R1530)","v":"0|"}]
[{"$f":"IF(ISNUMBER(U1531)=TRUE,VLOOKUP(vlookup_data[[#This Row],[style '#]],[2]Sheet1!$A:$D,4,0)*ABS(U1531),0)","v":0},{"$f":"WEEKNUM(vlookup_data[[#This Row],[Column8]],2)","v":1},{"$f":"YEAR(vlookup_data[[#This Row],[Column8]])","v":1900},0,{"$f":"CONCATENATE(vlookup_data[[#This Row],[style '#]],\"|\",R1531)","v":"0|"}]
[{"$f":"IF(ISNUMBER(U1532)=TRUE,VLOOKUP(vlookup_data[[#This Row],[style '#]],[2]Sheet1!$A:$D,4,0)*ABS(U1532),0)","v":0},{"$f":"WEEKNUM(vlookup_data[[#This Row],[Column8]],2)","v":1},{"$f":"YEAR(vlookup_data[[#This Row],[Column8]])","v":1900},0,{"$f":"CONCATENATE(vlookup_data[[#This Row],[style '#]],\"|\",R1532)","v":"0|"}]
[{"$f":"IF(ISNUMBER(U1533)=TRUE,VLOOKUP(vlookup_data[[#This Row],[style '#]],[2]Sheet1!$A:$D,4,0)*ABS(U1533),0)","v":0},{"$f":"WEEKNUM(vlookup_data[[#This Row],[Column8]],2)","v":1},{"$f":"YEAR(vlookup_data[[#This Row],[Column8]])","v":1900},0,{"$f":"CONCATENATE(vlookup_data[[#This Row],[style '#]],\"|\",R1533)","v":"0|"}]
[{"$f":"IF(ISNUMBER(U1534)=TRUE,VLOOKUP(vlookup_data[[#This Row],[style '#]],[2]Sheet1!$A:$D,4,0)*ABS(U1534),0)","v":0},{"$f":"WEEKNUM(vlookup_data[[#This Row],[Column8]],2)","v":1},{"$f":"YEAR(vlookup_data[[#This Row],[Column8]])","v":1900},0,{"$f":"CONCATENATE(vlookup_data[[#This Row],[style '#]],\"|\",R1534)","v":"0|"}]
[{"$f":"IF(ISNUMBER(U1535)=TRUE,VLOOKUP(vlookup_data[[#This Row],[style '#]],[2]Sheet1!$A:$D,4,0)*ABS(U1535),0)","v":0},{"$f":"WEEKNUM(vlookup_data[[#This Row],[Column8]],2)","v":1},{"$f":"YEAR(vlookup_data[[#This Row],[Column8]])","v":1900},0,{"$f":"CONCATENATE(vlookup_data[[#This Row],[style '#]],\"|\",R1535)","v":"0|"}]
[{"$f":"IF(ISNUMBER(U1536)=TRUE,VLOOKUP(vlookup_data[[#This Row],[style '#]],[2]Sheet1!$A:$D,4,0)*ABS(U1536),0)","v":0},{"$f":"WEEKNUM(vlookup_data[[#This Row],[Column8]],2)","v":1},{"$f":"YEAR(vlookup_data[[#This Row],[Column8]])","v":1900},0,{"$f":"CONCATENATE(vlookup_data[[#This Row],[style '#]],\"|\",R1536)","v":"0|"}]
[{"$f":"IF(ISNUMBER(U1537)=TRUE,VLOOKUP(vlookup_data[[#This Row],[style '#]],[2]Sheet1!$A:$D,4,0)*ABS(U1537),0)","v":0},{"$f":"WEEKNUM(vlookup_data[[#This Row],[Column8]],2)","v":1},{"$f":"YEAR(vlookup_data[[#This Row],[Column8]])","v":1900},0,{"$f":"CONCATENATE(vlookup_data[[#This Row],[style '#]],\"|\",R1537)","v":"0|"}]
[{"$f":"IF(ISNUMBER(U1538)=TRUE,VLOOKUP(vlookup_data[[#This Row],[style '#]],[2]Sheet1!$A:$D,4,0)*ABS(U1538),0)","v":0},{"$f":"WEEKNUM(vlookup_data[[#This Row],[Column8]],2)","v":1},{"$f":"YEAR(vlookup_data[[#This Row],[Column8]])","v":1900},0,{"$f":"CONCATENATE(vlookup_data[[#This Row],[style '#]],\"|\",R1538)","v":"0|"}]
[{"$f":"IF(ISNUMBER(U1539)=TRUE,VLOOKUP(vlookup_data[[#This Row],[style '#]],[2]Sheet1!$A:$D,4,0)*ABS(U1539),0)","v":0},{"$f":"WEEKNUM(vlookup_data[[#This Row],[Column8]],2)","v":1},{"$f":"YEAR(vlookup_data[[#This Row],[Column8]])","v":1900},0,{"$f":"CONCATENATE(vlookup_data[[#This Row],[style '#]],\"|\",R1539)","v":"0|"}]
[{"$f":"IF(ISNUMBER(U1540)=TRUE,VLOOKUP(vlookup_data[[#This Row],[style '#]],[2]Sheet1!$A:$D,4,0)*ABS(U1540),0)","v":0},{"$f":"WEEKNUM(vlookup_data[[#This Row],[Column8]],2)","v":1},{"$f":"YEAR(vlookup_data[[#This Row],[Column8]])","v":1900},0,{"$f":"CONCATENATE(vlookup_data[[#This Row],[style '#]],\"|\",R1540)","v":"0|"}]
[{"$f":"IF(ISNUMBER(U1541)=TRUE,VLOOKUP(vlookup_data[[#This Row],[style '#]],[2]Sheet1!$A:$D,4,0)*ABS(U1541),0)","v":0},{"$f":"WEEKNUM(vlookup_data[[#This Row],[Column8]],2)","v":1},{"$f":"YEAR(vlookup_data[[#This Row],[Column8]])","v":1900},0,{"$f":"CONCATENATE(vlookup_data[[#This Row],[style '#]],\"|\",R1541)","v":"0|"}]
[{"$f":"IF(ISNUMBER(U1542)=TRUE,VLOOKUP(vlookup_data[[#This Row],[style '#]],[2]Sheet1!$A:$D,4,0)*ABS(U1542),0)","v":0},{"$f":"WEEKNUM(vlookup_data[[#This Row],[Column8]],2)","v":1},{"$f":"YEAR(vlookup_data[[#This Row],[Column8]])","v":1900},0,{"$f":"CONCATENATE(vlookup_data[[#This Row],[style '#]],\"|\",R1542)","v":"0|"}]
[{"$f":"IF(ISNUMBER(U1543)=TRUE,VLOOKUP(vlookup_data[[#This Row],[style '#]],[2]Sheet1!$A:$D,4,0)*ABS(U1543),0)","v":0},{"$f":"WEEKNUM(vlookup_data[[#This Row],[Column8]],2)","v":1},{"$f":"YEAR(vlookup_data[[#This Row],[Column8]])","v":1900},0,{"$f":"CONCATENATE(vlookup_data[[#This Row],[style '#]],\"|\",R1543)","v":"0|"}]
[{"$f":"IF(ISNUMBER(U1544)=TRUE,VLOOKUP(vlookup_data[[#This Row],[style '#]],[2]Sheet1!$A:$D,4,0)*ABS(U1544),0)","v":0},{"$f":"WEEKNUM(vlookup_data[[#This Row],[Column8]],2)","v":1},{"$f":"YEAR(vlookup_data[[#This Row],[Column8]])","v":1900},0,{"$f":"CONCATENATE(vlookup_data[[#This Row],[style '#]],\"|\",R1544)","v":"0|"}]
[{"$f":"IF(ISNUMBER(U1545)=TRUE,VLOOKUP(vlookup_data[[#This Row],[style '#]],[2]Sheet1!$A:$D,4,0)*ABS(U1545),0)","v":0},{"$f":"WEEKNUM(vlookup_data[[#This Row],[Column8]],2)","v":1},{"$f":"YEAR(vlookup_data[[#This Row],[Column8]])","v":1900},{"$f":"VALUE(G1545)","v":0},{"$f":"CONCATENATE(vlookup_data[[#This Row],[style '#]],\"|\",R1545)","v":"0|"}]
[{"$f":"IF(ISNUMBER(U1546)=TRUE,VLOOKUP(vlookup_data[[#This Row],[style '#]],[2]Sheet1!$A:$D,4,0)*ABS(U1546),0)","v":0},{"$f":"WEEKNUM(vlookup_data[[#This Row],[Column8]],2)","v":1},{"$f":"YEAR(vlookup_data[[#This Row],[Column8]])","v":1900},0,{"$f":"CONCATENATE(vlookup_data[[#This Row],[style '#]],\"|\",R1546)","v":"0|"}]
[{"$f":"IF(ISNUMBER(U1547)=TRUE,VLOOKUP(vlookup_data[[#This Row],[style '#]],[2]Sheet1!$A:$D,4,0)*ABS(U1547),0)","v":0},{"$f":"WEEKNUM(vlookup_data[[#This Row],[Column8]],2)","v":1},{"$f":"YEAR(vlookup_data[[#This Row],[Column8]])","v":1900},0,{"$f":"CONCATENATE(vlookup_data[[#This Row],[style '#]],\"|\",R1547)","v":"0|"}]
[{"$f":"IF(ISNUMBER(U1548)=TRUE,VLOOKUP(vlookup_data[[#This Row],[style '#]],[2]Sheet1!$A:$D,4,0)*ABS(U1548),0)","v":0},{"$f":"WEEKNUM(vlookup_data[[#This Row],[Column8]],2)","v":1},{"$f":"YEAR(vlookup_data[[#This Row],[Column8]])","v":1900},0,{"$f":"CONCATENATE(vlookup_data[[#This Row],[style '#]],\"|\",R1548)","v":"0|"}]
[{"$f":"IF(ISNUMBER(U1549)=TRUE,VLOOKUP(vlookup_data[[#This Row],[style '#]],[2]Sheet1!$A:$D,4,0)*ABS(U1549),0)","v":0},{"$f":"WEEKNUM(vlookup_data[[#This Row],[Column8]],2)","v":1},{"$f":"YEAR(vlookup_data[[#This Row],[Column8]])","v":1900},0,{"$f":"CONCATENATE(vlookup_data[[#This Row],[style '#]],\"|\",R1549)","v":"0|"}]
[{"$f":"IF(ISNUMBER(U1550)=TRUE,VLOOKUP(vlookup_data[[#This Row],[style '#]],[2]Sheet1!$A:$D,4,0)*ABS(U1550),0)","v":0},{"$f":"WEEKNUM(vlookup_data[[#This Row],[Column8]],2)","v":1},{"$f":"YEAR(vlookup_data[[#This Row],[Column8]])","v":1900},0,{"$f":"CONCATENATE(vlookup_data[[#This Row],[style '#]],\"|\",R1550)","v":"0|"}]
[{"$f":"IF(ISNUMBER(U1551)=TRUE,VLOOKUP(vlookup_data[[#This Row],[style '#]],[2]Sheet1!$A:$D,4,0)*ABS(U1551),0)","v":0},{"$f":"WEEKNUM(vlookup_data[[#This Row],[Column8]],2)","v":1},{"$f":"YEAR(vlookup_data[[#This Row],[Column8]])","v":1900},0,{"$f":"CONCATENATE(vlookup_data[[#This Row],[style '#]],\"|\",R1551)","v":"0|"}]
[{"$f":"IF(ISNUMBER(U1552)=TRUE,VLOOKUP(vlookup_data[[#This Row],[style '#]],[2]Sheet1!$A:$D,4,0)*ABS(U1552),0)","v":0},{"$f":"WEEKNUM(vlookup_data[[#This Row],[Column8]],2)","v":1},{"$f":"YEAR(vlookup_data[[#This Row],[Column8]])","v":1900},0,{"$f":"CONCATENATE(vlookup_data[[#This Row],[style '#]],\"|\",R1552)","v":"0|"}]
[{"$f":"IF(ISNUMBER(U1553)=TRUE,VLOOKUP(vlookup_data[[#This Row],[style '#]],[2]Sheet1!$A:$D,4,0)*ABS(U1553),0)","v":0},{"$f":"WEEKNUM(vlookup_data[[#This Row],[Column8]],2)","v":1},{"$f":"YEAR(vlookup_data[[#This Row],[Column8]])","v":1900},0,{"$f":"CONCATENATE(vlookup_data[[#This Row],[style '#]],\"|\",R1553)","v":"0|"}]
[{"$f":"IF(ISNUMBER(U1554)=TRUE,VLOOKUP(vlookup_data[[#This Row],[style '#]],[2]Sheet1!$A:$D,4,0)*ABS(U1554),0)","v":0},{"$f":"WEEKNUM(vlookup_data[[#This Row],[Column8]],2)","v":1},{"$f":"YEAR(vlookup_data[[#This Row],[Column8]])","v":1900},0,{"$f":"CONCATENATE(vlookup_data[[#This Row],[style '#]],\"|\",R1554)","v":"0|"}]
[{"$f":"IF(ISNUMBER(U1555)=TRUE,VLOOKUP(vlookup_data[[#This Row],[style '#]],[2]Sheet1!$A:$D,4,0)*ABS(U1555),0)","v":0},{"$f":"WEEKNUM(vlookup_data[[#This Row],[Column8]],2)","v":1},{"$f":"YEAR(vlookup_data[[#This Row],[Column8]])","v":1900},0,{"$f":"CONCATENATE(vlookup_data[[#This Row],[style '#]],\"|\",R1555)","v":"0|"}]
[{"$f":"IF(ISNUMBER(U1556)=TRUE,VLOOKUP(vlookup_data[[#This Row],[style '#]],[2]Sheet1!$A:$D,4,0)*ABS(U1556),0)","v":0},{"$f":"WEEKNUM(vlookup_data[[#This Row],[Column8]],2)","v":1},{"$f":"YEAR(vlookup_data[[#This Row],[Column8]])","v":1900},0,{"$f":"CONCATENATE(vlookup_data[[#This Row],[style '#]],\"|\",R1556)","v":"0|"}]
[{"$f":"IF(ISNUMBER(U1557)=TRUE,VLOOKUP(vlookup_data[[#This Row],[style '#]],[2]Sheet1!$A:$D,4,0)*ABS(U1557),0)","v":0},{"$f":"WEEKNUM(vlookup_data[[#This Row],[Column8]],2)","v":1},{"$f":"YEAR(vlookup_data[[#This Row],[Column8]])","v":1900},0,{"$f":"CONCATENATE(vlookup_data[[#This Row],[style '#]],\"|\",R1557)","v":"0|"}]
[{"$f":"IF(ISNUMBER(U1558)=TRUE,VLOOKUP(vlookup_data[[#This Row],[style '#]],[2]Sheet1!$A:$D,4,0)*ABS(U1558),0)","v":0},{"$f":"WEEKNUM(vlookup_data[[#This Row],[Column8]],2)","v":1},{"$f":"YEAR(vlookup_data[[#This Row],[Column8]])","v":1900},0,{"$f":"CONCATENATE(vlookup_data[[#This Row],[style '#]],\"|\",R1558)","v":"0|"}]
[{"$f":"IF(ISNUMBER(U1559)=TRUE,VLOOKUP(vlookup_data[[#This Row],[style '#]],[2]Sheet1!$A:$D,4,0)*ABS(U1559),0)","v":0},{"$f":"WEEKNUM(vlookup_data[[#This Row],[Column8]],2)","v":1},{"$f":"YEAR(vlookup_data[[#This Row],[Column8]])","v":1900},0,{"$f":"CONCATENATE(vlookup_data[[#This Row],[style '#]],\"|\",R1559)","v":"0|"}]
[{"$f":"IF(ISNUMBER(U1560)=TRUE,VLOOKUP(vlookup_data[[#This Row],[style '#]],[2]Sheet1!$A:$D,4,0)*ABS(U1560),0)","v":0},{"$f":"WEEKNUM(vlookup_data[[#This Row],[Column8]],2)","v":1},{"$f":"YEAR(vlookup_data[[#This Row],[Column8]])","v":1900},0,{"$f":"CONCATENATE(vlookup_data[[#This Row],[style '#]],\"|\",R1560)","v":"0|"}]
[{"$f":"IF(ISNUMBER(U1561)=TRUE,VLOOKUP(vlookup_data[[#This Row],[style '#]],[2]Sheet1!$A:$D,4,0)*ABS(U1561),0)","v":0},{"$f":"WEEKNUM(vlookup_data[[#This Row],[Column8]],2)","v":1},{"$f":"YEAR(vlookup_data[[#This Row],[Column8]])","v":1900},0,{"$f":"CONCATENATE(vlookup_data[[#This Row],[style '#]],\"|\",R1561)","v":"0|"}]
[{"$f":"IF(ISNUMBER(U1562)=TRUE,VLOOKUP(vlookup_data[[#This Row],[style '#]],[2]Sheet1!$A:$D,4,0)*ABS(U1562),0)","v":0},{"$f":"WEEKNUM(vlookup_data[[#This Row],[Column8]],2)","v":1},{"$f":"YEAR(vlookup_data[[#This Row],[Column8]])","v":1900},0,{"$f":"CONCATENATE(vlookup_data[[#This Row],[style '#]],\"|\",R1562)","v":"0|"}]
[{"$f":"IF(ISNUMBER(U1563)=TRUE,VLOOKUP(vlookup_data[[#This Row],[style '#]],[2]Sheet1!$A:$D,4,0)*ABS(U1563),0)","v":0},{"$f":"WEEKNUM(vlookup_data[[#This Row],[Column8]],2)","v":1},{"$f":"YEAR(vlookup_data[[#This Row],[Column8]])","v":1900},0,{"$f":"CONCATENATE(vlookup_data[[#This Row],[style '#]],\"|\",R1563)","v":"0|"}]
[{"$f":"IF(ISNUMBER(U1564)=TRUE,VLOOKUP(vlookup_data[[#This Row],[style '#]],[2]Sheet1!$A:$D,4,0)*ABS(U1564),0)","v":0},{"$f":"WEEKNUM(vlookup_data[[#This Row],[Column8]],2)","v":1},{"$f":"YEAR(vlookup_data[[#This Row],[Column8]])","v":1900},0,{"$f":"CONCATENATE(vlookup_data[[#This Row],[style '#]],\"|\",R1564)","v":"0|"}]
[{"$f":"IF(ISNUMBER(U1565)=TRUE,VLOOKUP(vlookup_data[[#This Row],[style '#]],[2]Sheet1!$A:$D,4,0)*ABS(U1565),0)","v":0},{"$f":"WEEKNUM(vlookup_data[[#This Row],[Column8]],2)","v":1},{"$f":"YEAR(vlookup_data[[#This Row],[Column8]])","v":1900},0,{"$f":"CONCATENATE(vlookup_data[[#This Row],[style '#]],\"|\",R1565)","v":"0|"}]
[{"$f":"IF(ISNUMBER(U1566)=TRUE,VLOOKUP(vlookup_data[[#This Row],[style '#]],[2]Sheet1!$A:$D,4,0)*ABS(U1566),0)","v":0},{"$f":"WEEKNUM(vlookup_data[[#This Row],[Column8]],2)","v":1},{"$f":"YEAR(vlookup_data[[#This Row],[Column8]])","v":1900},0,{"$f":"CONCATENATE(vlookup_data[[#This Row],[style '#]],\"|\",R1566)","v":"0|"}]
[{"$f":"IF(ISNUMBER(U1567)=TRUE,VLOOKUP(vlookup_data[[#This Row],[style '#]],[2]Sheet1!$A:$D,4,0)*ABS(U1567),0)","v":0},{"$f":"WEEKNUM(vlookup_data[[#This Row],[Column8]],2)","v":1},{"$f":"YEAR(vlookup_data[[#This Row],[Column8]])","v":1900},0,{"$f":"CONCATENATE(vlookup_data[[#This Row],[style '#]],\"|\",R1567)","v":"0|"}]
[{"$f":"IF(ISNUMBER(U1568)=TRUE,VLOOKUP(vlookup_data[[#This Row],[style '#]],[2]Sheet1!$A:$D,4,0)*ABS(U1568),0)","v":0},{"$f":"WEEKNUM(vlookup_data[[#This Row],[Column8]],2)","v":1},{"$f":"YEAR(vlookup_data[[#This Row],[Column8]])","v":1900},0,{"$f":"CONCATENATE(vlookup_data[[#This Row],[style '#]],\"|\",R1568)","v":"0|"}]
[{"$f":"IF(ISNUMBER(U1569)=TRUE,VLOOKUP(vlookup_data[[#This Row],[style '#]],[2]Sheet1!$A:$D,4,0)*ABS(U1569),0)","v":0},{"$f":"WEEKNUM(vlookup_data[[#This Row],[Column8]],2)","v":1},{"$f":"YEAR(vlookup_data[[#This Row],[Column8]])","v":1900},0,{"$f":"CONCATENATE(vlookup_data[[#This Row],[style '#]],\"|\",R1569)","v":"0|"}]
[{"$f":"IF(ISNUMBER(U1570)=TRUE,VLOOKUP(vlookup_data[[#This Row],[style '#]],[2]Sheet1!$A:$D,4,0)*ABS(U1570),0)","v":0},{"$f":"WEEKNUM(vlookup_data[[#This Row],[Column8]],2)","v":1},{"$f":"YEAR(vlookup_data[[#This Row],[Column8]])","v":1900},0,{"$f":"CONCATENATE(vlookup_data[[#This Row],[style '#]],\"|\",R1570)","v":"0|"}]
[{"$f":"IF(ISNUMBER(U1571)=TRUE,VLOOKUP(vlookup_data[[#This Row],[style '#]],[2]Sheet1!$A:$D,4,0)*ABS(U1571),0)","v":0},{"$f":"WEEKNUM(vlookup_data[[#This Row],[Column8]],2)","v":1},{"$f":"YEAR(vlookup_data[[#This Row],[Column8]])","v":1900},0,{"$f":"CONCATENATE(vlookup_data[[#This Row],[style '#]],\"|\",R1571)","v":"0|"}]
[{"$f":"IF(ISNUMBER(U1572)=TRUE,VLOOKUP(vlookup_data[[#This Row],[style '#]],[2]Sheet1!$A:$D,4,0)*ABS(U1572),0)","v":0},{"$f":"WEEKNUM(vlookup_data[[#This Row],[Column8]],2)","v":1},{"$f":"YEAR(vlookup_data[[#This Row],[Column8]])","v":1900},0,{"$f":"CONCATENATE(vlookup_data[[#This Row],[style '#]],\"|\",R1572)","v":"0|"}]
[{"$f":"IF(ISNUMBER(U1573)=TRUE,VLOOKUP(vlookup_data[[#This Row],[style '#]],[2]Sheet1!$A:$D,4,0)*ABS(U1573),0)","v":0},{"$f":"WEEKNUM(vlookup_data[[#This Row],[Column8]],2)","v":1},{"$f":"YEAR(vlookup_data[[#This Row],[Column8]])","v":1900},0,{"$f":"CONCATENATE(vlookup_data[[#This Row],[style '#]],\"|\",R1573)","v":"0|"}]
[{"$f":"IF(ISNUMBER(U1574)=TRUE,VLOOKUP(vlookup_data[[#This Row],[style '#]],[2]Sheet1!$A:$D,4,0)*ABS(U1574),0)","v":0},{"$f":"WEEKNUM(vlookup_data[[#This Row],[Column8]],2)","v":1},{"$f":"YEAR(vlookup_data[[#This Row],[Column8]])","v":1900},0,{"$f":"CONCATENATE(vlookup_data[[#This Row],[style '#]],\"|\",R1574)","v":"0|"}]
[{"$f":"IF(ISNUMBER(U1575)=TRUE,VLOOKUP(vlookup_data[[#This Row],[style '#]],[2]Sheet1!$A:$D,4,0)*ABS(U1575),0)","v":0},{"$f":"WEEKNUM(vlookup_data[[#This Row],[Column8]],2)","v":1},{"$f":"YEAR(vlookup_data[[#This Row],[Column8]])","v":1900},0,{"$f":"CONCATENATE(vlookup_data[[#This Row],[style '#]],\"|\",R1575)","v":"0|"}]
[{"$f":"IF(ISNUMBER(U1576)=TRUE,VLOOKUP(vlookup_data[[#This Row],[style '#]],[2]Sheet1!$A:$D,4,0)*ABS(U1576),0)","v":0},{"$f":"WEEKNUM(vlookup_data[[#This Row],[Column8]],2)","v":1},{"$f":"YEAR(vlookup_data[[#This Row],[Column8]])","v":1900},0,{"$f":"CONCATENATE(vlookup_data[[#This Row],[style '#]],\"|\",R1576)","v":"0|"}]
[{"$f":"IF(ISNUMBER(U1577)=TRUE,VLOOKUP(vlookup_data[[#This Row],[style '#]],[2]Sheet1!$A:$D,4,0)*ABS(U1577),0)","v":0},{"$f":"WEEKNUM(vlookup_data[[#This Row],[Column8]],2)","v":1},{"$f":"YEAR(vlookup_data[[#This Row],[Column8]])","v":1900},0,{"$f":"CONCATENATE(vlookup_data[[#This Row],[style '#]],\"|\",R1577)","v":"0|"}]
[{"$f":"IF(ISNUMBER(U1578)=TRUE,VLOOKUP(vlookup_data[[#This Row],[style '#]],[2]Sheet1!$A:$D,4,0)*ABS(U1578),0)","v":0},{"$f":"WEEKNUM(vlookup_data[[#This Row],[Column8]],2)","v":1},{"$f":"YEAR(vlookup_data[[#This Row],[Column8]])","v":1900},0,{"$f":"CONCATENATE(vlookup_data[[#This Row],[style '#]],\"|\",R1578)","v":"0|"}]
[{"$f":"IF(ISNUMBER(U1579)=TRUE,VLOOKUP(vlookup_data[[#This Row],[style '#]],[2]Sheet1!$A:$D,4,0)*ABS(U1579),0)","v":0},{"$f":"WEEKNUM(vlookup_data[[#This Row],[Column8]],2)","v":1},{"$f":"YEAR(vlookup_data[[#This Row],[Column8]])","v":1900},0,{"$f":"CONCATENATE(vlookup_data[[#This Row],[style '#]],\"|\",R1579)","v":"0|"}]
[{"$f":"IF(ISNUMBER(U1580)=TRUE,VLOOKUP(vlookup_data[[#This Row],[style '#]],[2]Sheet1!$A:$D,4,0)*ABS(U1580),0)","v":0},{"$f":"WEEKNUM(vlookup_data[[#This Row],[Column8]],2)","v":1},{"$f":"YEAR(vlookup_data[[#This Row],[Column8]])","v":1900},0,{"$f":"CONCATENATE(vlookup_data[[#This Row],[style '#]],\"|\",R1580)","v":"0|"}]
[{"$f":"IF(ISNUMBER(U1581)=TRUE,VLOOKUP(vlookup_data[[#This Row],[style '#]],[2]Sheet1!$A:$D,4,0)*ABS(U1581),0)","v":0},{"$f":"WEEKNUM(vlookup_data[[#This Row],[Column8]],2)","v":1},{"$f":"YEAR(vlookup_data[[#This Row],[Column8]])","v":1900},0,{"$f":"CONCATENATE(vlookup_data[[#This Row],[style '#]],\"|\",R1581)","v":"0|"}]
[{"$f":"IF(ISNUMBER(U1582)=TRUE,VLOOKUP(vlookup_data[[#This Row],[style '#]],[2]Sheet1!$A:$D,4,0)*ABS(U1582),0)","v":0},{"$f":"WEEKNUM(vlookup_data[[#This Row],[Column8]],2)","v":1},{"$f":"YEAR(vlookup_data[[#This Row],[Column8]])","v":1900},0,{"$f":"CONCATENATE(vlookup_data[[#This Row],[style '#]],\"|\",R1582)","v":"0|"}]
[{"$f":"IF(ISNUMBER(U1583)=TRUE,VLOOKUP(vlookup_data[[#This Row],[style '#]],[2]Sheet1!$A:$D,4,0)*ABS(U1583),0)","v":0},{"$f":"WEEKNUM(vlookup_data[[#This Row],[Column8]],2)","v":1},{"$f":"YEAR(vlookup_data[[#This Row],[Column8]])","v":1900},0,{"$f":"CONCATENATE(vlookup_data[[#This Row],[style '#]],\"|\",R1583)","v":"0|"}]
[{"$f":"IF(ISNUMBER(U1584)=TRUE,VLOOKUP(vlookup_data[[#This Row],[style '#]],[2]Sheet1!$A:$D,4,0)*ABS(U1584),0)","v":0},{"$f":"WEEKNUM(vlookup_data[[#This Row],[Column8]],2)","v":1},{"$f":"YEAR(vlookup_data[[#This Row],[Column8]])","v":1900},0,{"$f":"CONCATENATE(vlookup_data[[#This Row],[style '#]],\"|\",R1584)","v":"0|"}]
[{"$f":"IF(ISNUMBER(U1585)=TRUE,VLOOKUP(vlookup_data[[#This Row],[style '#]],[2]Sheet1!$A:$D,4,0)*ABS(U1585),0)","v":0},{"$f":"WEEKNUM(vlookup_data[[#This Row],[Column8]],2)","v":1},{"$f":"YEAR(vlookup_data[[#This Row],[Column8]])","v":1900},0,{"$f":"CONCATENATE(vlookup_data[[#This Row],[style '#]],\"|\",R1585)","v":"0|"}]
[{"$f":"IF(ISNUMBER(U1586)=TRUE,VLOOKUP(vlookup_data[[#This Row],[style '#]],[2]Sheet1!$A:$D,4,0)*ABS(U1586),0)","v":0},{"$f":"WEEKNUM(vlookup_data[[#This Row],[Column8]],2)","v":1},{"$f":"YEAR(vlookup_data[[#This Row],[Column8]])","v":1900},0,{"$f":"CONCATENATE(vlookup_data[[#This Row],[style '#]],\"|\",R1586)","v":"0|"}]
[{"$f":"IF(ISNUMBER(U1587)=TRUE,VLOOKUP(vlookup_data[[#This Row],[style '#]],[2]Sheet1!$A:$D,4,0)*ABS(U1587),0)","v":0},{"$f":"WEEKNUM(vlookup_data[[#This Row],[Column8]],2)","v":1},{"$f":"YEAR(vlookup_data[[#This Row],[Column8]])","v":1900},0,{"$f":"CONCATENATE(vlookup_data[[#This Row],[style '#]],\"|\",R1587)","v":"0|"}]
[{"$f":"IF(ISNUMBER(U1588)=TRUE,VLOOKUP(vlookup_data[[#This Row],[style '#]],[2]Sheet1!$A:$D,4,0)*ABS(U1588),0)","v":0},{"$f":"WEEKNUM(vlookup_data[[#This Row],[Column8]],2)","v":1},{"$f":"YEAR(vlookup_data[[#This Row],[Column8]])","v":1900},0,{"$f":"CONCATENATE(vlookup_data[[#This Row],[style '#]],\"|\",R1588)","v":"0|"}]
[{"$f":"IF(ISNUMBER(U1589)=TRUE,VLOOKUP(vlookup_data[[#This Row],[style '#]],[2]Sheet1!$A:$D,4,0)*ABS(U1589),0)","v":0},{"$f":"WEEKNUM(vlookup_data[[#This Row],[Column8]],2)","v":1},{"$f":"YEAR(vlookup_data[[#This Row],[Column8]])","v":1900},0,{"$f":"CONCATENATE(vlookup_data[[#This Row],[style '#]],\"|\",R1589)","v":"0|"}]
[{"$f":"IF(ISNUMBER(U1590)=TRUE,VLOOKUP(vlookup_data[[#This Row],[style '#]],[2]Sheet1!$A:$D,4,0)*ABS(U1590),0)","v":0},{"$f":"WEEKNUM(vlookup_data[[#This Row],[Column8]],2)","v":1},{"$f":"YEAR(vlookup_data[[#This Row],[Column8]])","v":1900},0,{"$f":"CONCATENATE(vlookup_data[[#This Row],[style '#]],\"|\",R1590)","v":"0|"}]
[{"$f":"IF(ISNUMBER(U1591)=TRUE,VLOOKUP(vlookup_data[[#This Row],[style '#]],[2]Sheet1!$A:$D,4,0)*ABS(U1591),0)","v":0},{"$f":"WEEKNUM(vlookup_data[[#This Row],[Column8]],2)","v":1},{"$f":"YEAR(vlookup_data[[#This Row],[Column8]])","v":1900},0,{"$f":"CONCATENATE(vlookup_data[[#This Row],[style '#]],\"|\",R1591)","v":"0|"}]
[{"$f":"IF(ISNUMBER(U1592)=TRUE,VLOOKUP(vlookup_data[[#This Row],[style '#]],[2]Sheet1!$A:$D,4,0)*ABS(U1592),0)","v":0},{"$f":"WEEKNUM(vlookup_data[[#This Row],[Column8]],2)","v":1},{"$f":"YEAR(vlookup_data[[#This Row],[Column8]])","v":1900},0,{"$f":"CONCATENATE(vlookup_data[[#This Row],[style '#]],\"|\",R1592)","v":"0|"}]
[{"$f":"IF(ISNUMBER(U1593)=TRUE,VLOOKUP(vlookup_data[[#This Row],[style '#]],[2]Sheet1!$A:$D,4,0)*ABS(U1593),0)","v":0},{"$f":"WEEKNUM(vlookup_data[[#This Row],[Column8]],2)","v":1},{"$f":"YEAR(vlookup_data[[#This Row],[Column8]])","v":1900},0,{"$f":"CONCATENATE(vlookup_data[[#This Row],[style '#]],\"|\",R1593)","v":"0|"}]
[{"$f":"IF(ISNUMBER(U1594)=TRUE,VLOOKUP(vlookup_data[[#This Row],[style '#]],[2]Sheet1!$A:$D,4,0)*ABS(U1594),0)","v":0},{"$f":"WEEKNUM(vlookup_data[[#This Row],[Column8]],2)","v":1},{"$f":"YEAR(vlookup_data[[#This Row],[Column8]])","v":1900},0,{"$f":"CONCATENATE(vlookup_data[[#This Row],[style '#]],\"|\",R1594)","v":"0|"}]
[{"$f":"IF(ISNUMBER(U1595)=TRUE,VLOOKUP(vlookup_data[[#This Row],[style '#]],[2]Sheet1!$A:$D,4,0)*ABS(U1595),0)","v":0},{"$f":"WEEKNUM(vlookup_data[[#This Row],[Column8]],2)","v":1},{"$f":"YEAR(vlookup_data[[#This Row],[Column8]])","v":1900},0,{"$f":"CONCATENATE(vlookup_data[[#This Row],[style '#]],\"|\",R1595)","v":"0|"}]
[{"$f":"IF(ISNUMBER(U1596)=TRUE,VLOOKUP(vlookup_data[[#This Row],[style '#]],[2]Sheet1!$A:$D,4,0)*ABS(U1596),0)","v":0},{"$f":"WEEKNUM(vlookup_data[[#This Row],[Column8]],2)","v":1},{"$f":"YEAR(vlookup_data[[#This Row],[Column8]])","v":1900},0,{"$f":"CONCATENATE(vlookup_data[[#This Row],[style '#]],\"|\",R1596)","v":"0|"}]
[{"$f":"IF(ISNUMBER(U1597)=TRUE,VLOOKUP(vlookup_data[[#This Row],[style '#]],[2]Sheet1!$A:$D,4,0)*ABS(U1597),0)","v":0},{"$f":"WEEKNUM(vlookup_data[[#This Row],[Column8]],2)","v":1},{"$f":"YEAR(vlookup_data[[#This Row],[Column8]])","v":1900},0,{"$f":"CONCATENATE(vlookup_data[[#This Row],[style '#]],\"|\",R1597)","v":"0|"}]
[{"$f":"IF(ISNUMBER(U1598)=TRUE,VLOOKUP(vlookup_data[[#This Row],[style '#]],[2]Sheet1!$A:$D,4,0)*ABS(U1598),0)","v":0},{"$f":"WEEKNUM(vlookup_data[[#This Row],[Column8]],2)","v":1},{"$f":"YEAR(vlookup_data[[#This Row],[Column8]])","v":1900},0,{"$f":"CONCATENATE(vlookup_data[[#This Row],[style '#]],\"|\",R1598)","v":"0|"}]
[{"$f":"IF(ISNUMBER(U1599)=TRUE,VLOOKUP(vlookup_data[[#This Row],[style '#]],[2]Sheet1!$A:$D,4,0)*ABS(U1599),0)","v":0},{"$f":"WEEKNUM(vlookup_data[[#This Row],[Column8]],2)","v":1},{"$f":"YEAR(vlookup_data[[#This Row],[Column8]])","v":1900},0,{"$f":"CONCATENATE(vlookup_data[[#This Row],[style '#]],\"|\",R1599)","v":"0|"}]
[{"$f":"IF(ISNUMBER(U1600)=TRUE,VLOOKUP(vlookup_data[[#This Row],[style '#]],[2]Sheet1!$A:$D,4,0)*ABS(U1600),0)","v":0},{"$f":"WEEKNUM(vlookup_data[[#This Row],[Column8]],2)","v":1},{"$f":"YEAR(vlookup_data[[#This Row],[Column8]])","v":1900},0,{"$f":"CONCATENATE(vlookup_data[[#This Row],[style '#]],\"|\",R1600)","v":"0|"}]
[{"$f":"IF(ISNUMBER(U1601)=TRUE,VLOOKUP(vlookup_data[[#This Row],[style '#]],[2]Sheet1!$A:$D,4,0)*ABS(U1601),0)","v":0},{"$f":"WEEKNUM(vlookup_data[[#This Row],[Column8]],2)","v":1},{"$f":"YEAR(vlookup_data[[#This Row],[Column8]])","v":1900},0,{"$f":"CONCATENATE(vlookup_data[[#This Row],[style '#]],\"|\",R1601)","v":"0|"}]
[{"$f":"IF(ISNUMBER(U1602)=TRUE,VLOOKUP(vlookup_data[[#This Row],[style '#]],[2]Sheet1!$A:$D,4,0)*ABS(U1602),0)","v":0},{"$f":"WEEKNUM(vlookup_data[[#This Row],[Column8]],2)","v":1},{"$f":"YEAR(vlookup_data[[#This Row],[Column8]])","v":1900},0,{"$f":"CONCATENATE(vlookup_data[[#This Row],[style '#]],\"|\",R1602)","v":"0|"}]
[{"$f":"IF(ISNUMBER(U1603)=TRUE,VLOOKUP(vlookup_data[[#This Row],[style '#]],[2]Sheet1!$A:$D,4,0)*ABS(U1603),0)","v":0},{"$f":"WEEKNUM(vlookup_data[[#This Row],[Column8]],2)","v":1},{"$f":"YEAR(vlookup_data[[#This Row],[Column8]])","v":1900},0,{"$f":"CONCATENATE(vlookup_data[[#This Row],[style '#]],\"|\",R1603)","v":"0|"}]
[{"$f":"IF(ISNUMBER(U1604)=TRUE,VLOOKUP(vlookup_data[[#This Row],[style '#]],[2]Sheet1!$A:$D,4,0)*ABS(U1604),0)","v":0},{"$f":"WEEKNUM(vlookup_data[[#This Row],[Column8]],2)","v":1},{"$f":"YEAR(vlookup_data[[#This Row],[Column8]])","v":1900},0,{"$f":"CONCATENATE(vlookup_data[[#This Row],[style '#]],\"|\",R1604)","v":"0|"}]
[{"$f":"IF(ISNUMBER(U1605)=TRUE,VLOOKUP(vlookup_data[[#This Row],[style '#]],[2]Sheet1!$A:$D,4,0)*ABS(U1605),0)","v":0},{"$f":"WEEKNUM(vlookup_data[[#This Row],[Column8]],2)","v":1},{"$f":"YEAR(vlookup_data[[#This Row],[Column8]])","v":1900},0,{"$f":"CONCATENATE(vlookup_data[[#This Row],[style '#]],\"|\",R1605)","v":"0|"}]
[{"$f":"IF(ISNUMBER(U1606)=TRUE,VLOOKUP(vlookup_data[[#This Row],[style '#]],[2]Sheet1!$A:$D,4,0)*ABS(U1606),0)","v":0},{"$f":"WEEKNUM(vlookup_data[[#This Row],[Column8]],2)","v":1},{"$f":"YEAR(vlookup_data[[#This Row],[Column8]])","v":1900},0,{"$f":"CONCATENATE(vlookup_data[[#This Row],[style '#]],\"|\",R1606)","v":"0|"}]
[{"$f":"IF(ISNUMBER(U1607)=TRUE,VLOOKUP(vlookup_data[[#This Row],[style '#]],[2]Sheet1!$A:$D,4,0)*ABS(U1607),0)","v":0},{"$f":"WEEKNUM(vlookup_data[[#This Row],[Column8]],2)","v":1},{"$f":"YEAR(vlookup_data[[#This Row],[Column8]])","v":1900},0,{"$f":"CONCATENATE(vlookup_data[[#This Row],[style '#]],\"|\",R1607)","v":"0|"}]
[{"$f":"IF(ISNUMBER(U1608)=TRUE,VLOOKUP(vlookup_data[[#This Row],[style '#]],[2]Sheet1!$A:$D,4,0)*ABS(U1608),0)","v":0},{"$f":"WEEKNUM(vlookup_data[[#This Row],[Column8]],2)","v":1},{"$f":"YEAR(vlookup_data[[#This Row],[Column8]])","v":1900},0,{"$f":"CONCATENATE(vlookup_data[[#This Row],[style '#]],\"|\",R1608)","v":"0|"}]
[{"$f":"IF(ISNUMBER(U1609)=TRUE,VLOOKUP(vlookup_data[[#This Row],[style '#]],[2]Sheet1!$A:$D,4,0)*ABS(U1609),0)","v":0},{"$f":"WEEKNUM(vlookup_data[[#This Row],[Column8]],2)","v":1},{"$f":"YEAR(vlookup_data[[#This Row],[Column8]])","v":1900},{"$f":"VALUE(G1609)","v":0},{"$f":"CONCATENATE(vlookup_data[[#This Row],[style '#]],\"|\",R1609)","v":"0|"}]
[{"$f":"IF(ISNUMBER(U1610)=TRUE,VLOOKUP(vlookup_data[[#This Row],[style '#]],[2]Sheet1!$A:$D,4,0)*ABS(U1610),0)","v":0},{"$f":"WEEKNUM(vlookup_data[[#This Row],[Column8]],2)","v":1},{"$f":"YEAR(vlookup_data[[#This Row],[Column8]])","v":1900},0,{"$f":"CONCATENATE(vlookup_data[[#This Row],[style '#]],\"|\",R1610)","v":"0|"}]
[{"$f":"IF(ISNUMBER(U1611)=TRUE,VLOOKUP(vlookup_data[[#This Row],[style '#]],[2]Sheet1!$A:$D,4,0)*ABS(U1611),0)","v":0},{"$f":"WEEKNUM(vlookup_data[[#This Row],[Column8]],2)","v":1},{"$f":"YEAR(vlookup_data[[#This Row],[Column8]])","v":1900},0,{"$f":"CONCATENATE(vlookup_data[[#This Row],[style '#]],\"|\",R1611)","v":"0|"}]
[{"$f":"IF(ISNUMBER(U1612)=TRUE,VLOOKUP(vlookup_data[[#This Row],[style '#]],[2]Sheet1!$A:$D,4,0)*ABS(U1612),0)","v":0},{"$f":"WEEKNUM(vlookup_data[[#This Row],[Column8]],2)","v":1},{"$f":"YEAR(vlookup_data[[#This Row],[Column8]])","v":1900},0,{"$f":"CONCATENATE(vlookup_data[[#This Row],[style '#]],\"|\",R1612)","v":"0|"}]
[{"$f":"IF(ISNUMBER(U1613)=TRUE,VLOOKUP(vlookup_data[[#This Row],[style '#]],[2]Sheet1!$A:$D,4,0)*ABS(U1613),0)","v":0},{"$f":"WEEKNUM(vlookup_data[[#This Row],[Column8]],2)","v":1},{"$f":"YEAR(vlookup_data[[#This Row],[Column8]])","v":1900},0,{"$f":"CONCATENATE(vlookup_data[[#This Row],[style '#]],\"|\",R1613)","v":"0|"}]
[{"$f":"IF(ISNUMBER(U1614)=TRUE,VLOOKUP(vlookup_data[[#This Row],[style '#]],[2]Sheet1!$A:$D,4,0)*ABS(U1614),0)","v":0},{"$f":"WEEKNUM(vlookup_data[[#This Row],[Column8]],2)","v":1},{"$f":"YEAR(vlookup_data[[#This Row],[Column8]])","v":1900},0,{"$f":"CONCATENATE(vlookup_data[[#This Row],[style '#]],\"|\",R1614)","v":"0|"}]
[{"$f":"IF(ISNUMBER(U1615)=TRUE,VLOOKUP(vlookup_data[[#This Row],[style '#]],[2]Sheet1!$A:$D,4,0)*ABS(U1615),0)","v":0},{"$f":"WEEKNUM(vlookup_data[[#This Row],[Column8]],2)","v":1},{"$f":"YEAR(vlookup_data[[#This Row],[Column8]])","v":1900},0,{"$f":"CONCATENATE(vlookup_data[[#This Row],[style '#]],\"|\",R1615)","v":"0|"}]
[{"$f":"IF(ISNUMBER(U1616)=TRUE,VLOOKUP(vlookup_data[[#This Row],[style '#]],[2]Sheet1!$A:$D,4,0)*ABS(U1616),0)","v":0},{"$f":"WEEKNUM(vlookup_data[[#This Row],[Column8]],2)","v":1},{"$f":"YEAR(vlookup_data[[#This Row],[Column8]])","v":1900},0,{"$f":"CONCATENATE(vlookup_data[[#This Row],[style '#]],\"|\",R1616)","v":"0|"}]
[{"$f":"IF(ISNUMBER(U1617)=TRUE,VLOOKUP(vlookup_data[[#This Row],[style '#]],[2]Sheet1!$A:$D,4,0)*ABS(U1617),0)","v":0},{"$f":"WEEKNUM(vlookup_data[[#This Row],[Column8]],2)","v":1},{"$f":"YEAR(vlookup_data[[#This Row],[Column8]])","v":1900},0,{"$f":"CONCATENATE(vlookup_data[[#This Row],[style '#]],\"|\",R1617)","v":"0|"}]
[{"$f":"IF(ISNUMBER(U1618)=TRUE,VLOOKUP(vlookup_data[[#This Row],[style '#]],[2]Sheet1!$A:$D,4,0)*ABS(U1618),0)","v":0},{"$f":"WEEKNUM(vlookup_data[[#This Row],[Column8]],2)","v":1},{"$f":"YEAR(vlookup_data[[#This Row],[Column8]])","v":1900},0,{"$f":"CONCATENATE(vlookup_data[[#This Row],[style '#]],\"|\",R1618)","v":"0|"}]
[{"$f":"IF(ISNUMBER(U1619)=TRUE,VLOOKUP(vlookup_data[[#This Row],[style '#]],[2]Sheet1!$A:$D,4,0)*ABS(U1619),0)","v":0},{"$f":"WEEKNUM(vlookup_data[[#This Row],[Column8]],2)","v":1},{"$f":"YEAR(vlookup_data[[#This Row],[Column8]])","v":1900},0,{"$f":"CONCATENATE(vlookup_data[[#This Row],[style '#]],\"|\",R1619)","v":"0|"}]
[{"$f":"IF(ISNUMBER(U1620)=TRUE,VLOOKUP(vlookup_data[[#This Row],[style '#]],[2]Sheet1!$A:$D,4,0)*ABS(U1620),0)","v":0},{"$f":"WEEKNUM(vlookup_data[[#This Row],[Column8]],2)","v":1},{"$f":"YEAR(vlookup_data[[#This Row],[Column8]])","v":1900},0,{"$f":"CONCATENATE(vlookup_data[[#This Row],[style '#]],\"|\",R1620)","v":"0|"}]
[{"$f":"IF(ISNUMBER(U1621)=TRUE,VLOOKUP(vlookup_data[[#This Row],[style '#]],[2]Sheet1!$A:$D,4,0)*ABS(U1621),0)","v":0},{"$f":"WEEKNUM(vlookup_data[[#This Row],[Column8]],2)","v":1},{"$f":"YEAR(vlookup_data[[#This Row],[Column8]])","v":1900},0,{"$f":"CONCATENATE(vlookup_data[[#This Row],[style '#]],\"|\",R1621)","v":"0|"}]
[{"$f":"IF(ISNUMBER(U1622)=TRUE,VLOOKUP(vlookup_data[[#This Row],[style '#]],[2]Sheet1!$A:$D,4,0)*ABS(U1622),0)","v":0},{"$f":"WEEKNUM(vlookup_data[[#This Row],[Column8]],2)","v":1},{"$f":"YEAR(vlookup_data[[#This Row],[Column8]])","v":1900},0,{"$f":"CONCATENATE(vlookup_data[[#This Row],[style '#]],\"|\",R1622)","v":"0|"}]
[{"$f":"IF(ISNUMBER(U1623)=TRUE,VLOOKUP(vlookup_data[[#This Row],[style '#]],[2]Sheet1!$A:$D,4,0)*ABS(U1623),0)","v":0},{"$f":"WEEKNUM(vlookup_data[[#This Row],[Column8]],2)","v":1},{"$f":"YEAR(vlookup_data[[#This Row],[Column8]])","v":1900},0,{"$f":"CONCATENATE(vlookup_data[[#This Row],[style '#]],\"|\",R1623)","v":"0|"}]
[{"$f":"IF(ISNUMBER(U1624)=TRUE,VLOOKUP(vlookup_data[[#This Row],[style '#]],[2]Sheet1!$A:$D,4,0)*ABS(U1624),0)","v":0},{"$f":"WEEKNUM(vlookup_data[[#This Row],[Column8]],2)","v":1},{"$f":"YEAR(vlookup_data[[#This Row],[Column8]])","v":1900},0,{"$f":"CONCATENATE(vlookup_data[[#This Row],[style '#]],\"|\",R1624)","v":"0|"}]
[{"$f":"IF(ISNUMBER(U1625)=TRUE,VLOOKUP(vlookup_data[[#This Row],[style '#]],[2]Sheet1!$A:$D,4,0)*ABS(U1625),0)","v":0},{"$f":"WEEKNUM(vlookup_data[[#This Row],[Column8]],2)","v":1},{"$f":"YEAR(vlookup_data[[#This Row],[Column8]])","v":1900},0,{"$f":"CONCATENATE(vlookup_data[[#This Row],[style '#]],\"|\",R1625)","v":"0|"}]
[{"$f":"IF(ISNUMBER(U1626)=TRUE,VLOOKUP(vlookup_data[[#This Row],[style '#]],[2]Sheet1!$A:$D,4,0)*ABS(U1626),0)","v":0},{"$f":"WEEKNUM(vlookup_data[[#This Row],[Column8]],2)","v":1},{"$f":"YEAR(vlookup_data[[#This Row],[Column8]])","v":1900},0,{"$f":"CONCATENATE(vlookup_data[[#This Row],[style '#]],\"|\",R1626)","v":"0|"}]
[{"$f":"IF(ISNUMBER(U1627)=TRUE,VLOOKUP(vlookup_data[[#This Row],[style '#]],[2]Sheet1!$A:$D,4,0)*ABS(U1627),0)","v":0},{"$f":"WEEKNUM(vlookup_data[[#This Row],[Column8]],2)","v":1},{"$f":"YEAR(vlookup_data[[#This Row],[Column8]])","v":1900},0,{"$f":"CONCATENATE(vlookup_data[[#This Row],[style '#]],\"|\",R1627)","v":"0|"}]
[{"$f":"IF(ISNUMBER(U1628)=TRUE,VLOOKUP(vlookup_data[[#This Row],[style '#]],[2]Sheet1!$A:$D,4,0)*ABS(U1628),0)","v":0},{"$f":"WEEKNUM(vlookup_data[[#This Row],[Column8]],2)","v":1},{"$f":"YEAR(vlookup_data[[#This Row],[Column8]])","v":1900},0,{"$f":"CONCATENATE(vlookup_data[[#This Row],[style '#]],\"|\",R1628)","v":"0|"}]
[{"$f":"IF(ISNUMBER(U1629)=TRUE,VLOOKUP(vlookup_data[[#This Row],[style '#]],[2]Sheet1!$A:$D,4,0)*ABS(U1629),0)","v":0},{"$f":"WEEKNUM(vlookup_data[[#This Row],[Column8]],2)","v":1},{"$f":"YEAR(vlookup_data[[#This Row],[Column8]])","v":1900},0,{"$f":"CONCATENATE(vlookup_data[[#This Row],[style '#]],\"|\",R1629)","v":"0|"}]
[{"$f":"IF(ISNUMBER(U1630)=TRUE,VLOOKUP(vlookup_data[[#This Row],[style '#]],[2]Sheet1!$A:$D,4,0)*ABS(U1630),0)","v":0},{"$f":"WEEKNUM(vlookup_data[[#This Row],[Column8]],2)","v":1},{"$f":"YEAR(vlookup_data[[#This Row],[Column8]])","v":1900},0,{"$f":"CONCATENATE(vlookup_data[[#This Row],[style '#]],\"|\",R1630)","v":"0|"}]
[{"$f":"IF(ISNUMBER(U1631)=TRUE,VLOOKUP(vlookup_data[[#This Row],[style '#]],[2]Sheet1!$A:$D,4,0)*ABS(U1631),0)","v":0},{"$f":"WEEKNUM(vlookup_data[[#This Row],[Column8]],2)","v":1},{"$f":"YEAR(vlookup_data[[#This Row],[Column8]])","v":1900},0,{"$f":"CONCATENATE(vlookup_data[[#This Row],[style '#]],\"|\",R1631)","v":"0|"}]
[{"$f":"IF(ISNUMBER(U1632)=TRUE,VLOOKUP(vlookup_data[[#This Row],[style '#]],[2]Sheet1!$A:$D,4,0)*ABS(U1632),0)","v":0},{"$f":"WEEKNUM(vlookup_data[[#This Row],[Column8]],2)","v":1},{"$f":"YEAR(vlookup_data[[#This Row],[Column8]])","v":1900},0,{"$f":"CONCATENATE(vlookup_data[[#This Row],[style '#]],\"|\",R1632)","v":"0|"}]
[{"$f":"IF(ISNUMBER(U1633)=TRUE,VLOOKUP(vlookup_data[[#This Row],[style '#]],[2]Sheet1!$A:$D,4,0)*ABS(U1633),0)","v":0},{"$f":"WEEKNUM(vlookup_data[[#This Row],[Column8]],2)","v":1},{"$f":"YEAR(vlookup_data[[#This Row],[Column8]])","v":1900},0,{"$f":"CONCATENATE(vlookup_data[[#This Row],[style '#]],\"|\",R1633)","v":"0|"}]
[{"$f":"IF(ISNUMBER(U1634)=TRUE,VLOOKUP(vlookup_data[[#This Row],[style '#]],[2]Sheet1!$A:$D,4,0)*ABS(U1634),0)","v":0},{"$f":"WEEKNUM(vlookup_data[[#This Row],[Column8]],2)","v":1},{"$f":"YEAR(vlookup_data[[#This Row],[Column8]])","v":1900},0,{"$f":"CONCATENATE(vlookup_data[[#This Row],[style '#]],\"|\",R1634)","v":"0|"}]
[{"$f":"IF(ISNUMBER(U1635)=TRUE,VLOOKUP(vlookup_data[[#This Row],[style '#]],[2]Sheet1!$A:$D,4,0)*ABS(U1635),0)","v":0},{"$f":"WEEKNUM(vlookup_data[[#This Row],[Column8]],2)","v":1},{"$f":"YEAR(vlookup_data[[#This Row],[Column8]])","v":1900},0,{"$f":"CONCATENATE(vlookup_data[[#This Row],[style '#]],\"|\",R1635)","v":"0|"}]
[{"$f":"IF(ISNUMBER(U1636)=TRUE,VLOOKUP(vlookup_data[[#This Row],[style '#]],[2]Sheet1!$A:$D,4,0)*ABS(U1636),0)","v":0},{"$f":"WEEKNUM(vlookup_data[[#This Row],[Column8]],2)","v":1},{"$f":"YEAR(vlookup_data[[#This Row],[Column8]])","v":1900},0,{"$f":"CONCATENATE(vlookup_data[[#This Row],[style '#]],\"|\",R1636)","v":"0|"}]
[{"$f":"IF(ISNUMBER(U1637)=TRUE,VLOOKUP(vlookup_data[[#This Row],[style '#]],[2]Sheet1!$A:$D,4,0)*ABS(U1637),0)","v":0},{"$f":"WEEKNUM(vlookup_data[[#This Row],[Column8]],2)","v":1},{"$f":"YEAR(vlookup_data[[#This Row],[Column8]])","v":1900},0,{"$f":"CONCATENATE(vlookup_data[[#This Row],[style '#]],\"|\",R1637)","v":"0|"}]
[{"$f":"IF(ISNUMBER(U1638)=TRUE,VLOOKUP(vlookup_data[[#This Row],[style '#]],[2]Sheet1!$A:$D,4,0)*ABS(U1638),0)","v":0},{"$f":"WEEKNUM(vlookup_data[[#This Row],[Column8]],2)","v":1},{"$f":"YEAR(vlookup_data[[#This Row],[Column8]])","v":1900},0,{"$f":"CONCATENATE(vlookup_data[[#This Row],[style '#]],\"|\",R1638)","v":"0|"}]
[{"$f":"IF(ISNUMBER(U1639)=TRUE,VLOOKUP(vlookup_data[[#This Row],[style '#]],[2]Sheet1!$A:$D,4,0)*ABS(U1639),0)","v":0},{"$f":"WEEKNUM(vlookup_data[[#This Row],[Column8]],2)","v":1},{"$f":"YEAR(vlookup_data[[#This Row],[Column8]])","v":1900},0,{"$f":"CONCATENATE(vlookup_data[[#This Row],[style '#]],\"|\",R1639)","v":"0|"}]
[{"$f":"IF(ISNUMBER(U1640)=TRUE,VLOOKUP(vlookup_data[[#This Row],[style '#]],[2]Sheet1!$A:$D,4,0)*ABS(U1640),0)","v":0},{"$f":"WEEKNUM(vlookup_data[[#This Row],[Column8]],2)","v":1},{"$f":"YEAR(vlookup_data[[#This Row],[Column8]])","v":1900},0,{"$f":"CONCATENATE(vlookup_data[[#This Row],[style '#]],\"|\",R1640)","v":"0|"}]
[{"$f":"IF(ISNUMBER(U1641)=TRUE,VLOOKUP(vlookup_data[[#This Row],[style '#]],[2]Sheet1!$A:$D,4,0)*ABS(U1641),0)","v":0},{"$f":"WEEKNUM(vlookup_data[[#This Row],[Column8]],2)","v":1},{"$f":"YEAR(vlookup_data[[#This Row],[Column8]])","v":1900},0,{"$f":"CONCATENATE(vlookup_data[[#This Row],[style '#]],\"|\",R1641)","v":"0|"}]
[{"$f":"IF(ISNUMBER(U1642)=TRUE,VLOOKUP(vlookup_data[[#This Row],[style '#]],[2]Sheet1!$A:$D,4,0)*ABS(U1642),0)","v":0},{"$f":"WEEKNUM(vlookup_data[[#This Row],[Column8]],2)","v":1},{"$f":"YEAR(vlookup_data[[#This Row],[Column8]])","v":1900},0,{"$f":"CONCATENATE(vlookup_data[[#This Row],[style '#]],\"|\",R1642)","v":"0|"}]
[{"$f":"IF(ISNUMBER(U1643)=TRUE,VLOOKUP(vlookup_data[[#This Row],[style '#]],[2]Sheet1!$A:$D,4,0)*ABS(U1643),0)","v":0},{"$f":"WEEKNUM(vlookup_data[[#This Row],[Column8]],2)","v":1},{"$f":"YEAR(vlookup_data[[#This Row],[Column8]])","v":1900},0,{"$f":"CONCATENATE(vlookup_data[[#This Row],[style '#]],\"|\",R1643)","v":"0|"}]
[{"$f":"IF(ISNUMBER(U1644)=TRUE,VLOOKUP(vlookup_data[[#This Row],[style '#]],[2]Sheet1!$A:$D,4,0)*ABS(U1644),0)","v":0},{"$f":"WEEKNUM(vlookup_data[[#This Row],[Column8]],2)","v":1},{"$f":"YEAR(vlookup_data[[#This Row],[Column8]])","v":1900},0,{"$f":"CONCATENATE(vlookup_data[[#This Row],[style '#]],\"|\",R1644)","v":"0|"}]
[{"$f":"IF(ISNUMBER(U1645)=TRUE,VLOOKUP(vlookup_data[[#This Row],[style '#]],[2]Sheet1!$A:$D,4,0)*ABS(U1645),0)","v":0},{"$f":"WEEKNUM(vlookup_data[[#This Row],[Column8]],2)","v":1},{"$f":"YEAR(vlookup_data[[#This Row],[Column8]])","v":1900},0,{"$f":"CONCATENATE(vlookup_data[[#This Row],[style '#]],\"|\",R1645)","v":"0|"}]
[{"$f":"IF(ISNUMBER(U1646)=TRUE,VLOOKUP(vlookup_data[[#This Row],[style '#]],[2]Sheet1!$A:$D,4,0)*ABS(U1646),0)","v":0},{"$f":"WEEKNUM(vlookup_data[[#This Row],[Column8]],2)","v":1},{"$f":"YEAR(vlookup_data[[#This Row],[Column8]])","v":1900},0,{"$f":"CONCATENATE(vlookup_data[[#This Row],[style '#]],\"|\",R1646)","v":"0|"}]
[{"$f":"IF(ISNUMBER(U1647)=TRUE,VLOOKUP(vlookup_data[[#This Row],[style '#]],[2]Sheet1!$A:$D,4,0)*ABS(U1647),0)","v":0},{"$f":"WEEKNUM(vlookup_data[[#This Row],[Column8]],2)","v":1},{"$f":"YEAR(vlookup_data[[#This Row],[Column8]])","v":1900},0,{"$f":"CONCATENATE(vlookup_data[[#This Row],[style '#]],\"|\",R1647)","v":"0|"}]
[{"$f":"IF(ISNUMBER(U1648)=TRUE,VLOOKUP(vlookup_data[[#This Row],[style '#]],[2]Sheet1!$A:$D,4,0)*ABS(U1648),0)","v":0},{"$f":"WEEKNUM(vlookup_data[[#This Row],[Column8]],2)","v":1},{"$f":"YEAR(vlookup_data[[#This Row],[Column8]])","v":1900},0,{"$f":"CONCATENATE(vlookup_data[[#This Row],[style '#]],\"|\",R1648)","v":"0|"}]
[{"$f":"IF(ISNUMBER(U1649)=TRUE,VLOOKUP(vlookup_data[[#This Row],[style '#]],[2]Sheet1!$A:$D,4,0)*ABS(U1649),0)","v":0},{"$f":"WEEKNUM(vlookup_data[[#This Row],[Column8]],2)","v":1},{"$f":"YEAR(vlookup_data[[#This Row],[Column8]])","v":1900},0,{"$f":"CONCATENATE(vlookup_data[[#This Row],[style '#]],\"|\",R1649)","v":"0|"}]
[{"$f":"IF(ISNUMBER(U1650)=TRUE,VLOOKUP(vlookup_data[[#This Row],[style '#]],[2]Sheet1!$A:$D,4,0)*ABS(U1650),0)","v":0},{"$f":"WEEKNUM(vlookup_data[[#This Row],[Column8]],2)","v":1},{"$f":"YEAR(vlookup_data[[#This Row],[Column8]])","v":1900},0,{"$f":"CONCATENATE(vlookup_data[[#This Row],[style '#]],\"|\",R1650)","v":"0|"}]
[{"$f":"IF(ISNUMBER(U1651)=TRUE,VLOOKUP(vlookup_data[[#This Row],[style '#]],[2]Sheet1!$A:$D,4,0)*ABS(U1651),0)","v":0},{"$f":"WEEKNUM(vlookup_data[[#This Row],[Column8]],2)","v":1},{"$f":"YEAR(vlookup_data[[#This Row],[Column8]])","v":1900},0,{"$f":"CONCATENATE(vlookup_data[[#This Row],[style '#]],\"|\",R1651)","v":"0|"}]
[{"$f":"IF(ISNUMBER(U1652)=TRUE,VLOOKUP(vlookup_data[[#This Row],[style '#]],[2]Sheet1!$A:$D,4,0)*ABS(U1652),0)","v":0},{"$f":"WEEKNUM(vlookup_data[[#This Row],[Column8]],2)","v":1},{"$f":"YEAR(vlookup_data[[#This Row],[Column8]])","v":1900},0,{"$f":"CONCATENATE(vlookup_data[[#This Row],[style '#]],\"|\",R1652)","v":"0|"}]
[{"$f":"IF(ISNUMBER(U1653)=TRUE,VLOOKUP(vlookup_data[[#This Row],[style '#]],[2]Sheet1!$A:$D,4,0)*ABS(U1653),0)","v":0},{"$f":"WEEKNUM(vlookup_data[[#This Row],[Column8]],2)","v":1},{"$f":"YEAR(vlookup_data[[#This Row],[Column8]])","v":1900},0,{"$f":"CONCATENATE(vlookup_data[[#This Row],[style '#]],\"|\",R1653)","v":"0|"}]
[{"$f":"IF(ISNUMBER(U1654)=TRUE,VLOOKUP(vlookup_data[[#This Row],[style '#]],[2]Sheet1!$A:$D,4,0)*ABS(U1654),0)","v":0},{"$f":"WEEKNUM(vlookup_data[[#This Row],[Column8]],2)","v":1},{"$f":"YEAR(vlookup_data[[#This Row],[Column8]])","v":1900},0,{"$f":"CONCATENATE(vlookup_data[[#This Row],[style '#]],\"|\",R1654)","v":"0|"}]
[{"$f":"IF(ISNUMBER(U1655)=TRUE,VLOOKUP(vlookup_data[[#This Row],[style '#]],[2]Sheet1!$A:$D,4,0)*ABS(U1655),0)","v":0},{"$f":"WEEKNUM(vlookup_data[[#This Row],[Column8]],2)","v":1},{"$f":"YEAR(vlookup_data[[#This Row],[Column8]])","v":1900},0,{"$f":"CONCATENATE(vlookup_data[[#This Row],[style '#]],\"|\",R1655)","v":"0|"}]
[{"$f":"IF(ISNUMBER(U1656)=TRUE,VLOOKUP(vlookup_data[[#This Row],[style '#]],[2]Sheet1!$A:$D,4,0)*ABS(U1656),0)","v":0},{"$f":"WEEKNUM(vlookup_data[[#This Row],[Column8]],2)","v":1},{"$f":"YEAR(vlookup_data[[#This Row],[Column8]])","v":1900},0,{"$f":"CONCATENATE(vlookup_data[[#This Row],[style '#]],\"|\",R1656)","v":"0|"}]
[{"$f":"IF(ISNUMBER(U1657)=TRUE,VLOOKUP(vlookup_data[[#This Row],[style '#]],[2]Sheet1!$A:$D,4,0)*ABS(U1657),0)","v":0},{"$f":"WEEKNUM(vlookup_data[[#This Row],[Column8]],2)","v":1},{"$f":"YEAR(vlookup_data[[#This Row],[Column8]])","v":1900},0,{"$f":"CONCATENATE(vlookup_data[[#This Row],[style '#]],\"|\",R1657)","v":"0|"}]
[{"$f":"IF(ISNUMBER(U1658)=TRUE,VLOOKUP(vlookup_data[[#This Row],[style '#]],[2]Sheet1!$A:$D,4,0)*ABS(U1658),0)","v":0},{"$f":"WEEKNUM(vlookup_data[[#This Row],[Column8]],2)","v":1},{"$f":"YEAR(vlookup_data[[#This Row],[Column8]])","v":1900},0,{"$f":"CONCATENATE(vlookup_data[[#This Row],[style '#]],\"|\",R1658)","v":"0|"}]
[{"$f":"IF(ISNUMBER(U1659)=TRUE,VLOOKUP(vlookup_data[[#This Row],[style '#]],[2]Sheet1!$A:$D,4,0)*ABS(U1659),0)","v":0},{"$f":"WEEKNUM(vlookup_data[[#This Row],[Column8]],2)","v":1},{"$f":"YEAR(vlookup_data[[#This Row],[Column8]])","v":1900},0,{"$f":"CONCATENATE(vlookup_data[[#This Row],[style '#]],\"|\",R1659)","v":"0|"}]
[{"$f":"IF(ISNUMBER(U1660)=TRUE,VLOOKUP(vlookup_data[[#This Row],[style '#]],[2]Sheet1!$A:$D,4,0)*ABS(U1660),0)","v":0},{"$f":"WEEKNUM(vlookup_data[[#This Row],[Column8]],2)","v":1},{"$f":"YEAR(vlookup_data[[#This Row],[Column8]])","v":1900},0,{"$f":"CONCATENATE(vlookup_data[[#This Row],[style '#]],\"|\",R1660)","v":"0|"}]
[{"$f":"IF(ISNUMBER(U1661)=TRUE,VLOOKUP(vlookup_data[[#This Row],[style '#]],[2]Sheet1!$A:$D,4,0)*ABS(U1661),0)","v":0},{"$f":"WEEKNUM(vlookup_data[[#This Row],[Column8]],2)","v":1},{"$f":"YEAR(vlookup_data[[#This Row],[Column8]])","v":1900},0,{"$f":"CONCATENATE(vlookup_data[[#This Row],[style '#]],\"|\",R1661)","v":"0|"}]
[{"$f":"IF(ISNUMBER(U1662)=TRUE,VLOOKUP(vlookup_data[[#This Row],[style '#]],[2]Sheet1!$A:$D,4,0)*ABS(U1662),0)","v":0},{"$f":"WEEKNUM(vlookup_data[[#This Row],[Column8]],2)","v":1},{"$f":"YEAR(vlookup_data[[#This Row],[Column8]])","v":1900},0,{"$f":"CONCATENATE(vlookup_data[[#This Row],[style '#]],\"|\",R1662)","v":"0|"}]
[{"$f":"IF(ISNUMBER(U1663)=TRUE,VLOOKUP(vlookup_data[[#This Row],[style '#]],[2]Sheet1!$A:$D,4,0)*ABS(U1663),0)","v":0},{"$f":"WEEKNUM(vlookup_data[[#This Row],[Column8]],2)","v":1},{"$f":"YEAR(vlookup_data[[#This Row],[Column8]])","v":1900},0,{"$f":"CONCATENATE(vlookup_data[[#This Row],[style '#]],\"|\",R1663)","v":"0|"}]
[{"$f":"IF(ISNUMBER(U1664)=TRUE,VLOOKUP(vlookup_data[[#This Row],[style '#]],[2]Sheet1!$A:$D,4,0)*ABS(U1664),0)","v":0},{"$f":"WEEKNUM(vlookup_data[[#This Row],[Column8]],2)","v":1},{"$f":"YEAR(vlookup_data[[#This Row],[Column8]])","v":1900},0,{"$f":"CONCATENATE(vlookup_data[[#This Row],[style '#]],\"|\",R1664)","v":"0|"}]
[{"$f":"IF(ISNUMBER(U1665)=TRUE,VLOOKUP(vlookup_data[[#This Row],[style '#]],[2]Sheet1!$A:$D,4,0)*ABS(U1665),0)","v":0},{"$f":"WEEKNUM(vlookup_data[[#This Row],[Column8]],2)","v":1},{"$f":"YEAR(vlookup_data[[#This Row],[Column8]])","v":1900},0,{"$f":"CONCATENATE(vlookup_data[[#This Row],[style '#]],\"|\",R1665)","v":"0|"}]
[{"$f":"IF(ISNUMBER(U1666)=TRUE,VLOOKUP(vlookup_data[[#This Row],[style '#]],[2]Sheet1!$A:$D,4,0)*ABS(U1666),0)","v":0},{"$f":"WEEKNUM(vlookup_data[[#This Row],[Column8]],2)","v":1},{"$f":"YEAR(vlookup_data[[#This Row],[Column8]])","v":1900},0,{"$f":"CONCATENATE(vlookup_data[[#This Row],[style '#]],\"|\",R1666)","v":"0|"}]
[{"$f":"IF(ISNUMBER(U1667)=TRUE,VLOOKUP(vlookup_data[[#This Row],[style '#]],[2]Sheet1!$A:$D,4,0)*ABS(U1667),0)","v":0},{"$f":"WEEKNUM(vlookup_data[[#This Row],[Column8]],2)","v":1},{"$f":"YEAR(vlookup_data[[#This Row],[Column8]])","v":1900},0,{"$f":"CONCATENATE(vlookup_data[[#This Row],[style '#]],\"|\",R1667)","v":"0|"}]
[{"$f":"IF(ISNUMBER(U1668)=TRUE,VLOOKUP(vlookup_data[[#This Row],[style '#]],[2]Sheet1!$A:$D,4,0)*ABS(U1668),0)","v":0},{"$f":"WEEKNUM(vlookup_data[[#This Row],[Column8]],2)","v":1},{"$f":"YEAR(vlookup_data[[#This Row],[Column8]])","v":1900},0,{"$f":"CONCATENATE(vlookup_data[[#This Row],[style '#]],\"|\",R1668)","v":"0|"}]
[{"$f":"IF(ISNUMBER(U1669)=TRUE,VLOOKUP(vlookup_data[[#This Row],[style '#]],[2]Sheet1!$A:$D,4,0)*ABS(U1669),0)","v":0},{"$f":"WEEKNUM(vlookup_data[[#This Row],[Column8]],2)","v":1},{"$f":"YEAR(vlookup_data[[#This Row],[Column8]])","v":1900},0,{"$f":"CONCATENATE(vlookup_data[[#This Row],[style '#]],\"|\",R1669)","v":"0|"}]
[{"$f":"IF(ISNUMBER(U1670)=TRUE,VLOOKUP(vlookup_data[[#This Row],[style '#]],[2]Sheet1!$A:$D,4,0)*ABS(U1670),0)","v":0},{"$f":"WEEKNUM(vlookup_data[[#This Row],[Column8]],2)","v":1},{"$f":"YEAR(vlookup_data[[#This Row],[Column8]])","v":1900},0,{"$f":"CONCATENATE(vlookup_data[[#This Row],[style '#]],\"|\",R1670)","v":"0|"}]
[{"$f":"IF(ISNUMBER(U1671)=TRUE,VLOOKUP(vlookup_data[[#This Row],[style '#]],[2]Sheet1!$A:$D,4,0)*ABS(U1671),0)","v":0},{"$f":"WEEKNUM(vlookup_data[[#This Row],[Column8]],2)","v":1},{"$f":"YEAR(vlookup_data[[#This Row],[Column8]])","v":1900},0,{"$f":"CONCATENATE(vlookup_data[[#This Row],[style '#]],\"|\",R1671)","v":"0|"}]
[{"$f":"IF(ISNUMBER(U1672)=TRUE,VLOOKUP(vlookup_data[[#This Row],[style '#]],[2]Sheet1!$A:$D,4,0)*ABS(U1672),0)","v":0},{"$f":"WEEKNUM(vlookup_data[[#This Row],[Column8]],2)","v":1},{"$f":"YEAR(vlookup_data[[#This Row],[Column8]])","v":1900},0,{"$f":"CONCATENATE(vlookup_data[[#This Row],[style '#]],\"|\",R1672)","v":"0|"}]
[{"$f":"IF(ISNUMBER(U1673)=TRUE,VLOOKUP(vlookup_data[[#This Row],[style '#]],[2]Sheet1!$A:$D,4,0)*ABS(U1673),0)","v":0},{"$f":"WEEKNUM(vlookup_data[[#This Row],[Column8]],2)","v":1},{"$f":"YEAR(vlookup_data[[#This Row],[Column8]])","v":1900},{"$f":"VALUE(G1673)","v":0},{"$f":"CONCATENATE(vlookup_data[[#This Row],[style '#]],\"|\",R1673)","v":"0|"}]
[{"$f":"IF(ISNUMBER(U1674)=TRUE,VLOOKUP(vlookup_data[[#This Row],[style '#]],[2]Sheet1!$A:$D,4,0)*ABS(U1674),0)","v":0},{"$f":"WEEKNUM(vlookup_data[[#This Row],[Column8]],2)","v":1},{"$f":"YEAR(vlookup_data[[#This Row],[Column8]])","v":1900},0,{"$f":"CONCATENATE(vlookup_data[[#This Row],[style '#]],\"|\",R1674)","v":"0|"}]
[{"$f":"IF(ISNUMBER(U1675)=TRUE,VLOOKUP(vlookup_data[[#This Row],[style '#]],[2]Sheet1!$A:$D,4,0)*ABS(U1675),0)","v":0},{"$f":"WEEKNUM(vlookup_data[[#This Row],[Column8]],2)","v":1},{"$f":"YEAR(vlookup_data[[#This Row],[Column8]])","v":1900},0,{"$f":"CONCATENATE(vlookup_data[[#This Row],[style '#]],\"|\",R1675)","v":"0|"}]
[{"$f":"IF(ISNUMBER(U1676)=TRUE,VLOOKUP(vlookup_data[[#This Row],[style '#]],[2]Sheet1!$A:$D,4,0)*ABS(U1676),0)","v":0},{"$f":"WEEKNUM(vlookup_data[[#This Row],[Column8]],2)","v":1},{"$f":"YEAR(vlookup_data[[#This Row],[Column8]])","v":1900},0,{"$f":"CONCATENATE(vlookup_data[[#This Row],[style '#]],\"|\",R1676)","v":"0|"}]
[{"$f":"IF(ISNUMBER(U1677)=TRUE,VLOOKUP(vlookup_data[[#This Row],[style '#]],[2]Sheet1!$A:$D,4,0)*ABS(U1677),0)","v":0},{"$f":"WEEKNUM(vlookup_data[[#This Row],[Column8]],2)","v":1},{"$f":"YEAR(vlookup_data[[#This Row],[Column8]])","v":1900},0,{"$f":"CONCATENATE(vlookup_data[[#This Row],[style '#]],\"|\",R1677)","v":"0|"}]
[{"$f":"IF(ISNUMBER(U1678)=TRUE,VLOOKUP(vlookup_data[[#This Row],[style '#]],[2]Sheet1!$A:$D,4,0)*ABS(U1678),0)","v":0},{"$f":"WEEKNUM(vlookup_data[[#This Row],[Column8]],2)","v":1},{"$f":"YEAR(vlookup_data[[#This Row],[Column8]])","v":1900},0,{"$f":"CONCATENATE(vlookup_data[[#This Row],[style '#]],\"|\",R1678)","v":"0|"}]
[{"$f":"IF(ISNUMBER(U1679)=TRUE,VLOOKUP(vlookup_data[[#This Row],[style '#]],[2]Sheet1!$A:$D,4,0)*ABS(U1679),0)","v":0},{"$f":"WEEKNUM(vlookup_data[[#This Row],[Column8]],2)","v":1},{"$f":"YEAR(vlookup_data[[#This Row],[Column8]])","v":1900},0,{"$f":"CONCATENATE(vlookup_data[[#This Row],[style '#]],\"|\",R1679)","v":"0|"}]
[{"$f":"IF(ISNUMBER(U1680)=TRUE,VLOOKUP(vlookup_data[[#This Row],[style '#]],[2]Sheet1!$A:$D,4,0)*ABS(U1680),0)","v":0},{"$f":"WEEKNUM(vlookup_data[[#This Row],[Column8]],2)","v":1},{"$f":"YEAR(vlookup_data[[#This Row],[Column8]])","v":1900},0,{"$f":"CONCATENATE(vlookup_data[[#This Row],[style '#]],\"|\",R1680)","v":"0|"}]
[{"$f":"IF(ISNUMBER(U1681)=TRUE,VLOOKUP(vlookup_data[[#This Row],[style '#]],[2]Sheet1!$A:$D,4,0)*ABS(U1681),0)","v":0},{"$f":"WEEKNUM(vlookup_data[[#This Row],[Column8]],2)","v":1},{"$f":"YEAR(vlookup_data[[#This Row],[Column8]])","v":1900},0,{"$f":"CONCATENATE(vlookup_data[[#This Row],[style '#]],\"|\",R1681)","v":"0|"}]
[{"$f":"IF(ISNUMBER(U1682)=TRUE,VLOOKUP(vlookup_data[[#This Row],[style '#]],[2]Sheet1!$A:$D,4,0)*ABS(U1682),0)","v":0},{"$f":"WEEKNUM(vlookup_data[[#This Row],[Column8]],2)","v":1},{"$f":"YEAR(vlookup_data[[#This Row],[Column8]])","v":1900},0,{"$f":"CONCATENATE(vlookup_data[[#This Row],[style '#]],\"|\",R1682)","v":"0|"}]
[{"$f":"IF(ISNUMBER(U1683)=TRUE,VLOOKUP(vlookup_data[[#This Row],[style '#]],[2]Sheet1!$A:$D,4,0)*ABS(U1683),0)","v":0},{"$f":"WEEKNUM(vlookup_data[[#This Row],[Column8]],2)","v":1},{"$f":"YEAR(vlookup_data[[#This Row],[Column8]])","v":1900},0,{"$f":"CONCATENATE(vlookup_data[[#This Row],[style '#]],\"|\",R1683)","v":"0|"}]
[{"$f":"IF(ISNUMBER(U1684)=TRUE,VLOOKUP(vlookup_data[[#This Row],[style '#]],[2]Sheet1!$A:$D,4,0)*ABS(U1684),0)","v":0},{"$f":"WEEKNUM(vlookup_data[[#This Row],[Column8]],2)","v":1},{"$f":"YEAR(vlookup_data[[#This Row],[Column8]])","v":1900},0,{"$f":"CONCATENATE(vlookup_data[[#This Row],[style '#]],\"|\",R1684)","v":"0|"}]
[{"$f":"IF(ISNUMBER(U1685)=TRUE,VLOOKUP(vlookup_data[[#This Row],[style '#]],[2]Sheet1!$A:$D,4,0)*ABS(U1685),0)","v":0},{"$f":"WEEKNUM(vlookup_data[[#This Row],[Column8]],2)","v":1},{"$f":"YEAR(vlookup_data[[#This Row],[Column8]])","v":1900},0,{"$f":"CONCATENATE(vlookup_data[[#This Row],[style '#]],\"|\",R1685)","v":"0|"}]
[{"$f":"IF(ISNUMBER(U1686)=TRUE,VLOOKUP(vlookup_data[[#This Row],[style '#]],[2]Sheet1!$A:$D,4,0)*ABS(U1686),0)","v":0},{"$f":"WEEKNUM(vlookup_data[[#This Row],[Column8]],2)","v":1},{"$f":"YEAR(vlookup_data[[#This Row],[Column8]])","v":1900},0,{"$f":"CONCATENATE(vlookup_data[[#This Row],[style '#]],\"|\",R1686)","v":"0|"}]
[{"$f":"IF(ISNUMBER(U1687)=TRUE,VLOOKUP(vlookup_data[[#This Row],[style '#]],[2]Sheet1!$A:$D,4,0)*ABS(U1687),0)","v":0},{"$f":"WEEKNUM(vlookup_data[[#This Row],[Column8]],2)","v":1},{"$f":"YEAR(vlookup_data[[#This Row],[Column8]])","v":1900},0,{"$f":"CONCATENATE(vlookup_data[[#This Row],[style '#]],\"|\",R1687)","v":"0|"}]
[{"$f":"IF(ISNUMBER(U1688)=TRUE,VLOOKUP(vlookup_data[[#This Row],[style '#]],[2]Sheet1!$A:$D,4,0)*ABS(U1688),0)","v":0},{"$f":"WEEKNUM(vlookup_data[[#This Row],[Column8]],2)","v":1},{"$f":"YEAR(vlookup_data[[#This Row],[Column8]])","v":1900},0,{"$f":"CONCATENATE(vlookup_data[[#This Row],[style '#]],\"|\",R1688)","v":"0|"}]
[{"$f":"IF(ISNUMBER(U1689)=TRUE,VLOOKUP(vlookup_data[[#This Row],[style '#]],[2]Sheet1!$A:$D,4,0)*ABS(U1689),0)","v":0},{"$f":"WEEKNUM(vlookup_data[[#This Row],[Column8]],2)","v":1},{"$f":"YEAR(vlookup_data[[#This Row],[Column8]])","v":1900},0,{"$f":"CONCATENATE(vlookup_data[[#This Row],[style '#]],\"|\",R1689)","v":"0|"}]
[{"$f":"IF(ISNUMBER(U1690)=TRUE,VLOOKUP(vlookup_data[[#This Row],[style '#]],[2]Sheet1!$A:$D,4,0)*ABS(U1690),0)","v":0},{"$f":"WEEKNUM(vlookup_data[[#This Row],[Column8]],2)","v":1},{"$f":"YEAR(vlookup_data[[#This Row],[Column8]])","v":1900},0,{"$f":"CONCATENATE(vlookup_data[[#This Row],[style '#]],\"|\",R1690)","v":"0|"}]
[{"$f":"IF(ISNUMBER(U1691)=TRUE,VLOOKUP(vlookup_data[[#This Row],[style '#]],[2]Sheet1!$A:$D,4,0)*ABS(U1691),0)","v":0},{"$f":"WEEKNUM(vlookup_data[[#This Row],[Column8]],2)","v":1},{"$f":"YEAR(vlookup_data[[#This Row],[Column8]])","v":1900},0,{"$f":"CONCATENATE(vlookup_data[[#This Row],[style '#]],\"|\",R1691)","v":"0|"}]
[{"$f":"IF(ISNUMBER(U1692)=TRUE,VLOOKUP(vlookup_data[[#This Row],[style '#]],[2]Sheet1!$A:$D,4,0)*ABS(U1692),0)","v":0},{"$f":"WEEKNUM(vlookup_data[[#This Row],[Column8]],2)","v":1},{"$f":"YEAR(vlookup_data[[#This Row],[Column8]])","v":1900},0,{"$f":"CONCATENATE(vlookup_data[[#This Row],[style '#]],\"|\",R1692)","v":"0|"}]
[{"$f":"IF(ISNUMBER(U1693)=TRUE,VLOOKUP(vlookup_data[[#This Row],[style '#]],[2]Sheet1!$A:$D,4,0)*ABS(U1693),0)","v":0},{"$f":"WEEKNUM(vlookup_data[[#This Row],[Column8]],2)","v":1},{"$f":"YEAR(vlookup_data[[#This Row],[Column8]])","v":1900},0,{"$f":"CONCATENATE(vlookup_data[[#This Row],[style '#]],\"|\",R1693)","v":"0|"}]
[{"$f":"IF(ISNUMBER(U1694)=TRUE,VLOOKUP(vlookup_data[[#This Row],[style '#]],[2]Sheet1!$A:$D,4,0)*ABS(U1694),0)","v":0},{"$f":"WEEKNUM(vlookup_data[[#This Row],[Column8]],2)","v":1},{"$f":"YEAR(vlookup_data[[#This Row],[Column8]])","v":1900},0,{"$f":"CONCATENATE(vlookup_data[[#This Row],[style '#]],\"|\",R1694)","v":"0|"}]
[{"$f":"IF(ISNUMBER(U1695)=TRUE,VLOOKUP(vlookup_data[[#This Row],[style '#]],[2]Sheet1!$A:$D,4,0)*ABS(U1695),0)","v":0},{"$f":"WEEKNUM(vlookup_data[[#This Row],[Column8]],2)","v":1},{"$f":"YEAR(vlookup_data[[#This Row],[Column8]])","v":1900},0,{"$f":"CONCATENATE(vlookup_data[[#This Row],[style '#]],\"|\",R1695)","v":"0|"}]
[{"$f":"IF(ISNUMBER(U1696)=TRUE,VLOOKUP(vlookup_data[[#This Row],[style '#]],[2]Sheet1!$A:$D,4,0)*ABS(U1696),0)","v":0},{"$f":"WEEKNUM(vlookup_data[[#This Row],[Column8]],2)","v":1},{"$f":"YEAR(vlookup_data[[#This Row],[Column8]])","v":1900},0,{"$f":"CONCATENATE(vlookup_data[[#This Row],[style '#]],\"|\",R1696)","v":"0|"}]
[{"$f":"IF(ISNUMBER(U1697)=TRUE,VLOOKUP(vlookup_data[[#This Row],[style '#]],[2]Sheet1!$A:$D,4,0)*ABS(U1697),0)","v":0},{"$f":"WEEKNUM(vlookup_data[[#This Row],[Column8]],2)","v":1},{"$f":"YEAR(vlookup_data[[#This Row],[Column8]])","v":1900},0,{"$f":"CONCATENATE(vlookup_data[[#This Row],[style '#]],\"|\",R1697)","v":"0|"}]
[{"$f":"IF(ISNUMBER(U1698)=TRUE,VLOOKUP(vlookup_data[[#This Row],[style '#]],[2]Sheet1!$A:$D,4,0)*ABS(U1698),0)","v":0},{"$f":"WEEKNUM(vlookup_data[[#This Row],[Column8]],2)","v":1},{"$f":"YEAR(vlookup_data[[#This Row],[Column8]])","v":1900},0,{"$f":"CONCATENATE(vlookup_data[[#This Row],[style '#]],\"|\",R1698)","v":"0|"}]
[{"$f":"IF(ISNUMBER(U1699)=TRUE,VLOOKUP(vlookup_data[[#This Row],[style '#]],[2]Sheet1!$A:$D,4,0)*ABS(U1699),0)","v":0},{"$f":"WEEKNUM(vlookup_data[[#This Row],[Column8]],2)","v":1},{"$f":"YEAR(vlookup_data[[#This Row],[Column8]])","v":1900},0,{"$f":"CONCATENATE(vlookup_data[[#This Row],[style '#]],\"|\",R1699)","v":"0|"}]
[{"$f":"IF(ISNUMBER(U1700)=TRUE,VLOOKUP(vlookup_data[[#This Row],[style '#]],[2]Sheet1!$A:$D,4,0)*ABS(U1700),0)","v":0},{"$f":"WEEKNUM(vlookup_data[[#This Row],[Column8]],2)","v":1},{"$f":"YEAR(vlookup_data[[#This Row],[Column8]])","v":1900},0,{"$f":"CONCATENATE(vlookup_data[[#This Row],[style '#]],\"|\",R1700)","v":"0|"}]
[{"$f":"IF(ISNUMBER(U1701)=TRUE,VLOOKUP(vlookup_data[[#This Row],[style '#]],[2]Sheet1!$A:$D,4,0)*ABS(U1701),0)","v":0},{"$f":"WEEKNUM(vlookup_data[[#This Row],[Column8]],2)","v":1},{"$f":"YEAR(vlookup_data[[#This Row],[Column8]])","v":1900},0,{"$f":"CONCATENATE(vlookup_data[[#This Row],[style '#]],\"|\",R1701)","v":"0|"}]
[{"$f":"IF(ISNUMBER(U1702)=TRUE,VLOOKUP(vlookup_data[[#This Row],[style '#]],[2]Sheet1!$A:$D,4,0)*ABS(U1702),0)","v":0},{"$f":"WEEKNUM(vlookup_data[[#This Row],[Column8]],2)","v":1},{"$f":"YEAR(vlookup_data[[#This Row],[Column8]])","v":1900},0,{"$f":"CONCATENATE(vlookup_data[[#This Row],[style '#]],\"|\",R1702)","v":"0|"}]
[{"$f":"IF(ISNUMBER(U1703)=TRUE,VLOOKUP(vlookup_data[[#This Row],[style '#]],[2]Sheet1!$A:$D,4,0)*ABS(U1703),0)","v":0},{"$f":"WEEKNUM(vlookup_data[[#This Row],[Column8]],2)","v":1},{"$f":"YEAR(vlookup_data[[#This Row],[Column8]])","v":1900},0,{"$f":"CONCATENATE(vlookup_data[[#This Row],[style '#]],\"|\",R1703)","v":"0|"}]
[{"$f":"IF(ISNUMBER(U1704)=TRUE,VLOOKUP(vlookup_data[[#This Row],[style '#]],[2]Sheet1!$A:$D,4,0)*ABS(U1704),0)","v":0},{"$f":"WEEKNUM(vlookup_data[[#This Row],[Column8]],2)","v":1},{"$f":"YEAR(vlookup_data[[#This Row],[Column8]])","v":1900},0,{"$f":"CONCATENATE(vlookup_data[[#This Row],[style '#]],\"|\",R1704)","v":"0|"}]
[{"$f":"IF(ISNUMBER(U1705)=TRUE,VLOOKUP(vlookup_data[[#This Row],[style '#]],[2]Sheet1!$A:$D,4,0)*ABS(U1705),0)","v":0},{"$f":"WEEKNUM(vlookup_data[[#This Row],[Column8]],2)","v":1},{"$f":"YEAR(vlookup_data[[#This Row],[Column8]])","v":1900},0,{"$f":"CONCATENATE(vlookup_data[[#This Row],[style '#]],\"|\",R1705)","v":"0|"}]
[{"$f":"IF(ISNUMBER(U1706)=TRUE,VLOOKUP(vlookup_data[[#This Row],[style '#]],[2]Sheet1!$A:$D,4,0)*ABS(U1706),0)","v":0},{"$f":"WEEKNUM(vlookup_data[[#This Row],[Column8]],2)","v":1},{"$f":"YEAR(vlookup_data[[#This Row],[Column8]])","v":1900},0,{"$f":"CONCATENATE(vlookup_data[[#This Row],[style '#]],\"|\",R1706)","v":"0|"}]
[{"$f":"IF(ISNUMBER(U1707)=TRUE,VLOOKUP(vlookup_data[[#This Row],[style '#]],[2]Sheet1!$A:$D,4,0)*ABS(U1707),0)","v":0},{"$f":"WEEKNUM(vlookup_data[[#This Row],[Column8]],2)","v":1},{"$f":"YEAR(vlookup_data[[#This Row],[Column8]])","v":1900},0,{"$f":"CONCATENATE(vlookup_data[[#This Row],[style '#]],\"|\",R1707)","v":"0|"}]
[{"$f":"IF(ISNUMBER(U1708)=TRUE,VLOOKUP(vlookup_data[[#This Row],[style '#]],[2]Sheet1!$A:$D,4,0)*ABS(U1708),0)","v":0},{"$f":"WEEKNUM(vlookup_data[[#This Row],[Column8]],2)","v":1},{"$f":"YEAR(vlookup_data[[#This Row],[Column8]])","v":1900},0,{"$f":"CONCATENATE(vlookup_data[[#This Row],[style '#]],\"|\",R1708)","v":"0|"}]
[{"$f":"IF(ISNUMBER(U1709)=TRUE,VLOOKUP(vlookup_data[[#This Row],[style '#]],[2]Sheet1!$A:$D,4,0)*ABS(U1709),0)","v":0},{"$f":"WEEKNUM(vlookup_data[[#This Row],[Column8]],2)","v":1},{"$f":"YEAR(vlookup_data[[#This Row],[Column8]])","v":1900},0,{"$f":"CONCATENATE(vlookup_data[[#This Row],[style '#]],\"|\",R1709)","v":"0|"}]
[{"$f":"IF(ISNUMBER(U1710)=TRUE,VLOOKUP(vlookup_data[[#This Row],[style '#]],[2]Sheet1!$A:$D,4,0)*ABS(U1710),0)","v":0},{"$f":"WEEKNUM(vlookup_data[[#This Row],[Column8]],2)","v":1},{"$f":"YEAR(vlookup_data[[#This Row],[Column8]])","v":1900},0,{"$f":"CONCATENATE(vlookup_data[[#This Row],[style '#]],\"|\",R1710)","v":"0|"}]
[{"$f":"IF(ISNUMBER(U1711)=TRUE,VLOOKUP(vlookup_data[[#This Row],[style '#]],[2]Sheet1!$A:$D,4,0)*ABS(U1711),0)","v":0},{"$f":"WEEKNUM(vlookup_data[[#This Row],[Column8]],2)","v":1},{"$f":"YEAR(vlookup_data[[#This Row],[Column8]])","v":1900},0,{"$f":"CONCATENATE(vlookup_data[[#This Row],[style '#]],\"|\",R1711)","v":"0|"}]
[{"$f":"IF(ISNUMBER(U1712)=TRUE,VLOOKUP(vlookup_data[[#This Row],[style '#]],[2]Sheet1!$A:$D,4,0)*ABS(U1712),0)","v":0},{"$f":"WEEKNUM(vlookup_data[[#This Row],[Column8]],2)","v":1},{"$f":"YEAR(vlookup_data[[#This Row],[Column8]])","v":1900},0,{"$f":"CONCATENATE(vlookup_data[[#This Row],[style '#]],\"|\",R1712)","v":"0|"}]
[{"$f":"IF(ISNUMBER(U1713)=TRUE,VLOOKUP(vlookup_data[[#This Row],[style '#]],[2]Sheet1!$A:$D,4,0)*ABS(U1713),0)","v":0},{"$f":"WEEKNUM(vlookup_data[[#This Row],[Column8]],2)","v":1},{"$f":"YEAR(vlookup_data[[#This Row],[Column8]])","v":1900},0,{"$f":"CONCATENATE(vlookup_data[[#This Row],[style '#]],\"|\",R1713)","v":"0|"}]
[{"$f":"IF(ISNUMBER(U1714)=TRUE,VLOOKUP(vlookup_data[[#This Row],[style '#]],[2]Sheet1!$A:$D,4,0)*ABS(U1714),0)","v":0},{"$f":"WEEKNUM(vlookup_data[[#This Row],[Column8]],2)","v":1},{"$f":"YEAR(vlookup_data[[#This Row],[Column8]])","v":1900},0,{"$f":"CONCATENATE(vlookup_data[[#This Row],[style '#]],\"|\",R1714)","v":"0|"}]
[{"$f":"IF(ISNUMBER(U1715)=TRUE,VLOOKUP(vlookup_data[[#This Row],[style '#]],[2]Sheet1!$A:$D,4,0)*ABS(U1715),0)","v":0},{"$f":"WEEKNUM(vlookup_data[[#This Row],[Column8]],2)","v":1},{"$f":"YEAR(vlookup_data[[#This Row],[Column8]])","v":1900},0,{"$f":"CONCATENATE(vlookup_data[[#This Row],[style '#]],\"|\",R1715)","v":"0|"}]
[{"$f":"IF(ISNUMBER(U1716)=TRUE,VLOOKUP(vlookup_data[[#This Row],[style '#]],[2]Sheet1!$A:$D,4,0)*ABS(U1716),0)","v":0},{"$f":"WEEKNUM(vlookup_data[[#This Row],[Column8]],2)","v":1},{"$f":"YEAR(vlookup_data[[#This Row],[Column8]])","v":1900},0,{"$f":"CONCATENATE(vlookup_data[[#This Row],[style '#]],\"|\",R1716)","v":"0|"}]
[{"$f":"IF(ISNUMBER(U1717)=TRUE,VLOOKUP(vlookup_data[[#This Row],[style '#]],[2]Sheet1!$A:$D,4,0)*ABS(U1717),0)","v":0},{"$f":"WEEKNUM(vlookup_data[[#This Row],[Column8]],2)","v":1},{"$f":"YEAR(vlookup_data[[#This Row],[Column8]])","v":1900},0,{"$f":"CONCATENATE(vlookup_data[[#This Row],[style '#]],\"|\",R1717)","v":"0|"}]
[{"$f":"IF(ISNUMBER(U1718)=TRUE,VLOOKUP(vlookup_data[[#This Row],[style '#]],[2]Sheet1!$A:$D,4,0)*ABS(U1718),0)","v":0},{"$f":"WEEKNUM(vlookup_data[[#This Row],[Column8]],2)","v":1},{"$f":"YEAR(vlookup_data[[#This Row],[Column8]])","v":1900},0,{"$f":"CONCATENATE(vlookup_data[[#This Row],[style '#]],\"|\",R1718)","v":"0|"}]
[{"$f":"IF(ISNUMBER(U1719)=TRUE,VLOOKUP(vlookup_data[[#This Row],[style '#]],[2]Sheet1!$A:$D,4,0)*ABS(U1719),0)","v":0},{"$f":"WEEKNUM(vlookup_data[[#This Row],[Column8]],2)","v":1},{"$f":"YEAR(vlookup_data[[#This Row],[Column8]])","v":1900},0,{"$f":"CONCATENATE(vlookup_data[[#This Row],[style '#]],\"|\",R1719)","v":"0|"}]
[{"$f":"IF(ISNUMBER(U1720)=TRUE,VLOOKUP(vlookup_data[[#This Row],[style '#]],[2]Sheet1!$A:$D,4,0)*ABS(U1720),0)","v":0},{"$f":"WEEKNUM(vlookup_data[[#This Row],[Column8]],2)","v":1},{"$f":"YEAR(vlookup_data[[#This Row],[Column8]])","v":1900},0,{"$f":"CONCATENATE(vlookup_data[[#This Row],[style '#]],\"|\",R1720)","v":"0|"}]
[{"$f":"IF(ISNUMBER(U1721)=TRUE,VLOOKUP(vlookup_data[[#This Row],[style '#]],[2]Sheet1!$A:$D,4,0)*ABS(U1721),0)","v":0},{"$f":"WEEKNUM(vlookup_data[[#This Row],[Column8]],2)","v":1},{"$f":"YEAR(vlookup_data[[#This Row],[Column8]])","v":1900},0,{"$f":"CONCATENATE(vlookup_data[[#This Row],[style '#]],\"|\",R1721)","v":"0|"}]
[{"$f":"IF(ISNUMBER(U1722)=TRUE,VLOOKUP(vlookup_data[[#This Row],[style '#]],[2]Sheet1!$A:$D,4,0)*ABS(U1722),0)","v":0},{"$f":"WEEKNUM(vlookup_data[[#This Row],[Column8]],2)","v":1},{"$f":"YEAR(vlookup_data[[#This Row],[Column8]])","v":1900},0,{"$f":"CONCATENATE(vlookup_data[[#This Row],[style '#]],\"|\",R1722)","v":"0|"}]
[{"$f":"IF(ISNUMBER(U1723)=TRUE,VLOOKUP(vlookup_data[[#This Row],[style '#]],[2]Sheet1!$A:$D,4,0)*ABS(U1723),0)","v":0},{"$f":"WEEKNUM(vlookup_data[[#This Row],[Column8]],2)","v":1},{"$f":"YEAR(vlookup_data[[#This Row],[Column8]])","v":1900},0,{"$f":"CONCATENATE(vlookup_data[[#This Row],[style '#]],\"|\",R1723)","v":"0|"}]
[{"$f":"IF(ISNUMBER(U1724)=TRUE,VLOOKUP(vlookup_data[[#This Row],[style '#]],[2]Sheet1!$A:$D,4,0)*ABS(U1724),0)","v":0},{"$f":"WEEKNUM(vlookup_data[[#This Row],[Column8]],2)","v":1},{"$f":"YEAR(vlookup_data[[#This Row],[Column8]])","v":1900},0,{"$f":"CONCATENATE(vlookup_data[[#This Row],[style '#]],\"|\",R1724)","v":"0|"}]
[{"$f":"IF(ISNUMBER(U1725)=TRUE,VLOOKUP(vlookup_data[[#This Row],[style '#]],[2]Sheet1!$A:$D,4,0)*ABS(U1725),0)","v":0},{"$f":"WEEKNUM(vlookup_data[[#This Row],[Column8]],2)","v":1},{"$f":"YEAR(vlookup_data[[#This Row],[Column8]])","v":1900},0,{"$f":"CONCATENATE(vlookup_data[[#This Row],[style '#]],\"|\",R1725)","v":"0|"}]
[{"$f":"IF(ISNUMBER(U1726)=TRUE,VLOOKUP(vlookup_data[[#This Row],[style '#]],[2]Sheet1!$A:$D,4,0)*ABS(U1726),0)","v":0},{"$f":"WEEKNUM(vlookup_data[[#This Row],[Column8]],2)","v":1},{"$f":"YEAR(vlookup_data[[#This Row],[Column8]])","v":1900},0,{"$f":"CONCATENATE(vlookup_data[[#This Row],[style '#]],\"|\",R1726)","v":"0|"}]
[{"$f":"IF(ISNUMBER(U1727)=TRUE,VLOOKUP(vlookup_data[[#This Row],[style '#]],[2]Sheet1!$A:$D,4,0)*ABS(U1727),0)","v":0},{"$f":"WEEKNUM(vlookup_data[[#This Row],[Column8]],2)","v":1},{"$f":"YEAR(vlookup_data[[#This Row],[Column8]])","v":1900},0,{"$f":"CONCATENATE(vlookup_data[[#This Row],[style '#]],\"|\",R1727)","v":"0|"}]
[{"$f":"IF(ISNUMBER(U1728)=TRUE,VLOOKUP(vlookup_data[[#This Row],[style '#]],[2]Sheet1!$A:$D,4,0)*ABS(U1728),0)","v":0},{"$f":"WEEKNUM(vlookup_data[[#This Row],[Column8]],2)","v":1},{"$f":"YEAR(vlookup_data[[#This Row],[Column8]])","v":1900},0,{"$f":"CONCATENATE(vlookup_data[[#This Row],[style '#]],\"|\",R1728)","v":"0|"}]
[{"$f":"IF(ISNUMBER(U1729)=TRUE,VLOOKUP(vlookup_data[[#This Row],[style '#]],[2]Sheet1!$A:$D,4,0)*ABS(U1729),0)","v":0},{"$f":"WEEKNUM(vlookup_data[[#This Row],[Column8]],2)","v":1},{"$f":"YEAR(vlookup_data[[#This Row],[Column8]])","v":1900},0,{"$f":"CONCATENATE(vlookup_data[[#This Row],[style '#]],\"|\",R1729)","v":"0|"}]
[{"$f":"IF(ISNUMBER(U1730)=TRUE,VLOOKUP(vlookup_data[[#This Row],[style '#]],[2]Sheet1!$A:$D,4,0)*ABS(U1730),0)","v":0},{"$f":"WEEKNUM(vlookup_data[[#This Row],[Column8]],2)","v":1},{"$f":"YEAR(vlookup_data[[#This Row],[Column8]])","v":1900},0,{"$f":"CONCATENATE(vlookup_data[[#This Row],[style '#]],\"|\",R1730)","v":"0|"}]
[{"$f":"IF(ISNUMBER(U1731)=TRUE,VLOOKUP(vlookup_data[[#This Row],[style '#]],[2]Sheet1!$A:$D,4,0)*ABS(U1731),0)","v":0},{"$f":"WEEKNUM(vlookup_data[[#This Row],[Column8]],2)","v":1},{"$f":"YEAR(vlookup_data[[#This Row],[Column8]])","v":1900},0,{"$f":"CONCATENATE(vlookup_data[[#This Row],[style '#]],\"|\",R1731)","v":"0|"}]
[{"$f":"IF(ISNUMBER(U1732)=TRUE,VLOOKUP(vlookup_data[[#This Row],[style '#]],[2]Sheet1!$A:$D,4,0)*ABS(U1732),0)","v":0},{"$f":"WEEKNUM(vlookup_data[[#This Row],[Column8]],2)","v":1},{"$f":"YEAR(vlookup_data[[#This Row],[Column8]])","v":1900},0,{"$f":"CONCATENATE(vlookup_data[[#This Row],[style '#]],\"|\",R1732)","v":"0|"}]
[{"$f":"IF(ISNUMBER(U1733)=TRUE,VLOOKUP(vlookup_data[[#This Row],[style '#]],[2]Sheet1!$A:$D,4,0)*ABS(U1733),0)","v":0},{"$f":"WEEKNUM(vlookup_data[[#This Row],[Column8]],2)","v":1},{"$f":"YEAR(vlookup_data[[#This Row],[Column8]])","v":1900},0,{"$f":"CONCATENATE(vlookup_data[[#This Row],[style '#]],\"|\",R1733)","v":"0|"}]
[{"$f":"IF(ISNUMBER(U1734)=TRUE,VLOOKUP(vlookup_data[[#This Row],[style '#]],[2]Sheet1!$A:$D,4,0)*ABS(U1734),0)","v":0},{"$f":"WEEKNUM(vlookup_data[[#This Row],[Column8]],2)","v":1},{"$f":"YEAR(vlookup_data[[#This Row],[Column8]])","v":1900},0,{"$f":"CONCATENATE(vlookup_data[[#This Row],[style '#]],\"|\",R1734)","v":"0|"}]
[{"$f":"IF(ISNUMBER(U1735)=TRUE,VLOOKUP(vlookup_data[[#This Row],[style '#]],[2]Sheet1!$A:$D,4,0)*ABS(U1735),0)","v":0},{"$f":"WEEKNUM(vlookup_data[[#This Row],[Column8]],2)","v":1},{"$f":"YEAR(vlookup_data[[#This Row],[Column8]])","v":1900},0,{"$f":"CONCATENATE(vlookup_data[[#This Row],[style '#]],\"|\",R1735)","v":"0|"}]
[{"$f":"IF(ISNUMBER(U1736)=TRUE,VLOOKUP(vlookup_data[[#This Row],[style '#]],[2]Sheet1!$A:$D,4,0)*ABS(U1736),0)","v":0},{"$f":"WEEKNUM(vlookup_data[[#This Row],[Column8]],2)","v":1},{"$f":"YEAR(vlookup_data[[#This Row],[Column8]])","v":1900},0,{"$f":"CONCATENATE(vlookup_data[[#This Row],[style '#]],\"|\",R1736)","v":"0|"}]
[{"$f":"IF(ISNUMBER(U1737)=TRUE,VLOOKUP(vlookup_data[[#This Row],[style '#]],[2]Sheet1!$A:$D,4,0)*ABS(U1737),0)","v":0},{"$f":"WEEKNUM(vlookup_data[[#This Row],[Column8]],2)","v":1},{"$f":"YEAR(vlookup_data[[#This Row],[Column8]])","v":1900},{"$f":"VALUE(G1737)","v":0},{"$f":"CONCATENATE(vlookup_data[[#This Row],[style '#]],\"|\",R1737)","v":"0|"}]
[{"$f":"IF(ISNUMBER(U1738)=TRUE,VLOOKUP(vlookup_data[[#This Row],[style '#]],[2]Sheet1!$A:$D,4,0)*ABS(U1738),0)","v":0},{"$f":"WEEKNUM(vlookup_data[[#This Row],[Column8]],2)","v":1},{"$f":"YEAR(vlookup_data[[#This Row],[Column8]])","v":1900},0,{"$f":"CONCATENATE(vlookup_data[[#This Row],[style '#]],\"|\",R1738)","v":"0|"}]
[{"$f":"IF(ISNUMBER(U1739)=TRUE,VLOOKUP(vlookup_data[[#This Row],[style '#]],[2]Sheet1!$A:$D,4,0)*ABS(U1739),0)","v":0},{"$f":"WEEKNUM(vlookup_data[[#This Row],[Column8]],2)","v":1},{"$f":"YEAR(vlookup_data[[#This Row],[Column8]])","v":1900},0,{"$f":"CONCATENATE(vlookup_data[[#This Row],[style '#]],\"|\",R1739)","v":"0|"}]
[{"$f":"IF(ISNUMBER(U1740)=TRUE,VLOOKUP(vlookup_data[[#This Row],[style '#]],[2]Sheet1!$A:$D,4,0)*ABS(U1740),0)","v":0},{"$f":"WEEKNUM(vlookup_data[[#This Row],[Column8]],2)","v":1},{"$f":"YEAR(vlookup_data[[#This Row],[Column8]])","v":1900},0,{"$f":"CONCATENATE(vlookup_data[[#This Row],[style '#]],\"|\",R1740)","v":"0|"}]
[{"$f":"IF(ISNUMBER(U1741)=TRUE,VLOOKUP(vlookup_data[[#This Row],[style '#]],[2]Sheet1!$A:$D,4,0)*ABS(U1741),0)","v":0},{"$f":"WEEKNUM(vlookup_data[[#This Row],[Column8]],2)","v":1},{"$f":"YEAR(vlookup_data[[#This Row],[Column8]])","v":1900},0,{"$f":"CONCATENATE(vlookup_data[[#This Row],[style '#]],\"|\",R1741)","v":"0|"}]
[{"$f":"IF(ISNUMBER(U1742)=TRUE,VLOOKUP(vlookup_data[[#This Row],[style '#]],[2]Sheet1!$A:$D,4,0)*ABS(U1742),0)","v":0},{"$f":"WEEKNUM(vlookup_data[[#This Row],[Column8]],2)","v":1},{"$f":"YEAR(vlookup_data[[#This Row],[Column8]])","v":1900},0,{"$f":"CONCATENATE(vlookup_data[[#This Row],[style '#]],\"|\",R1742)","v":"0|"}]
[{"$f":"IF(ISNUMBER(U1743)=TRUE,VLOOKUP(vlookup_data[[#This Row],[style '#]],[2]Sheet1!$A:$D,4,0)*ABS(U1743),0)","v":0},{"$f":"WEEKNUM(vlookup_data[[#This Row],[Column8]],2)","v":1},{"$f":"YEAR(vlookup_data[[#This Row],[Column8]])","v":1900},0,{"$f":"CONCATENATE(vlookup_data[[#This Row],[style '#]],\"|\",R1743)","v":"0|"}]
[{"$f":"IF(ISNUMBER(U1744)=TRUE,VLOOKUP(vlookup_data[[#This Row],[style '#]],[2]Sheet1!$A:$D,4,0)*ABS(U1744),0)","v":0},{"$f":"WEEKNUM(vlookup_data[[#This Row],[Column8]],2)","v":1},{"$f":"YEAR(vlookup_data[[#This Row],[Column8]])","v":1900},0,{"$f":"CONCATENATE(vlookup_data[[#This Row],[style '#]],\"|\",R1744)","v":"0|"}]
[{"$f":"IF(ISNUMBER(U1745)=TRUE,VLOOKUP(vlookup_data[[#This Row],[style '#]],[2]Sheet1!$A:$D,4,0)*ABS(U1745),0)","v":0},{"$f":"WEEKNUM(vlookup_data[[#This Row],[Column8]],2)","v":1},{"$f":"YEAR(vlookup_data[[#This Row],[Column8]])","v":1900},0,{"$f":"CONCATENATE(vlookup_data[[#This Row],[style '#]],\"|\",R1745)","v":"0|"}]
[{"$f":"IF(ISNUMBER(U1746)=TRUE,VLOOKUP(vlookup_data[[#This Row],[style '#]],[2]Sheet1!$A:$D,4,0)*ABS(U1746),0)","v":0},{"$f":"WEEKNUM(vlookup_data[[#This Row],[Column8]],2)","v":1},{"$f":"YEAR(vlookup_data[[#This Row],[Column8]])","v":1900},0,{"$f":"CONCATENATE(vlookup_data[[#This Row],[style '#]],\"|\",R1746)","v":"0|"}]
[{"$f":"IF(ISNUMBER(U1747)=TRUE,VLOOKUP(vlookup_data[[#This Row],[style '#]],[2]Sheet1!$A:$D,4,0)*ABS(U1747),0)","v":0},{"$f":"WEEKNUM(vlookup_data[[#This Row],[Column8]],2)","v":1},{"$f":"YEAR(vlookup_data[[#This Row],[Column8]])","v":1900},0,{"$f":"CONCATENATE(vlookup_data[[#This Row],[style '#]],\"|\",R1747)","v":"0|"}]
[{"$f":"IF(ISNUMBER(U1748)=TRUE,VLOOKUP(vlookup_data[[#This Row],[style '#]],[2]Sheet1!$A:$D,4,0)*ABS(U1748),0)","v":0},{"$f":"WEEKNUM(vlookup_data[[#This Row],[Column8]],2)","v":1},{"$f":"YEAR(vlookup_data[[#This Row],[Column8]])","v":1900},0,{"$f":"CONCATENATE(vlookup_data[[#This Row],[style '#]],\"|\",R1748)","v":"0|"}]
[{"$f":"IF(ISNUMBER(U1749)=TRUE,VLOOKUP(vlookup_data[[#This Row],[style '#]],[2]Sheet1!$A:$D,4,0)*ABS(U1749),0)","v":0},{"$f":"WEEKNUM(vlookup_data[[#This Row],[Column8]],2)","v":1},{"$f":"YEAR(vlookup_data[[#This Row],[Column8]])","v":1900},0,{"$f":"CONCATENATE(vlookup_data[[#This Row],[style '#]],\"|\",R1749)","v":"0|"}]
[{"$f":"IF(ISNUMBER(U1750)=TRUE,VLOOKUP(vlookup_data[[#This Row],[style '#]],[2]Sheet1!$A:$D,4,0)*ABS(U1750),0)","v":0},{"$f":"WEEKNUM(vlookup_data[[#This Row],[Column8]],2)","v":1},{"$f":"YEAR(vlookup_data[[#This Row],[Column8]])","v":1900},0,{"$f":"CONCATENATE(vlookup_data[[#This Row],[style '#]],\"|\",R1750)","v":"0|"}]
[{"$f":"IF(ISNUMBER(U1751)=TRUE,VLOOKUP(vlookup_data[[#This Row],[style '#]],[2]Sheet1!$A:$D,4,0)*ABS(U1751),0)","v":0},{"$f":"WEEKNUM(vlookup_data[[#This Row],[Column8]],2)","v":1},{"$f":"YEAR(vlookup_data[[#This Row],[Column8]])","v":1900},0,{"$f":"CONCATENATE(vlookup_data[[#This Row],[style '#]],\"|\",R1751)","v":"0|"}]
[{"$f":"IF(ISNUMBER(U1752)=TRUE,VLOOKUP(vlookup_data[[#This Row],[style '#]],[2]Sheet1!$A:$D,4,0)*ABS(U1752),0)","v":0},{"$f":"WEEKNUM(vlookup_data[[#This Row],[Column8]],2)","v":1},{"$f":"YEAR(vlookup_data[[#This Row],[Column8]])","v":1900},0,{"$f":"CONCATENATE(vlookup_data[[#This Row],[style '#]],\"|\",R1752)","v":"0|"}]
[{"$f":"IF(ISNUMBER(U1753)=TRUE,VLOOKUP(vlookup_data[[#This Row],[style '#]],[2]Sheet1!$A:$D,4,0)*ABS(U1753),0)","v":0},{"$f":"WEEKNUM(vlookup_data[[#This Row],[Column8]],2)","v":1},{"$f":"YEAR(vlookup_data[[#This Row],[Column8]])","v":1900},0,{"$f":"CONCATENATE(vlookup_data[[#This Row],[style '#]],\"|\",R1753)","v":"0|"}]
[{"$f":"IF(ISNUMBER(U1754)=TRUE,VLOOKUP(vlookup_data[[#This Row],[style '#]],[2]Sheet1!$A:$D,4,0)*ABS(U1754),0)","v":0},{"$f":"WEEKNUM(vlookup_data[[#This Row],[Column8]],2)","v":1},{"$f":"YEAR(vlookup_data[[#This Row],[Column8]])","v":1900},0,{"$f":"CONCATENATE(vlookup_data[[#This Row],[style '#]],\"|\",R1754)","v":"0|"}]

{"sheet":"rollup from AX data","index":7,"n_rows":54,"n_cols":9,"rows_kept":54,"cut":false,"hidden":true,"merged":[]}
["Week","Year","111-FILSN1","112-FILSN2","113-FILSN3","111-FILSN1 units","112-FILSN2 units","113-FILSN3 units","unique count of styles delivered"]
[1,2016,0,0,0,0,0,0]
[2,2016,1948.3436666666666,1694.6167416666676,889.17499999999984,1575,2465,1710]
[3,2016,3488.0236666666665,1695.3755000000006,691.29633333333311,3160,1570,715]
[4,2016,2336.9504166666666,1916.4033683333334,516.08674999999994,2275,1810,705]
[5,2016,2932.0265416666671,2054.4504233333337,207.33333333333334,2025,1232,400]
[6,2016,2697.3881249999999,2506.3689333333314,866.85333333333335,1650,2040,1600]
[7,2016,2572.8296666666665,1655.6607166666652,956.07366666666655,1750,3250,2280]
[8,2016,1439.3876666666665,1494.8728999999996,519.7354600000001,1200,1090,1229]
[9,2016,2744.5970833333326,1359.1701500000001,775.61900333333335,2000,2080,918]
[10,2016,3523.5938333333334,929.58566666666638,647.63806666666653,2900,1000,882]
[11,2016,2833.0279166666669,1796.0267333333338,1074.5909099999999,1735,2690,838]
[12,2016,3052.485666666666,1040.7956666666664,1062.9094333333333,1875,1120,1638]
[13,2016,2706.4122500000003,750.08619153566667,606.73260333333326,1850,2505,1105]
[14,2016,2949.3000833333335,438.95908333333335,1144.2081983333335,2050,1310,917]
[15,2016,5315.9264166666653,3487.7241333333372,893.60431333333349,3750,3940,1090]
[16,2016,8374.7198333333326,5640.585566666663,375.84506666666675,6680,7820,344]
[17,2016,6970.0231666666705,3223.2241333333332,1663.2524999999998,6180,6280,2534]
[18,2016,2806.9962500000001,2531.821466533333,1179.4125966666666,2250,6392,2206]
[19,2016,0,0,0,0,0,0]
[20,2016,0,0,0,0,0,0]
[21,2016,0,0,0,0,0,0]
[22,2016,0,0,0,0,0,0]
[23,2016,0,0,0,0,0,0]
[24,2016,0,0,0,0,0,0]
[25,2016,0,0,0,0,0,0]
[26,2016,0,0,0,0,0,0]
[27,2016,0,0,0,0,0,0]
[28,2016,0,0,0,0,0,0]
[29,2016,0,0,0,0,0,0]
[30,2016,0,0,0,0,0,0]
[31,2016,0,0,0,0,0,0]
[32,2016,0,0,0,0,0,0]
[33,2016,0,0,0,0,0,0]
[34,2016,0,0,0,0,0,0]
[35,2016,0,0,0,0,0,0]
[36,2016,0,0,0,0,0,0]
[37,2016,0,0,0,0,0,0]
[38,2016,0,0,0,0,0,0]
[39,2016,0,0,0,0,0,0]
[40,2016,0,0,0,0,0,0]
[41,2016,0,0,0,0,0,0]
[42,2016,0,0,0,0,0,0]
[43,2016,0,0,0,0,0,0]
[44,2016,0,0,0,0,0,0]
[45,2016,0,0,0,0,0,0]
[46,2016,0,0,0,0,0,0]
[47,2016,0,0,0,0,0,0]
[48,2016,0,0,0,0,0,0]
[49,2016,0,0,0,0,0,0]
[50,2016,0,0,0,0,0,0]
[51,2016,0,0,0,0,0,0]
[52,2016,0,0,0,0,0,0]
[53,2016,0,0,0,0,0,0]

{"sheet":"2015 sah unit data","index":8,"n_rows":107,"n_cols":31,"rows_kept":107,"cut":false,"hidden":true,"merged":[]}
[null,"sah","sah","sah","units","units","units"]
["date","111-FILSN1","112-FILSN2","113-FILSN3","111-FILSN1","112-FILSN2","113-FILSN3","date","unique count of styles delivered","week","month","year",null,null,"111-FILSN1",null,"112-FILSN2",null,"113-FILSN3",null,null,null,null,null,"111-FILSN1","111-FILSN1","112-FILSN2","112-FILSN2","113-FILSN3","113-FILSN3"]
[{"$f":"IF(K3=1,\"Jan\",IF(K3=2,\"Feb\",IF(K3=3,\"Mar\",IF(K3=4,\"Apr\",IF(K3=5,\"May\",IF(K3=6,\"Jun\",IF(K3=7,\"Jul\",IF(K3=8,\"Aug\",IF(K3=9,\"Sep\",IF(K3=10,\"Oct\",IF(K3=11,\"Nov\",IF(K3=12,\"Dec\",0))))))))))))","v":"Jan"},{"$f":"VLOOKUP(A3,N:Y,12,0)","v":3158.7739516666684},{"$f":"VLOOKUP(A3,N:AA,14,0)","v":1210.8388591666685},{"$f":"VLOOKUP(A3,N:AD,17,0)","v":197},{"$f":"VLOOKUP(A3,N:Z,13,0)","v":2726},{"$f":"VLOOKUP(A3,N:AB,15,0)","v":1076},{"$f":"VLOOKUP(A3,N:AD,17,0)","v":197},null,{"$f":"VLOOKUP(A3,N:X,11,0)","v":15},1,1,2015,null,2015,"Sum of total sah","Sum of RcvdQty","Sum of total sah","Sum of RcvdQty","Sum of total sah","Sum of RcvdQty","Month","Year","distinct count","rounded by week count","SAH","unit","SAH","unit","SAH","unit"]
[{"$f":"IF(K4=1,\"Jan\",IF(K4=2,\"Feb\",IF(K4=3,\"Mar\",IF(K4=4,\"Apr\",IF(K4=5,\"May\",IF(K4=6,\"Jun\",IF(K4=7,\"Jul\",IF(K4=8,\"Aug\",IF(K4=9,\"Sep\",IF(K4=10,\"Oct\",IF(K4=11,\"Nov\",IF(K4=12,\"Dec\",0))))))))))))","v":"Jan"},{"$f":"VLOOKUP(A4,N:Y,12,0)","v":3158.7739516666684},{"$f":"VLOOKUP(A4,N:AA,14,0)","v":1210.8388591666685},{"$f":"VLOOKUP(A4,N:AD,17,0)","v":197},{"$f":"VLOOKUP(A4,N:Z,13,0)","v":2726},{"$f":"VLOOKUP(A4,N:AB,15,0)","v":1076},{"$f":"VLOOKUP(A4,N:AD,17,0)","v":197},null,{"$f":"VLOOKUP(A4,N:X,11,0)","v":15},2,1,2015,"2015-01-01","Jan",12635.095806666674,10904,4843.355436666674,4307,449.43533333333318,790,1,2015,59,{"$f":"ROUNDUP(W4/4,0)","v":15},{"$f":"O4/(4)","v":3158.7739516666684},{"$f":"ROUNDDOWN(P4/4,0)","v":2726},{"$f":"Q4/(4)","v":1210.8388591666685},{"$f":"ROUNDDOWN(R4/4,0)","v":1076},{"$f":"S4/(4)","v":112.35883333333329},{"$f":"ROUNDDOWN(T4/(4),0)","v":197},4]
["Jan",3158.7739516666684,1210.8388591666685,197,2726,1076,197,null,15,3,1,2015,"2015-02-01","Feb",11307.84550333333,9951,6945.3260016666682,5006,232.48333333333332,600,2,2015,57,{"$f":"ROUNDUP(W5/4,0)","v":15},{"$f":"O5/(4)","v":2826.9613758333326},{"$f":"ROUNDDOWN(P5/(AE5),0)","v":2487},{"$f":"Q5/(AE5)","v":1736.331500416667},{"$f":"ROUNDDOWN(R5/AE5,0)","v":1251},{"$f":"S5/(AE5)","v":58.12083333333333},{"$f":"ROUNDDOWN(T5/(AE5),0)","v":150},4]
["Jan",3158.7739516666684,1210.8388591666685,197,2726,1076,197,null,15,4,1,2015,"2015-03-01","Mar",14677.189666666658,15367,7588.7389833333282,7707,1416.7759999999998,2210,3,2015,77,{"$f":"ROUNDUP(W6/6,0)","v":13},{"$f":"O6/(6)","v":2446.1982777777762},{"$f":"ROUNDDOWN(P6/(AE6),0)","v":2561},{"$f":"Q6/(AE6)","v":1264.7898305555548},{"$f":"ROUNDDOWN(R6/AE6,0)","v":1284},{"$f":"S6/(AE6)","v":236.12933333333331},{"$f":"ROUNDDOWN(T6/(AE6),0)","v":368},6]
["Feb",2826.9613758333326,1736.331500416667,150,2487,1251,150,null,15,5,2,2015,"2015-04-01","Apr",13439.202431666663,14116,6152.5275116666708,8009,762.00760000000014,1405,4,2015,51,13,3359.8006079166657,3529,1538.1318779166677,2002,190.50190000000003,351,4]
["Feb",2826.9613758333326,1736.331500416667,150,2487,1251,150,null,15,6,2,2015,"2015-05-01","May",8472.0642750000025,7413,6187.7290999999987,8424,788.82333333333281,1050,5,2015,52,13,2118.0160687500006,1853,1546.9322749999997,2106,197.2058333333332,262,4]
["Feb",2826.9613758333326,1736.331500416667,150,2487,1251,150,null,15,7,2,2015,"2015-06-01","Jun",12983.832103333332,12499,5622.7912550000046,7200,424.31529333333333,613,6,2015,67,{"$f":"ROUNDUP(W9/5,0)","v":14},{"$f":"O9/(5)","v":2596.7664206666664},2499,1124.5582510000008,1440,84.86305866666666,122,5]
["Feb",2826.9613758333326,1736.331500416667,150,2487,1251,150,null,15,8,2,2015,"2015-07-01","Jul",13193.07158166666,12897,9081.428219999998,14591,354.07849999999996,963,7,2015,73,19,3298.2678954166649,3224,2270.3570549999995,3647,88.519624999999991,240,4]
["Mar",2446.1982777777762,1264.7898305555548,368,2561,1284,368,null,13,9,3,2015,"2015-08-01","Aug",16683.661599999989,14013,5356.2089033333295,6795,3893.2562166666667,3898,8,2015,79,{"$f":"ROUNDUP(W11/5,0)","v":16},{"$f":"O11/(5)","v":3336.7323199999978},2802,1071.2417806666658,1359,778.65124333333335,779,5]
["Mar",2446.1982777777762,1264.7898305555548,368,2561,1284,368,null,13,10,3,2015,"2015-09-01","Sep",14131.96231666667,12842,6838.607291666669,9069,null,null,9,2015,78,20,3532.9905791666674,3210,1709.6518229166672,2267,0,0,4]
["Mar",2446.1982777777762,1264.7898305555548,368,2561,1284,368,null,13,11,3,2015,"2015-10-01","Oct",13208.385858333342,12304,9331.3240666666625,10386,3518.4006333333336,1457,10,2015,69,18,3302.0964645833355,3076,2332.8310166666656,2596,879.60015833333341,364,4]
["Mar",2446.1982777777762,1264.7898305555548,368,2561,1284,368,null,13,12,3,2015,"2015-11-01","Nov",9732.4119283333293,7491,6535.0005233333259,5774,2285.9615416666666,2605,11,2015,51,13,2433.1029820833323,1872,1633.7501308333315,1443,571.49038541666664,651,4]
["Mar",2446.1982777777762,1264.7898305555548,368,2561,1284,368,null,13,13,3,2015,"2015-12-01","Dec",13201.310728333339,11139,7882.1148849999909,8710,2441.1861999999992,2722,12,2015,79,{"$f":"ROUNDUP(W15/5,0)","v":16},{"$f":"O15/(5)","v":2640.2621456666679},2227,1576.4229769999981,1742,488.23723999999982,544,5]
["Mar",2446.1982777777762,1264.7898305555548,368,2561,1284,368,null,13,14,3,2015]
["Apr",3359.8006079166657,1538.1318779166677,351,3529,2002,351,null,13,15,4,2015]
["Apr",3359.8006079166657,1538.1318779166677,351,3529,2002,351,null,13,16,4,2015]
["Apr",3359.8006079166657,1538.1318779166677,351,3529,2002,351,null,13,17,4,2015]
["Apr",3359.8006079166657,1538.1318779166677,351,3529,2002,351,null,13,18,4,2015]
["May",2118.0160687500006,1546.9322749999997,262,1853,2106,262,null,13,19,5,2015]
["May",2118.0160687500006,1546.9322749999997,262,1853,2106,262,null,13,20,5,2015]
["May",2118.0160687500006,1546.9322749999997,262,1853,2106,262,null,13,21,5,2015]
["May",2118.0160687500006,1546.9322749999997,262,1853,2106,262,null,13,22,5,2015]
["Jun",2596.7664206666664,1124.5582510000008,122,2499,1440,122,null,14,23,6,2015]
["Jun",2596.7664206666664,1124.5582510000008,122,2499,1440,122,null,14,24,6,2015]
["Jun",2596.7664206666664,1124.5582510000008,122,2499,1440,122,null,14,25,6,2015]
["Jun",2596.7664206666664,1124.5582510000008,122,2499,1440,122,null,14,26,6,2015]
["Jun",2596.7664206666664,1124.5582510000008,122,2499,1440,122,null,14,27,6,2015]
["Jul",3298.2678954166649,2270.3570549999995,240,3224,3647,240,null,19,28,7,2015]
["Jul",3298.2678954166649,2270.3570549999995,240,3224,3647,240,null,19,29,7,2015]
["Jul",3298.2678954166649,2270.3570549999995,240,3224,3647,240,null,19,30,7,2015]
["Jul",3298.2678954166649,2270.3570549999995,240,3224,3647,240,null,19,31,7,2015]
["Aug",3336.7323199999978,1071.2417806666658,779,2802,1359,779,null,16,32,8,2015]
["Aug",3336.7323199999978,1071.2417806666658,779,2802,1359,779,null,16,33,8,2015]
["Aug",3336.7323199999978,1071.2417806666658,779,2802,1359,779,null,16,34,8,2015]
["Aug",3336.7323199999978,1071.2417806666658,779,2802,1359,779,null,16,35,8,2015]
["Aug",3336.7323199999978,1071.2417806666658,779,2802,1359,779,null,16,36,8,2015]
["Sep",3532.9905791666674,1709.6518229166672,0,3210,2267,0,null,20,37,9,2015]
["Sep",3532.9905791666674,1709.6518229166672,0,3210,2267,0,null,20,38,9,2015]
["Sep",3532.9905791666674,1709.6518229166672,0,3210,2267,0,null,20,39,9,2015]
["Sep",3532.9905791666674,1709.6518229166672,0,3210,2267,0,null,20,40,9,2015]
["Oct",3302.0964645833355,2332.8310166666656,364,3076,2596,364,null,18,41,10,2015]
["Oct",3302.0964645833355,2332.8310166666656,364,3076,2596,364,null,18,42,10,2015]
["Oct",3302.0964645833355,2332.8310166666656,364,3076,2596,364,null,18,43,10,2015]
["Oct",3302.0964645833355,2332.8310166666656,364,3076,2596,364,null,18,44,10,2015]
["Nov",2433.1029820833323,1633.7501308333315,651,1872,1443,651,null,13,45,11,2015]
["Nov",2433.1029820833323,1633.7501308333315,651,1872,1443,651,null,13,46,11,2015]
["Nov",2433.1029820833323,1633.7501308333315,651,1872,1443,651,null,13,47,11,2015]
["Nov",2433.1029820833323,1633.7501308333315,651,1872,1443,651,null,13,48,11,2015]
["Dec",2640.2621456666679,1576.4229769999981,544,2227,1742,544,null,16,49,12,2015]
["Dec",2640.2621456666679,1576.4229769999981,544,2227,1742,544,null,16,50,12,2015]
["Dec",2640.2621456666679,1576.4229769999981,544,2227,1742,544,null,16,51,12,2015]
["Dec",2640.2621456666679,1576.4229769999981,544,2227,1742,544,null,16,52,12,2015]
["Dec",2640.2621456666679,1576.4229769999981,544,2227,1742,544,null,16,53,12,2015]
[null,{"$f":"SUMIFS('rollup from AX data'!C:C,'rollup from AX data'!B:B,'2015 sah unit data'!L56,'rollup from AX data'!A:A,'2015 sah unit data'!J56)","v":0},{"$f":"SUMIFS('rollup from AX data'!D:D,'rollup from AX data'!B:B,'2015 sah unit data'!L56,'rollup from AX data'!A:A,'2015 sah unit data'!J56)","v":0},{"$f":"SUMIFS('rollup from AX data'!E:E,'rollup from AX data'!B:B,'2015 sah unit data'!L56,'rollup from AX data'!A:A,'2015 sah unit data'!J56)","v":0},{"$f":"SUMIFS('rollup from AX data'!F:F,'rollup from AX data'!B:B,'2015 sah unit data'!L56,'rollup from AX data'!A:A,'2015 sah unit data'!J56)","v":0},{"$f":"SUMIFS('rollup from AX data'!G:G,'rollup from AX data'!B:B,'2015 sah unit data'!L56,'rollup from AX data'!A:A,'2015 sah unit data'!J56)","v":0},{"$f":"SUMIFS('rollup from AX data'!H:H,'rollup from AX data'!B:B,'2015 sah unit data'!L56,'rollup from AX data'!A:A,'2015 sah unit data'!J56)","v":0},null,null,1,1,2016]
[null,{"$f":"SUMIFS('rollup from AX data'!C:C,'rollup from AX data'!B:B,'2015 sah unit data'!L57,'rollup from AX data'!A:A,'2015 sah unit data'!J57)","v":1948.3436666666666},{"$f":"SUMIFS('rollup from AX data'!D:D,'rollup from AX data'!B:B,'2015 sah unit data'!L57,'rollup from AX data'!A:A,'2015 sah unit data'!J57)","v":1694.6167416666676},{"$f":"SUMIFS('rollup from AX data'!E:E,'rollup from AX data'!B:B,'2015 sah unit data'!L57,'rollup from AX data'!A:A,'2015 sah unit data'!J57)","v":889.17499999999984},{"$f":"SUMIFS('rollup from AX data'!F:F,'rollup from AX data'!B:B,'2015 sah unit data'!L57,'rollup from AX data'!A:A,'2015 sah unit data'!J57)","v":1575},{"$f":"SUMIFS('rollup from AX data'!G:G,'rollup from AX data'!B:B,'2015 sah unit data'!L57,'rollup from AX data'!A:A,'2015 sah unit data'!J57)","v":2465},{"$f":"SUMIFS('rollup from AX data'!H:H,'rollup from AX data'!B:B,'2015 sah unit data'!L57,'rollup from AX data'!A:A,'2015 sah unit data'!J57)","v":1710},null,null,2,1,2016]
[null,{"$f":"SUMIFS('rollup from AX data'!C:C,'rollup from AX data'!B:B,'2015 sah unit data'!L58,'rollup from AX data'!A:A,'2015 sah unit data'!J58)","v":3488.0236666666665},{"$f":"SUMIFS('rollup from AX data'!D:D,'rollup from AX data'!B:B,'2015 sah unit data'!L58,'rollup from AX data'!A:A,'2015 sah unit data'!J58)","v":1695.3755000000006},{"$f":"SUMIFS('rollup from AX data'!E:E,'rollup from AX data'!B:B,'2015 sah unit data'!L58,'rollup from AX data'!A:A,'2015 sah unit data'!J58)","v":691.29633333333311},{"$f":"SUMIFS('rollup from AX data'!F:F,'rollup from AX data'!B:B,'2015 sah unit data'!L58,'rollup from AX data'!A:A,'2015 sah unit data'!J58)","v":3160},{"$f":"SUMIFS('rollup from AX data'!G:G,'rollup from AX data'!B:B,'2015 sah unit data'!L58,'rollup from AX data'!A:A,'2015 sah unit data'!J58)","v":1570},{"$f":"SUMIFS('rollup from AX data'!H:H,'rollup from AX data'!B:B,'2015 sah unit data'!L58,'rollup from AX data'!A:A,'2015 sah unit data'!J58)","v":715},null,null,3,1,2016]
[null,{"$f":"SUMIFS('rollup from AX data'!C:C,'rollup from AX data'!B:B,'2015 sah unit data'!L59,'rollup from AX data'!A:A,'2015 sah unit data'!J59)","v":2336.9504166666666},{"$f":"SUMIFS('rollup from AX data'!D:D,'rollup from AX data'!B:B,'2015 sah unit data'!L59,'rollup from AX data'!A:A,'2015 sah unit data'!J59)","v":1916.4033683333334},{"$f":"SUMIFS('rollup from AX data'!E:E,'rollup from AX data'!B:B,'2015 sah unit data'!L59,'rollup from AX data'!A:A,'2015 sah unit data'!J59)","v":516.08674999999994},{"$f":"SUMIFS('rollup from AX data'!F:F,'rollup from AX data'!B:B,'2015 sah unit data'!L59,'rollup from AX data'!A:A,'2015 sah unit data'!J59)","v":2275},{"$f":"SUMIFS('rollup from AX data'!G:G,'rollup from AX data'!B:B,'2015 sah unit data'!L59,'rollup from AX data'!A:A,'2015 sah unit data'!J59)","v":1810},{"$f":"SUMIFS('rollup from AX data'!H:H,'rollup from AX data'!B:B,'2015 sah unit data'!L59,'rollup from AX data'!A:A,'2015 sah unit data'!J59)","v":705},null,null,4,1,2016]
[null,{"$f":"SUMIFS('rollup from AX data'!C:C,'rollup from AX data'!B:B,'2015 sah unit data'!L60,'rollup from AX data'!A:A,'2015 sah unit data'!J60)","v":2932.0265416666671},{"$f":"SUMIFS('rollup from AX data'!D:D,'rollup from AX data'!B:B,'2015 sah unit data'!L60,'rollup from AX data'!A:A,'2015 sah unit data'!J60)","v":2054.4504233333337},{"$f":"SUMIFS('rollup from AX data'!E:E,'rollup from AX data'!B:B,'2015 sah unit data'!L60,'rollup from AX data'!A:A,'2015 sah unit data'!J60)","v":207.33333333333334},{"$f":"SUMIFS('rollup from AX data'!F:F,'rollup from AX data'!B:B,'2015 sah unit data'!L60,'rollup from AX data'!A:A,'2015 sah unit data'!J60)","v":2025},{"$f":"SUMIFS('rollup from AX data'!G:G,'rollup from AX data'!B:B,'2015 sah unit data'!L60,'rollup from AX data'!A:A,'2015 sah unit data'!J60)","v":1232},{"$f":"SUMIFS('rollup from AX data'!H:H,'rollup from AX data'!B:B,'2015 sah unit data'!L60,'rollup from AX data'!A:A,'2015 sah unit data'!J60)","v":400},null,null,5,2,2016]
[null,{"$f":"SUMIFS('rollup from AX data'!C:C,'rollup from AX data'!B:B,'2015 sah unit data'!L61,'rollup from AX data'!A:A,'2015 sah unit data'!J61)","v":2697.3881249999999},{"$f":"SUMIFS('rollup from AX data'!D:D,'rollup from AX data'!B:B,'2015 sah unit data'!L61,'rollup from AX data'!A:A,'2015 sah unit data'!J61)","v":2506.3689333333314},{"$f":"SUMIFS('rollup from AX data'!E:E,'rollup from AX data'!B:B,'2015 sah unit data'!L61,'rollup from AX data'!A:A,'2015 sah unit data'!J61)","v":866.85333333333335},{"$f":"SUMIFS('rollup from AX data'!F:F,'rollup from AX data'!B:B,'2015 sah unit data'!L61,'rollup from AX data'!A:A,'2015 sah unit data'!J61)","v":1650},{"$f":"SUMIFS('rollup from AX data'!G:G,'rollup from AX data'!B:B,'2015 sah unit data'!L61,'rollup from AX data'!A:A,'2015 sah unit data'!J61)","v":2040},{"$f":"SUMIFS('rollup from AX data'!H:H,'rollup from AX data'!B:B,'2015 sah unit data'!L61,'rollup from AX data'!A:A,'2015 sah unit data'!J61)","v":1600},null,null,6,2,2016]
[null,{"$f":"SUMIFS('rollup from AX data'!C:C,'rollup from AX data'!B:B,'2015 sah unit data'!L62,'rollup from AX data'!A:A,'2015 sah unit data'!J62)","v":2572.8296666666665},{"$f":"SUMIFS('rollup from AX data'!D:D,'rollup from AX data'!B:B,'2015 sah unit data'!L62,'rollup from AX data'!A:A,'2015 sah unit data'!J62)","v":1655.6607166666652},{"$f":"SUMIFS('rollup from AX data'!E:E,'rollup from AX data'!B:B,'2015 sah unit data'!L62,'rollup from AX data'!A:A,'2015 sah unit data'!J62)","v":956.07366666666655},{"$f":"SUMIFS('rollup from AX data'!F:F,'rollup from AX data'!B:B,'2015 sah unit data'!L62,'rollup from AX data'!A:A,'2015 sah unit data'!J62)","v":1750},{"$f":"SUMIFS('rollup from AX data'!G:G,'rollup from AX data'!B:B,'2015 sah unit data'!L62,'rollup from AX data'!A:A,'2015 sah unit data'!J62)","v":3250},{"$f":"SUMIFS('rollup from AX data'!H:H,'rollup from AX data'!B:B,'2015 sah unit data'!L62,'rollup from AX data'!A:A,'2015 sah unit data'!J62)","v":2280},null,null,7,2,2016]
[null,{"$f":"SUMIFS('rollup from AX data'!C:C,'rollup from AX data'!B:B,'2015 sah unit data'!L63,'rollup from AX data'!A:A,'2015 sah unit data'!J63)","v":1439.3876666666665},{"$f":"SUMIFS('rollup from AX data'!D:D,'rollup from AX data'!B:B,'2015 sah unit data'!L63,'rollup from AX data'!A:A,'2015 sah unit data'!J63)","v":1494.8728999999996},{"$f":"SUMIFS('rollup from AX data'!E:E,'rollup from AX data'!B:B,'2015 sah unit data'!L63,'rollup from AX data'!A:A,'2015 sah unit data'!J63)","v":519.7354600000001},{"$f":"SUMIFS('rollup from AX data'!F:F,'rollup from AX data'!B:B,'2015 sah unit data'!L63,'rollup from AX data'!A:A,'2015 sah unit data'!J63)","v":1200},{"$f":"SUMIFS('rollup from AX data'!G:G,'rollup from AX data'!B:B,'2015 sah unit data'!L63,'rollup from AX data'!A:A,'2015 sah unit data'!J63)","v":1090},{"$f":"SUMIFS('rollup from AX data'!H:H,'rollup from AX data'!B:B,'2015 sah unit data'!L63,'rollup from AX data'!A:A,'2015 sah unit data'!J63)","v":1229},null,null,8,2,2016]
[null,{"$f":"SUMIFS('rollup from AX data'!C:C,'rollup from AX data'!B:B,'2015 sah unit data'!L64,'rollup from AX data'!A:A,'2015 sah unit data'!J64)","v":2744.5970833333326},{"$f":"SUMIFS('rollup from AX data'!D:D,'rollup from AX data'!B:B,'2015 sah unit data'!L64,'rollup from AX data'!A:A,'2015 sah unit data'!J64)","v":1359.1701500000001},{"$f":"SUMIFS('rollup from AX data'!E:E,'rollup from AX data'!B:B,'2015 sah unit data'!L64,'rollup from AX data'!A:A,'2015 sah unit data'!J64)","v":775.61900333333335},{"$f":"SUMIFS('rollup from AX data'!F:F,'rollup from AX data'!B:B,'2015 sah unit data'!L64,'rollup from AX data'!A:A,'2015 sah unit data'!J64)","v":2000},{"$f":"SUMIFS('rollup from AX data'!G:G,'rollup from AX data'!B:B,'2015 sah unit data'!L64,'rollup from AX data'!A:A,'2015 sah unit data'!J64)","v":2080},{"$f":"SUMIFS('rollup from AX data'!H:H,'rollup from AX data'!B:B,'2015 sah unit data'!L64,'rollup from AX data'!A:A,'2015 sah unit data'!J64)","v":918},null,null,9,3,2016]
[null,{"$f":"SUMIFS('rollup from AX data'!C:C,'rollup from AX data'!B:B,'2015 sah unit data'!L65,'rollup from AX data'!A:A,'2015 sah unit data'!J65)","v":3523.5938333333334},{"$f":"SUMIFS('rollup from AX data'!D:D,'rollup from AX data'!B:B,'2015 sah unit data'!L65,'rollup from AX data'!A:A,'2015 sah unit data'!J65)","v":929.58566666666638},{"$f":"SUMIFS('rollup from AX data'!E:E,'rollup from AX data'!B:B,'2015 sah unit data'!L65,'rollup from AX data'!A:A,'2015 sah unit data'!J65)","v":647.63806666666653},{"$f":"SUMIFS('rollup from AX data'!F:F,'rollup from AX data'!B:B,'2015 sah unit data'!L65,'rollup from AX data'!A:A,'2015 sah unit data'!J65)","v":2900},{"$f":"SUMIFS('rollup from AX data'!G:G,'rollup from AX data'!B:B,'2015 sah unit data'!L65,'rollup from AX data'!A:A,'2015 sah unit data'!J65)","v":1000},{"$f":"SUMIFS('rollup from AX data'!H:H,'rollup from AX data'!B:B,'2015 sah unit data'!L65,'rollup from AX data'!A:A,'2015 sah unit data'!J65)","v":882},null,null,10,3,2016]
[null,{"$f":"SUMIFS('rollup from AX data'!C:C,'rollup from AX data'!B:B,'2015 sah unit data'!L66,'rollup from AX data'!A:A,'2015 sah unit data'!J66)","v":2833.0279166666669},{"$f":"SUMIFS('rollup from AX data'!D:D,'rollup from AX data'!B:B,'2015 sah unit data'!L66,'rollup from AX data'!A:A,'2015 sah unit data'!J66)","v":1796.0267333333338},{"$f":"SUMIFS('rollup from AX data'!E:E,'rollup from AX data'!B:B,'2015 sah unit data'!L66,'rollup from AX data'!A:A,'2015 sah unit data'!J66)","v":1074.5909099999999},{"$f":"SUMIFS('rollup from AX data'!F:F,'rollup from AX data'!B:B,'2015 sah unit data'!L66,'rollup from AX data'!A:A,'2015 sah unit data'!J66)","v":1735},{"$f":"SUMIFS('rollup from AX data'!G:G,'rollup from AX data'!B:B,'2015 sah unit data'!L66,'rollup from AX data'!A:A,'2015 sah unit data'!J66)","v":2690},{"$f":"SUMIFS('rollup from AX data'!H:H,'rollup from AX data'!B:B,'2015 sah unit data'!L66,'rollup from AX data'!A:A,'2015 sah unit data'!J66)","v":838},null,null,11,3,2016]
[null,{"$f":"SUMIFS('rollup from AX data'!C:C,'rollup from AX data'!B:B,'2015 sah unit data'!L67,'rollup from AX data'!A:A,'2015 sah unit data'!J67)","v":3052.485666666666},{"$f":"SUMIFS('rollup from AX data'!D:D,'rollup from AX data'!B:B,'2015 sah unit data'!L67,'rollup from AX data'!A:A,'2015 sah unit data'!J67)","v":1040.7956666666664},{"$f":"SUMIFS('rollup from AX data'!E:E,'rollup from AX data'!B:B,'2015 sah unit data'!L67,'rollup from AX data'!A:A,'2015 sah unit data'!J67)","v":1062.9094333333333},{"$f":"SUMIFS('rollup from AX data'!F:F,'rollup from AX data'!B:B,'2015 sah unit data'!L67,'rollup from AX data'!A:A,'2015 sah unit data'!J67)","v":1875},{"$f":"SUMIFS('rollup from AX data'!G:G,'rollup from AX data'!B:B,'2015 sah unit data'!L67,'rollup from AX data'!A:A,'2015 sah unit data'!J67)","v":1120},{"$f":"SUMIFS('rollup from AX data'!H:H,'rollup from AX data'!B:B,'2015 sah unit data'!L67,'rollup from AX data'!A:A,'2015 sah unit data'!J67)","v":1638},null,null,12,3,2016]
[null,{"$f":"SUMIFS('rollup from AX data'!C:C,'rollup from AX data'!B:B,'2015 sah unit data'!L68,'rollup from AX data'!A:A,'2015 sah unit data'!J68)","v":2706.4122500000003},{"$f":"SUMIFS('rollup from AX data'!D:D,'rollup from AX data'!B:B,'2015 sah unit data'!L68,'rollup from AX data'!A:A,'2015 sah unit data'!J68)","v":750.08619153566667},{"$f":"SUMIFS('rollup from AX data'!E:E,'rollup from AX data'!B:B,'2015 sah unit data'!L68,'rollup from AX data'!A:A,'2015 sah unit data'!J68)","v":606.73260333333326},{"$f":"SUMIFS('rollup from AX data'!F:F,'rollup from AX data'!B:B,'2015 sah unit data'!L68,'rollup from AX data'!A:A,'2015 sah unit data'!J68)","v":1850},{"$f":"SUMIFS('rollup from AX data'!G:G,'rollup from AX data'!B:B,'2015 sah unit data'!L68,'rollup from AX data'!A:A,'2015 sah unit data'!J68)","v":2505},{"$f":"SUMIFS('rollup from AX data'!H:H,'rollup from AX data'!B:B,'2015 sah unit data'!L68,'rollup from AX data'!A:A,'2015 sah unit data'!J68)","v":1105},null,null,13,3,2016]
[null,{"$f":"SUMIFS('rollup from AX data'!C:C,'rollup from AX data'!B:B,'2015 sah unit data'!L69,'rollup from AX data'!A:A,'2015 sah unit data'!J69)","v":2949.3000833333335},{"$f":"SUMIFS('rollup from AX data'!D:D,'rollup from AX data'!B:B,'2015 sah unit data'!L69,'rollup from AX data'!A:A,'2015 sah unit data'!J69)","v":438.95908333333335},{"$f":"SUMIFS('rollup from AX data'!E:E,'rollup from AX data'!B:B,'2015 sah unit data'!L69,'rollup from AX data'!A:A,'2015 sah unit data'!J69)","v":1144.2081983333335},{"$f":"SUMIFS('rollup from AX data'!F:F,'rollup from AX data'!B:B,'2015 sah unit data'!L69,'rollup from AX data'!A:A,'2015 sah unit data'!J69)","v":2050},{"$f":"SUMIFS('rollup from AX data'!G:G,'rollup from AX data'!B:B,'2015 sah unit data'!L69,'rollup from AX data'!A:A,'2015 sah unit data'!J69)","v":1310},{"$f":"SUMIFS('rollup from AX data'!H:H,'rollup from AX data'!B:B,'2015 sah unit data'!L69,'rollup from AX data'!A:A,'2015 sah unit data'!J69)","v":917},null,null,14,3,2016]
[null,{"$f":"SUMIFS('rollup from AX data'!C:C,'rollup from AX data'!B:B,'2015 sah unit data'!L70,'rollup from AX data'!A:A,'2015 sah unit data'!J70)","v":5315.9264166666653},{"$f":"SUMIFS('rollup from AX data'!D:D,'rollup from AX data'!B:B,'2015 sah unit data'!L70,'rollup from AX data'!A:A,'2015 sah unit data'!J70)","v":3487.7241333333372},{"$f":"SUMIFS('rollup from AX data'!E:E,'rollup from AX data'!B:B,'2015 sah unit data'!L70,'rollup from AX data'!A:A,'2015 sah unit data'!J70)","v":893.60431333333349},{"$f":"SUMIFS('rollup from AX data'!F:F,'rollup from AX data'!B:B,'2015 sah unit data'!L70,'rollup from AX data'!A:A,'2015 sah unit data'!J70)","v":3750},{"$f":"SUMIFS('rollup from AX data'!G:G,'rollup from AX data'!B:B,'2015 sah unit data'!L70,'rollup from AX data'!A:A,'2015 sah unit data'!J70)","v":3940},{"$f":"SUMIFS('rollup from AX data'!H:H,'rollup from AX data'!B:B,'2015 sah unit data'!L70,'rollup from AX data'!A:A,'2015 sah unit data'!J70)","v":1090},null,null,15,4,2016]
[null,{"$f":"SUMIFS('rollup from AX data'!C:C,'rollup from AX data'!B:B,'2015 sah unit data'!L71,'rollup from AX data'!A:A,'2015 sah unit data'!J71)","v":8374.7198333333326},{"$f":"SUMIFS('rollup from AX data'!D:D,'rollup from AX data'!B:B,'2015 sah unit data'!L71,'rollup from AX data'!A:A,'2015 sah unit data'!J71)","v":5640.585566666663},{"$f":"SUMIFS('rollup from AX data'!E:E,'rollup from AX data'!B:B,'2015 sah unit data'!L71,'rollup from AX data'!A:A,'2015 sah unit data'!J71)","v":375.84506666666675},{"$f":"SUMIFS('rollup from AX data'!F:F,'rollup from AX data'!B:B,'2015 sah unit data'!L71,'rollup from AX data'!A:A,'2015 sah unit data'!J71)","v":6680},{"$f":"SUMIFS('rollup from AX data'!G:G,'rollup from AX data'!B:B,'2015 sah unit data'!L71,'rollup from AX data'!A:A,'2015 sah unit data'!J71)","v":7820},{"$f":"SUMIFS('rollup from AX data'!H:H,'rollup from AX data'!B:B,'2015 sah unit data'!L71,'rollup from AX data'!A:A,'2015 sah unit data'!J71)","v":344},null,null,16,4,2016]
[null,{"$f":"SUMIFS('rollup from AX data'!C:C,'rollup from AX data'!B:B,'2015 sah unit data'!L72,'rollup from AX data'!A:A,'2015 sah unit data'!J72)","v":6970.0231666666705},{"$f":"SUMIFS('rollup from AX data'!D:D,'rollup from AX data'!B:B,'2015 sah unit data'!L72,'rollup from AX data'!A:A,'2015 sah unit data'!J72)","v":3223.2241333333332},{"$f":"SUMIFS('rollup from AX data'!E:E,'rollup from AX data'!B:B,'2015 sah unit data'!L72,'rollup from AX data'!A:A,'2015 sah unit data'!J72)","v":1663.2524999999998},{"$f":"SUMIFS('rollup from AX data'!F:F,'rollup from AX data'!B:B,'2015 sah unit data'!L72,'rollup from AX data'!A:A,'2015 sah unit data'!J72)","v":6180},{"$f":"SUMIFS('rollup from AX data'!G:G,'rollup from AX data'!B:B,'2015 sah unit data'!L72,'rollup from AX data'!A:A,'2015 sah unit data'!J72)","v":6280},{"$f":"SUMIFS('rollup from AX data'!H:H,'rollup from AX data'!B:B,'2015 sah unit data'!L72,'rollup from AX data'!A:A,'2015 sah unit data'!J72)","v":2534},null,null,17,4,2016]
[null,{"$f":"SUMIFS('rollup from AX data'!C:C,'rollup from AX data'!B:B,'2015 sah unit data'!L73,'rollup from AX data'!A:A,'2015 sah unit data'!J73)","v":2806.9962500000001},{"$f":"SUMIFS('rollup from AX data'!D:D,'rollup from AX data'!B:B,'2015 sah unit data'!L73,'rollup from AX data'!A:A,'2015 sah unit data'!J73)","v":2531.821466533333},{"$f":"SUMIFS('rollup from AX data'!E:E,'rollup from AX data'!B:B,'2015 sah unit data'!L73,'rollup from AX data'!A:A,'2015 sah unit data'!J73)","v":1179.4125966666666},{"$f":"SUMIFS('rollup from AX data'!F:F,'rollup from AX data'!B:B,'2015 sah unit data'!L73,'rollup from AX data'!A:A,'2015 sah unit data'!J73)","v":2250},{"$f":"SUMIFS('rollup from AX data'!G:G,'rollup from AX data'!B:B,'2015 sah unit data'!L73,'rollup from AX data'!A:A,'2015 sah unit data'!J73)","v":6392},{"$f":"SUMIFS('rollup from AX data'!H:H,'rollup from AX data'!B:B,'2015 sah unit data'!L73,'rollup from AX data'!A:A,'2015 sah unit data'!J73)","v":2206},null,null,18,4,2016]
[null,{"$f":"SUMIFS('rollup from AX data'!C:C,'rollup from AX data'!B:B,'2015 sah unit data'!L74,'rollup from AX data'!A:A,'2015 sah unit data'!J74)","v":0},{"$f":"SUMIFS('rollup from AX data'!D:D,'rollup from AX data'!B:B,'2015 sah unit data'!L74,'rollup from AX data'!A:A,'2015 sah unit data'!J74)","v":0},{"$f":"SUMIFS('rollup from AX data'!E:E,'rollup from AX data'!B:B,'2015 sah unit data'!L74,'rollup from AX data'!A:A,'2015 sah unit data'!J74)","v":0},{"$f":"SUMIFS('rollup from AX data'!F:F,'rollup from AX data'!B:B,'2015 sah unit data'!L74,'rollup from AX data'!A:A,'2015 sah unit data'!J74)","v":0},{"$f":"SUMIFS('rollup from AX data'!G:G,'rollup from AX data'!B:B,'2015 sah unit data'!L74,'rollup from AX data'!A:A,'2015 sah unit data'!J74)","v":0},{"$f":"SUMIFS('rollup from AX data'!H:H,'rollup from AX data'!B:B,'2015 sah unit data'!L74,'rollup from AX data'!A:A,'2015 sah unit data'!J74)","v":0},null,null,19,4,2016]
[null,{"$f":"SUMIFS('rollup from AX data'!C:C,'rollup from AX data'!B:B,'2015 sah unit data'!L75,'rollup from AX data'!A:A,'2015 sah unit data'!J75)","v":0},{"$f":"SUMIFS('rollup from AX data'!D:D,'rollup from AX data'!B:B,'2015 sah unit data'!L75,'rollup from AX data'!A:A,'2015 sah unit data'!J75)","v":0},{"$f":"SUMIFS('rollup from AX data'!E:E,'rollup from AX data'!B:B,'2015 sah unit data'!L75,'rollup from AX data'!A:A,'2015 sah unit data'!J75)","v":0},{"$f":"SUMIFS('rollup from AX data'!F:F,'rollup from AX data'!B:B,'2015 sah unit data'!L75,'rollup from AX data'!A:A,'2015 sah unit data'!J75)","v":0},{"$f":"SUMIFS('rollup from AX data'!G:G,'rollup from AX data'!B:B,'2015 sah unit data'!L75,'rollup from AX data'!A:A,'2015 sah unit data'!J75)","v":0},{"$f":"SUMIFS('rollup from AX data'!H:H,'rollup from AX data'!B:B,'2015 sah unit data'!L75,'rollup from AX data'!A:A,'2015 sah unit data'!J75)","v":0},null,null,20,5,2016]
[null,{"$f":"SUMIFS('rollup from AX data'!C:C,'rollup from AX data'!B:B,'2015 sah unit data'!L76,'rollup from AX data'!A:A,'2015 sah unit data'!J76)","v":0},{"$f":"SUMIFS('rollup from AX data'!D:D,'rollup from AX data'!B:B,'2015 sah unit data'!L76,'rollup from AX data'!A:A,'2015 sah unit data'!J76)","v":0},{"$f":"SUMIFS('rollup from AX data'!E:E,'rollup from AX data'!B:B,'2015 sah unit data'!L76,'rollup from AX data'!A:A,'2015 sah unit data'!J76)","v":0},{"$f":"SUMIFS('rollup from AX data'!F:F,'rollup from AX data'!B:B,'2015 sah unit data'!L76,'rollup from AX data'!A:A,'2015 sah unit data'!J76)","v":0},{"$f":"SUMIFS('rollup from AX data'!G:G,'rollup from AX data'!B:B,'2015 sah unit data'!L76,'rollup from AX data'!A:A,'2015 sah unit data'!J76)","v":0},{"$f":"SUMIFS('rollup from AX data'!H:H,'rollup from AX data'!B:B,'2015 sah unit data'!L76,'rollup from AX data'!A:A,'2015 sah unit data'!J76)","v":0},null,null,21,5,2016]
[null,{"$f":"SUMIFS('rollup from AX data'!C:C,'rollup from AX data'!B:B,'2015 sah unit data'!L77,'rollup from AX data'!A:A,'2015 sah unit data'!J77)","v":0},{"$f":"SUMIFS('rollup from AX data'!D:D,'rollup from AX data'!B:B,'2015 sah unit data'!L77,'rollup from AX data'!A:A,'2015 sah unit data'!J77)","v":0},{"$f":"SUMIFS('rollup from AX data'!E:E,'rollup from AX data'!B:B,'2015 sah unit data'!L77,'rollup from AX data'!A:A,'2015 sah unit data'!J77)","v":0},{"$f":"SUMIFS('rollup from AX data'!F:F,'rollup from AX data'!B:B,'2015 sah unit data'!L77,'rollup from AX data'!A:A,'2015 sah unit data'!J77)","v":0},{"$f":"SUMIFS('rollup from AX data'!G:G,'rollup from AX data'!B:B,'2015 sah unit data'!L77,'rollup from AX data'!A:A,'2015 sah unit data'!J77)","v":0},{"$f":"SUMIFS('rollup from AX data'!H:H,'rollup from AX data'!B:B,'2015 sah unit data'!L77,'rollup from AX data'!A:A,'2015 sah unit data'!J77)","v":0},null,null,22,5,2016]
[null,{"$f":"SUMIFS('rollup from AX data'!C:C,'rollup from AX data'!B:B,'2015 sah unit data'!L78,'rollup from AX data'!A:A,'2015 sah unit data'!J78)","v":0},{"$f":"SUMIFS('rollup from AX data'!D:D,'rollup from AX data'!B:B,'2015 sah unit data'!L78,'rollup from AX data'!A:A,'2015 sah unit data'!J78)","v":0},{"$f":"SUMIFS('rollup from AX data'!E:E,'rollup from AX data'!B:B,'2015 sah unit data'!L78,'rollup from AX data'!A:A,'2015 sah unit data'!J78)","v":0},{"$f":"SUMIFS('rollup from AX data'!F:F,'rollup from AX data'!B:B,'2015 sah unit data'!L78,'rollup from AX data'!A:A,'2015 sah unit data'!J78)","v":0},{"$f":"SUMIFS('rollup from AX data'!G:G,'rollup from AX data'!B:B,'2015 sah unit data'!L78,'rollup from AX data'!A:A,'2015 sah unit data'!J78)","v":0},{"$f":"SUMIFS('rollup from AX data'!H:H,'rollup from AX data'!B:B,'2015 sah unit data'!L78,'rollup from AX data'!A:A,'2015 sah unit data'!J78)","v":0},null,null,23,5,2016]
[null,{"$f":"SUMIFS('rollup from AX data'!C:C,'rollup from AX data'!B:B,'2015 sah unit data'!L79,'rollup from AX data'!A:A,'2015 sah unit data'!J79)","v":0},{"$f":"SUMIFS('rollup from AX data'!D:D,'rollup from AX data'!B:B,'2015 sah unit data'!L79,'rollup from AX data'!A:A,'2015 sah unit data'!J79)","v":0},{"$f":"SUMIFS('rollup from AX data'!E:E,'rollup from AX data'!B:B,'2015 sah unit data'!L79,'rollup from AX data'!A:A,'2015 sah unit data'!J79)","v":0},{"$f":"SUMIFS('rollup from AX data'!F:F,'rollup from AX data'!B:B,'2015 sah unit data'!L79,'rollup from AX data'!A:A,'2015 sah unit data'!J79)","v":0},{"$f":"SUMIFS('rollup from AX data'!G:G,'rollup from AX data'!B:B,'2015 sah unit data'!L79,'rollup from AX data'!A:A,'2015 sah unit data'!J79)","v":0},{"$f":"SUMIFS('rollup from AX data'!H:H,'rollup from AX data'!B:B,'2015 sah unit data'!L79,'rollup from AX data'!A:A,'2015 sah unit data'!J79)","v":0},null,null,24,6,2016]
[null,{"$f":"SUMIFS('rollup from AX data'!C:C,'rollup from AX data'!B:B,'2015 sah unit data'!L80,'rollup from AX data'!A:A,'2015 sah unit data'!J80)","v":0},{"$f":"SUMIFS('rollup from AX data'!D:D,'rollup from AX data'!B:B,'2015 sah unit data'!L80,'rollup from AX data'!A:A,'2015 sah unit data'!J80)","v":0},{"$f":"SUMIFS('rollup from AX data'!E:E,'rollup from AX data'!B:B,'2015 sah unit data'!L80,'rollup from AX data'!A:A,'2015 sah unit data'!J80)","v":0},{"$f":"SUMIFS('rollup from AX data'!F:F,'rollup from AX data'!B:B,'2015 sah unit data'!L80,'rollup from AX data'!A:A,'2015 sah unit data'!J80)","v":0},{"$f":"SUMIFS('rollup from AX data'!G:G,'rollup from AX data'!B:B,'2015 sah unit data'!L80,'rollup from AX data'!A:A,'2015 sah unit data'!J80)","v":0},{"$f":"SUMIFS('rollup from AX data'!H:H,'rollup from AX data'!B:B,'2015 sah unit data'!L80,'rollup from AX data'!A:A,'2015 sah unit data'!J80)","v":0},null,null,25,6,2016]
[null,{"$f":"SUMIFS('rollup from AX data'!C:C,'rollup from AX data'!B:B,'2015 sah unit data'!L81,'rollup from AX data'!A:A,'2015 sah unit data'!J81)","v":0},{"$f":"SUMIFS('rollup from AX data'!D:D,'rollup from AX data'!B:B,'2015 sah unit data'!L81,'rollup from AX data'!A:A,'2015 sah unit data'!J81)","v":0},{"$f":"SUMIFS('rollup from AX data'!E:E,'rollup from AX data'!B:B,'2015 sah unit data'!L81,'rollup from AX data'!A:A,'2015 sah unit data'!J81)","v":0},{"$f":"SUMIFS('rollup from AX data'!F:F,'rollup from AX data'!B:B,'2015 sah unit data'!L81,'rollup from AX data'!A:A,'2015 sah unit data'!J81)","v":0},{"$f":"SUMIFS('rollup from AX data'!G:G,'rollup from AX data'!B:B,'2015 sah unit data'!L81,'rollup from AX data'!A:A,'2015 sah unit data'!J81)","v":0},{"$f":"SUMIFS('rollup from AX data'!H:H,'rollup from AX data'!B:B,'2015 sah unit data'!L81,'rollup from AX data'!A:A,'2015 sah unit data'!J81)","v":0},null,null,26,6,2016]
[null,{"$f":"SUMIFS('rollup from AX data'!C:C,'rollup from AX data'!B:B,'2015 sah unit data'!L82,'rollup from AX data'!A:A,'2015 sah unit data'!J82)","v":0},{"$f":"SUMIFS('rollup from AX data'!D:D,'rollup from AX data'!B:B,'2015 sah unit data'!L82,'rollup from AX data'!A:A,'2015 sah unit data'!J82)","v":0},{"$f":"SUMIFS('rollup from AX data'!E:E,'rollup from AX data'!B:B,'2015 sah unit data'!L82,'rollup from AX data'!A:A,'2015 sah unit data'!J82)","v":0},{"$f":"SUMIFS('rollup from AX data'!F:F,'rollup from AX data'!B:B,'2015 sah unit data'!L82,'rollup from AX data'!A:A,'2015 sah unit data'!J82)","v":0},{"$f":"SUMIFS('rollup from AX data'!G:G,'rollup from AX data'!B:B,'2015 sah unit data'!L82,'rollup from AX data'!A:A,'2015 sah unit data'!J82)","v":0},{"$f":"SUMIFS('rollup from AX data'!H:H,'rollup from AX data'!B:B,'2015 sah unit data'!L82,'rollup from AX data'!A:A,'2015 sah unit data'!J82)","v":0},null,null,27,6,2016]
[null,{"$f":"SUMIFS('rollup from AX data'!C:C,'rollup from AX data'!B:B,'2015 sah unit data'!L83,'rollup from AX data'!A:A,'2015 sah unit data'!J83)","v":0},{"$f":"SUMIFS('rollup from AX data'!D:D,'rollup from AX data'!B:B,'2015 sah unit data'!L83,'rollup from AX data'!A:A,'2015 sah unit data'!J83)","v":0},{"$f":"SUMIFS('rollup from AX data'!E:E,'rollup from AX data'!B:B,'2015 sah unit data'!L83,'rollup from AX data'!A:A,'2015 sah unit data'!J83)","v":0},{"$f":"SUMIFS('rollup from AX data'!F:F,'rollup from AX data'!B:B,'2015 sah unit data'!L83,'rollup from AX data'!A:A,'2015 sah unit data'!J83)","v":0},{"$f":"SUMIFS('rollup from AX data'!G:G,'rollup from AX data'!B:B,'2015 sah unit data'!L83,'rollup from AX data'!A:A,'2015 sah unit data'!J83)","v":0},{"$f":"SUMIFS('rollup from AX data'!H:H,'rollup from AX data'!B:B,'2015 sah unit data'!L83,'rollup from AX data'!A:A,'2015 sah unit data'!J83)","v":0},null,null,28,7,2016]
[null,{"$f":"SUMIFS('rollup from AX data'!C:C,'rollup from AX data'!B:B,'2015 sah unit data'!L84,'rollup from AX data'!A:A,'2015 sah unit data'!J84)","v":0},{"$f":"SUMIFS('rollup from AX data'!D:D,'rollup from AX data'!B:B,'2015 sah unit data'!L84,'rollup from AX data'!A:A,'2015 sah unit data'!J84)","v":0},{"$f":"SUMIFS('rollup from AX data'!E:E,'rollup from AX data'!B:B,'2015 sah unit data'!L84,'rollup from AX data'!A:A,'2015 sah unit data'!J84)","v":0},{"$f":"SUMIFS('rollup from AX data'!F:F,'rollup from AX data'!B:B,'2015 sah unit data'!L84,'rollup from AX data'!A:A,'2015 sah unit data'!J84)","v":0},{"$f":"SUMIFS('rollup from AX data'!G:G,'rollup from AX data'!B:B,'2015 sah unit data'!L84,'rollup from AX data'!A:A,'2015 sah unit data'!J84)","v":0},{"$f":"SUMIFS('rollup from AX data'!H:H,'rollup from AX data'!B:B,'2015 sah unit data'!L84,'rollup from AX data'!A:A,'2015 sah unit data'!J84)","v":0},null,null,29,7,2016]
[null,{"$f":"SUMIFS('rollup from AX data'!C:C,'rollup from AX data'!B:B,'2015 sah unit data'!L85,'rollup from AX data'!A:A,'2015 sah unit data'!J85)","v":0},{"$f":"SUMIFS('rollup from AX data'!D:D,'rollup from AX data'!B:B,'2015 sah unit data'!L85,'rollup from AX data'!A:A,'2015 sah unit data'!J85)","v":0},{"$f":"SUMIFS('rollup from AX data'!E:E,'rollup from AX data'!B:B,'2015 sah unit data'!L85,'rollup from AX data'!A:A,'2015 sah unit data'!J85)","v":0},{"$f":"SUMIFS('rollup from AX data'!F:F,'rollup from AX data'!B:B,'2015 sah unit data'!L85,'rollup from AX data'!A:A,'2015 sah unit data'!J85)","v":0},{"$f":"SUMIFS('rollup from AX data'!G:G,'rollup from AX data'!B:B,'2015 sah unit data'!L85,'rollup from AX data'!A:A,'2015 sah unit data'!J85)","v":0},{"$f":"SUMIFS('rollup from AX data'!H:H,'rollup from AX data'!B:B,'2015 sah unit data'!L85,'rollup from AX data'!A:A,'2015 sah unit data'!J85)","v":0},null,null,30,7,2016]
[null,{"$f":"SUMIFS('rollup from AX data'!C:C,'rollup from AX data'!B:B,'2015 sah unit data'!L86,'rollup from AX data'!A:A,'2015 sah unit data'!J86)","v":0},{"$f":"SUMIFS('rollup from AX data'!D:D,'rollup from AX data'!B:B,'2015 sah unit data'!L86,'rollup from AX data'!A:A,'2015 sah unit data'!J86)","v":0},{"$f":"SUMIFS('rollup from AX data'!E:E,'rollup from AX data'!B:B,'2015 sah unit data'!L86,'rollup from AX data'!A:A,'2015 sah unit data'!J86)","v":0},{"$f":"SUMIFS('rollup from AX data'!F:F,'rollup from AX data'!B:B,'2015 sah unit data'!L86,'rollup from AX data'!A:A,'2015 sah unit data'!J86)","v":0},{"$f":"SUMIFS('rollup from AX data'!G:G,'rollup from AX data'!B:B,'2015 sah unit data'!L86,'rollup from AX data'!A:A,'2015 sah unit data'!J86)","v":0},{"$f":"SUMIFS('rollup from AX data'!H:H,'rollup from AX data'!B:B,'2015 sah unit data'!L86,'rollup from AX data'!A:A,'2015 sah unit data'!J86)","v":0},null,null,31,7,2016]
[null,{"$f":"SUMIFS('rollup from AX data'!C:C,'rollup from AX data'!B:B,'2015 sah unit data'!L87,'rollup from AX data'!A:A,'2015 sah unit data'!J87)","v":0},{"$f":"SUMIFS('rollup from AX data'!D:D,'rollup from AX data'!B:B,'2015 sah unit data'!L87,'rollup from AX data'!A:A,'2015 sah unit data'!J87)","v":0},{"$f":"SUMIFS('rollup from AX data'!E:E,'rollup from AX data'!B:B,'2015 sah unit data'!L87,'rollup from AX data'!A:A,'2015 sah unit data'!J87)","v":0},{"$f":"SUMIFS('rollup from AX data'!F:F,'rollup from AX data'!B:B,'2015 sah unit data'!L87,'rollup from AX data'!A:A,'2015 sah unit data'!J87)","v":0},{"$f":"SUMIFS('rollup from AX data'!G:G,'rollup from AX data'!B:B,'2015 sah unit data'!L87,'rollup from AX data'!A:A,'2015 sah unit data'!J87)","v":0},{"$f":"SUMIFS('rollup from AX data'!H:H,'rollup from AX data'!B:B,'2015 sah unit data'!L87,'rollup from AX data'!A:A,'2015 sah unit data'!J87)","v":0},null,null,32,8,2016]
[null,{"$f":"SUMIFS('rollup from AX data'!C:C,'rollup from AX data'!B:B,'2015 sah unit data'!L88,'rollup from AX data'!A:A,'2015 sah unit data'!J88)","v":0},{"$f":"SUMIFS('rollup from AX data'!D:D,'rollup from AX data'!B:B,'2015 sah unit data'!L88,'rollup from AX data'!A:A,'2015 sah unit data'!J88)","v":0},{"$f":"SUMIFS('rollup from AX data'!E:E,'rollup from AX data'!B:B,'2015 sah unit data'!L88,'rollup from AX data'!A:A,'2015 sah unit data'!J88)","v":0},{"$f":"SUMIFS('rollup from AX data'!F:F,'rollup from AX data'!B:B,'2015 sah unit data'!L88,'rollup from AX data'!A:A,'2015 sah unit data'!J88)","v":0},{"$f":"SUMIFS('rollup from AX data'!G:G,'rollup from AX data'!B:B,'2015 sah unit data'!L88,'rollup from AX data'!A:A,'2015 sah unit data'!J88)","v":0},{"$f":"SUMIFS('rollup from AX data'!H:H,'rollup from AX data'!B:B,'2015 sah unit data'!L88,'rollup from AX data'!A:A,'2015 sah unit data'!J88)","v":0},null,null,33,8,2016]
[null,{"$f":"SUMIFS('rollup from AX data'!C:C,'rollup from AX data'!B:B,'2015 sah unit data'!L89,'rollup from AX data'!A:A,'2015 sah unit data'!J89)","v":0},{"$f":"SUMIFS('rollup from AX data'!D:D,'rollup from AX data'!B:B,'2015 sah unit data'!L89,'rollup from AX data'!A:A,'2015 sah unit data'!J89)","v":0},{"$f":"SUMIFS('rollup from AX data'!E:E,'rollup from AX data'!B:B,'2015 sah unit data'!L89,'rollup from AX data'!A:A,'2015 sah unit data'!J89)","v":0},{"$f":"SUMIFS('rollup from AX data'!F:F,'rollup from AX data'!B:B,'2015 sah unit data'!L89,'rollup from AX data'!A:A,'2015 sah unit data'!J89)","v":0},{"$f":"SUMIFS('rollup from AX data'!G:G,'rollup from AX data'!B:B,'2015 sah unit data'!L89,'rollup from AX data'!A:A,'2015 sah unit data'!J89)","v":0},{"$f":"SUMIFS('rollup from AX data'!H:H,'rollup from AX data'!B:B,'2015 sah unit data'!L89,'rollup from AX data'!A:A,'2015 sah unit data'!J89)","v":0},null,null,34,8,2016]
[null,{"$f":"SUMIFS('rollup from AX data'!C:C,'rollup from AX data'!B:B,'2015 sah unit data'!L90,'rollup from AX data'!A:A,'2015 sah unit data'!J90)","v":0},{"$f":"SUMIFS('rollup from AX data'!D:D,'rollup from AX data'!B:B,'2015 sah unit data'!L90,'rollup from AX data'!A:A,'2015 sah unit data'!J90)","v":0},{"$f":"SUMIFS('rollup from AX data'!E:E,'rollup from AX data'!B:B,'2015 sah unit data'!L90,'rollup from AX data'!A:A,'2015 sah unit data'!J90)","v":0},{"$f":"SUMIFS('rollup from AX data'!F:F,'rollup from AX data'!B:B,'2015 sah unit data'!L90,'rollup from AX data'!A:A,'2015 sah unit data'!J90)","v":0},{"$f":"SUMIFS('rollup from AX data'!G:G,'rollup from AX data'!B:B,'2015 sah unit data'!L90,'rollup from AX data'!A:A,'2015 sah unit data'!J90)","v":0},{"$f":"SUMIFS('rollup from AX data'!H:H,'rollup from AX data'!B:B,'2015 sah unit data'!L90,'rollup from AX data'!A:A,'2015 sah unit data'!J90)","v":0},null,null,35,8,2016]
[null,{"$f":"SUMIFS('rollup from AX data'!C:C,'rollup from AX data'!B:B,'2015 sah unit data'!L91,'rollup from AX data'!A:A,'2015 sah unit data'!J91)","v":0},{"$f":"SUMIFS('rollup from AX data'!D:D,'rollup from AX data'!B:B,'2015 sah unit data'!L91,'rollup from AX data'!A:A,'2015 sah unit data'!J91)","v":0},{"$f":"SUMIFS('rollup from AX data'!E:E,'rollup from AX data'!B:B,'2015 sah unit data'!L91,'rollup from AX data'!A:A,'2015 sah unit data'!J91)","v":0},{"$f":"SUMIFS('rollup from AX data'!F:F,'rollup from AX data'!B:B,'2015 sah unit data'!L91,'rollup from AX data'!A:A,'2015 sah unit data'!J91)","v":0},{"$f":"SUMIFS('rollup from AX data'!G:G,'rollup from AX data'!B:B,'2015 sah unit data'!L91,'rollup from AX data'!A:A,'2015 sah unit data'!J91)","v":0},{"$f":"SUMIFS('rollup from AX data'!H:H,'rollup from AX data'!B:B,'2015 sah unit data'!L91,'rollup from AX data'!A:A,'2015 sah unit data'!J91)","v":0},null,null,36,8,2016]
[null,{"$f":"SUMIFS('rollup from AX data'!C:C,'rollup from AX data'!B:B,'2015 sah unit data'!L92,'rollup from AX data'!A:A,'2015 sah unit data'!J92)","v":0},{"$f":"SUMIFS('rollup from AX data'!D:D,'rollup from AX data'!B:B,'2015 sah unit data'!L92,'rollup from AX data'!A:A,'2015 sah unit data'!J92)","v":0},{"$f":"SUMIFS('rollup from AX data'!E:E,'rollup from AX data'!B:B,'2015 sah unit data'!L92,'rollup from AX data'!A:A,'2015 sah unit data'!J92)","v":0},{"$f":"SUMIFS('rollup from AX data'!F:F,'rollup from AX data'!B:B,'2015 sah unit data'!L92,'rollup from AX data'!A:A,'2015 sah unit data'!J92)","v":0},{"$f":"SUMIFS('rollup from AX data'!G:G,'rollup from AX data'!B:B,'2015 sah unit data'!L92,'rollup from AX data'!A:A,'2015 sah unit data'!J92)","v":0},{"$f":"SUMIFS('rollup from AX data'!H:H,'rollup from AX data'!B:B,'2015 sah unit data'!L92,'rollup from AX data'!A:A,'2015 sah unit data'!J92)","v":0},null,null,37,9,2016]
[null,{"$f":"SUMIFS('rollup from AX data'!C:C,'rollup from AX data'!B:B,'2015 sah unit data'!L93,'rollup from AX data'!A:A,'2015 sah unit data'!J93)","v":0},{"$f":"SUMIFS('rollup from AX data'!D:D,'rollup from AX data'!B:B,'2015 sah unit data'!L93,'rollup from AX data'!A:A,'2015 sah unit data'!J93)","v":0},{"$f":"SUMIFS('rollup from AX data'!E:E,'rollup from AX data'!B:B,'2015 sah unit data'!L93,'rollup from AX data'!A:A,'2015 sah unit data'!J93)","v":0},{"$f":"SUMIFS('rollup from AX data'!F:F,'rollup from AX data'!B:B,'2015 sah unit data'!L93,'rollup from AX data'!A:A,'2015 sah unit data'!J93)","v":0},{"$f":"SUMIFS('rollup from AX data'!G:G,'rollup from AX data'!B:B,'2015 sah unit data'!L93,'rollup from AX data'!A:A,'2015 sah unit data'!J93)","v":0},{"$f":"SUMIFS('rollup from AX data'!H:H,'rollup from AX data'!B:B,'2015 sah unit data'!L93,'rollup from AX data'!A:A,'2015 sah unit data'!J93)","v":0},null,null,38,9,2016]
[null,{"$f":"SUMIFS('rollup from AX data'!C:C,'rollup from AX data'!B:B,'2015 sah unit data'!L94,'rollup from AX data'!A:A,'2015 sah unit data'!J94)","v":0},{"$f":"SUMIFS('rollup from AX data'!D:D,'rollup from AX data'!B:B,'2015 sah unit data'!L94,'rollup from AX data'!A:A,'2015 sah unit data'!J94)","v":0},{"$f":"SUMIFS('rollup from AX data'!E:E,'rollup from AX data'!B:B,'2015 sah unit data'!L94,'rollup from AX data'!A:A,'2015 sah unit data'!J94)","v":0},{"$f":"SUMIFS('rollup from AX data'!F:F,'rollup from AX data'!B:B,'2015 sah unit data'!L94,'rollup from AX data'!A:A,'2015 sah unit data'!J94)","v":0},{"$f":"SUMIFS('rollup from AX data'!G:G,'rollup from AX data'!B:B,'2015 sah unit data'!L94,'rollup from AX data'!A:A,'2015 sah unit data'!J94)","v":0},{"$f":"SUMIFS('rollup from AX data'!H:H,'rollup from AX data'!B:B,'2015 sah unit data'!L94,'rollup from AX data'!A:A,'2015 sah unit data'!J94)","v":0},null,null,39,9,2016]
[null,{"$f":"SUMIFS('rollup from AX data'!C:C,'rollup from AX data'!B:B,'2015 sah unit data'!L95,'rollup from AX data'!A:A,'2015 sah unit data'!J95)","v":0},{"$f":"SUMIFS('rollup from AX data'!D:D,'rollup from AX data'!B:B,'2015 sah unit data'!L95,'rollup from AX data'!A:A,'2015 sah unit data'!J95)","v":0},{"$f":"SUMIFS('rollup from AX data'!E:E,'rollup from AX data'!B:B,'2015 sah unit data'!L95,'rollup from AX data'!A:A,'2015 sah unit data'!J95)","v":0},{"$f":"SUMIFS('rollup from AX data'!F:F,'rollup from AX data'!B:B,'2015 sah unit data'!L95,'rollup from AX data'!A:A,'2015 sah unit data'!J95)","v":0},{"$f":"SUMIFS('rollup from AX data'!G:G,'rollup from AX data'!B:B,'2015 sah unit data'!L95,'rollup from AX data'!A:A,'2015 sah unit data'!J95)","v":0},{"$f":"SUMIFS('rollup from AX data'!H:H,'rollup from AX data'!B:B,'2015 sah unit data'!L95,'rollup from AX data'!A:A,'2015 sah unit data'!J95)","v":0},null,null,40,9,2016]
[null,{"$f":"SUMIFS('rollup from AX data'!C:C,'rollup from AX data'!B:B,'2015 sah unit data'!L96,'rollup from AX data'!A:A,'2015 sah unit data'!J96)","v":0},{"$f":"SUMIFS('rollup from AX data'!D:D,'rollup from AX data'!B:B,'2015 sah unit data'!L96,'rollup from AX data'!A:A,'2015 sah unit data'!J96)","v":0},{"$f":"SUMIFS('rollup from AX data'!E:E,'rollup from AX data'!B:B,'2015 sah unit data'!L96,'rollup from AX data'!A:A,'2015 sah unit data'!J96)","v":0},{"$f":"SUMIFS('rollup from AX data'!F:F,'rollup from AX data'!B:B,'2015 sah unit data'!L96,'rollup from AX data'!A:A,'2015 sah unit data'!J96)","v":0},{"$f":"SUMIFS('rollup from AX data'!G:G,'rollup from AX data'!B:B,'2015 sah unit data'!L96,'rollup from AX data'!A:A,'2015 sah unit data'!J96)","v":0},{"$f":"SUMIFS('rollup from AX data'!H:H,'rollup from AX data'!B:B,'2015 sah unit data'!L96,'rollup from AX data'!A:A,'2015 sah unit data'!J96)","v":0},null,null,41,10,2016]
[null,{"$f":"SUMIFS('rollup from AX data'!C:C,'rollup from AX data'!B:B,'2015 sah unit data'!L97,'rollup from AX data'!A:A,'2015 sah unit data'!J97)","v":0},{"$f":"SUMIFS('rollup from AX data'!D:D,'rollup from AX data'!B:B,'2015 sah unit data'!L97,'rollup from AX data'!A:A,'2015 sah unit data'!J97)","v":0},{"$f":"SUMIFS('rollup from AX data'!E:E,'rollup from AX data'!B:B,'2015 sah unit data'!L97,'rollup from AX data'!A:A,'2015 sah unit data'!J97)","v":0},{"$f":"SUMIFS('rollup from AX data'!F:F,'rollup from AX data'!B:B,'2015 sah unit data'!L97,'rollup from AX data'!A:A,'2015 sah unit data'!J97)","v":0},{"$f":"SUMIFS('rollup from AX data'!G:G,'rollup from AX data'!B:B,'2015 sah unit data'!L97,'rollup from AX data'!A:A,'2015 sah unit data'!J97)","v":0},{"$f":"SUMIFS('rollup from AX data'!H:H,'rollup from AX data'!B:B,'2015 sah unit data'!L97,'rollup from AX data'!A:A,'2015 sah unit data'!J97)","v":0},null,null,42,10,2016]
[null,{"$f":"SUMIFS('rollup from AX data'!C:C,'rollup from AX data'!B:B,'2015 sah unit data'!L98,'rollup from AX data'!A:A,'2015 sah unit data'!J98)","v":0},{"$f":"SUMIFS('rollup from AX data'!D:D,'rollup from AX data'!B:B,'2015 sah unit data'!L98,'rollup from AX data'!A:A,'2015 sah unit data'!J98)","v":0},{"$f":"SUMIFS('rollup from AX data'!E:E,'rollup from AX data'!B:B,'2015 sah unit data'!L98,'rollup from AX data'!A:A,'2015 sah unit data'!J98)","v":0},{"$f":"SUMIFS('rollup from AX data'!F:F,'rollup from AX data'!B:B,'2015 sah unit data'!L98,'rollup from AX data'!A:A,'2015 sah unit data'!J98)","v":0},{"$f":"SUMIFS('rollup from AX data'!G:G,'rollup from AX data'!B:B,'2015 sah unit data'!L98,'rollup from AX data'!A:A,'2015 sah unit data'!J98)","v":0},{"$f":"SUMIFS('rollup from AX data'!H:H,'rollup from AX data'!B:B,'2015 sah unit data'!L98,'rollup from AX data'!A:A,'2015 sah unit data'!J98)","v":0},null,null,43,10,2016]
[null,{"$f":"SUMIFS('rollup from AX data'!C:C,'rollup from AX data'!B:B,'2015 sah unit data'!L99,'rollup from AX data'!A:A,'2015 sah unit data'!J99)","v":0},{"$f":"SUMIFS('rollup from AX data'!D:D,'rollup from AX data'!B:B,'2015 sah unit data'!L99,'rollup from AX data'!A:A,'2015 sah unit data'!J99)","v":0},{"$f":"SUMIFS('rollup from AX data'!E:E,'rollup from AX data'!B:B,'2015 sah unit data'!L99,'rollup from AX data'!A:A,'2015 sah unit data'!J99)","v":0},{"$f":"SUMIFS('rollup from AX data'!F:F,'rollup from AX data'!B:B,'2015 sah unit data'!L99,'rollup from AX data'!A:A,'2015 sah unit data'!J99)","v":0},{"$f":"SUMIFS('rollup from AX data'!G:G,'rollup from AX data'!B:B,'2015 sah unit data'!L99,'rollup from AX data'!A:A,'2015 sah unit data'!J99)","v":0},{"$f":"SUMIFS('rollup from AX data'!H:H,'rollup from AX data'!B:B,'2015 sah unit data'!L99,'rollup from AX data'!A:A,'2015 sah unit data'!J99)","v":0},null,null,44,10,2016]
[null,{"$f":"SUMIFS('rollup from AX data'!C:C,'rollup from AX data'!B:B,'2015 sah unit data'!L100,'rollup from AX data'!A:A,'2015 sah unit data'!J100)","v":0},{"$f":"SUMIFS('rollup from AX data'!D:D,'rollup from AX data'!B:B,'2015 sah unit data'!L100,'rollup from AX data'!A:A,'2015 sah unit data'!J100)","v":0},{"$f":"SUMIFS('rollup from AX data'!E:E,'rollup from AX data'!B:B,'2015 sah unit data'!L100,'rollup from AX data'!A:A,'2015 sah unit data'!J100)","v":0},{"$f":"SUMIFS('rollup from AX data'!F:F,'rollup from AX data'!B:B,'2015 sah unit data'!L100,'rollup from AX data'!A:A,'2015 sah unit data'!J100)","v":0},{"$f":"SUMIFS('rollup from AX data'!G:G,'rollup from AX data'!B:B,'2015 sah unit data'!L100,'rollup from AX data'!A:A,'2015 sah unit data'!J100)","v":0},{"$f":"SUMIFS('rollup from AX data'!H:H,'rollup from AX data'!B:B,'2015 sah unit data'!L100,'rollup from AX data'!A:A,'2015 sah unit data'!J100)","v":0},null,null,45,10,2016]
[null,{"$f":"SUMIFS('rollup from AX data'!C:C,'rollup from AX data'!B:B,'2015 sah unit data'!L101,'rollup from AX data'!A:A,'2015 sah unit data'!J101)","v":0},{"$f":"SUMIFS('rollup from AX data'!D:D,'rollup from AX data'!B:B,'2015 sah unit data'!L101,'rollup from AX data'!A:A,'2015 sah unit data'!J101)","v":0},{"$f":"SUMIFS('rollup from AX data'!E:E,'rollup from AX data'!B:B,'2015 sah unit data'!L101,'rollup from AX data'!A:A,'2015 sah unit data'!J101)","v":0},{"$f":"SUMIFS('rollup from AX data'!F:F,'rollup from AX data'!B:B,'2015 sah unit data'!L101,'rollup from AX data'!A:A,'2015 sah unit data'!J101)","v":0},{"$f":"SUMIFS('rollup from AX data'!G:G,'rollup from AX data'!B:B,'2015 sah unit data'!L101,'rollup from AX data'!A:A,'2015 sah unit data'!J101)","v":0},{"$f":"SUMIFS('rollup from AX data'!H:H,'rollup from AX data'!B:B,'2015 sah unit data'!L101,'rollup from AX data'!A:A,'2015 sah unit data'!J101)","v":0},null,null,46,11,2016]
[null,{"$f":"SUMIFS('rollup from AX data'!C:C,'rollup from AX data'!B:B,'2015 sah unit data'!L102,'rollup from AX data'!A:A,'2015 sah unit data'!J102)","v":0},{"$f":"SUMIFS('rollup from AX data'!D:D,'rollup from AX data'!B:B,'2015 sah unit data'!L102,'rollup from AX data'!A:A,'2015 sah unit data'!J102)","v":0},{"$f":"SUMIFS('rollup from AX data'!E:E,'rollup from AX data'!B:B,'2015 sah unit data'!L102,'rollup from AX data'!A:A,'2015 sah unit data'!J102)","v":0},{"$f":"SUMIFS('rollup from AX data'!F:F,'rollup from AX data'!B:B,'2015 sah unit data'!L102,'rollup from AX data'!A:A,'2015 sah unit data'!J102)","v":0},{"$f":"SUMIFS('rollup from AX data'!G:G,'rollup from AX data'!B:B,'2015 sah unit data'!L102,'rollup from AX data'!A:A,'2015 sah unit data'!J102)","v":0},{"$f":"SUMIFS('rollup from AX data'!H:H,'rollup from AX data'!B:B,'2015 sah unit data'!L102,'rollup from AX data'!A:A,'2015 sah unit data'!J102)","v":0},null,null,47,11,2016]
[null,{"$f":"SUMIFS('rollup from AX data'!C:C,'rollup from AX data'!B:B,'2015 sah unit data'!L103,'rollup from AX data'!A:A,'2015 sah unit data'!J103)","v":0},{"$f":"SUMIFS('rollup from AX data'!D:D,'rollup from AX data'!B:B,'2015 sah unit data'!L103,'rollup from AX data'!A:A,'2015 sah unit data'!J103)","v":0},{"$f":"SUMIFS('rollup from AX data'!E:E,'rollup from AX data'!B:B,'2015 sah unit data'!L103,'rollup from AX data'!A:A,'2015 sah unit data'!J103)","v":0},{"$f":"SUMIFS('rollup from AX data'!F:F,'rollup from AX data'!B:B,'2015 sah unit data'!L103,'rollup from AX data'!A:A,'2015 sah unit data'!J103)","v":0},{"$f":"SUMIFS('rollup from AX data'!G:G,'rollup from AX data'!B:B,'2015 sah unit data'!L103,'rollup from AX data'!A:A,'2015 sah unit data'!J103)","v":0},{"$f":"SUMIFS('rollup from AX data'!H:H,'rollup from AX data'!B:B,'2015 sah unit data'!L103,'rollup from AX data'!A:A,'2015 sah unit data'!J103)","v":0},null,null,48,11,2016]
[null,{"$f":"SUMIFS('rollup from AX data'!C:C,'rollup from AX data'!B:B,'2015 sah unit data'!L104,'rollup from AX data'!A:A,'2015 sah unit data'!J104)","v":0},{"$f":"SUMIFS('rollup from AX data'!D:D,'rollup from AX data'!B:B,'2015 sah unit data'!L104,'rollup from AX data'!A:A,'2015 sah unit data'!J104)","v":0},{"$f":"SUMIFS('rollup from AX data'!E:E,'rollup from AX data'!B:B,'2015 sah unit data'!L104,'rollup from AX data'!A:A,'2015 sah unit data'!J104)","v":0},{"$f":"SUMIFS('rollup from AX data'!F:F,'rollup from AX data'!B:B,'2015 sah unit data'!L104,'rollup from AX data'!A:A,'2015 sah unit data'!J104)","v":0},{"$f":"SUMIFS('rollup from AX data'!G:G,'rollup from AX data'!B:B,'2015 sah unit data'!L104,'rollup from AX data'!A:A,'2015 sah unit data'!J104)","v":0},{"$f":"SUMIFS('rollup from AX data'!H:H,'rollup from AX data'!B:B,'2015 sah unit data'!L104,'rollup from AX data'!A:A,'2015 sah unit data'!J104)","v":0},null,null,49,11,2016]
[null,{"$f":"SUMIFS('rollup from AX data'!C:C,'rollup from AX data'!B:B,'2015 sah unit data'!L105,'rollup from AX data'!A:A,'2015 sah unit data'!J105)","v":0},{"$f":"SUMIFS('rollup from AX data'!D:D,'rollup from AX data'!B:B,'2015 sah unit data'!L105,'rollup from AX data'!A:A,'2015 sah unit data'!J105)","v":0},{"$f":"SUMIFS('rollup from AX data'!E:E,'rollup from AX data'!B:B,'2015 sah unit data'!L105,'rollup from AX data'!A:A,'2015 sah unit data'!J105)","v":0},{"$f":"SUMIFS('rollup from AX data'!F:F,'rollup from AX data'!B:B,'2015 sah unit data'!L105,'rollup from AX data'!A:A,'2015 sah unit data'!J105)","v":0},{"$f":"SUMIFS('rollup from AX data'!G:G,'rollup from AX data'!B:B,'2015 sah unit data'!L105,'rollup from AX data'!A:A,'2015 sah unit data'!J105)","v":0},{"$f":"SUMIFS('rollup from AX data'!H:H,'rollup from AX data'!B:B,'2015 sah unit data'!L105,'rollup from AX data'!A:A,'2015 sah unit data'!J105)","v":0},null,null,50,12,2016]
[null,{"$f":"SUMIFS('rollup from AX data'!C:C,'rollup from AX data'!B:B,'2015 sah unit data'!L106,'rollup from AX data'!A:A,'2015 sah unit data'!J106)","v":0},{"$f":"SUMIFS('rollup from AX data'!D:D,'rollup from AX data'!B:B,'2015 sah unit data'!L106,'rollup from AX data'!A:A,'2015 sah unit data'!J106)","v":0},{"$f":"SUMIFS('rollup from AX data'!E:E,'rollup from AX data'!B:B,'2015 sah unit data'!L106,'rollup from AX data'!A:A,'2015 sah unit data'!J106)","v":0},{"$f":"SUMIFS('rollup from AX data'!F:F,'rollup from AX data'!B:B,'2015 sah unit data'!L106,'rollup from AX data'!A:A,'2015 sah unit data'!J106)","v":0},{"$f":"SUMIFS('rollup from AX data'!G:G,'rollup from AX data'!B:B,'2015 sah unit data'!L106,'rollup from AX data'!A:A,'2015 sah unit data'!J106)","v":0},{"$f":"SUMIFS('rollup from AX data'!H:H,'rollup from AX data'!B:B,'2015 sah unit data'!L106,'rollup from AX data'!A:A,'2015 sah unit data'!J106)","v":0},null,null,51,12,2016]
[null,{"$f":"SUMIFS('rollup from AX data'!C:C,'rollup from AX data'!B:B,'2015 sah unit data'!L107,'rollup from AX data'!A:A,'2015 sah unit data'!J107)","v":0},{"$f":"SUMIFS('rollup from AX data'!D:D,'rollup from AX data'!B:B,'2015 sah unit data'!L107,'rollup from AX data'!A:A,'2015 sah unit data'!J107)","v":0},{"$f":"SUMIFS('rollup from AX data'!E:E,'rollup from AX data'!B:B,'2015 sah unit data'!L107,'rollup from AX data'!A:A,'2015 sah unit data'!J107)","v":0},{"$f":"SUMIFS('rollup from AX data'!F:F,'rollup from AX data'!B:B,'2015 sah unit data'!L107,'rollup from AX data'!A:A,'2015 sah unit data'!J107)","v":0},{"$f":"SUMIFS('rollup from AX data'!G:G,'rollup from AX data'!B:B,'2015 sah unit data'!L107,'rollup from AX data'!A:A,'2015 sah unit data'!J107)","v":0},{"$f":"SUMIFS('rollup from AX data'!H:H,'rollup from AX data'!B:B,'2015 sah unit data'!L107,'rollup from AX data'!A:A,'2015 sah unit data'!J107)","v":0},null,null,52,12,2016]