{"text_format":"1","workbook":"xlsx","n_sheets":1,"sheets":["Tier 1"],"not_rendered":{"charts":0,"images":30,"macros":1,"external_links":15,"defined_names":1,"comments":1,"pivot_tables":0},"unopened":[],"bounds":{"document_bytes":16777216,"sheet_cells":100000,"rows_first":2000,"rows_last":500,"rows_between":2000,"halvings":0,"cell_chars":16384,"cell_head_chars":4096},"cells_cut":0,"cells_raw":0,"read":"whole","date_system":"1900"}

{"sheet":"Tier 1","index":0,"n_rows":38,"n_cols":71,"rows_kept":38,"cut":false,"hidden":false,"merged":[[17,32,17,34],[17,35,17,37],[17,38,17,40],[17,41,17,46],[17,1,17,7],[17,8,17,10],[17,11,17,13],[17,14,17,16],[17,17,17,19],[17,20,17,22],[17,23,17,25],[17,26,17,28],[17,29,17,31],[1,70,5,74],[0,1,0,16],[1,1,1,7],[1,8,1,22],[1,23,1,34],[1,35,1,46],[1,47,1,57],[1,58,1,68],[2,1,13,7],[2,23,13,34],[2,35,13,46],[2,47,13,57],[2,58,13,68],[11,70,35,74],[31,1,31,7],[31,8,31,10],[31,11,31,13],[31,14,31,16],[31,17,31,19],[31,20,31,22],[31,23,31,25],[14,1,16,7],[14,8,16,10],[14,11,15,19],[14,20,15,28],[14,29,15,37],[16,29,16,31],[16,32,16,34],[14,38,16,40],[16,11,16,13],[16,14,16,16],[16,17,16,19],[27,47,27,68],[25,26,25,28],[25,29,25,31],[27,41,27,46],[26,32,26,34],[26,35,26,37],[26,38,26,40],[26,41,26,46],[25,38,25,40],[25,41,25,46],[24,32,24,34],[24,35,24,37],[24,38,24,40],[24,41,24,46],[21,17,21,19],[21,20,21,22],[28,47,36,57],[28,58,36,68],[37,58,47,68],[32,35,33,37],[16,35,16,37],[14,41,16,46],[16,20,16,22],[16,23,16,25],[16,26,16,28],[14,47,14,68],[15,47,26,68],[37,47,47,57],[34,41,34,46],[32,41,33,46],[31,41,31,46],[30,32,30,34],[30,35,30,37],[30,38,30,40],[30,41,30,46],[29,20,29,22],[29,23,29,25],[29,26,29,28],[29,29,29,31],[31,26,31,28],[34,1,34,7],[34,8,34,10],[34,23,34,25],[34,26,34,28],[34,29,34,31],[34,32,34,34],[34,35,34,37],[34,38,34,40],[32,38,33,40],[32,1,33,7],[32,8,33,10],[32,23,33,25],[32,26,33,28],[32,29,33,31],[32,32,33,34],[34,11,34,13],[34,14,34,16],[34,17,34,19],[34,20,34,22],[32,11,33,13],[32,14,33,16],[32,17,33,19],[32,20,33,22],[27,23,27,25],[30,1,30,7],[30,8,30,10],[30,11,30,13],[30,14,30,16],[30,17,30,19],[30,20,30,22],[30,23,30,25],[30,26,30,28],[27,1,27,7],[27,8,27,10],[27,11,27,13],[27,14,27,16],[27,17,27,19],[27,20,27,22],[31,29,31,31],[31,32,31,34],[31,35,31,37],[31,38,31,40],[27,26,27,28],[27,29,27,31],[29,32,29,34],[29,35,29,37],[29,38,29,40],[27,32,27,34],[27,35,27,37],[27,38,27,40],[30,29,30,31],[29,41,29,46],[28,1,28,7],[28,8,28,10],[28,11,28,13],[28,14,28,16],[28,17,28,19],[28,20,28,22],[28,23,28,25],[28,26,28,28],[28,29,28,31],[28,32,28,34],[28,35,28,37],[28,38,28,40],[28,41,28,46],[29,1,29,7],[29,8,29,10],[29,11,29,13],[29,14,29,16],[29,17,29,19],[25,32,25,34],[25,35,25,37],[25,1,25,7],[25,8,25,10],[25,11,25,13],[25,14,25,16],[25,17,25,19],[25,20,25,22],[25,23,25,25],[26,1,26,7],[26,8,26,10],[26,11,26,13],[26,14,26,16],[26,17,26,19],[26,20,26,22],[26,23,26,25],[26,26,26,28],[26,29,26,31],[24,23,24,25],[24,26,24,28],[24,29,24,31],[23,1,23,7],[23,8,23,10],[23,11,23,13],[23,14,23,16],[23,17,23,19],[23,20,23,22],[23,23,23,25],[23,26,23,28],[23,29,23,31],[24,1,24,7],[24,8,24,10],[24,11,24,13],[24,14,24,16],[24,17,24,19],[24,20,24,22],[22,1,22,7],[22,8,22,10],[22,11,22,13],[22,14,22,16],[22,17,22,19],[22,20,22,22],[22,23,22,25],[22,26,22,28],[22,29,22,31],[21,23,21,25],[21,26,21,28],[21,29,21,31],[23,32,23,34],[23,35,23,37],[23,38,23,40],[23,41,23,46],[22,32,22,34],[22,35,22,37],[22,38,22,40],[22,41,22,46],[19,23,19,25],[19,26,19,28],[19,29,19,31],[21,32,21,34],[21,35,21,37],[21,38,21,40],[21,41,21,46],[20,1,20,7],[20,8,20,10],[20,11,20,13],[20,14,20,16],[20,17,20,19],[20,20,20,22],[20,23,20,25],[20,26,20,28],[20,29,20,31],[20,32,20,34],[20,35,20,37],[20,38,20,40],[20,41,20,46],[21,1,21,7],[21,8,21,10],[21,11,21,13],[21,14,21,16],[2,8,13,22],[19,32,19,34],[19,35,19,37],[19,38,19,40],[19,41,19,46],[18,1,18,7],[18,8,18,10],[18,11,18,13],[18,14,18,16],[18,17,18,19],[18,20,18,22],[18,23,18,25],[18,26,18,28],[18,29,18,31],[18,32,18,34],[18,35,18,37],[18,38,18,40],[18,41,18,46],[19,1,19,7],[19,8,19,10],[19,11,19,13],[19,14,19,16],[19,17,19,19],[19,20,19,22]]}
[null,"Group: "]
[null,"Voice of Customer",null,null,null,null,null,null,"Recognitions",null,null,null,null,null,null,null,null,null,null,null,null,null,null,"Announcements",null,null,null,null,null,null,null,null,null,null,null,"Calendar",null,null,null,null,null,null,null,null,null,null,null,"Manager Daily Calendar",null,null,null,null,null,null,null,null,null,null,"RCPS",null,null,null,null,null,null,null,null,null,null,null,"              Grid Guidelines\n1. Discuss red or yellow tasks.\n2. Do I need any help?\n3. Do I have extra capacity today?\n4. Have I tracked any unticketed work?\n5. What have I heard from my customers?"]
[null,"Mark Moccia / Vineeth Soman - Concerns about Merges for SASG and Publishing..\n\nFor Nick - I appreciate the quick response as the Segment Manager pinged me soon after doing so asking if the group was processed yet, so we were able to get this one done to meet their business needs (J Galda)",null,null,null,null,null,null,"Team - Very productive and good session yesterday regarding the alignment of functions under \"Build \" & \"Automation\" for our group - \n",null,null,null,null,null,null,null,null,null,null,null,null,null,null,"Huddle Faciliation:\nWeek of 10/ 20 - Steve \nWeek of 10/27 - JP\nWeek of 11/3 - Michelle\nWeek of 11/10 - Karen\n\nVSM for New Component Intake - Scheduled for Tuesday November 4th\nVSM for Build / Deploy Request Intake - Scheduled for Tuesday October 28th\n\n\n\n\n\n",null,null,null,null,null,null,null,null,null,null,null,"                                                                                                                                                                                                                                                                                                                                                                                                                                                                                                                                                                                                        \nWalt - FTO 10/17, 10/24, 10/31\nKelsey FTO- 1/2 days Oct16th, 1/2 20th, 1/2 day Oct 21st. Nov 26th, Dec 19th, 22-24, 26, 31st\nKaren - all Mondays in Nov. & Dec, &  12/22 & 12/23                                                                    Wayne Goss (WFH) Oct 20, (FTO) 23,24,31                                                              Wayne Goss  FTO Nov 24,25,26                            Wayne Goss FTO DEC 24,26,29,30,31 RK- FTO- 20/10/14 to 24/1014\nAbinash- FTO 27/10/14 to 11/11/14 Steve FTO - 10/24\nNick (WFH) all Fridays\nNick FTO Nov 24, 25, 26\nNick FTO Dec 22, 23, 24 \n",null,null,null,null,null,null,null,null,null,null,null,"Meetings for most of the day!!\n\n\n ",null,null,null,null,null,null,null,null,null,null,"Any new items for RCPS?\n\nPlease review your items during the week and make any updates as necessary."]
[]
[]
[]
[]
[]
[]
[]
[]
[null,null,null,null,null,null,null,null,null,null,null,null,null,null,null,null,null,null,null,null,null,null,null,null,null,null,null,null,null,null,null,null,null,null,null,null,null,null,null,null,null,null,null,null,null,null,null,null,null,null,null,null,null,null,null,null,null,null,null,null,null,null,null,null,null,null,null,null,null,null,"Team Pulse Emoticons"]
[]
[]
[null,"Team",null,null,null,null,null,null,"Capacity",null,null,"Support",null,null,null,null,null,null,null,null,"Support Maintenance",null,null,null,null,null,null,null,null,"Release Activities",null,null,null,null,null,null,null,null,"UT",null,null,"Team Pulse",null,null,null,null,null,""]
[null,null,null,null,null,null,null,null,null,null,null,null,null,null,null,null,null,null,null,null,null,null,null,null,null,null,null,null,null,null,null,null,null,null,null,null,null,null,null,null,null,null,null,null,null,null,null,"CI/CD coming soon.\n\nFTO for Remainder of Year - Please be mindful of any FTO that you need to use (or lose). Please coordinate so that we have adequate coverage during the month of December!!\n\n2nd floor Dover West Duplicate IP Issue - Update on 10/21: Chuck Byers informed JP that his manager is working to get managers in Network & Desktop (Hosting) together as this issues seems to be at an impasse between the 2 groups. P-2 may get opened to address...Ticekts have been opened with Cisco and Infoblox"]
[]
[null,{"$f":"'[1]User Data'!A4","v":"Costello, Stephen"},null,null,null,null,null,null,{"$f":"'[1]User Data'!H4","v":0},null,null,{"$f":"'[1]User Data'!K4","v":0},null,null,{"$f":"'[1]User Data'!N4","v":0},null,null,{"$f":"'[1]User Data'!Q4","v":0},null,null,{"$f":"'[1]User Data'!T4","v":0},null,null,{"$f":"'[1]User Data'!W4","v":0},null,null,{"$f":"'[1]User Data'!Z4","v":6},null,null,{"$f":"'[1]User Data'!AC4","v":0},null,null,{"$f":"'[1]User Data'!AF4","v":0},null,null,{"$f":"'[1]User Data'!AI4","v":2},null,null,{"$f":"'[1]User Data'!AL4","v":0},null,null,{"$f":"'[1]User Data'!AO4","v":0}]
[null,{"$f":"'[2]User Data'!A4","v":"Venkat Desu"},null,null,null,null,null,null,{"$f":"'[2]User Data'!H4","v":0},null,null,{"$f":"'[2]User Data'!K4","v":0},null,null,{"$f":"'[2]User Data'!N4","v":0},null,null,{"$f":"'[2]User Data'!Q4","v":1},null,null,{"$f":"'[2]User Data'!T4","v":0},null,null,{"$f":"'[2]User Data'!W4","v":0},null,null,{"$f":"'[2]User Data'!Z4","v":0},null,null,{"$f":"'[2]User Data'!AC4","v":0},null,null,{"$f":"'[2]User Data'!AF4","v":0},null,null,{"$f":"'[2]User Data'!AI4","v":0},null,null,{"$f":"'[2]User Data'!AL4","v":0},null,null," "]
[null,{"$f":"'[3]User Data'!A4","v":"Michelle French"},null,null,null,null,null,null,{"$f":"'[3]User Data'!H4","v":0},null,null,{"$f":"'[3]User Data'!K4","v":0},null,null,{"$f":"'[3]User Data'!N4","v":0},null,null,{"$f":"'[3]User Data'!Q4","v":0},null,null,{"$f":"'[3]User Data'!T4","v":0},null,null,{"$f":"'[3]User Data'!W4","v":0},null,null,{"$f":"'[3]User Data'!Z4","v":0},null,null,{"$f":"'[3]User Data'!AC4","v":0},null,null,{"$f":"'[3]User Data'!AF4","v":0},null,null,{"$f":"'[3]User Data'!AI4","v":5},null,null,{"$f":"'[3]User Data'!AL4","v":0},null,null," "]
[null,{"$f":"'[4]User Data'!A4","v":"Gaston, Michael"},null,null,null,null,null,null,{"$f":"'[4]User Data'!H4","v":0},null,null,{"$f":"'[4]User Data'!K4","v":0},null,null,{"$f":"'[4]User Data'!N4","v":0},null,null,{"$f":"'[4]User Data'!Q4","v":0},null,null,{"$f":"'[4]User Data'!T4","v":0},null,null,{"$f":"'[4]User Data'!W4","v":0},null,null,{"$f":"'[4]User Data'!Z4","v":0},null,null,{"$f":"'[4]User Data'!AC4","v":0},null,null,{"$f":"'[4]User Data'!AF4","v":0},null,null,{"$f":"'[4]User Data'!AI4","v":0},null,null,{"$f":"'[4]User Data'!AL4","v":0},null,null," "]
[null,{"$f":"'[5]User Data'!A4","v":"Goss, Wayne"},null,null,null,null,null,null,{"$f":"'[5]User Data'!H4","v":0},null,null,{"$f":"'[5]User Data'!K4","v":0},null,null,{"$f":"'[5]User Data'!N4","v":0},null,null,{"$f":"'[5]User Data'!Q4","v":10},null,null,{"$f":"'[5]User Data'!T4","v":0},null,null,{"$f":"'[5]User Data'!W4","v":0},null,null,{"$f":"'[5]User Data'!Z4","v":0},null,null,{"$f":"'[5]User Data'!AC4","v":0},null,null,{"$f":"'[5]User Data'!AF4","v":0},null,null,{"$f":"'[5]User Data'!AI4","v":6},null,null,{"$f":"'[5]User Data'!AL4","v":2},null,null," "]
[null,{"$f":"'[6]User Data'!A4","v":"Abhinash Kumar"},null,null,null,null,null,null,{"$f":"'[6]User Data'!H4","v":0},null,null,{"$f":"'[6]User Data'!K4","v":0},null,null,{"$f":"'[6]User Data'!N4","v":0},null,null,{"$f":"'[6]User Data'!Q4","v":20},null,null,{"$f":"'[6]User Data'!T4","v":0},null,null,{"$f":"'[6]User Data'!W4","v":0},null,null,{"$f":"'[6]User Data'!Z4","v":0},null,null,{"$f":"'[6]User Data'!AC4","v":0},null,null,{"$f":"'[6]User Data'!AF4","v":0},null,null,{"$f":"'[6]User Data'!AI4","v":0},null,null,{"$f":"'[6]User Data'!AL4","v":0},null,null," "]
[null,{"$f":"'[7]User Data'!A4","v":"Lepage, Karen"},null,null,null,null,null,null,{"$f":"'[7]User Data'!H4","v":0},null,null,{"$f":"'[7]User Data'!K4","v":0},null,null,{"$f":"'[7]User Data'!N4","v":0},null,null,{"$f":"'[7]User Data'!Q4","v":0},null,null,{"$f":"'[7]User Data'!T4","v":0},null,null,{"$f":"'[7]User Data'!W4","v":0},null,null,{"$f":"'[7]User Data'!Z4","v":0},null,null,{"$f":"'[7]User Data'!AC4","v":0},null,null,{"$f":"'[7]User Data'!AF4","v":4},null,null,{"$f":"'[7]User Data'!AI4","v":8},null,null,{"$f":"'[7]User Data'!AL4","v":4}]
[null,{"$f":"'[8]User Data'!A4","v":"Shalini Mishra"},null,null,null,null,null,null,{"$f":"'[8]User Data'!H4","v":0},null,null,{"$f":"'[8]User Data'!K4","v":0},null,null,{"$f":"'[8]User Data'!N4","v":0},null,null,{"$f":"'[8]User Data'!Q4","v":20},null,null,{"$f":"'[8]User Data'!T4","v":0},null,null,{"$f":"'[8]User Data'!W4","v":0},null,null,{"$f":"'[8]User Data'!Z4","v":0},null,null,{"$f":"'[8]User Data'!AC4","v":0},null,null,{"$f":"'[8]User Data'!AF4","v":0},null,null,{"$f":"'[8]User Data'!AI4","v":0},null,null,{"$f":"'[8]User Data'!AL4","v":0},null,null," "]
[null,{"$f":"'[9]User Data'!A4","v":"Mizener, Walter"},null,null,null,null,null,null,{"$f":"'[9]User Data'!H4","v":0},null,null,{"$f":"'[9]User Data'!K4","v":0},null,null,{"$f":"'[9]User Data'!N4","v":0},null,null,{"$f":"'[9]User Data'!Q4","v":0},null,null,{"$f":"'[9]User Data'!T4","v":0},null,null,{"$f":"'[9]User Data'!W4","v":0},null,null,{"$f":"'[9]User Data'!Z4","v":0},null,null,{"$f":"'[9]User Data'!AC4","v":0},null,null,{"$f":"'[9]User Data'!AF4","v":0},null,null,{"$f":"'[9]User Data'!AI4","v":3},null,null,{"$f":"'[9]User Data'!AL4","v":10},null,null," "]
[null,{"$f":"'[10]User Data'!A4","v":"Debi Prasad"},null,null,null,null,null,null,{"$f":"'[10]User Data'!H4","v":0},null,null,{"$f":"'[10]User Data'!K4","v":0},null,null,{"$f":"'[10]User Data'!N4","v":0},null,null,{"$f":"'[10]User Data'!Q4","v":2},null,null,{"$f":"'[10]User Data'!T4","v":0},null,null,{"$f":"'[10]User Data'!W4","v":0},null,null,{"$f":"'[10]User Data'!Z4","v":1},null,null,{"$f":"'[10]User Data'!AC4","v":0},null,null,{"$f":"'[10]User Data'!AF4","v":0},null,null,{"$f":"'[10]User Data'!AI4","v":0},null,null,{"$f":"'[10]User Data'!AL4","v":6},null,null," "]
[null,{"$f":"'[11]User Data'!A4","v":"Ranadheer Pendru"},null,null,null,null,null,null,{"$f":"'[11]User Data'!H4","v":0},null,null,{"$f":"'[11]User Data'!K4","v":0},null,null,{"$f":"'[11]User Data'!N4","v":0},null,null,{"$f":"'[11]User Data'!Q4","v":14},null,null,{"$f":"'[11]User Data'!T4","v":0},null,null,{"$f":"'[11]User Data'!W4","v":0},null,null,{"$f":"'[11]User Data'!Z4","v":1},null,null,{"$f":"'[11]User Data'!AC4","v":0},null,null,{"$f":"'[11]User Data'!AF4","v":0},null,null,{"$f":"'[11]User Data'!AI4","v":0},null,null,{"$f":"'[11]User Data'!AL4","v":0},null,null," ",null,null,null,null,null,"Cycle Time Link"]
[null,{"$f":"'[12]User Data'!A4","v":"Seymour, Patrick"},null,null,null,null,null,null,{"$f":"'[12]User Data'!H4","v":8},null,null,{"$f":"'[12]User Data'!K4","v":0},null,null,{"$f":"'[12]User Data'!N4","v":0},null,null,{"$f":"'[12]User Data'!Q4","v":1},null,null,{"$f":"'[12]User Data'!T4","v":0},null,null,{"$f":"'[12]User Data'!W4","v":0},null,null,{"$f":"'[12]User Data'!Z4","v":0},null,null,{"$f":"'[12]User Data'!AC4","v":0},null,null,{"$f":"'[12]User Data'!AF4","v":0},null,null,{"$f":"'[12]User Data'!AI4","v":3},null,null,{"$f":"'[12]User Data'!AL4","v":0},null,null," ",null,null,null,null,null,"Throughput Link",null,null,null,null,null,null,null,null,null,null,"Quality Link"]
[null,{"$f":"'[13]User Data'!A4","v":"Schrier, Peter"},null,null,null,null,null,null,{"$f":"'[13]User Data'!H4","v":0},null,null,{"$f":"'[13]User Data'!K4","v":0},null,null,{"$f":"'[13]User Data'!N4","v":0},null,null,{"$f":"'[13]User Data'!Q4","v":1},null,null,{"$f":"'[13]User Data'!T4","v":0},null,null,{"$f":"'[13]User Data'!W4","v":0},null,null,{"$f":"'[13]User Data'!Z4","v":1},null,null,{"$f":"'[13]User Data'!AC4","v":0},null,null,{"$f":"'[13]User Data'!AF4","v":0},null,null,{"$f":"'[13]User Data'!AI4","v":1},null,null,{"$f":"'[13]User Data'!AL4","v":0},null,null,{"$f":"'[13]User Data'!AO4","v":0}]
[null,{"$f":"'[14]User Data'!A4","v":"Steinbeck, Kelsey"},null,null,null,null,null,null,{"$f":"'[14]User Data'!H4","v":0},null,null,{"$f":"'[14]User Data'!K4","v":2},null,null,{"$f":"'[14]User Data'!N4","v":0},null,null,{"$f":"'[14]User Data'!Q4","v":0},null,null,{"$f":"'[14]User Data'!T4","v":2},null,null,{"$f":"'[14]User Data'!W4","v":0},null,null,{"$f":"'[14]User Data'!Z4","v":0},null,null,{"$f":"'[14]User Data'!AC4","v":0},null,null,{"$f":"'[14]User Data'!AF4","v":0},null,null,{"$f":"'[14]User Data'!AI4","v":0},null,null,{"$f":"'[14]User Data'!AL4","v":5},null,null," "]
[null,{"$f":"'[15]User Data'!A4","v":"Radhakrishnan Neelakantan "},null,null,null,null,null,null,{"$f":"'[15]User Data'!H4","v":0},null,null,{"$f":"'[15]User Data'!K4","v":0},null,null,{"$f":"'[15]User Data'!N4","v":0},null,null,{"$f":"'[15]User Data'!Q4","v":12},null,null,{"$f":"'[15]User Data'!T4","v":0},null,null,{"$f":"'[15]User Data'!W4","v":0},null,null,{"$f":"'[15]User Data'!Z4","v":0},null,null,{"$f":"'[15]User Data'!AC4","v":0},null,null,{"$f":"'[15]User Data'!AF4","v":0},null,null,{"$f":"'[15]User Data'!AI4","v":0},null,null,{"$f":"'[15]User Data'!AL4","v":0},null,null," "]
[null,"Unassigned"]
[]
[null,"Totals",null,null,null,null,null,null,{"$f":"SUM(I19:K34)","v":8},null,null,{"$f":"SUM(L19:N34)","v":2},null,null,{"$f":"SUM(O19:Q34)","v":0},null,null,{"$f":"SUM(R19:T34)","v":81},null,null,{"$f":"SUM(U19:W34)","v":2},null,null,{"$f":"SUM(X19:Z34)","v":0},null,null,{"$f":"SUM(AA19:AC34)","v":3},null,null,{"$f":"SUM(AD19:AF34)","v":0},null,null,{"$f":"SUM(AG19:AI34)","v":4},null,null,{"$f":"SUM(AJ19:AL34)","v":26},null,null,{"$f":"SUM(AM19:AO34)","v":27}]
[]
[]
[null,null,null,null,null,null,null,null,null,null,null,null,null,null,null,null,null,null,null,null,null,null,null,null,null,null,null,null,null,null,null,null,null,null,null,null,null,null,null,null,null,null,null,null,null,null,null,"Cycle Time Link",null,null,null,null,null,null,null,null,null,null,"On Time Delivery Link"]